{"text_format":"1","workbook":"xlsx","n_sheets":45,"sheets":["Main Menu","ReportCover","TableOfContents","Definitions","Definitions_ProdLang","Definitions_FlowLang","Exceptions","Data in physical units","Conversion factors","Disaggregated Balance","Aggregated Balance","CF formulas","DPU formulas","Published Balance","BAL_Reading_Exercise","BAL_Checking_Exercise","BAL_Comparison","Balance Summary","Coal_Table_1","Coal_Table_4","Gas_Table_1","Gas_Table_2a","Gas_Table_2b","Oil_Table_1","Oil_Table_2a","Oil_Table_3a","Oil_Table_3b","Ren_Table_1","Ren_Table_2a","Ren_Table_3a","Ele_Table_1","Ele_Table_3","Ele_Table_4","Ele_Table_6a","Ele_Table_6b","Ele_Table_6c","Ele_Table_6d","Ele_Table_7a","IronSteel_CokeOven","IronSteel_BlastFurnace","Refinery","Electricity_Heat_I","Electricity_Heat_II","CapacityFactor","VersionHistory"],"not_rendered":{"charts":10,"images":14,"macros":1,"external_links":1,"defined_names":245,"comments":19,"pivot_tables":0},"unopened":[],"bounds":{"document_bytes":16777216,"sheet_cells":100000,"rows_first":2000,"rows_last":500,"rows_between":2000,"halvings":0,"cell_chars":16384,"cell_head_chars":4096},"cells_cut":0,"cells_raw":0,"read":"whole","date_system":"1900"}

{"sheet":"Main Menu","index":0,"n_rows":134,"n_cols":32,"rows_kept":134,"cut":false,"hidden":false,"merged":[[0,11,1,12],[9,1,9,2],[9,3,9,7],[2,3,2,8],[24,1,24,12],[4,1,4,12],[11,1,11,2],[2,11,2,12]]}
[null,null,null,{"$f":"HLOOKUP(LangChoice,$AC$3:$AE$67,$AB5+2)","v":"IEA Balance Builder"},null,null,null,null,null,null,null,"Select language /\n Выберите язык:",null,null,null,null,null,null,null,null,null,null,null,null,null,null,"Hide -->:",null,null,null,null,"<--Hide"]
[null,null,null,{"$f":"HLOOKUP(LangChoice,$AC$3:$AE$67,$AB6+2)","v":"Version:"},"November 2024.1",null,"original file:",null,null,null,null,null,null,null,null,null,null,null,null,null,null,null,null,null,null,null,null,null,"Language",null,null,"Select language /\n Выберите язык / \n选择语言:"]
[null,null,null,{"$f":"HLOOKUP(LangChoice,$AC$3:$AE$67,$AB7+2)","v":"Compatible with the joint IEA-Eurostat-UNECE questionnaires collecting data for: 2023\n(for use with EXCEL 2007 or more recent version)"},null,null,null,null,null,null,null,"English",null,null,null,null,null,null,null,null,null,null,null,null,null,null,null,null,"English","Pусский",null,"中文"]
[]
[null,{"$f":"HLOOKUP(LangChoice,$AC$3:$AE$67,$AB8+2)","v":"The main purpose of this tool is to build a country energy balance following the IEA methodology. This can be done by:"},null,null,null,null,null,null,null,null,null,null,null,null,null,null,null,null,null,null,null,null,null,null,null,null,null,1,"IEA Balance Builder","Построитель баланса МЭА","y"]
[null,{"$f":"HLOOKUP(LangChoice,$AC$3:$AE$67,$AB9+2)","v":"A) by automatically loading data from the IEA data questionnaires (2023 data requested in August 2024)"},null,null,null,null,null,null,null,null,null,null,null,null,null,null,null,null,null,null,null,null,null,null,null,null,null,2,"Version:","Версия:","y"]
[null,"B) by manually filling the \"Data in physical units\" and \"Conversion factors\" worksheets.",null,null,null,null,null,null,null,null,null,null,null,null,null,null,null,null,null,null,null,null,null,null,null,null,null,3,{"$f":"\"Compatible with the joint IEA-Eurostat-UNECE questionnaires collecting data for: 2023\n(for use with EXCEL 2007 or more recent version)\"","v":"Compatible with the joint IEA-Eurostat-UNECE questionnaires collecting data for: 2023\n(for use with EXCEL 2007 or more recent version)"},{"$f":"\"Сопоставимые с совместными вопросниками МЭА-Евростата-ЕЭК ООН по данным за \" & LatestYear & \" год\n(для использования с EXCEL 2007 или более поздней версией)\"","v":"Сопоставимые с совместными вопросниками МЭА-Евростата-ЕЭК ООН по данным за 2024 год\n(для использования с EXCEL 2007 или более поздней версией)"},"y"]
[null,"C) having the IEA load data from their current databases",null,null,null,null,null,null,null,null,null,null,null,null,null,null,null,null,null,null,null,null,null,null,null,null,null,4,"The main purpose of this tool is to build a country energy balance following the IEA methodology. This can be done by:","Основной целью этого инструмента является построение энергетического баланса страны по методологии МЭА. Это можно сделать следующими способами:","y"]
["1.","Select your country name from the drop down list or type it in manually:",null,null,null,null,null,null,null,null,null,null,null,null,null,null,null,null,null,null,null,null,null,null,null,null,null,5,"A) by automatically loading data from the IEA data questionnaires (2023 data requested in August 2024)","А) автоматически загрузив данные из вопросников МЭА (данные за 2023 год, запрошенные в августе 2024 года)","y"]
[null,"Country:",{"$f":"HLOOKUP(LangChoice,$AC$3:$AE$67,$AB13+2)","v":"Country:"},"Statisland",null,null,null,null,null,null,null,null,null,null,null,null,null,null,null,null,null,null,null,null,null,null,null,6,"B) by manually filling the \"Data in physical units\" and \"Conversion factors\" worksheets.","В) вручную заполнив рабочие листы «Data in physical units» и «Conversion factors»","y"]
["2.","Select the year for which the balance should be built:",null,null,null,null,null,null,null,null,null,null,null,null,null,null,null,null,null,null,null,null,null,null,null,null,null,7,"C) having the IEA load data from their current databases","С) попросить МЭА загрузить данные из имеющихся у него баз данных","y"]
[null,"Year:",{"$f":"HLOOKUP(LangChoice,$AC$3:$AE$67,$AB15+2)","v":"Year:"},2023,null,null,null,null,null,null,null,null,null,null,null,null,null,null,null,null,null,null,null,null,null,null,null,8,"Select your country name from the drop down list or type it in manually:","Выберите название вашей страны из выпадающего списка или наберите его вручную:","y"]
["3.","Follow the instructions for A. automatic upload or B. manual data input",null,null,null,null,null,null,null,null,null,null,null,null,null,null,null,null,null,null,null,null,null,null,null,null,null,9,"Country:","Страна:","y"]
["4.","Check the \"Data in physical units\" and \"Conversion factors\" worksheets to see if any problems are highlighted in yellow.",null,null,null,null,null,null,null,null,null,null,null,null,null,null,null,null,null,null,null,null,null,null,null,null,null,10,"Select the year for which the balance should be built:","Выберите год, для которого нужно построить баланс:","y"]
[null,"(Detailed checking instructions in 'Table Of Contents-sheet)",null,null,null,null,null,null,null,null,null,null,null,null,null,null,null,null,null,null,null,null,null,null,null,null,null,11,"Year:","Год:","y"]
["A.","Automatic upload",null,null,null,null,null,null,null,null,null,null,null,null,null,null,null,null,null,null,null,null,null,null,null,null,null,12,"Follow the instructions for A. automatic upload or B. manual data input","Следуйте инструкциям для вариантов «А. Автоматическая загрузка» или «В. Ручной ввод данных»","y"]
[null,"Use the buttons below to load the IEA data questionnaires into the balance builder worksheets \"Data in physical units\" and \"Conversion factors\".",null,null,null,null,null,null,null,null,null,null,null,null,null,null,null,null,null,null,null,null,null,null,null,null,null,13,"Check the \"Data in physical units\" and \"Conversion factors\" worksheets to see if any problems are highlighted in yellow.","Проверьте рабочие листы «Data in physical units» и «Conversion factors» на предмет проблем, которые отмечаются желтым цветом.","y"]
[null,null,null,null,null,null,null,null,null,null,null,{"$f":"HLOOKUP(LangChoice,$AC$3:$AE$67,$AB21+2)","v":"Last upload:"},null,null,null,null,null,null,null,null,null,null,null,null,null,null,null,14,"(Detailed checking instructions in 'Table Of Contents-sheet)","(Подробные инструкции по проверке приведены во вкладке «Table Of Contents»)","y"]
[null,null,null,null,null,null,null,null,null,null,null,"NA",null,null,null,null,null,null,null,null,null,null,null,null,null,null,null,15,"Automatic upload","Автоматическая загрузка","y"]
[null,null,null,null,null,null,null,null,null,null,null,"NA",null,null,null,null,null,null,null,null,null,null,null,null,null,null,null,16,"Use the buttons below to load the IEA data questionnaires into the balance builder worksheets \"Data in physical units\" and \"Conversion factors\".","Используйте кнопки ниже для загрузки данных из вопросников МЭА в рабочие таблицы построителя балансов «Data in physical units» и «Conversion factors».","y"]
[null,null,null,null,null,null,null,null,null,null,null,"NA",null,null,null,null,null,null,null,null,null,null,null,null,null,null,"Choice for the buttons",17,"Last upload:","Последняя загрузка:","y"]
[null,null,null,null,null,null,null,null,null,null,null,"NA",null,null,null,null,null,null,null,null,null,null,null,null,null,null,{"$f":"HLOOKUP(LangChoice,$AC$3:$AE$67,$AB22+2)","v":"Load COAL"},18,"Load COAL","УГОЛЬ","y"]
[null,null,null,null,null,null,null,null,null,null,null,"NA",null,null,null,null,null,null,null,null,null,null,null,null,null,null,{"$f":"HLOOKUP(LangChoice,$AC$3:$AE$67,$AB23+2)","v":"Load OIL"},19,"Load OIL","НЕФТЬ","y"]
["B.",{"$f":"HLOOKUP(LangChoice,$AC$3:$AE$67,$AB27+2)","v":"Manual data input"},null,null,null,null,null,null,null,null,null,null,null,null,null,null,null,null,null,null,null,null,null,null,null,null,{"$f":"HLOOKUP(LangChoice,$AC$3:$AE$67,$AB24+2)","v":"Load GAS"},20,"Load GAS","ГАЗ","y"]
[null,{"$f":"HLOOKUP(LangChoice,$AC$3:$AE$67,$AB28+2)","v":"Insert data in the \"Data in physical units\" worksheet by products (e.g. natural gas, crude oil, hydro) and by flows (e.g. indigenous production, imports, electricity generation)."},null,null,null,null,null,null,null,null,null,null,null,null,null,null,null,null,null,null,null,null,null,null,null,null,{"$f":"HLOOKUP(LangChoice,$AC$3:$AE$67,$AB25+2)","v":"Load REN"},21,"Load REN","ВИЭ","y"]
[null,{"$f":"HLOOKUP(LangChoice,$AC$3:$AE$67,$AB29+2)","v":"Update the conversion factors on the \"Conversion Factors\" worksheet as appropriate (colored cells should be filled in)."},null,null,null,null,null,null,null,null,null,null,null,null,null,null,null,null,null,null,null,null,null,null,null,null,{"$f":"HLOOKUP(LangChoice,$AC$3:$AE$67,$AB26+2)","v":"Load ELE"},22,"Load ELE","ЭЛЕКТРО","y"]
["C.",{"$f":"HLOOKUP(LangChoice,$AC$3:$AE$67,$AB30+2)","v":"IEA-prefilled data"},null,null,null,null,null,null,null,null,null,null,null,null,null,null,null,null,null,null,null,null,null,null,null,null,null,23,"Manual data input","Ручной ввод данных"]
[null,{"$f":"HLOOKUP(LangChoice,$AC$3:$AE$67,$AB31+2)","v":"Please contact BALANCES@iea.org."},null,null,null,null,null,null,null,null,null,null,null,null,null,null,null,null,null,null,null,null,null,null,null,null,null,24,"Insert data in the \"Data in physical units\" worksheet by products (e.g. natural gas, crude oil, hydro) and by flows (e.g. indigenous production, imports, electricity generation).","Вставьте данные в рабочую таблицу «Data in physical units» по видам продукта (например, природный газ, сырая нефть, гидро) и по потокам (например, собственное производство, импорт, генерация электроэнергии)."]
[null,null,null,null,null,null,null,null,null,null,null,null,null,null,null,null,null,null,null,null,null,null,null,null,null,null,null,25,"Update the conversion factors on the \"Conversion Factors\" worksheet as appropriate (colored cells should be filled in).","При необходимости обновите коэффициенты пересчета во вкладке «Conversion Factors» (нужно заполнить цветные ячейки)."]
[null,null,null,null,null,null,null,null,null,null,null,null,null,null,null,null,null,null,null,null,null,null,null,null,null,null,null,26,"IEA-prefilled data","Предварительное заполнение данных МЭА"]
[null,null,null,null,null,null,null,null,null,null,null,null,null,null,null,null,null,null,null,null,null,null,null,null,null,null,null,27,"Please contact BALANCES@iea.org.","Пожалуйста, обращайтесь на электронный адрес BALANCES@iea.org."]
[null,null,null,null,null,null,null,null,null,null,null,null,null,null,null,null,null,null,null,null,null,null,null,null,null,null,{"$f":"HLOOKUP(LangChoice,$AC$3:$AE$67,$AB32+2)","v":"Create a PDF-report!\n\n(Saved to user desktop)"},28,{"$f":"\"Create a PDF-report!\" & CHAR(10) & CHAR(10) &\"(Saved to user desktop)\"","v":"Create a PDF-report!\n\n(Saved to user desktop)"},"Создать PDF-отчёт!\n\n(сохранить на рабочем столе пользователя)","y"]
[]
[]
[]
[]
[]
[]
[]
[]
[]
[]
[]
[]
[]
[]
[]
[]
[]
[]
[]
[]
[]
[]
[]
[]
[]
[]
[]
[]
[]
[]
[]
["HIDE",null,"Country list","Year list"]
[null,null,"Australia",2024,"<-- Change"]
[null,null,"Austria",{"$f":"IFERROR(IF((D65-$E$66)>1989,D65-$E$66,\"\"),\"\")","v":2023},1]
[null,null,"Belgium",{"$f":"IFERROR(IF((D66-$E$66)>1989,D66-$E$66,\"\"),\"\")","v":2022}]
[null,null,"Canada",2021]
[null,null,"Chile",2020]
[null,null,"Czech Republic",2019]
[null,null,"Denmark",2018]
[null,null,"Estonia",2017]
[null,null,"Finland",2016]
[null,null,"France",2015]
[null,null,"Germany",2014]
[null,null,"Greece",2013]
[null,null,"Hungary",2012]
[null,null,"Iceland",2011]
[null,null,"Ireland",2010]
[null,null,"Israel",2009]
[null,null,"Italy",2008]
[null,null,"Japan",2007]
[null,null,"Korea",2006]
[null,null,"Latvia",2005]
[null,null,"Lithuania",2004]
[null,null,"Luxembourg",2003]
[null,null,"Mexico",2002]
[null,null,"Netherlands",2001]
[null,null,"New Zealand",2000]
[null,null,"Norway",1999]
[null,null,"Poland",1998]
[null,null,"Portugal",1997]
[null,null,"Slovak Republic",1996]
[null,null,"Slovenia",1995]
[null,null,"Spain",1994]
[null,null,"Sweden",1993]
[null,null,"Switzerland",1992]
[null,null,"Turkiye"]
[null,null,"United Kingdom"]
[null,null,"United States"]
[null,null,"Albania"]
[null,null,"Algeria"]
[null,null,"Armenia"]
[null,null,"Azerbaijan"]
[null,null,"Belarus"]
[null,null,"Bosnia and Herzegovina"]
[null,null,"Bulgaria"]
[null,null,"Croatia"]
[null,null,"Cyprus"]
[null,null,"Georgia"]
[null,null,"Gibraltar"]
[null,null,"Kazakhstan"]
[null,null,"Kosovo"]
[null,null,"Kyrgyzstan"]
[null,null,"Malta"]
[null,null,"Moldova, Republic of"]
[null,null,"Montenegro"]
[null,null,"North Macedonia, Republic of"]
[null,null,"Romania"]
[null,null,"Russian Federation"]
[null,null,"Serbia"]
[null,null,"Tajikistan"]
[null,null,"Turkmenistan"]
[null,null,"Ukraine"]
[null,null,"Uzbekistan"]
[null,null,"Morocco"]
[null,null,"Tunisia"]
[null,null,"South Africa"]
[null,null,"Brazil"]
[null,null,"People's Republic of China"]
[null,null,"India"]
[null,null,"Malaysia"]
[null,null,"Statisland"]
["HIDE"]

{"sheet":"ReportCover","index":1,"n_rows":110,"n_cols":35,"rows_kept":110,"cut":false,"hidden":true,"merged":[[0,0,0,8],[27,3,27,6],[1,0,1,8],[10,1,10,3],[20,3,20,8],[21,3,21,8],[22,3,22,8],[23,3,23,8],[24,3,24,8],[25,3,25,8],[3,1,3,3]]}
[{"$f":"HLOOKUP(LangChoice,$AD$3:$AF$30,AC4,FALSE)&\": \" & CountryName & \", \" & DataYear","v":"Energy balance report: Statisland, 2023"},null,null,null,null,null,null,null,null,null,null,null,null,null,null,null,null,null,null,null,null,null,null,null,null,null,"Hide -->:",null,null,null,null,null,null,null,"<--Hide"]
[{"$f":"HLOOKUP(LangChoice,$AD$3:$AF$30,AC8,FALSE) & CHAR(10) & TEXT(NOW(),\"DD/MM/YYYY HH:MM\") & \" (\"&HLOOKUP(LangChoice,$AD$3:$AF$30,AC9,FALSE)&\": \"&'Main Menu'!E2&\").\"","v":"Report created with IEA energy balance builder tool based on data provided by the user.\n05/12/2024 17:26 (Version: November 2024.1)."},null,null,null,null,null,null,null,null,null,null,null,null,null,null,null,null,null,null,null,null,null,null,null,null,null,null,null,null,"Language"]
[null,null,null,null,null,null,null,null,null,null,null,null,null,null,null,null,null,null,null,null,null,null,null,null,null,null,null,null,1,"English","Pусский","中文"]
[null,{"$f":"HLOOKUP(LangChoice,$AD$3:$AF$30,AC10,FALSE)","v":"Questionnaires loaded:"},null,null,null,null,null,null,null,null,null,null,null,null,null,null,null,null,null,null,null,null,null,null,null,null,null,null,2,"Energy balance report","Отчет об энергетическом балансе","[missing Chinese]"]
[null,"Coal",null,{"$f":"'Main Menu'!L19","v":"NA"},null,null,null,null,null,null,null,null,null,null,null,null,null,null,null,null,null,null,null,null,null,null,null,"Electricity and heat generation",3,"Low efficiencies for some fuels. Please verify the input and output values in the ELE/fuel questionnaire.","Низкая эффективность для некоторых видов топлива. Проверьте значения используемых ресурсов и производства.","[missing Chinese]"]
[null,"Oil",null,{"$f":"'Main Menu'!L20","v":"NA"},null,null,null,null,null,null,null,null,null,null,null,null,null,null,null,null,null,null,null,null,null,null,"Low efficiencies",{"$f":"COUNTIF(Electricity_Heat_II!$O$13:$Q$60,Electricity_Heat_II!$AB$27)","v":1},4,"High efficiencies for some fuels. Please verify the input and output values in the ELE/fuel questionnaire.","Высокая эффективность для некоторых видов топлива. Проверьте значения используемых ресурсов и производства.","[missing Chinese]"]
[null,"Gas",null,{"$f":"'Main Menu'!L21","v":"NA"},null,null,null,null,null,null,null,null,null,null,null,null,null,null,null,null,null,null,null,null,null,null,"High efficiencies",{"$f":"COUNTIF(Electricity_Heat_II!$O$13:$Q$60,Electricity_Heat_II!$AB$28)","v":0},5,"Missing inputs/outputs for some fuels. Please check 'Electricity_Heat_II'-sheet for details.","Отсутствующие значения затраченных ресурсов и выпуска. Проверьте детали в  листе  'Electricity_Heat_II'.","[missing Chinese]"]
[null,"Renewables",null,{"$f":"'Main Menu'!L22","v":"NA"},null,null,null,null,null,null,null,null,null,null,null,null,null,null,null,null,null,null,null,null,null,null,"missing outputs",{"$f":"Electricity_Heat_II!AX32","v":0},6,"Report created with IEA energy balance builder tool based on data provided by the user.","Отчет, созданный при помощи инструментария МЭА для построения энергетических балансов на основе предоставленных пользователем данных.","[missing Chinese]"]
[null,"Electricity and heat",null,{"$f":"'Main Menu'!L23","v":"NA"},null,null,null,null,null,null,null,null,null,null,null,null,null,null,null,null,null,null,null,null,null,null,null,null,7,"Version","версия","[missing Chinese]"]
[null,null,null,null,null,null,null,null,null,null,null,null,null,null,null,null,null,null,null,null,null,null,null,null,null,null,null,null,8,"Questionnaires loaded:","Загруженный вопросники:"]
[null,{"$f":"HLOOKUP(LangChoice,$AD$3:$AF$30,AC16,FALSE)","v":"OR (if questionnaires are not used)"},{"$f":"HLOOKUP(LangChoice,$AD$3:$AF$30,AD17,FALSE)","v":{"$error":"#REF!"}},{"$f":"HLOOKUP(LangChoice,$AD$3:$AF$30,AE17,FALSE)","v":{"$error":"#REF!"}},null,null,null,null,null,null,null,null,null,null,null,null,null,null,null,null,null,null,null,null,null,null,null,null,9,"Coal","по углю","[missing Chinese]"]
[null,{"$f":"HLOOKUP(LangChoice,$AD$3:$AF$30,AC17,FALSE)","v":"Data input manually"},null,{"$f":"IF(COUNTIF(D5:D9,\"NA\")=5,TEXT(NOW(),\"dd/mm/yyyy\"),\"NA\")","v":"05/12/2024"},null,null,null,null,null,null,null,null,null,null,null,null,null,null,null,null,null,null,null,null,null,null,null,null,10,"Oil","по нефти","[missing Chinese]"]
[null,null,null,null,null,null,null,null,null,null,null,null,null,null,null,null,null,null,null,null,null,null,null,null,null,null,null,null,11,"Gas","по газу","[missing Chinese]"]
[null,null,null,null,null,null,null,null,null,null,null,null,null,null,null,null,null,null,null,null,null,null,null,null,null,null,null,null,12,"Renewables","по ВИЭ","[missing Chinese]"]
[null,null,null,null,null,null,null,null,null,null,null,null,null,null,null,null,null,null,null,null,null,null,null,null,null,null,null,null,13,"Electricity and heat","по электроэнергии","[missing Chinese]"]
[null,null,null,null,null,null,null,null,null,null,null,null,null,null,null,null,null,null,null,null,null,null,null,null,null,null,null,null,14,"OR (if questionnaires are not used)","ИЛИ (если вопросники не используются)","[missing Chinese]"]
[null,null,null,null,null,null,null,null,null,null,null,null,null,null,null,null,null,null,null,null,null,null,null,null,null,null,null,null,15,"Data input manually","Ручной ввод данных","[missing Chinese]"]
[null,null,null,null,null,null,null,null,null,null,null,null,null,null,null,null,null,null,null,null,null,null,null,null,null,null,null,null,16,"Summary of the checks:","Сводка проверок:","[missing Chinese]"]
[null,{"$f":"HLOOKUP(LangChoice,$AD$3:$AF$30,AC18,FALSE)","v":"Summary of the checks:"},null,null,null,null,null,null,null,null,null,null,null,null,null,null,null,null,null,null,null,null,null,null,null,null,null,null,17,"Transformation sector:","Сектор преобразования:","[missing Chinese]"]
[null,"Transformation sector:",null,null,null,null,null,null,null,null,null,null,null,null,null,null,null,null,null,null,null,null,null,null,null,null,null,null,18,"Coke oven","Коксовая печь","[missing Chinese]"]
[null,"Coke oven","Hide",{"$f":"IronSteel_CokeOven!$K$25","v":"Not applicable"},null,null,null,null,null,null,null,null,null,null,null,null,null,null,null,null,null,null,null,null,null,null,null,null,19,"Blast furnace","Доменная печь","[missing Chinese]"]
[null,"Blast furnace","Hide",{"$f":"IronSteel_BlastFurnace!$K$25","v":"Not applicable"},null,null,null,null,null,null,null,null,null,null,null,null,null,null,null,null,null,null,null,null,null,null,null,null,20,"Oil refinery","Нефтеперерабатывающий завод","[missing Chinese]"]
[null,"Oil refinery","Hide",{"$f":"Refinery!$J$23","v":"Oil refinery losses are within reasonable range."},null,null,null,null,null,null,null,null,null,null,null,null,null,null,null,null,null,null,null,null,null,null,null,null,21,"Electricity and heat generation","Генерация электрической и тепловой энергии","[missing Chinese]"]
[null,"Electricity and heat generation","Hide",{"$f":"IF($AB$6>0,HLOOKUP(LangChoice,$AD$3:$AF$8,AC5,FALSE),\"\")","v":"Low efficiencies for some fuels. Please verify the input and output values in the ELE/fuel questionnaire."},null,null,null,null,null,null,null,null,null,null,null,null,null,null,null,null,null,null,null,null,null,null,null,null,22,"Statistical differences for following products:","Статистические расхождения для следующих видов продукции:","[missing Chinese]"]
[null,null,null,{"$f":"IF($AB$7>0,HLOOKUP(LangChoice,$AD$3:$AF$8,AC6,FALSE),\"\")","v":""},null,null,null,null,null,null,null,null,null,null,null,null,null,null,null,null,null,null,null,null,null,null,null,null,23,"Statistical difference / Total supply of the fuel","Статистическое расхождение / \nОбщее предложение данного вида топлива","[missing Chinese]"]
[null,null,null,{"$f":"IF($AB$8>0,HLOOKUP(LangChoice,$AD$3:$AF$8,AC7,FALSE),\"\")","v":""},null,null,null,null,null,null,null,null,null,null,null,null,null,null,null,null,null,null,null,null,null,null,null,null,24,null,null,"[missing Chinese]"]
[null,null,null,null,null,null,null,null,null,null,null,null,null,null,null,null,null,null,null,null,null,null,null,null,null,null,null,null,25,null,null,"[missing Chinese]"]
[null,{"$f":"HLOOKUP(LangChoice,$AD$3:$AF$30,AC24,FALSE)","v":"Statistical differences for following products:"},null,{"$f":"HLOOKUP(LangChoice,$AD$3:$AF$30,AC25,FALSE)","v":"Statistical difference / Total supply of the fuel"}]
[{"$f":"IF(AB46<$AG$45+1,AB46,\"\")","v":1},{"$f":"IFERROR(INDIRECT(C29),\"\")","v":"Crude oil"},{"$f":"IFERROR(INDEX($AC$46:$AC$108,MATCH(A29,$AI$46:$AI$108,0),1),\"\")","v":"CRUDEOIL"},{"$f":"IFERROR(INDEX($AF$46:$AF$108,MATCH($A29,$AI$46:$AI$108,0),1),\"\")","v":0.73177083333333337}]
["",{"$f":"IFERROR(INDIRECT(C30),\"\")","v":""},"",""]
["",{"$f":"IFERROR(INDIRECT(C31),\"\")","v":""},"",""]
["","","",""]
["","","",""]
["","","",""]
["","","",""]
["","","",""]
["","","",""]
["","","",""]
["","","",""]
["","","",""]
["","","","",null,null,null,null,null,null,null,null,null,null,null,null,null,null,null,null,null,null,null,null,null,null,null,"Data to create the statistical difference -list"]
["","","","",null,null,null,null,null,null,null,null,null,null,null,null,null,null,null,null,null,null,null,null,null,null,null,null,null,null,null,null,"Limit:"]
["",{"$f":"IFERROR(INDIRECT(C43),\"\")","v":""},"","",null,null,null,null,null,null,null,null,null,null,null,null,null,null,null,null,null,null,null,null,null,null,null,null,null,null,null,null,4.99E-2]
["","","","",null,null,null,null,null,null,null,null,null,null,null,null,null,null,null,null,null,null,null,null,null,null,null,"Order","Statistical differences","STATDIFF","TPES","Statdiff/Fuel TPES","Above limit?","Rank of statdiff","Adjusted rank"]
["",{"$f":"IFERROR(INDIRECT(C45),\"\")","v":""},"","",null,null,null,null,null,null,null,null,null,null,null,null,null,null,null,null,null,null,null,null,null,null,null,null,null,null,{"$f":"SUM(AE46:AE108)","v":5329},null,{"$f":"COUNTIF(AG46:AG110,TRUE)","v":1}]
[null,null,null,null,null,null,null,null,null,null,null,null,null,null,null,null,null,null,null,null,null,null,null,null,null,null,null,1,{"$f":"TRANSPOSE('Data in physical units'!C4:BO4)","v":"ANTCOAL"},{"$f":"TRANSPOSE('Data in physical units'!C18:BO18)","v":0},{"$f":"TRANSPOSE('Data in physical units'!C16:BO16)","v":0},{"$f":"IFERROR(ABS(AD46/AE46),\"..\")","v":".."},{"$f":"IF(AND(ISTEXT($AF46)=FALSE,$AF46>$AG$43),TRUE,FALSE)","v":false},{"$f":"IFERROR(RANK(AF46,$AF$46:$AF$108,0),\"..\")","v":".."},{"$f":"IF(AND(COUNTIF($AH$46:AH46,$AH46)>1,$AH46<$AB$65),$AH46+COUNTIF($AH$46:AH46,$AH46)-1,$AH46)","v":".."}]
[null,null,null,null,null,null,null,null,null,null,null,null,null,null,null,null,null,null,null,null,null,null,null,null,null,null,null,2,"COKCOAL",0,0,"..",false,"..",{"$f":"IF(AND(COUNTIF($AH$46:AH47,$AH47)>1,$AH47<$AB$65),$AH47+COUNTIF($AH$46:AH47,$AH47)-1,$AH47)","v":".."}]
[null,null,null,null,null,null,null,null,null,null,null,null,null,null,null,null,null,null,null,null,null,null,null,null,null,null,null,3,"BITCOAL",0,0,"..",false,"..",{"$f":"IF(AND(COUNTIF($AH$46:AH48,$AH48)>1,$AH48<$AB$65),$AH48+COUNTIF($AH$46:AH48,$AH48)-1,$AH48)","v":".."}]
[null,null,null,null,null,null,null,null,null,null,null,null,null,null,null,null,null,null,null,null,null,null,null,null,null,null,null,4,"SUBCOAL",0,0,"..",false,"..",{"$f":"IF(AND(COUNTIF($AH$46:AH49,$AH49)>1,$AH49<$AB$65),$AH49+COUNTIF($AH$46:AH49,$AH49)-1,$AH49)","v":".."}]
[null,null,null,null,null,null,null,null,null,null,null,null,null,null,null,null,null,null,null,null,null,null,null,null,null,null,null,5,"LIGNITE",0,0,"..",false,"..",{"$f":"IF(AND(COUNTIF($AH$46:AH50,$AH50)>1,$AH50<$AB$65),$AH50+COUNTIF($AH$46:AH50,$AH50)-1,$AH50)","v":".."}]
[null,null,null,null,null,null,null,null,null,null,null,null,null,null,null,null,null,null,null,null,null,null,null,null,null,null,null,6,"PATFUEL",0,0,"..",false,"..",{"$f":"IF(AND(COUNTIF($AH$46:AH51,$AH51)>1,$AH51<$AB$65),$AH51+COUNTIF($AH$46:AH51,$AH51)-1,$AH51)","v":".."}]
[null,null,null,null,null,null,null,null,null,null,null,null,null,null,null,null,null,null,null,null,null,null,null,null,null,null,null,7,"OVENCOKE",0,0,"..",false,"..",{"$f":"IF(AND(COUNTIF($AH$46:AH52,$AH52)>1,$AH52<$AB$65),$AH52+COUNTIF($AH$46:AH52,$AH52)-1,$AH52)","v":".."}]
[null,null,null,null,null,null,null,null,null,null,null,null,null,null,null,null,null,null,null,null,null,null,null,null,null,null,null,8,"GASCOKE",0,0,"..",false,"..",{"$f":"IF(AND(COUNTIF($AH$46:AH53,$AH53)>1,$AH53<$AB$65),$AH53+COUNTIF($AH$46:AH53,$AH53)-1,$AH53)","v":".."}]
[null,null,null,null,null,null,null,null,null,null,null,null,null,null,null,null,null,null,null,null,null,null,null,null,null,null,null,9,"COALTAR",0,0,"..",false,"..",{"$f":"IF(AND(COUNTIF($AH$46:AH54,$AH54)>1,$AH54<$AB$65),$AH54+COUNTIF($AH$46:AH54,$AH54)-1,$AH54)","v":".."}]
[null,null,null,null,null,null,null,null,null,null,null,null,null,null,null,null,null,null,null,null,null,null,null,null,null,null,null,10,"BKB",0,0,"..",false,"..",{"$f":"IF(AND(COUNTIF($AH$46:AH55,$AH55)>1,$AH55<$AB$65),$AH55+COUNTIF($AH$46:AH55,$AH55)-1,$AH55)","v":".."}]
[null,null,null,null,null,null,null,null,null,null,null,null,null,null,null,null,null,null,null,null,null,null,null,null,null,null,null,11,"GASWKSGS",0,0,"..",false,"..",{"$f":"IF(AND(COUNTIF($AH$46:AH56,$AH56)>1,$AH56<$AB$65),$AH56+COUNTIF($AH$46:AH56,$AH56)-1,$AH56)","v":".."}]
[null,null,null,null,null,null,null,null,null,null,null,null,null,null,null,null,null,null,null,null,null,null,null,null,null,null,null,12,"COKEOVGS",0,0,"..",false,"..",{"$f":"IF(AND(COUNTIF($AH$46:AH57,$AH57)>1,$AH57<$AB$65),$AH57+COUNTIF($AH$46:AH57,$AH57)-1,$AH57)","v":".."}]
[null,null,null,null,null,null,null,null,null,null,null,null,null,null,null,null,null,null,null,null,null,null,null,null,null,null,null,13,"BLFURGS",0,0,"..",false,"..",{"$f":"IF(AND(COUNTIF($AH$46:AH58,$AH58)>1,$AH58<$AB$65),$AH58+COUNTIF($AH$46:AH58,$AH58)-1,$AH58)","v":".."}]
[null,null,null,null,null,null,null,null,null,null,null,null,null,null,null,null,null,null,null,null,null,null,null,null,null,null,null,14,"OGASES",0,0,"..",false,"..",{"$f":"IF(AND(COUNTIF($AH$46:AH59,$AH59)>1,$AH59<$AB$65),$AH59+COUNTIF($AH$46:AH59,$AH59)-1,$AH59)","v":".."}]
[null,null,null,null,null,null,null,null,null,null,null,null,null,null,null,null,null,null,null,null,null,null,null,null,null,null,null,15,"MANGAS",0,0,"..",false,"..",{"$f":"IF(AND(COUNTIF($AH$46:AH60,$AH60)>1,$AH60<$AB$65),$AH60+COUNTIF($AH$46:AH60,$AH60)-1,$AH60)","v":".."}]
[null,null,null,null,null,null,null,null,null,null,null,null,null,null,null,null,null,null,null,null,null,null,null,null,null,null,null,16,"PEAT",0,0,"..",false,"..",{"$f":"IF(AND(COUNTIF($AH$46:AH61,$AH61)>1,$AH61<$AB$65),$AH61+COUNTIF($AH$46:AH61,$AH61)-1,$AH61)","v":".."}]
[null,null,null,null,null,null,null,null,null,null,null,null,null,null,null,null,null,null,null,null,null,null,null,null,null,null,null,17,"PEATPROD",0,0,"..",false,"..",{"$f":"IF(AND(COUNTIF($AH$46:AH62,$AH62)>1,$AH62<$AB$65),$AH62+COUNTIF($AH$46:AH62,$AH62)-1,$AH62)","v":".."}]
[null,null,null,null,null,null,null,null,null,null,null,null,null,null,null,null,null,null,null,null,null,null,null,null,null,null,null,18,"OILSHALE",0,0,"..",false,"..",{"$f":"IF(AND(COUNTIF($AH$46:AH63,$AH63)>1,$AH63<$AB$65),$AH63+COUNTIF($AH$46:AH63,$AH63)-1,$AH63)","v":".."}]
[null,null,null,null,null,null,null,null,null,null,null,null,null,null,null,null,null,null,null,null,null,null,null,null,null,null,null,19,"CRUDEOIL",-1405,1920,0.73177083333333337,true,1,{"$f":"IF(AND(COUNTIF($AH$46:AH64,$AH64)>1,$AH64<$AB$65),$AH64+COUNTIF($AH$46:AH64,$AH64)-1,$AH64)","v":1}]
[null,null,null,null,null,null,null,null,null,null,null,null,null,null,null,null,null,null,null,null,null,null,null,null,null,null,null,20,"NGL",0,0,"..",false,"..",{"$f":"IF(AND(COUNTIF($AH$46:AH65,$AH65)>1,$AH65<$AB$65),$AH65+COUNTIF($AH$46:AH65,$AH65)-1,$AH65)","v":".."}]
[null,null,null,null,null,null,null,null,null,null,null,null,null,null,null,null,null,null,null,null,null,null,null,null,null,null,null,21,"REFFEEDS",0,0,"..",false,"..",{"$f":"IF(AND(COUNTIF($AH$46:AH66,$AH66)>1,$AH66<$AB$65),$AH66+COUNTIF($AH$46:AH66,$AH66)-1,$AH66)","v":".."}]
[null,null,null,null,null,null,null,null,null,null,null,null,null,null,null,null,null,null,null,null,null,null,null,null,null,null,null,22,"ADDITIVE",0,0,"..",false,"..",{"$f":"IF(AND(COUNTIF($AH$46:AH67,$AH67)>1,$AH67<$AB$65),$AH67+COUNTIF($AH$46:AH67,$AH67)-1,$AH67)","v":".."}]
[null,null,null,null,null,null,null,null,null,null,null,null,null,null,null,null,null,null,null,null,null,null,null,null,null,null,null,23,"NONCRUDE",0,0,"..",false,"..",{"$f":"IF(AND(COUNTIF($AH$46:AH68,$AH68)>1,$AH68<$AB$65),$AH68+COUNTIF($AH$46:AH68,$AH68)-1,$AH68)","v":".."}]
[null,null,null,null,null,null,null,null,null,null,null,null,null,null,null,null,null,null,null,null,null,null,null,null,null,null,null,24,"REFINGAS",0,0,"..",false,"..",{"$f":"IF(AND(COUNTIF($AH$46:AH69,$AH69)>1,$AH69<$AB$65),$AH69+COUNTIF($AH$46:AH69,$AH69)-1,$AH69)","v":".."}]
[null,null,null,null,null,null,null,null,null,null,null,null,null,null,null,null,null,null,null,null,null,null,null,null,null,null,null,25,"ETHANE",0,0,"..",false,"..",{"$f":"IF(AND(COUNTIF($AH$46:AH70,$AH70)>1,$AH70<$AB$65),$AH70+COUNTIF($AH$46:AH70,$AH70)-1,$AH70)","v":".."}]
[null,null,null,null,null,null,null,null,null,null,null,null,null,null,null,null,null,null,null,null,null,null,null,null,null,null,null,26,"LPG",0,0,"..",false,"..",{"$f":"IF(AND(COUNTIF($AH$46:AH71,$AH71)>1,$AH71<$AB$65),$AH71+COUNTIF($AH$46:AH71,$AH71)-1,$AH71)","v":".."}]
[null,null,null,null,null,null,null,null,null,null,null,null,null,null,null,null,null,null,null,null,null,null,null,null,null,null,null,27,"NONBIOGASO",0,0,"..",false,"..",{"$f":"IF(AND(COUNTIF($AH$46:AH72,$AH72)>1,$AH72<$AB$65),$AH72+COUNTIF($AH$46:AH72,$AH72)-1,$AH72)","v":".."}]
[null,null,null,null,null,null,null,null,null,null,null,null,null,null,null,null,null,null,null,null,null,null,null,null,null,null,null,28,"AVGAS",0,0,"..",false,"..",{"$f":"IF(AND(COUNTIF($AH$46:AH73,$AH73)>1,$AH73<$AB$65),$AH73+COUNTIF($AH$46:AH73,$AH73)-1,$AH73)","v":".."}]
[null,null,null,null,null,null,null,null,null,null,null,null,null,null,null,null,null,null,null,null,null,null,null,null,null,null,null,29,"JETGAS",0,0,"..",false,"..",{"$f":"IF(AND(COUNTIF($AH$46:AH74,$AH74)>1,$AH74<$AB$65),$AH74+COUNTIF($AH$46:AH74,$AH74)-1,$AH74)","v":".."}]
[null,null,null,null,null,null,null,null,null,null,null,null,null,null,null,null,null,null,null,null,null,null,null,null,null,null,null,30,"NONBIOJETK",0,0,"..",false,"..",{"$f":"IF(AND(COUNTIF($AH$46:AH75,$AH75)>1,$AH75<$AB$65),$AH75+COUNTIF($AH$46:AH75,$AH75)-1,$AH75)","v":".."}]
[null,null,null,null,null,null,null,null,null,null,null,null,null,null,null,null,null,null,null,null,null,null,null,null,null,null,null,31,"OTHKERO",0,0,"..",false,"..",{"$f":"IF(AND(COUNTIF($AH$46:AH76,$AH76)>1,$AH76<$AB$65),$AH76+COUNTIF($AH$46:AH76,$AH76)-1,$AH76)","v":".."}]
[null,null,null,null,null,null,null,null,null,null,null,null,null,null,null,null,null,null,null,null,null,null,null,null,null,null,null,32,"NONBIODIES",-110,3345,3.2884902840059793E-2,false,2,{"$f":"IF(AND(COUNTIF($AH$46:AH77,$AH77)>1,$AH77<$AB$65),$AH77+COUNTIF($AH$46:AH77,$AH77)-1,$AH77)","v":2}]
[null,null,null,null,null,null,null,null,null,null,null,null,null,null,null,null,null,null,null,null,null,null,null,null,null,null,null,33,"RESFUEL",0,0,{"$f":"IFERROR(ABS(AD78/AE78),\"..\")","v":".."},{"$f":"IF(AND(ISTEXT($AF78)=FALSE,$AF78>$AG$43),TRUE,FALSE)","v":false},{"$f":"IFERROR(RANK(AF78,$AF$46:$AF$108,0),\"..\")","v":".."},{"$f":"IF(AND(COUNTIF($AH$46:AH78,$AH78)>1,$AH78<$AB$65),$AH78+COUNTIF($AH$46:AH78,$AH78)-1,$AH78)","v":".."}]
[null,null,null,null,null,null,null,null,null,null,null,null,null,null,null,null,null,null,null,null,null,null,null,null,null,null,null,34,"NAPHTHA",0,0,"..",false,"..",{"$f":"IF(AND(COUNTIF($AH$46:AH79,$AH79)>1,$AH79<$AB$65),$AH79+COUNTIF($AH$46:AH79,$AH79)-1,$AH79)","v":".."}]
[null,null,null,null,null,null,null,null,null,null,null,null,null,null,null,null,null,null,null,null,null,null,null,null,null,null,null,35,"WHITESP",0,0,"..",false,"..",{"$f":"IF(AND(COUNTIF($AH$46:AH80,$AH80)>1,$AH80<$AB$65),$AH80+COUNTIF($AH$46:AH80,$AH80)-1,$AH80)","v":".."}]
[null,null,null,null,null,null,null,null,null,null,null,null,null,null,null,null,null,null,null,null,null,null,null,null,null,null,null,36,"LUBRIC",0,0,"..",false,"..",{"$f":"IF(AND(COUNTIF($AH$46:AH81,$AH81)>1,$AH81<$AB$65),$AH81+COUNTIF($AH$46:AH81,$AH81)-1,$AH81)","v":".."}]
[null,null,null,null,null,null,null,null,null,null,null,null,null,null,null,null,null,null,null,null,null,null,null,null,null,null,null,37,"BITUMEN",0,0,"..",false,"..",{"$f":"IF(AND(COUNTIF($AH$46:AH82,$AH82)>1,$AH82<$AB$65),$AH82+COUNTIF($AH$46:AH82,$AH82)-1,$AH82)","v":".."}]
[null,null,null,null,null,null,null,null,null,null,null,null,null,null,null,null,null,null,null,null,null,null,null,null,null,null,null,38,"PARWAX",0,0,"..",false,"..",{"$f":"IF(AND(COUNTIF($AH$46:AH83,$AH83)>1,$AH83<$AB$65),$AH83+COUNTIF($AH$46:AH83,$AH83)-1,$AH83)","v":".."}]
[null,null,null,null,null,null,null,null,null,null,null,null,null,null,null,null,null,null,null,null,null,null,null,null,null,null,null,39,"PETCOKE",0,0,"..",false,"..",{"$f":"IF(AND(COUNTIF($AH$46:AH84,$AH84)>1,$AH84<$AB$65),$AH84+COUNTIF($AH$46:AH84,$AH84)-1,$AH84)","v":".."}]
[null,null,null,null,null,null,null,null,null,null,null,null,null,null,null,null,null,null,null,null,null,null,null,null,null,null,null,40,"ONONSPEC",0,0,"..",false,"..",{"$f":"IF(AND(COUNTIF($AH$46:AH85,$AH85)>1,$AH85<$AB$65),$AH85+COUNTIF($AH$46:AH85,$AH85)-1,$AH85)","v":".."}]
[null,null,null,null,null,null,null,null,null,null,null,null,null,null,null,null,null,null,null,null,null,null,null,null,null,null,null,41,"NATGAS",0,0,"..",false,"..",{"$f":"IF(AND(COUNTIF($AH$46:AH86,$AH86)>1,$AH86<$AB$65),$AH86+COUNTIF($AH$46:AH86,$AH86)-1,$AH86)","v":".."}]
[null,null,null,null,null,null,null,null,null,null,null,null,null,null,null,null,null,null,null,null,null,null,null,null,null,null,null,42,"INDWASTE",0,0,"..",false,"..",{"$f":"IF(AND(COUNTIF($AH$46:AH87,$AH87)>1,$AH87<$AB$65),$AH87+COUNTIF($AH$46:AH87,$AH87)-1,$AH87)","v":".."}]
[null,null,null,null,null,null,null,null,null,null,null,null,null,null,null,null,null,null,null,null,null,null,null,null,null,null,null,43,"MUNWASTER",0,0,"..",false,"..",{"$f":"IF(AND(COUNTIF($AH$46:AH88,$AH88)>1,$AH88<$AB$65),$AH88+COUNTIF($AH$46:AH88,$AH88)-1,$AH88)","v":".."}]
[null,null,null,null,null,null,null,null,null,null,null,null,null,null,null,null,null,null,null,null,null,null,null,null,null,null,null,44,"MUNWASTEN",0,0,"..",false,"..",{"$f":"IF(AND(COUNTIF($AH$46:AH89,$AH89)>1,$AH89<$AB$65),$AH89+COUNTIF($AH$46:AH89,$AH89)-1,$AH89)","v":".."}]
[null,null,null,null,null,null,null,null,null,null,null,null,null,null,null,null,null,null,null,null,null,null,null,null,null,null,null,45,"PRIMSBIO",0,62.5,0,false,3,{"$f":"IF(AND(COUNTIF($AH$46:AH90,$AH90)>1,$AH90<$AB$65),$AH90+COUNTIF($AH$46:AH90,$AH90)-1,$AH90)","v":3}]
[null,null,null,null,null,null,null,null,null,null,null,null,null,null,null,null,null,null,null,null,null,null,null,null,null,null,null,46,"BIOGASES",0,0,"..",false,"..",{"$f":"IF(AND(COUNTIF($AH$46:AH91,$AH91)>1,$AH91<$AB$65),$AH91+COUNTIF($AH$46:AH91,$AH91)-1,$AH91)","v":".."}]
[null,null,null,null,null,null,null,null,null,null,null,null,null,null,null,null,null,null,null,null,null,null,null,null,null,null,null,47,"BIOGASOL",0,0,"..",false,"..",{"$f":"IF(AND(COUNTIF($AH$46:AH92,$AH92)>1,$AH92<$AB$65),$AH92+COUNTIF($AH$46:AH92,$AH92)-1,$AH92)","v":".."}]
[null,null,null,null,null,null,null,null,null,null,null,null,null,null,null,null,null,null,null,null,null,null,null,null,null,null,null,48,"BIOJETKERO",0,0,"..",false,"..",{"$f":"IF(AND(COUNTIF($AH$46:AH93,$AH93)>1,$AH93<$AB$65),$AH93+COUNTIF($AH$46:AH93,$AH93)-1,$AH93)","v":".."}]
[null,null,null,null,null,null,null,null,null,null,null,null,null,null,null,null,null,null,null,null,null,null,null,null,null,null,null,49,"BIODIESEL",0,1.5,0,false,3,{"$f":"IF(AND(COUNTIF($AH$46:AH94,$AH94)>1,$AH94<$AB$65),$AH94+COUNTIF($AH$46:AH94,$AH94)-1,$AH94)","v":4}]
[null,null,null,null,null,null,null,null,null,null,null,null,null,null,null,null,null,null,null,null,null,null,null,null,null,null,null,50,"OBIOLIQ",0,0,"..",false,"..",{"$f":"IF(AND(COUNTIF($AH$46:AH95,$AH95)>1,$AH95<$AB$65),$AH95+COUNTIF($AH$46:AH95,$AH95)-1,$AH95)","v":".."}]
[null,null,null,null,null,null,null,null,null,null,null,null,null,null,null,null,null,null,null,null,null,null,null,null,null,null,null,51,"RENEWNS",0,0,"..",false,"..",{"$f":"IF(AND(COUNTIF($AH$46:AH96,$AH96)>1,$AH96<$AB$65),$AH96+COUNTIF($AH$46:AH96,$AH96)-1,$AH96)","v":".."}]
[null,null,null,null,null,null,null,null,null,null,null,null,null,null,null,null,null,null,null,null,null,null,null,null,null,null,null,52,"CHARCOAL",0,0,"..",false,"..",{"$f":"IF(AND(COUNTIF($AH$46:AH97,$AH97)>1,$AH97<$AB$65),$AH97+COUNTIF($AH$46:AH97,$AH97)-1,$AH97)","v":".."}]
[null,null,null,null,null,null,null,null,null,null,null,null,null,null,null,null,null,null,null,null,null,null,null,null,null,null,null,53,"NUCLEAR",0,0,"..",false,"..",{"$f":"IF(AND(COUNTIF($AH$46:AH98,$AH98)>1,$AH98<$AB$65),$AH98+COUNTIF($AH$46:AH98,$AH98)-1,$AH98)","v":".."}]
[null,null,null,null,null,null,null,null,null,null,null,null,null,null,null,null,null,null,null,null,null,null,null,null,null,null,null,54,"HYDRO",0,0,"..",false,"..",{"$f":"IF(AND(COUNTIF($AH$46:AH99,$AH99)>1,$AH99<$AB$65),$AH99+COUNTIF($AH$46:AH99,$AH99)-1,$AH99)","v":".."}]
[null,null,null,null,null,null,null,null,null,null,null,null,null,null,null,null,null,null,null,null,null,null,null,null,null,null,null,55,"GEOTHERM",0,0,"..",false,"..",{"$f":"IF(AND(COUNTIF($AH$46:AH100,$AH100)>1,$AH100<$AB$65),$AH100+COUNTIF($AH$46:AH100,$AH100)-1,$AH100)","v":".."}]
[null,null,null,null,null,null,null,null,null,null,null,null,null,null,null,null,null,null,null,null,null,null,null,null,null,null,null,56,"SOLARPV",0,0,"..",false,"..",{"$f":"IF(AND(COUNTIF($AH$46:AH101,$AH101)>1,$AH101<$AB$65),$AH101+COUNTIF($AH$46:AH101,$AH101)-1,$AH101)","v":".."}]
[null,null,null,null,null,null,null,null,null,null,null,null,null,null,null,null,null,null,null,null,null,null,null,null,null,null,null,57,"SOLARTH",0,0,"..",false,"..",{"$f":"IF(AND(COUNTIF($AH$46:AH102,$AH102)>1,$AH102<$AB$65),$AH102+COUNTIF($AH$46:AH102,$AH102)-1,$AH102)","v":".."}]
[null,null,null,null,null,null,null,null,null,null,null,null,null,null,null,null,null,null,null,null,null,null,null,null,null,null,null,58,"TIDE",0,0,"..",false,"..",{"$f":"IF(AND(COUNTIF($AH$46:AH103,$AH103)>1,$AH103<$AB$65),$AH103+COUNTIF($AH$46:AH103,$AH103)-1,$AH103)","v":".."}]
[null,null,null,null,null,null,null,null,null,null,null,null,null,null,null,null,null,null,null,null,null,null,null,null,null,null,null,59,"WIND",0,0,"..",false,"..",{"$f":"IF(AND(COUNTIF($AH$46:AH104,$AH104)>1,$AH104<$AB$65),$AH104+COUNTIF($AH$46:AH104,$AH104)-1,$AH104)","v":".."}]
[null,null,null,null,null,null,null,null,null,null,null,null,null,null,null,null,null,null,null,null,null,null,null,null,null,null,null,60,"HEATPUMP",0,0,"..",false,"..",{"$f":"IF(AND(COUNTIF($AH$46:AH105,$AH105)>1,$AH105<$AB$65),$AH105+COUNTIF($AH$46:AH105,$AH105)-1,$AH105)","v":".."}]
[null,null,null,null,null,null,null,null,null,null,null,null,null,null,null,null,null,null,null,null,null,null,null,null,null,null,null,61,"BOILER",0,0,"..",false,"..",{"$f":"IF(AND(COUNTIF($AH$46:AH106,$AH106)>1,$AH106<$AB$65),$AH106+COUNTIF($AH$46:AH106,$AH106)-1,$AH106)","v":".."}]
[null,null,null,null,null,null,null,null,null,null,null,null,null,null,null,null,null,null,null,null,null,null,null,null,null,null,null,62,"CHEMHEAT",0,0,"..",false,"..",{"$f":"IF(AND(COUNTIF($AH$46:AH107,$AH107)>1,$AH107<$AB$65),$AH107+COUNTIF($AH$46:AH107,$AH107)-1,$AH107)","v":".."}]
[null,null,null,null,null,null,null,null,null,null,null,null,null,null,null,null,null,null,null,null,null,null,null,null,null,null,null,63,"OTHER",0,0,"..",false,"..",{"$f":"IF(AND(COUNTIF($AH$46:AH108,$AH108)>1,$AH108<$AB$65),$AH108+COUNTIF($AH$46:AH108,$AH108)-1,$AH108)","v":".."}]
[null,null,null,null,null,null,null,null,null,null,null,null,null,null,null,null,null,null,null,null,null,null,null,null,null,null,null,64,"ELECTR",0,10522,{"$f":"IFERROR(ABS(AD109/AE109),\"..\")","v":0},false,3,{"$f":"IF(AND(COUNTIF($AH$46:AH109,$AH109)>1,$AH109<$AB$65),$AH109+COUNTIF($AH$46:AH109,$AH109)-1,$AH109)","v":5}]
[null,null,null,null,null,null,null,null,null,null,null,null,null,null,null,null,null,null,null,null,null,null,null,null,null,null,null,65,"HEAT",0,0,"..",false,"..",{"$f":"IF(AND(COUNTIF($AH$46:AH110,$AH110)>1,$AH110<$AB$65),$AH110+COUNTIF($AH$46:AH110,$AH110)-1,$AH110)","v":".."}]

{"sheet":"TableOfContents","index":2,"n_rows":55,"n_cols":30,"rows_kept":55,"cut":false,"hidden":true,"merged":[[28,0,28,4],[29,0,29,4],[30,0,30,4],[31,0,31,4],[32,0,32,4],[21,0,21,4],[22,0,22,4],[23,0,23,4],[24,0,24,4],[25,0,25,4],[10,0,15,0],[6,0,9,0],[4,0,5,0],[19,0,19,4],[20,0,20,4]]}
[null,{"$f":"HLOOKUP(LangChoice,$AB$4:$AE$50,$AA5+1)","v":"Table of Contents"},"Hide",null,null,null,null,null,null,null,null,null,null,null,null,null,null,null,null,null,null,null,null,null,null,null,"Hide -->:",null,null,"<--Hide"]
[]
[null,{"$f":"HLOOKUP(LangChoice,$AB$4:$AE$50,$AA6+1)","v":"Sheet"},"Print?",{"$f":"HLOOKUP(LangChoice,$AB$4:$AE$50,$AA7+1)","v":"Contents"},{"$f":"HLOOKUP(LangChoice,$AB$4:$AE$50,$AA8+1)","v":"Notes"},null,null,null,null,null,null,null,null,null,null,null,null,null,null,null,null,null,null,null,null,null,null,"Language"]
[null,"Definitions",null,{"$f":"HLOOKUP(LangChoice,$AB$4:$AE$50,$AA9+1)","v":"IEA product and flow definitions"},null,null,null,null,null,null,null,null,null,null,null,null,null,null,null,null,null,null,null,null,null,null,null,"English","Pусский","中文"]
[{"$f":"HLOOKUP(LangChoice,$AB$4:$AE$50,$AA22+1)","v":"Data entry"},"Conversion Factors",null,"Conversion factors used to convert data from physical to energy units",{"$f":"HLOOKUP(LangChoice,$AB$4:$AE$50,$AA25+1)","v":"See 'Instructions' below"},null,null,null,null,null,null,null,null,null,null,null,null,null,null,null,null,null,null,null,null,null,1,"Table of Contents","Оглавление","[missing Chinese]"]
[null,"Data in physical units",null,"Filled by hand or automatically loaded data from the IEA questionnaires",{"$f":"E5","v":"See 'Instructions' below"},null,null,null,null,null,null,null,null,null,null,null,null,null,null,null,null,null,null,null,null,null,2,"Sheet","Лист","[missing Chinese]"]
[{"$f":"HLOOKUP(LangChoice,$AB$4:$AE$50,$AA23+1)","v":"Data dissemi-nation"},"Disaggregated balance",null,"All fuels converted to a common energy unit from the data in physical units",{"$f":"HLOOKUP(LangChoice,$AB$4:$AE$50,$AA26+1)","v":"Calculated automatically"},null,null,null,null,null,null,null,null,null,null,null,null,null,null,null,null,null,null,null,null,null,3,"Contents","Содержание","[missing Chinese]"]
[null,"Aggregated balance",null,"Energy balance grouped by main fuel source",{"$f":"$E$7","v":"Calculated automatically"},null,null,null,null,null,null,null,null,null,null,null,null,null,null,null,null,null,null,null,null,null,4,"Notes","Примечания","[missing Chinese]"]
[null,"Published balance",true,"Aggregated energy balance as published in IEA World Energy Balances-publication",{"$f":"$E$7","v":"Calculated automatically"},null,null,null,null,null,null,null,null,null,null,null,null,null,null,null,null,null,null,null,null,null,5,"IEA product and flow definitions","Определения МЭА для продукта и потоков","[missing Chinese]"]
[null,"Balance summary",true,"Short description of the data with graphs","Calculated automatically",null,null,null,null,null,null,null,null,null,null,null,null,null,null,null,null,null,null,null,null,null,6,"Conversion factors used to convert data from physical to energy units","Коэффициенты пересчета, используемые для перевода данных из физических в энергетические единицы","[missing Chinese]"]
[{"$f":"HLOOKUP(LangChoice,$AB$4:$AE$50,$AA24+1)","v":"Energy-specific checks"},"IronSteel_CokeOven",{"$f":"IF(IronSteel_CokeOven!$K$17=\"..\",FALSE,TRUE)","v":false},"Check for coke oven transformation process","Calculated automatically",null,null,null,null,null,null,null,null,null,null,null,null,null,null,null,null,null,null,null,null,null,7,"Filled by hand or automatically loaded data from the IEA questionnaires","Заполняется вручную или автоматически загружаемые данные из вопросников МЭА","[missing Chinese]"]
[null,"IronSteel_BlastFurnace",{"$f":"IF(IronSteel_BlastFurnace!$K$17=\"..\",FALSE,TRUE)","v":false},"Check for blast furnace transformation process","Calculated automatically",null,null,null,null,null,null,null,null,null,null,null,null,null,null,null,null,null,null,null,null,null,8,"All fuels converted to a common energy unit from the data in physical units","Все виды топлива переводятся в принятые единицы энергии из данных, приведенных в физических единицах","[missing Chinese]"]
[null,"Refinery",{"$f":"IF(Refinery!$J$15=\"..\",FALSE,TRUE)","v":true},"Check for oil refinery transformation process","Calculated automatically",null,null,null,null,null,null,null,null,null,null,null,null,null,null,null,null,null,null,null,null,null,9,"Energy balance grouped by main fuel source","Энергетический баланс, сгруппированный по основному источнику топлива","[missing Chinese]"]
[null,"Electricity_Heat_I",true,"Broad check for electricity and heat generation efficiencies and a calculator","Calculated automatically",null,null,null,null,null,null,null,null,null,null,null,null,null,null,null,null,null,null,null,null,null,10,"Aggregated energy balance as published in IEA World Energy Balances-publication","Агрегированный энергетический баланс на основе публикации «World Energy Balances» МЭА","[missing Chinese]"]
[null,"Electricity_Heat_II",true,"Detailed check for electricity and heat generation efficiencies","Calculated automatically",null,null,null,null,null,null,null,null,null,null,null,null,null,null,null,null,null,null,null,null,null,11,"Short description of the data with graphs","Краткое описание данных с графиками","[missing Chinese]"]
[null,"CapacityFactor",true,"Check for plant capacity factors","Calculated automatically",null,null,null,null,null,null,null,null,null,null,null,null,null,null,null,null,null,null,null,null,null,12,"Check for coke oven transformation process","Проверка для процесса преобразования в коксовой печи","[missing Chinese]"]
[null,null,null,null,null,null,null,null,null,null,null,null,null,null,null,null,null,null,null,null,null,null,null,null,null,null,13,"Check for blast furnace transformation process","Проверка для процесса преобразования в доменной печи","[missing Chinese]"]
[null,null,null,null,null,null,null,null,null,null,null,null,null,null,null,null,null,null,null,null,null,null,null,null,null,null,14,"Check for oil refinery transformation process","Проверка для процесса преобразования на нефтеперерабатывающем заводе","[missing Chinese]"]
[{"$f":"HLOOKUP(LangChoice,$AB$4:$AE$50,$AA27+1)","v":"Instructions:"},null,null,null,null,null,null,null,null,null,null,null,null,null,null,null,null,null,null,null,null,null,null,null,null,null,15,"Broad check for electricity and heat generation efficiencies and a calculator","Общая проверка для эффективности генерации электрической и тепловой энергии, а также калькулятор","[missing Chinese]"]
["- Certain cells must always be negative (i.e. exports and bunkers).",{"$f":"HLOOKUP(LangChoice,$AB$4:$AE$50,$AA28+1)","v":"- Certain cells must always be negative (i.e. exports and bunkers)."},"- Certain cells must always be negative (i.e. exports and bunkers).","- Certain cells must always be negative (i.e. exports and bunkers).","- Certain cells must always be negative (i.e. exports and bunkers).",null,null,null,null,null,null,null,null,null,null,null,null,null,null,null,null,null,null,null,null,null,16,"Detailed check for electricity and heat generation efficiencies","Подробная проверка для эффективности генерации электрической и тепловой энергии","[missing Chinese]"]
["- Certain cells must always be positive (i.e. production, other sources, imports and all the sub-elements for transformation processes, energy industry own use, losses, industry, transport, other and non-energy use)","- Certain cells must always be positive (i.e. production, other sources, imports and all the sub-elements for transformation processes, energy industry own use, losses, industry, transport, other and non-energy use)","- Certain cells must always be positive (i.e. production, other sources, imports and all the sub-elements for transformation processes, energy industry own use, losses, industry, transport, other and non-energy use)","- Certain cells must always be positive (i.e. production, other sources, imports and all the sub-elements for transformation processes, energy industry own use, losses, industry, transport, other and non-energy use)","- Certain cells must always be positive (i.e. production, other sources, imports and all the sub-elements for transformation processes, energy industry own use, losses, industry, transport, other and non-energy use)",null,null,null,null,null,null,null,null,null,null,null,null,null,null,null,null,null,null,null,null,null,17,"Check for plant capacity factors","Проверка для коэффициентов мощности электростанций","[missing Chinese]"]
["- Sub-totals will be highlighted if they are not equal to the sum of the sub-elements.","- Sub-totals will be highlighted if they are not equal to the sum of the sub-elements.","- Sub-totals will be highlighted if they are not equal to the sum of the sub-elements.","- Sub-totals will be highlighted if they are not equal to the sum of the sub-elements.","- Sub-totals will be highlighted if they are not equal to the sum of the sub-elements.",null,null,null,null,null,null,null,null,null,null,null,null,null,null,null,null,null,null,null,null,null,18,"Data entry","Ввод данных","[missing Chinese]"]
["- Final consumption will check to see that sums are correct both from the top-down and the bottom-up:","- Final consumption will check to see that sums are correct both from the top-down and the bottom-up:","- Final consumption will check to see that sums are correct both from the top-down and the bottom-up:","- Final consumption will check to see that sums are correct both from the top-down and the bottom-up:","- Final consumption will check to see that sums are correct both from the top-down and the bottom-up:",null,null,null,null,null,null,null,null,null,null,null,null,null,null,null,null,null,null,null,null,null,19,"Data dissemi-nation","Распространение данных","[missing Chinese]"]
["--Final consumption (top-down) = Domestic supply - Transformation processes - Energy industry own use - Losses + Transfers + Statistical difference","--Final consumption (top-down) = Domestic supply - Transformation processes - Energy industry own use - Losses + Transfers + Statistical difference","--Final consumption (top-down) = Domestic supply - Transformation processes - Energy industry own use - Losses + Transfers + Statistical difference","--Final consumption (top-down) = Domestic supply - Transformation processes - Energy industry own use - Losses + Transfers + Statistical difference","--Final consumption (top-down) = Domestic supply - Transformation processes - Energy industry own use - Losses + Transfers + Statistical difference",null,null,null,null,null,null,null,null,null,null,null,null,null,null,null,null,null,null,null,null,null,20,"Energy-specific checks","Проверки, связанные с энергетикой","[missing Chinese]"]
["--Final consumption (bottom-up) = Industry + Transport + Other + Non-energy use","--Final consumption (bottom-up) = Industry + Transport + Other + Non-energy use","--Final consumption (bottom-up) = Industry + Transport + Other + Non-energy use","--Final consumption (bottom-up) = Industry + Transport + Other + Non-energy use","--Final consumption (bottom-up) = Industry + Transport + Other + Non-energy use",null,null,null,null,null,null,null,null,null,null,null,null,null,null,null,null,null,null,null,null,null,21,"See 'Instructions' below","См. «Инструкции» ниже","[missing Chinese]"]
["- For the conversion factors, make sure that there are no zeroes in the table to ensure that all flows are converted to energy units.","- For the conversion factors, make sure that there are no zeroes in the table to ensure that all flows are converted to energy units.","- For the conversion factors, make sure that there are no zeroes in the table to ensure that all flows are converted to energy units.","- For the conversion factors, make sure that there are no zeroes in the table to ensure that all flows are converted to energy units.","- For the conversion factors, make sure that there are no zeroes in the table to ensure that all flows are converted to energy units.",null,null,null,null,null,null,null,null,null,null,null,null,null,null,null,null,null,null,null,null,null,22,"Calculated automatically","Рассчитывается автоматически","[missing Chinese]"]
[null,null,null,null,null,null,null,null,null,null,null,null,null,null,null,null,null,null,null,null,null,null,null,null,null,null,23,"Instructions:","Инструкции:","[missing Chinese]"]
[{"$f":"HLOOKUP(LangChoice,$AB$4:$AE$50,$AA35+1)","v":"Help / Further Information:"},null,null,null,null,null,null,null,null,null,null,null,null,null,null,null,null,null,null,null,null,null,null,null,null,null,24,"- Certain cells must always be negative (i.e. exports and bunkers).","- Некоторые ячейки должны всегда иметь отрицательное значение (например, экспорт и бункерные накопители).","[missing Chinese]"]
["- Consult the IEA definitions worksheet to understand what is covered by individual products or flows.  Where applicable, row or column headings of the \"data in physical units\" and balances worksheets are linked directly to the appropriate definition. ",{"$f":"HLOOKUP(LangChoice,$AB$4:$AE$50,$AA36+1)","v":"- Consult the IEA definitions worksheet to understand what is covered by individual products or flows.  Where applicable, row or column headings of the \"data in physical units\" and balances worksheets are linked directly to the appropriate definition. "},"- Consult the IEA definitions worksheet to understand what is covered by individual products or flows.  Where applicable, row or column headings of the \"data in physical units\" and balances worksheets are linked directly to the appropriate definition. ","- Consult the IEA definitions worksheet to understand what is covered by individual products or flows.  Where applicable, row or column headings of the \"data in physical units\" and balances worksheets are linked directly to the appropriate definition. ","- Consult the IEA definitions worksheet to understand what is covered by individual products or flows.  Where applicable, row or column headings of the \"data in physical units\" and balances worksheets are linked directly to the appropriate definition. ",null,null,null,null,null,null,null,null,null,null,null,null,null,null,null,null,null,null,null,null,null,25,"- Certain cells must always be positive (i.e. production, other sources, imports and all the sub-elements for transformation processes, energy industry own use, losses, industry, transport, other and non-energy use)","- Некоторые ячейки должны всегда иметь положительное значение (например, производство, другие источники, импорт и все субэлементы процессов преобразования, собственное использование энергетической отросли, потери, отрасли промышленности, транспорт, другое и неэнергетическое использование)","[missing Chinese]"]
["- Please ensure macros are enabled.","- Please ensure macros are enabled.","- Please ensure macros are enabled.","- Please ensure macros are enabled.","- Please ensure macros are enabled.",null,null,null,null,null,null,null,null,null,null,null,null,null,null,null,null,null,null,null,null,null,26,"- Sub-totals will be highlighted if they are not equal to the sum of the sub-elements.","- Промежуточные итоговые суммы будут подцвечиваться в случае несовпадения с суммой субэлементов.","[missing Chinese]"]
["- The country-specific exceptions listed in the \"Exceptions\" worksheet are automatically copied to the disaggregated balance when necessary. This worksheet should not be modified, it is made available for information. When \"Disaggregated Balance\" cells are modified their font color is changed to red.","- The country-specific exceptions listed in the \"Exceptions\" worksheet are automatically copied to the disaggregated balance when necessary. This worksheet should not be modified, it is made available for information. When \"Disaggregated Balance\" cells are modified their font color is changed to red.","- The country-specific exceptions listed in the \"Exceptions\" worksheet are automatically copied to the disaggregated balance when necessary. This worksheet should not be modified, it is made available for information. When \"Disaggregated Balance\" cells are modified their font color is changed to red.","- The country-specific exceptions listed in the \"Exceptions\" worksheet are automatically copied to the disaggregated balance when necessary. This worksheet should not be modified, it is made available for information. When \"Disaggregated Balance\" cells are modified their font color is changed to red.","- The country-specific exceptions listed in the \"Exceptions\" worksheet are automatically copied to the disaggregated balance when necessary. This worksheet should not be modified, it is made available for information. When \"Disaggregated Balance\" cells are modified their font color is changed to red.",null,null,null,null,null,null,null,null,null,null,null,null,null,null,null,null,null,null,null,null,null,27,"- Final consumption will check to see that sums are correct both from the top-down and the bottom-up:","- Конечное потребление будет совершать проверку на предмет правильности всех сумм сверху вниз и снизу вверх:","[missing Chinese]"]
["- Most worksheets are protected to prevent involuntary changes. To unprotect them, right-click the desired worksheet and select \"Unprotect sheet\".","- Most worksheets are protected to prevent involuntary changes. To unprotect them, right-click the desired worksheet and select \"Unprotect sheet\".","- Most worksheets are protected to prevent involuntary changes. To unprotect them, right-click the desired worksheet and select \"Unprotect sheet\".","- Most worksheets are protected to prevent involuntary changes. To unprotect them, right-click the desired worksheet and select \"Unprotect sheet\".","- Most worksheets are protected to prevent involuntary changes. To unprotect them, right-click the desired worksheet and select \"Unprotect sheet\".",null,null,null,null,null,null,null,null,null,null,null,null,null,null,null,null,null,null,null,null,null,28,"--Final consumption (top-down) = Domestic supply - Transformation processes - Energy industry own use - Losses + Transfers + Statistical difference","--Общее конечное потребление (сверху вниз)","[missing Chinese]"]
["- The IEA uses a model to allocate part of the blast furnaces fuel inputs to transformation processes and part to iron and steel consumption. This model is not implemented in the balance builder and, for this reason, the blast furnaces transformation row and iron and steel row might differ from our published data.","- The IEA uses a model to allocate part of the blast furnaces fuel inputs to transformation processes and part to iron and steel consumption. This model is not implemented in the balance builder and, for this reason, the blast furnaces transformation row and iron and steel row might differ from our published data.","- The IEA uses a model to allocate part of the blast furnaces fuel inputs to transformation processes and part to iron and steel consumption. This model is not implemented in the balance builder and, for this reason, the blast furnaces transformation row and iron and steel row might differ from our published data.","- The IEA uses a model to allocate part of the blast furnaces fuel inputs to transformation processes and part to iron and steel consumption. This model is not implemented in the balance builder and, for this reason, the blast furnaces transformation row and iron and steel row might differ from our published data.","- The IEA uses a model to allocate part of the blast furnaces fuel inputs to transformation processes and part to iron and steel consumption. This model is not implemented in the balance builder and, for this reason, the blast furnaces transformation row and iron and steel row might differ from our published data.",null,null,null,null,null,null,null,null,null,null,null,null,null,null,null,null,null,null,null,null,null,29,"--Final consumption (bottom-up) = Industry + Transport + Other + Non-energy use","--Общее конечное потребление (снизу вверх)","[missing Chinese]"]
[null,null,null,null,null,null,null,null,null,null,null,null,null,null,null,null,null,null,null,null,null,null,null,null,null,null,30,"- For the conversion factors, make sure that there are no zeroes in the table to ensure that all flows are converted to energy units.","- Что касается коэффициентов пересчета, для того, чтобы все потоки были переведены в единицы энергии, пожалуйста, убедитесь, что в таблице нет нолей.","[missing Chinese]"]
[null,null,null,null,null,null,null,null,null,null,null,null,null,null,null,null,null,null,null,null,null,null,null,null,null,null,31,"Help / Further Information:","Помощь / Дополнительная информация:","[missing Chinese]"]
[null,null,null,null,null,null,null,null,null,null,null,null,null,null,null,null,null,null,null,null,null,null,null,null,null,null,32,"- Consult the IEA definitions worksheet to understand what is covered by individual products or flows.  Where applicable, row or column headings of the \"data in physical units\" and balances worksheets are linked directly to the appropriate definition. ","- Обратитесь к таблице определений МЭА, чтобы понять, что входит в те или иные виды продукции или потоки.  Где необходимо, заголовки строк и столбцов во вкладках «Data in physical units» и «Balances» привязаны непосредственно к соответствующему определению. ","[missing Chinese]"]
[null,null,null,null,null,null,null,null,null,null,null,null,null,null,null,null,null,null,null,null,null,null,null,null,null,null,33,"- Please ensure macros are enabled.","- Убедитесь, что включены макросы.","[missing Chinese]"]
[null,null,null,null,null,null,null,null,null,null,null,null,null,null,null,null,null,null,null,null,null,null,null,null,null,null,34,"- The country-specific exceptions listed in the \"Exceptions\" worksheet are automatically copied to the disaggregated balance when necessary. This worksheet should not be modified, it is made available for information. When \"Disaggregated Balance\" cells are modified their font color is changed to red.","- Присущие определенным странам исключения, перечисленные во вкладке «Exceptions», где необходимо, автоматически копируются в дезагрегированный баланс. В этот рабочий лист нельзя вносить изменения, поскольку он приведен для информации. В случае изменения ячеек «Дезагрегированный баланс», цвет их шрифта изменяется на красный.","[missing Chinese]"]
[null,null,null,null,null,null,null,null,null,null,null,null,null,null,null,null,null,null,null,null,null,null,null,null,null,null,35,"- Most worksheets are protected to prevent involuntary changes. To unprotect them, right-click the desired worksheet and select \"Unprotect sheet\".","- Большинство рабочих листов защищены от непреднамеренного внесения изменений. Чтобы снять защиту, кликните правой кнопкой мыши на нужном листе и выберете пункт «Снять защиту листа».","[missing Chinese]"]
[null,null,null,null,null,null,null,null,null,null,null,null,null,null,null,null,null,null,null,null,null,null,null,null,null,null,36,"- The IEA uses a model to allocate part of the blast furnaces fuel inputs to transformation processes and part to iron and steel consumption. This model is not implemented in the balance builder and, for this reason, the blast furnaces transformation row and iron and steel row might differ from our published data.","- МЭА использует модель для распределения части используемого топлива для доменных печей на процессы преобразования, а части – на потребление чугуна и стали. Эта модель не реализована в построителе балансов и, по этой причине, строки преобразований доменных печей и строки чугуна и стали могут отличаться от публикуемых нами данных.","[missing Chinese]"]
[null,null,null,null,null,null,null,null,null,null,null,null,null,null,null,null,null,null,null,null,null,null,null,null,null,null,37,"Compatible with International recommendations for energy statistics (UN, 2011)","Совместимо с Международными рекомендациями по статистике энергетики (ООН, 2011)","[missing Chinese]"]
[]
[]
[]
[]
[]
[]
[]
[]
["Hide","Hidden sheets only for administrator"]
[null,"DPU formulas",null,"This sheet has links to relevant AQ tables. Modify if there are changes in the AQs. Macro copies the formulas so that they are correct in the 'Data in physical units'-sheet. Table formatting removed to make the file lighter."]
[null,"CF formulas",null,"This sheet has links to relevant AQ tables for calorific values. Modify if there are changes in the AQs. Macro copies the formulas so that they are correct in the 'Conversion factors'-sheet. Table formatting removed to make the file lighter."]
[null,"Miscellanoeus efficiencies","Missing","Charcoal, patent fuel, other transformation, CTL, GTL"]
[null,"BAL_Reading_Exercise",null,"Hidden sheet ('xlVeryHidden') for training purposes"]
[null,"BAL_Checking_Exercise",null,"Hidden sheet ('xlVeryHidden') for training purposes"]

{"sheet":"Definitions","index":3,"n_rows":177,"n_cols":5,"rows_kept":177,"cut":false,"hidden":false,"merged":[[84,0,84,2],[10,0,10,2]]}
["IEA Definitions",null,"IEA Definitions",null,"Compatible with International recommendations for energy statistics (UN, 2011)"]
[]
[null,{"$f":"HLOOKUP(LangChoice,Definitions_ProdLang!$C$2:$E$75,Definitions_ProdLang!$A3+1,FALSE)","v":"PRODUCT DEFINITIONS"},null,null,{"$f":"HLOOKUP(LangChoice,Definitions_FlowLang!$C$2:$E$112,Definitions_ProdLang!$A3+1,FALSE)","v":"FLOW DEFINITIONS"}]
[null,null,{"$f":"C12","v":"Coal, peat, oilshale and oil sands"},null,{"$f":"C86","v":"Supply"}]
[null,null,{"$f":"C31","v":"Crude, NGL, refinery feedstocks"},null,{"$f":"C98","v":"Transformation processes"}]
[null,null,{"$f":"C37","v":"Oil products"},null,{"$f":"C121","v":"Energy industry own use and losses"}]
[null,null,{"$f":"C55","v":"Natural gas"},null,{"$f":"C141","v":"Final consumption"}]
[null,null,{"$f":"C57","v":"Biofuels and waste"},null,{"$f":"C175","v":"Electricity and heat output"}]
[null,null,{"$f":"C69","v":"Electricity and heat"}]
[]
[{"$f":"CONCATENATE(HLOOKUP(LangChoice,Definitions_ProdLang!$C$2:$E$75,Definitions_ProdLang!$A3+1,FALSE),\":\")","v":"PRODUCT DEFINITIONS:"},null,null,null,"Link to IRES: https://unstats.un.org/unsd/energy/ires/"]
[null,null,{"$f":"HLOOKUP(LangChoice,Definitions_ProdLang!$C$2:$E$75,Definitions_ProdLang!$A4+1,FALSE)","v":"Coal, peat, oilshale and oil sands"},":"]
[null,null,{"$f":"HLOOKUP(LangChoice,Definitions_ProdLang!$C$2:$E$75,Definitions_ProdLang!$A5+1,FALSE)","v":"Anthracite"},":",{"$f":"HLOOKUP(LangChoice,Definitions_ProdLang!$F$2:$H$75,Definitions_ProdLang!$A5+1,FALSE)","v":"High rank coal used for industrial and residential applications. It has generally less than 10% volatile matter and a high carbon content (about 90% fixed carbon). Its gross calorific value is equal to or greater than 24 000 kJ/kg on an ash-free but moist basis."}]
[null,null,{"$f":"HLOOKUP(LangChoice,Definitions_ProdLang!$C$2:$E$75,Definitions_ProdLang!$A6+1,FALSE)","v":"Coking coal"},":",{"$f":"HLOOKUP(LangChoice,Definitions_ProdLang!$F$2:$H$75,Definitions_ProdLang!$A6+1,FALSE)","v":"Bituminous coal with a quality that allows the production of a coke suitable to support a blast furnace charge. Its gross calorific value is equal to or greater than 24 000 kJ/kg on an ash-free but moist basis."}]
[null,null,{"$f":"HLOOKUP(LangChoice,Definitions_ProdLang!$C$2:$E$75,Definitions_ProdLang!$A7+1,FALSE)","v":"Other bituminous coal"},":",{"$f":"HLOOKUP(LangChoice,Definitions_ProdLang!$F$2:$H$75,Definitions_ProdLang!$A7+1,FALSE)","v":"Coal mainly used for steam raising purposes and includes all bituminous coal that is not included under coking coal nor anthracite. It is characterized by higher volatile matter than anthracite (more than 10%) and lower carbon content (less than 90% fixed carbon). Its gross calorific value is equal to or greater than 24 000 kJ/kg on an ash-free but moist basis. If bituminous coal is used in coke ovens it should be reported as coking coal."}]
[null,null,{"$f":"HLOOKUP(LangChoice,Definitions_ProdLang!$C$2:$E$75,Definitions_ProdLang!$A8+1,FALSE)","v":"Sub-bituminous coal"},":",{"$f":"HLOOKUP(LangChoice,Definitions_ProdLang!$F$2:$H$75,Definitions_ProdLang!$A8+1,FALSE)","v":"Non-agglomerating coal with a gross calorific value equal to or greater than 20 000 kJ/kg and less than 24 000 kJ/kg containing more than 31% volatile matter on a dry mineral matter free basis."}]
[null,null,{"$f":"HLOOKUP(LangChoice,Definitions_ProdLang!$C$2:$E$75,Definitions_ProdLang!$A9+1,FALSE)","v":"Lignite"},":",{"$f":"HLOOKUP(LangChoice,Definitions_ProdLang!$F$2:$H$75,Definitions_ProdLang!$A9+1,FALSE)","v":"Non-agglomerating coal with a gross calorific value less than 20 000 kJ/kg and greater than 31% volatile matter on a dry mineral matter free basis."}]
[null,null,{"$f":"HLOOKUP(LangChoice,Definitions_ProdLang!$C$2:$E$75,Definitions_ProdLang!$A10+1,FALSE)","v":"Patent fuel"},":",{"$f":"HLOOKUP(LangChoice,Definitions_ProdLang!$F$2:$H$75,Definitions_ProdLang!$A10+1,FALSE)","v":"A composition fuel manufactured from hard coal fines with the addition of a binding agent. The amount of patent fuel produced may, therefore, be slightly higher than the actual amount of coal consumed in the transformation process."}]
[null,null,{"$f":"HLOOKUP(LangChoice,Definitions_ProdLang!$C$2:$E$75,Definitions_ProdLang!$A11+1,FALSE)","v":"Coke oven coke"},":",{"$f":"HLOOKUP(LangChoice,Definitions_ProdLang!$F$2:$H$75,Definitions_ProdLang!$A11+1,FALSE)","v":"The solid product obtained from carbonization of coal, principally coking coal, at high temperature, it is low in moisture and volatile matter. Coke oven coke is used mainly in the iron and steel industry acting as energy source and chemical agent. Coke breeze and foundry coke are included in this category. Semi-coke (a solid product obtained from carbonization of coal at low temperature) should be included in this category. Semi-coke is used as a domestic fuel or by the transformation plant itself. This heading also includes coke, coke breeze and semi-coke made from lignite/brown coal."}]
[null,null,{"$f":"HLOOKUP(LangChoice,Definitions_ProdLang!$C$2:$E$75,Definitions_ProdLang!$A12+1,FALSE)","v":"Gas coke"},":",{"$f":"HLOOKUP(LangChoice,Definitions_ProdLang!$F$2:$H$75,Definitions_ProdLang!$A12+1,FALSE)","v":"By-product of hard coal used for production of town gas in gas works. Gas coke is used for heating purposes."}]
[null,null,{"$f":"HLOOKUP(LangChoice,Definitions_ProdLang!$C$2:$E$75,Definitions_ProdLang!$A13+1,FALSE)","v":"Coal tar"},":",{"$f":"HLOOKUP(LangChoice,Definitions_ProdLang!$F$2:$H$75,Definitions_ProdLang!$A13+1,FALSE)","v":"A result of the destructive distillation of bituminous coal or of the low-temperature carbonisation of brown coal. Coal tar from bituminous coal is the liquid by-product of the distillation of coal to make coke in the coke oven process. Coal tar can be further distilled into different organic products (e.g. benzene, toluene, naphthalene), which normally would be reported as a feedstock to the petrochemical industry."}]
[null,null,{"$f":"HLOOKUP(LangChoice,Definitions_ProdLang!$C$2:$E$75,Definitions_ProdLang!$A14+1,FALSE)","v":"BKB (Brown coal briquettes)"},":",{"$f":"HLOOKUP(LangChoice,Definitions_ProdLang!$F$2:$H$75,Definitions_ProdLang!$A14+1,FALSE)","v":"BKB is a composition fuel manufactured from lignite or sub-bituminous coal, produced by briquetting under high pressure without the addition of a binding agent."}]
[null,null,{"$f":"HLOOKUP(LangChoice,Definitions_ProdLang!$C$2:$E$75,Definitions_ProdLang!$A15+1,FALSE)","v":"Gas works gas"},":",{"$f":"HLOOKUP(LangChoice,Definitions_ProdLang!$F$2:$H$75,Definitions_ProdLang!$A15+1,FALSE)","v":"Covers all types of gases produced in public utility or private plants, whose main purpose is manufacture, transport and distribution of gas. It includes gas produced by carbonization (including gas produced by coke ovens and transferred to gas works gas), by total gasification with or without enrichment with oil products (LPG, residual fuel oil, etc.), and by reforming and simple mixing of gases and/or air, reported under the rows, From other sources. Under the transformation sector identify amounts of gas work gas transferred to blended natural gas which will be distributed and consumed through the natural gas grid. The quantity of fuel should be reported on a gross calorific value basis.\nThe production of other coal gases (i.e. coke oven gas, blast furnace gas and other recovered gases) should be reported in the columns concerning such gases, and not as production of gas works gas. The coal gases transferred to gas works plants should then be reported (in their own column) in the transformation sector in the gas works plants row. The total amount of gas works gas resulting from transfers of other coal gases should appear in the production line for gas works gas.\n"}]
[null,null,{"$f":"HLOOKUP(LangChoice,Definitions_ProdLang!$C$2:$E$75,Definitions_ProdLang!$A16+1,FALSE)","v":"Coke oven gas"},":",{"$f":"HLOOKUP(LangChoice,Definitions_ProdLang!$F$2:$H$75,Definitions_ProdLang!$A16+1,FALSE)","v":"Obtained as a by-product from the manufacture of coke oven coke for the production of iron and steel. The quantity of fuel should be reported on a gross calorific value basis."}]
[null,null,{"$f":"HLOOKUP(LangChoice,Definitions_ProdLang!$C$2:$E$75,Definitions_ProdLang!$A17+1,FALSE)","v":"Blast furnace gas"},":",{"$f":"HLOOKUP(LangChoice,Definitions_ProdLang!$F$2:$H$75,Definitions_ProdLang!$A17+1,FALSE)","v":"Produced during the combustion of coke in blast furnaces in the iron and steel industry. It is recovered and used as a fuel partly within the plant and partly in other steel industry processes or in power stations equipped to burn it. The quantity of recuperated fuel should be reported on a gross calorific value basis. In addition, off-gases from all iron-production reduction processes utilising air as the oxygen source (such as Direct reduced iron) should be reported here."}]
[null,null,{"$f":"HLOOKUP(LangChoice,Definitions_ProdLang!$C$2:$E$75,Definitions_ProdLang!$A18+1,FALSE)","v":"Other recovered gases"},":",{"$f":"HLOOKUP(LangChoice,Definitions_ProdLang!$F$2:$H$75,Definitions_ProdLang!$A18+1,FALSE)","v":"By-product of the production of steel in an oxygen furnace, recovered on leaving the furnace. The gases are also known as converter gas, LD gas or BOS gas. The quantity of recuperated fuel should be reported on a gross calorific value basis.  Also covers non-specified manufactured gases not mentioned above, such as combustible gases of solid carbonaceous origin recovered from manufacturing and chemical processes not elsewhere defined."}]
[null,null,{"$f":"HLOOKUP(LangChoice,Definitions_ProdLang!$C$2:$E$75,Definitions_ProdLang!$A19+1,FALSE)","v":"Elec/heat output from non-spec. manufactured gases"},":",{"$f":"HLOOKUP(LangChoice,Definitions_ProdLang!$F$2:$H$75,Definitions_ProdLang!$A19+1,FALSE)","v":"This item is only used if the detailed breakdown is not available. It includes coke oven gas, blast furnace gas and other recovered gases. Gas works gas is not included here."}]
[null,null,{"$f":"HLOOKUP(LangChoice,Definitions_ProdLang!$C$2:$E$75,Definitions_ProdLang!$A20+1,FALSE)","v":"Peat"},":",{"$f":"HLOOKUP(LangChoice,Definitions_ProdLang!$F$2:$H$75,Definitions_ProdLang!$A20+1,FALSE)","v":"A combustible soft, porous or compressed, fossil sedimentary deposit of plant origin with high water content (up to 90 percent in the raw state), easily cut, and of light to dark brown colour. Peat used for non-energy purposes should not included here. Milled peat is included here."}]
[null,null,{"$f":"HLOOKUP(LangChoice,Definitions_ProdLang!$C$2:$E$75,Definitions_ProdLang!$A21+1,FALSE)","v":"Peat products"},":",{"$f":"HLOOKUP(LangChoice,Definitions_ProdLang!$F$2:$H$75,Definitions_ProdLang!$A21+1,FALSE)","v":"Products such as peat briquettes derived directly or indirectly from sod peat and milled peat."}]
[null,null,{"$f":"HLOOKUP(LangChoice,Definitions_ProdLang!$C$2:$E$75,Definitions_ProdLang!$A22+1,FALSE)","v":"Oil shale and oil sands"},":",{"$f":"HLOOKUP(LangChoice,Definitions_ProdLang!$F$2:$H$75,Definitions_ProdLang!$A22+1,FALSE)","v":"Oil shale and oil sands are sedimentary rock which contains organic matter in the form of kerogen. Kerogen is a waxy hydrocarbon-rich material regarded as a precursor of petroleum. Oil shale may be burned directly or processed by heating to extract shale oil. Oil shale and tar sands used as inputs for other transformation processes are also included here (this includes the portion consumed in the transformation process). Shale oil and other products derived from liquefaction are included in from other sources under crude oil (other hydrocarbons)."}]
[null,null,{"$f":"HLOOKUP(LangChoice,Definitions_ProdLang!$C$2:$E$75,Definitions_ProdLang!$A23+1,FALSE)","v":"Crude, NGL, refinery feedstocks"},":"]
[null,null,{"$f":"HLOOKUP(LangChoice,Definitions_ProdLang!$C$2:$E$75,Definitions_ProdLang!$A24+1,FALSE)","v":"Crude oil"},":",{"$f":"HLOOKUP(LangChoice,Definitions_ProdLang!$F$2:$H$75,Definitions_ProdLang!$A24+1,FALSE)","v":"Crude oil is a mineral oil of natural origin comprising a mixture of hydrocarbons and associated impurities, such as sulphur. It exists in the liquid phase under normal surface temperature and pressure and its physical characteristics (density, viscosity, etc.) are highly variable. This category includes field or lease condensate recovered from associated and non–associated gas where it is commingled with the commercial crude oil stream."}]
[null,null,{"$f":"HLOOKUP(LangChoice,Definitions_ProdLang!$C$2:$E$75,Definitions_ProdLang!$A25+1,FALSE)","v":"Natural gas liquids (NGL)"},":",{"$f":"HLOOKUP(LangChoice,Definitions_ProdLang!$F$2:$H$75,Definitions_ProdLang!$A25+1,FALSE)","v":"NGL are liquid or liquefied hydrocarbons recovered from natural gas in separation facilities or gas processing plants. Natural gas liquids include ethane, propane, butane (normal and iso–), (iso) pentane and pentanes plus (sometimes referred to as natural gasoline or plant condensate)."}]
[null,null,{"$f":"HLOOKUP(LangChoice,Definitions_ProdLang!$C$2:$E$75,Definitions_ProdLang!$A26+1,FALSE)","v":"Refinery feedstocks"},":",{"$f":"HLOOKUP(LangChoice,Definitions_ProdLang!$F$2:$H$75,Definitions_ProdLang!$A26+1,FALSE)","v":"A refinery feedstock is a processed oil destined for further processing (e.g. straight run fuel oil or vacuum gas oil) excluding blending. With further processing, it will be transformed into one or more components and/or finished products. This definition also covers returns from the petrochemical industry to the refining industry (e.g. pyrolysis gasoline, C4 fractions, gasoil and fuel oil fractions)."}]
[null,null,{"$f":"HLOOKUP(LangChoice,Definitions_ProdLang!$C$2:$E$75,Definitions_ProdLang!$A27+1,FALSE)","v":"Additives/ blending components"},":",{"$f":"HLOOKUP(LangChoice,Definitions_ProdLang!$F$2:$H$75,Definitions_ProdLang!$A27+1,FALSE)","v":"Additives are non-hydrocarbon compounds added to or blended with a product to modify fuel properties (octane, cetane, cold properties, etc.):\ni. Oxygenates, such as alcohols (methanol, ethanol); ethers, such as MTBE (methyl tertiary butyl ether), ETBE (ethyl tertiary butyl ether), TAME (tertiary amyl methyl ether);\nii. Esters (e.g. rapeseed or dimethylester, etc.);\niii. Chemical compounds (such as TML, TEL and detergents).\nThe biofuel fractions of biogasoline, biodiesel and ethanol are not included here, but under liquid biofuels. This differs from the presentation of additives in the Oil Information publication.\n"}]
[null,null,{"$f":"HLOOKUP(LangChoice,Definitions_ProdLang!$C$2:$E$75,Definitions_ProdLang!$A28+1,FALSE)","v":"Other hydro-carbons"},":",{"$f":"HLOOKUP(LangChoice,Definitions_ProdLang!$F$2:$H$75,Definitions_ProdLang!$A28+1,FALSE)","v":"This category includes synthetic crude oil from tar sands, shale oil, etc., liquids from coal liquefaction, (see the Annual coal questionnaire), output of liquids from natural gas conversion into gasoline (see the Annual natural gas questionnaire), hydrogen and emulsified oils (e.g. Orimulsion)."}]
[null,null,{"$f":"HLOOKUP(LangChoice,Definitions_ProdLang!$C$2:$E$75,Definitions_ProdLang!$A29+1,FALSE)","v":"Oil products"},":"]
[null,null,{"$f":"HLOOKUP(LangChoice,Definitions_ProdLang!$C$2:$E$75,Definitions_ProdLang!$A30+1,FALSE)","v":"Refinery gas"},":",{"$f":"HLOOKUP(LangChoice,Definitions_ProdLang!$F$2:$H$75,Definitions_ProdLang!$A30+1,FALSE)","v":"Refinery gas includes a mixture of non-condensed gases mainly consisting of hydrogen, methane, ethane and olefins obtained during distillation of crude oil or treatment of oil products (e.g. cracking) in refineries. It also includes gases which are returned from the petrochemical industry. Refinery gas production refers to gross production. Own consumption is shown separately under oil refineries in energy industry own use."}]
[null,null,{"$f":"HLOOKUP(LangChoice,Definitions_ProdLang!$C$2:$E$75,Definitions_ProdLang!$A31+1,FALSE)","v":"Ethane"},":",{"$f":"HLOOKUP(LangChoice,Definitions_ProdLang!$F$2:$H$75,Definitions_ProdLang!$A31+1,FALSE)","v":"A naturally gaseous straight–chain hydrocarbon, (C2H6) extracted from natural gas and refinery gas streams."}]
[null,null,{"$f":"HLOOKUP(LangChoice,Definitions_ProdLang!$C$2:$E$75,Definitions_ProdLang!$A32+1,FALSE)","v":"Liquefied petroleum gases (LPG)"},":",{"$f":"HLOOKUP(LangChoice,Definitions_ProdLang!$F$2:$H$75,Definitions_ProdLang!$A32+1,FALSE)","v":"LPG are light paraffinic hydrocarbons derived from the refinery processes, crude oil stabilisation and natural gas processing plants. They consist mainly of propane (C3H8) and butane (C4H10) or a combination of the two. They could also include propylene, butylene, isobutene and isobutylene. LPG are normally liquefied under pressure for transportation and storage."}]
[null,null,{"$f":"HLOOKUP(LangChoice,Definitions_ProdLang!$C$2:$E$75,Definitions_ProdLang!$A33+1,FALSE)","v":"Motor gasoline excl. biofuels"},":",{"$f":"HLOOKUP(LangChoice,Definitions_ProdLang!$F$2:$H$75,Definitions_ProdLang!$A33+1,FALSE)","v":"Motor gasoline is light hydrocarbon oil for use in internal combustion engines such as motor vehicles, excluding aircraft. Motor gasoline is distilled between 35°C and 215°C and is used as a fuel for land based spark ignition engines. Motor gasoline may include additives, oxygenates and octane enhancers, including lead compounds such as TEL (tetraethyl lead) and TML (tetramethyl lead). Motor gasoline excluding biofuels does not include the liquid biofuels or ethanol blended with gasoline - see liquid biofuels. This differs from the presentation of motor gasoline in the Oil Information publication."}]
[null,null,{"$f":"HLOOKUP(LangChoice,Definitions_ProdLang!$C$2:$E$75,Definitions_ProdLang!$A34+1,FALSE)","v":"Aviation gasoline"},":",{"$f":"HLOOKUP(LangChoice,Definitions_ProdLang!$F$2:$H$75,Definitions_ProdLang!$A34+1,FALSE)","v":"Aviation gasoline is motor spirit prepared especially for aviation piston engines, with an octane number suited to the engine, a freezing point of -60°C, and a distillation range usually within the limits of 30°C and 180°C."}]
[null,null,{"$f":"HLOOKUP(LangChoice,Definitions_ProdLang!$C$2:$E$75,Definitions_ProdLang!$A35+1,FALSE)","v":"Gasoline type jet fuel"},":",{"$f":"HLOOKUP(LangChoice,Definitions_ProdLang!$F$2:$H$75,Definitions_ProdLang!$A35+1,FALSE)","v":"Gasoline type jet fuel includes all light hydrocarbon oils for use in aviation turbine power units, distilling between 100°C and 250°C. This fuel is obtained by blending kerosene and gasoline or naphtha in such a way that the aromatic content does not exceed 25% in volume, and the vapour pressure is between 13.7 kPa and 20.6 kPa. Additives can be included to improve fuel stability and combustibility."}]
[null,null,{"$f":"HLOOKUP(LangChoice,Definitions_ProdLang!$C$2:$E$75,Definitions_ProdLang!$A36+1,FALSE)","v":"Kerosene type jet fuel excl. biofuels"},":",{"$f":"HLOOKUP(LangChoice,Definitions_ProdLang!$F$2:$H$75,Definitions_ProdLang!$A36+1,FALSE)","v":"Kerosene type jet fuel is a medium distillate used for aviation turbine power units. It has the same distillation characteristics and flash point as kerosene (between 150°C and 300°C but not generally above 250°C). In addition, it has particular specifications (such as freezing point) which are established by the International Air Transport Association (IATA). It includes kerosene blending components. Kerosene type jet fuel excluding biofuels does not include the liquid biofuels blended with jet kerosene."}]
[null,null,{"$f":"HLOOKUP(LangChoice,Definitions_ProdLang!$C$2:$E$75,Definitions_ProdLang!$A37+1,FALSE)","v":"Other kerosene"},":",{"$f":"HLOOKUP(LangChoice,Definitions_ProdLang!$F$2:$H$75,Definitions_ProdLang!$A37+1,FALSE)","v":"Kerosene (other than kerosene used for aircraft transport which is included with aviation fuels) comprises refined petroleum distillate intermediate in volatility between gasoline and gas/diesel oil. It is a medium oil distillate between 150°C and 300°C."}]
[null,null,{"$f":"HLOOKUP(LangChoice,Definitions_ProdLang!$C$2:$E$75,Definitions_ProdLang!$A38+1,FALSE)","v":"Gas/diesel oil excluding biofuels"},":",{"$f":"HLOOKUP(LangChoice,Definitions_ProdLang!$F$2:$H$75,Definitions_ProdLang!$A38+1,FALSE)","v":"Gas/diesel oil includes heavy gas oils. Gas oils are obtained from the lowest fraction from atmospheric distillation of crude oil, while heavy gas oils are obtained by vacuum redistillation of the residual from atmospheric distillation. Gas/diesel oil distils between 180°C and 380°C. Several grades are available depending on uses: diesel oil for diesel compression ignition (cars, trucks, marine, etc.), light heating oil for industrial and commercial uses, and other gas oil including heavy gas oils which distil between 380°C and 540°C and which are used as petrochemical feedstocks. Gas/diesel oil excluding biofuels does not include the liquid biofuels blended with gas/diesel oil – see liquid biofuels. This differs from the presentation of gas/diesel oil in the Oil Information publication."}]
[null,null,{"$f":"HLOOKUP(LangChoice,Definitions_ProdLang!$C$2:$E$75,Definitions_ProdLang!$A39+1,FALSE)","v":"Fuel oil"},":",{"$f":"HLOOKUP(LangChoice,Definitions_ProdLang!$F$2:$H$75,Definitions_ProdLang!$A39+1,FALSE)","v":"Fuel oil defines oils that make up the distillation residue. It comprises all residual fuel oils, including those obtained by blending. Its kinematic viscosity is above 10 cSt at 80°C. The flash point is always above 50°C and the density is always higher than 0.90 kg/l."}]
[null,null,{"$f":"HLOOKUP(LangChoice,Definitions_ProdLang!$C$2:$E$75,Definitions_ProdLang!$A40+1,FALSE)","v":"Naphtha"},":",{"$f":"HLOOKUP(LangChoice,Definitions_ProdLang!$F$2:$H$75,Definitions_ProdLang!$A40+1,FALSE)","v":"Naphtha is a feedstock destined either for the petrochemical industry (e.g. ethylene manufacture or aromatics production) or for gasoline production by reforming or isomerisation within the refinery. Naphtha comprises material that distils between 30°C and 210°C. Naphtha imported for blending is shown as an import of naphtha, and then shown in the transfers row as a negative entry for naphtha and a positive entry for the corresponding finished product (e.g. gasoline)."}]
[null,null,{"$f":"HLOOKUP(LangChoice,Definitions_ProdLang!$C$2:$E$75,Definitions_ProdLang!$A41+1,FALSE)","v":"White spirit & SBP"},":",{"$f":"HLOOKUP(LangChoice,Definitions_ProdLang!$F$2:$H$75,Definitions_ProdLang!$A41+1,FALSE)","v":"White spirit and SBP are refined distillate intermediates with a distillation in the naphtha/kerosene range.\ni. White Spirit has a flash point above 30°C and a distillation range of 135°C to 200°C.\nii. Industrial Spirit (SBP) comprises light oils distilling between 30°C and 200°C, with a temperature difference between 5% volume and 90% volume distillation points, including losses, of not more than 60°C. In other words, SBP is a light oil of narrower cut than motor spirit. There are seven or eight grades of industrial spirit, depending on the position of the cut in the distillation range defined above."}]
[null,null,{"$f":"HLOOKUP(LangChoice,Definitions_ProdLang!$C$2:$E$75,Definitions_ProdLang!$A42+1,FALSE)","v":"Lubricants"},":",{"$f":"HLOOKUP(LangChoice,Definitions_ProdLang!$F$2:$H$75,Definitions_ProdLang!$A42+1,FALSE)","v":"Lubricants are hydrocarbons produced from distillate or residue; they are mainly used to reduce friction between bearing surfaces. This category includes all finished grades of lubricating oil, from spindle oil to cylinder oil, and those used in greases, including motor oils and all grades of lubricating oil base stocks."}]
[null,null,{"$f":"HLOOKUP(LangChoice,Definitions_ProdLang!$C$2:$E$75,Definitions_ProdLang!$A43+1,FALSE)","v":"Bitumen"},":",{"$f":"HLOOKUP(LangChoice,Definitions_ProdLang!$F$2:$H$75,Definitions_ProdLang!$A43+1,FALSE)","v":"Bitumen is a solid, semi-solid or viscous hydrocarbon with a colloidal structure that is brown to black in colour. It is obtained by vacuum distillation of oil residues from atmospheric distillation of crude oil. Bitumen is often referred to as asphalt and is primarily used for surfacing of roads and for roofing material. This category includes fluidised and cut back bitumen."}]
[null,null,{"$f":"HLOOKUP(LangChoice,Definitions_ProdLang!$C$2:$E$75,Definitions_ProdLang!$A44+1,FALSE)","v":"Paraffin waxes"},":",{"$f":"HLOOKUP(LangChoice,Definitions_ProdLang!$F$2:$H$75,Definitions_ProdLang!$A44+1,FALSE)","v":"Paraffin waxes are saturated aliphatic hydrocarbons. These waxes are residues extracted when dewaxing lubricant oils, and they have a crystalline structure which is more or less fine according to the grade. Their main characteristics are that they are colourless, odourless and translucent, with a melting point above 45°C."}]
[null,null,{"$f":"HLOOKUP(LangChoice,Definitions_ProdLang!$C$2:$E$75,Definitions_ProdLang!$A45+1,FALSE)","v":"Petroleum coke"},":",{"$f":"HLOOKUP(LangChoice,Definitions_ProdLang!$F$2:$H$75,Definitions_ProdLang!$A45+1,FALSE)","v":"Petroleum coke is defined as a black solid by-product, obtained mainly by cracking and carbonising of petroleum derived feedstocks, vacuum bottoms, tar and pitches in processes such as delayed coking or fluid coking. It consists mainly of carbon (90 to 95%) and has a low ash content. It is used as a feedstock in coke ovens for the steel industry, for heating purposes, for electrode manufacture and for production of chemicals. The two most important qualities are \"green coke\" and \"calcined coke\". This category also includes \"catalyst coke\" deposited on the catalyst during refining processes: this coke is not recoverable and is usually burned as refinery fuel."}]
[null,null,{"$f":"HLOOKUP(LangChoice,Definitions_ProdLang!$C$2:$E$75,Definitions_ProdLang!$A46+1,FALSE)","v":"Non-specified oil products"},":",{"$f":"HLOOKUP(LangChoice,Definitions_ProdLang!$F$2:$H$75,Definitions_ProdLang!$A46+1,FALSE)","v":"Other oil products not classified above (e.g. tar, sulphur and grease) are included here. This category also includes aromatics (e.g. BTX or benzene, toluene and xylene) and olefins (e.g. propylene) produced within refineries."}]
[null,null,{"$f":"HLOOKUP(LangChoice,Definitions_ProdLang!$C$2:$E$75,Definitions_ProdLang!$A47+1,FALSE)","v":"Natural gas"},":"]
[null,null,{"$f":"HLOOKUP(LangChoice,Definitions_ProdLang!$C$2:$E$75,Definitions_ProdLang!$A48+1,FALSE)","v":"Natural gas"},":",{"$f":"HLOOKUP(LangChoice,Definitions_ProdLang!$F$2:$H$75,Definitions_ProdLang!$A48+1,FALSE)","v":"Natural gas comprises gases, occurring in underground deposits, whether liquefied or gaseous, consisting mainly of methane.  It includes both \"non-associated\" gas originating from fields producing hydrocarbons only in gaseous form, and \"associated\" gas produced in association with crude oil as well as methane recovered from coal mines (colliery gas) or from coal seams (coal seam gas). Production represents dry marketable production within national boundaries, including offshore production and is measured after purification and extraction of NGL and sulphur. In other words, quantities of gas that are re-injected, vented or flared are excluded. It includes gas consumed by gas processing plants and gas transported by pipeline. \n\nBiogases produced by anaerobic digestion of biomass (e.g. municipal or sewage gas) should be reported in the Renewables annual questionnaire, while gas works gas production should be reported in the Coal annual questionnaire. Transfers of such production to the natural gas network will be reported as “Receipts from other sources”."}]
[null,null,{"$f":"HLOOKUP(LangChoice,Definitions_ProdLang!$C$2:$E$75,Definitions_ProdLang!$A49+1,FALSE)","v":"Biofuels and waste"},":"]
[null,null,{"$f":"HLOOKUP(LangChoice,Definitions_ProdLang!$C$2:$E$75,Definitions_ProdLang!$A50+1,FALSE)","v":"Industrial waste"},":",{"$f":"HLOOKUP(LangChoice,Definitions_ProdLang!$F$2:$H$75,Definitions_ProdLang!$A50+1,FALSE)","v":"Industrial waste of non-renewable origin consists of solid and liquid products (e.g. tyres) combusted directly, usually in specialised plants, to produce heat and/or power. The quantity of fuel used should be reported on a net calorific value basis. Renewable industrial waste should be reported in the Solid biofuels, Biogases and/or Liquid biofuels categories."}]
[null,null,{"$f":"HLOOKUP(LangChoice,Definitions_ProdLang!$C$2:$E$75,Definitions_ProdLang!$A51+1,FALSE)","v":"Municipal waste (renewable)"},":",{"$f":"HLOOKUP(LangChoice,Definitions_ProdLang!$F$2:$H$75,Definitions_ProdLang!$A51+1,FALSE)","v":"Municipal waste consists of that portion of waste produced by households, industry, hospitals and the tertiary sector which is biological material collected by local authorities and incinerated at specific installations. The quantity of fuel used should be reported on a net calorific value basis."}]
[null,null,{"$f":"HLOOKUP(LangChoice,Definitions_ProdLang!$C$2:$E$75,Definitions_ProdLang!$A52+1,FALSE)","v":"Municipal waste (non-renewable)"},":",{"$f":"HLOOKUP(LangChoice,Definitions_ProdLang!$F$2:$H$75,Definitions_ProdLang!$A52+1,FALSE)","v":"Municipal waste consists of that portion of waste produced by households, industry, hospitals and the tertiary sector which is non-biological material collected by local authorities and incinerated at specific installations. The quantity of fuel used should be reported on a net calorific value basis."}]
[null,null,{"$f":"HLOOKUP(LangChoice,Definitions_ProdLang!$C$2:$E$75,Definitions_ProdLang!$A53+1,FALSE)","v":"Primary solid biofuels"},":",{"$f":"HLOOKUP(LangChoice,Definitions_ProdLang!$F$2:$H$75,Definitions_ProdLang!$A53+1,FALSE)","v":"Primary solid biofuels is defined as any plant matter used directly as fuel or converted into other forms before combustion. This covers a multitude of woody materials generated by industrial process or provided directly by forestry and agriculture (firewood, wood chips,  bark, sawdust, shavings, chips, sulphite lyes also known as black liquor, animal materials/wastes and other solid biofuels). Note that for biofuels, only the amounts of biomass specifically used for energy purposes (a small part of the total) are included in the energy statistics. Therefore, the non-energy use of biomass is not taken into consideration and the quantities are null by definition."}]
[null,null,{"$f":"HLOOKUP(LangChoice,Definitions_ProdLang!$C$2:$E$75,Definitions_ProdLang!$A54+1,FALSE)","v":"Biogases"},":",{"$f":"HLOOKUP(LangChoice,Definitions_ProdLang!$F$2:$H$75,Definitions_ProdLang!$A54+1,FALSE)","v":"Biogases are gases arising from the anaerobic fermentation of biomass and the gasification of solid biomass (including biomass in wastes). The biogases from anaerobic fermentation are composed principally of methane and carbon dioxide and comprise landfill gas, sewage sludge gas and other biogases from anaerobic fermentation. Biogases can also be produced from thermal processes (by gasification or pyrolysis of biomass) and are mixtures containing hydrogen and carbon monoxide (usually known as syngas) along with other components. These gases may be further processed to modify their composition and can be further processed to produce substitute natural gas. Biogases are used mainly as a fuel but can be used as a chemical feedstock."}]
[null,null,{"$f":"HLOOKUP(LangChoice,Definitions_ProdLang!$C$2:$E$75,Definitions_ProdLang!$A55+1,FALSE)","v":"Biogasoline"},":",{"$f":"HLOOKUP(LangChoice,Definitions_ProdLang!$F$2:$H$75,Definitions_ProdLang!$A55+1,FALSE)","v":"Biogasoline includes bioethanol (ethanol produced from biomass and/or the biodegradable fraction of waste), biomethanol (methanol produced from biomass and/or the biodegradable fraction of waste), bioETBE (ethyl-tertio-butyl-ether produced on the basis of bioethanol; the percentage by volume of bioETBE that is calculated as biofuel is 47%) and bioMTBE (methyl-tertio-butyl-ether produced on the basis of biomethanol: the percentage by volume of bioMTBE that is calculated as biofuel is 36%). Biogasoline includes the amounts that are blended into the gasoline - it does not include the total volume of gasoline into which the biogasoline is blended."}]
[null,null,{"$f":"HLOOKUP(LangChoice,Definitions_ProdLang!$C$2:$E$75,Definitions_ProdLang!$A56+1,FALSE)","v":"Bio jet kerosene"},":",{"$f":"HLOOKUP(LangChoice,Definitions_ProdLang!$F$2:$H$75,Definitions_ProdLang!$A56+1,FALSE)","v":"Liquid biofuels derived from biomass and blended with or replacing jet kerosene."}]
[null,null,{"$f":"HLOOKUP(LangChoice,Definitions_ProdLang!$C$2:$E$75,Definitions_ProdLang!$A57+1,FALSE)","v":"Biodiesels"},":",{"$f":"HLOOKUP(LangChoice,Definitions_ProdLang!$F$2:$H$75,Definitions_ProdLang!$A57+1,FALSE)","v":"Biodiesels includes biodiesel (a methyl-ester produced from vegetable or animal oil, of diesel quality), biodimethylether (dimethylether produced from biomass), Fischer-Tropsch (Fischer-Tropsch produced from biomass), cold pressed bio-oil (oil produced from oil seed through mechanical processing only) and all other liquid biofuels which are added to, blended with or used straight as transport diesel or in electricity and heat generation. Biodiesels includes the amounts that are blended into the diesel - it does not include the total volume of diesel into which the biodiesel is blended."}]
[null,null,{"$f":"HLOOKUP(LangChoice,Definitions_ProdLang!$C$2:$E$75,Definitions_ProdLang!$A58+1,FALSE)","v":"Other liquid biofuels"},":",{"$f":"HLOOKUP(LangChoice,Definitions_ProdLang!$F$2:$H$75,Definitions_ProdLang!$A58+1,FALSE)","v":"Other liquid biofuels includes liquid biofuels, used directly as fuel, not included in the definitions of biogasoline, biodiesel or bio jet kerosene and liquid biofuels consumption that cannot be reported under the right category because of missing information."}]
[null,null,{"$f":"HLOOKUP(LangChoice,Definitions_ProdLang!$C$2:$E$75,Definitions_ProdLang!$A59+1,FALSE)","v":"Non-specified primary biofuels/ waste"},":",{"$f":"HLOOKUP(LangChoice,Definitions_ProdLang!$F$2:$H$75,Definitions_ProdLang!$A59+1,FALSE)","v":"This item is used when the detailed breakdown for primary biofuels and waste is not available."}]
[null,null,{"$f":"HLOOKUP(LangChoice,Definitions_ProdLang!$C$2:$E$75,Definitions_ProdLang!$A60+1,FALSE)","v":"Charcoal"},":",{"$f":"HLOOKUP(LangChoice,Definitions_ProdLang!$F$2:$H$75,Definitions_ProdLang!$A60+1,FALSE)","v":"It covers the solid residue of the destructive distillation and pyrolysis of wood and other vegetal material."}]
[null,null,{"$f":"HLOOKUP(LangChoice,Definitions_ProdLang!$C$2:$E$75,Definitions_ProdLang!$A61+1,FALSE)","v":"Electricity and heat"},":"]
[null,null,{"$f":"HLOOKUP(LangChoice,Definitions_ProdLang!$C$2:$E$75,Definitions_ProdLang!$A62+1,FALSE)","v":"Nuclear"},":",{"$f":"HLOOKUP(LangChoice,Definitions_ProdLang!$F$2:$H$75,Definitions_ProdLang!$A62+1,FALSE)","v":"Energy released by nuclear fission or nuclear fusion."}]
[null,null,{"$f":"HLOOKUP(LangChoice,Definitions_ProdLang!$C$2:$E$75,Definitions_ProdLang!$A63+1,FALSE)","v":"Hydro"},":",{"$f":"HLOOKUP(LangChoice,Definitions_ProdLang!$F$2:$H$75,Definitions_ProdLang!$A63+1,FALSE)","v":"Potential and kinetic energy of water converted into electricity in hydroelectric plants. Pumped storage from mixed and pure pumped storage plants should be included."}]
[null,null,{"$f":"HLOOKUP(LangChoice,Definitions_ProdLang!$C$2:$E$75,Definitions_ProdLang!$A64+1,FALSE)","v":"Geothermal"},":",{"$f":"HLOOKUP(LangChoice,Definitions_ProdLang!$F$2:$H$75,Definitions_ProdLang!$A64+1,FALSE)","v":"Energy available as heat emitted from within the earth’s crust, usually in the form of hot water or steam. It is exploited at suitable sites:\n-for electricity generation using dry steam or high enthalpy brine after flashing\n-directly as heat for district heating, agriculture, etc.\n"}]
[null,null,{"$f":"HLOOKUP(LangChoice,Definitions_ProdLang!$C$2:$E$75,Definitions_ProdLang!$A65+1,FALSE)","v":"Solar photovoltaic"},":",{"$f":"HLOOKUP(LangChoice,Definitions_ProdLang!$F$2:$H$75,Definitions_ProdLang!$A65+1,FALSE)","v":"Converts sunlight into electricity by the use of solar cells usually made of semi-conducting material which exposed to light will generate electricity."}]
[null,null,{"$f":"HLOOKUP(LangChoice,Definitions_ProdLang!$C$2:$E$75,Definitions_ProdLang!$A66+1,FALSE)","v":"Solar thermal"},":",{"$f":"HLOOKUP(LangChoice,Definitions_ProdLang!$F$2:$H$75,Definitions_ProdLang!$A66+1,FALSE)","v":"Solar thermal can consist of \n-solar thermal-electric plants;\n-equipment for the production of heat for sale (hot water or steam)\n\nPassive solar energy for the direct heating, cooling and lighting of dwellings or other buildings is not included."}]
[null,null,{"$f":"HLOOKUP(LangChoice,Definitions_ProdLang!$C$2:$E$75,Definitions_ProdLang!$A67+1,FALSE)","v":"Tide/ wave/ ocean"},":",{"$f":"HLOOKUP(LangChoice,Definitions_ProdLang!$F$2:$H$75,Definitions_ProdLang!$A67+1,FALSE)","v":"Tide, wave and ocean represents the mechanical energy derived from tidal movement, wave motion or ocean current and exploited for electricity generation."}]
[null,null,{"$f":"HLOOKUP(LangChoice,Definitions_ProdLang!$C$2:$E$75,Definitions_ProdLang!$A68+1,FALSE)","v":"Wind"},":",{"$f":"HLOOKUP(LangChoice,Definitions_ProdLang!$F$2:$H$75,Definitions_ProdLang!$A68+1,FALSE)","v":"Wind energy represents the kinetic energy of wind exploited for electricity generation in wind turbines."}]
[null,null,{"$f":"HLOOKUP(LangChoice,Definitions_ProdLang!$C$2:$E$75,Definitions_ProdLang!$A69+1,FALSE)","v":"Heat pumps"},":",{"$f":"HLOOKUP(LangChoice,Definitions_ProdLang!$F$2:$H$75,Definitions_ProdLang!$A69+1,FALSE)","v":"Heat pumps should include the inputs and outputs to heat pumps corresponding to the amount of heat that is sold to third parties."}]
[null,null,{"$f":"HLOOKUP(LangChoice,Definitions_ProdLang!$C$2:$E$75,Definitions_ProdLang!$A70+1,FALSE)","v":"Electric boilers"},":",{"$f":"HLOOKUP(LangChoice,Definitions_ProdLang!$F$2:$H$75,Definitions_ProdLang!$A70+1,FALSE)","v":"Electric boilers should include the inputs and outputs to electric boilers corresponding to the amount of heat that is sold to third parties."}]
[null,null,{"$f":"HLOOKUP(LangChoice,Definitions_ProdLang!$C$2:$E$75,Definitions_ProdLang!$A71+1,FALSE)","v":"Heat from chemical sources"},":",{"$f":"HLOOKUP(LangChoice,Definitions_ProdLang!$F$2:$H$75,Definitions_ProdLang!$A71+1,FALSE)","v":"Report only the heat originating from processes without input energy, such as a chemical reaction (e.g. the treatment of zinc oxide ore with hydrochloric acid). Note that waste heat originating from energy driven processes is not considered as a primary energy source. Therefore, it should be reported as heat produced from the corresponding fuel."}]
[null,null,{"$f":"HLOOKUP(LangChoice,Definitions_ProdLang!$C$2:$E$75,Definitions_ProdLang!$A72+1,FALSE)","v":"Other sources"},":",{"$f":"HLOOKUP(LangChoice,Definitions_ProdLang!$F$2:$H$75,Definitions_ProdLang!$A72+1,FALSE)","v":"Report electricity production from sources other than those listed, e.g. from fuel cells."}]
[null,null,{"$f":"HLOOKUP(LangChoice,Definitions_ProdLang!$C$2:$E$75,Definitions_ProdLang!$A73+1,FALSE)","v":"Electricity"},":",{"$f":"HLOOKUP(LangChoice,Definitions_ProdLang!$F$2:$H$75,Definitions_ProdLang!$A73+1,FALSE)","v":"Gross electricity production is measured at the terminals of all alternator sets in a station; it therefore includes the energy taken by station auxiliaries and losses in transformers that are considered integral parts of the station. The difference between gross and net production is generally estimated as 7% for conventional thermal stations, 1% for hydro stations, and 6% for nuclear, geothermal and solar stations. Production in hydro stations includes production from pumped storage plants."}]
[null,null,{"$f":"HLOOKUP(LangChoice,Definitions_ProdLang!$C$2:$E$75,Definitions_ProdLang!$A74+1,FALSE)","v":"Heat"},":",{"$f":"HLOOKUP(LangChoice,Definitions_ProdLang!$F$2:$H$75,Definitions_ProdLang!$A74+1,FALSE)","v":"Heat production includes all heat produced by main activity producer CHP and heat plants, as well as heat sold by autoproducer CHP and heat plants to third parties. Fuels used to produce quantities of heat for sale are included in the transformation processes under the rows CHP plants and Heat plants. The use of fuels for heat which is not sold is included under the sectors in which the fuel use occurs."}]
[null,null,{"$f":"HLOOKUP(LangChoice,Definitions_ProdLang!$C$2:$E$75,Definitions_ProdLang!$A75+1,FALSE)","v":"Heat output from non-specified combustible fuels"},":",{"$f":"HLOOKUP(LangChoice,Definitions_ProdLang!$F$2:$H$75,Definitions_ProdLang!$A75+1,FALSE)","v":"This item is only used if the detailed breakdown is not available."}]
[]
[{"$f":"CONCATENATE(HLOOKUP(LangChoice,Definitions_FlowLang!$C$2:$E$156,Definitions_FlowLang!$A3+1,FALSE),\":\")","v":"FLOW DEFINITIONS:"},null,null,null,"Link to IRES: https://unstats.un.org/unsd/energy/ires/"]
[null,null,{"$f":"HLOOKUP(LangChoice,Definitions_FlowLang!$C$2:$E$156,Definitions_FlowLang!$A4+1,FALSE)","v":"Supply"},":"]
[null,null,{"$f":"HLOOKUP(LangChoice,Definitions_FlowLang!$C$2:$E$156,Definitions_FlowLang!$A5+1,FALSE)","v":"Production"},":",{"$f":"HLOOKUP(LangChoice,Definitions_FlowLang!$F$2:$H$156,Definitions_FlowLang!$A5+1,FALSE)","v":"In the balances, production refers to the quantities of fuels extracted or produced, calculated after any operation for removal of inert matter or impurities (e.g. sulphur from natural gas).\nIn the energy statistics, production of secondary products is also included. Production of secondary oil products represents the gross refinery output.  Secondary coal products and gases represent the output from coke ovens, gas works, blast furnaces and other transformation processes."}]
[null,null,{"$f":"HLOOKUP(LangChoice,Definitions_FlowLang!$C$2:$E$156,Definitions_FlowLang!$A6+1,FALSE)","v":"From other sources"},":",{"$f":"HLOOKUP(LangChoice,Definitions_FlowLang!$F$2:$H$156,Definitions_FlowLang!$A6+1,FALSE)","v":"All inputs of origin other than primary energy sources explicitly recognised in the tables are listed under inputs from other sources, e.g. under crude oil:  inputs of origin other than crude oil and NGL such as hydrogen, synthetic crude oil (including mineral oil extracted from bituminous minerals such as shales, bituminous sand, etc.); under additives:  benzol, alcohol and methanol produced from natural gas; under refinery feedstocks:  backflows from the petrochemical industry used as refinery feedstocks;  under hard coal:  recovered slurries, middlings, recuperated coal dust and other low-grade coal products that cannot be classified according to type of coal from which they are obtained; under gas works gas:  natural gas, refinery gas, and LPG, that are treated or mixed in gas works (i.e. gas works gas produced from sources other than coal)."}]
[null,null,{"$f":"HLOOKUP(LangChoice,Definitions_FlowLang!$C$2:$E$156,Definitions_FlowLang!$A12+1,FALSE)","v":"Imports"},":",{"$f":"HLOOKUP(LangChoice,Definitions_FlowLang!$F$2:$H$156,Definitions_FlowLang!$A12+1,FALSE)","v":"Comprise amounts having crossed the national territorial boundaries of the country whether or not customs clearance has taken place. For coal: Imports comprise the amount of fuels obtained from other countries, whether or not there is an economic or customs union between the relevant countries. Coal in transit should not be included. For oil and natural gas: Quantities of crude oil and oil products imported under processing agreements (i.e. refining on account) are included. Quantities of oil in transit are excluded. Crude oil, NGL and natural gas are reported as coming from the country of origin; refinery feedstocks and oil products are reported as coming from the country of last consignment.  For electricity: Amounts are considered as imported when they have crossed the national territorial boundaries of the country. If electricity is “wheeled” or transited through a country, the amount is shown as both an import and an export."}]
[null,null,{"$f":"HLOOKUP(LangChoice,Definitions_FlowLang!$C$2:$E$156,Definitions_FlowLang!$A13+1,FALSE)","v":"Exports"},":",{"$f":"HLOOKUP(LangChoice,Definitions_FlowLang!$F$2:$H$156,Definitions_FlowLang!$A13+1,FALSE)","v":"Comprise amounts having crossed the national territorial boundaries of the country whether or not customs clearance has taken place.\n● For coal: Exports comprise the amount of fuels supplied to other countries, whether or not there is an economic or customs union between the relevant countries. Coal in transit should not be included.\n● For oil and natural gas: Quantities of crude oil and oil products exported under processing agreements (i.e. refining on account) are included. Re-exports of oil imported for processing within bonded areas are shown as an export of product from the processing country to the final destination.\n● For electricity: Amounts are considered as exported when they have crossed the national territorial boundaries of the country. If electricity is “wheeled” or transited through a country, the amount is shown as both an import and an export."}]
[null,null,{"$f":"HLOOKUP(LangChoice,Definitions_FlowLang!$C$2:$E$156,Definitions_FlowLang!$A14+1,FALSE)","v":"International marine bunkers"},":",{"$f":"HLOOKUP(LangChoice,Definitions_FlowLang!$F$2:$H$156,Definitions_FlowLang!$A14+1,FALSE)","v":"Report the quantities of oil delivered to ships of all flags that are engaged in international navigation. The international navigation may take place at sea, on inland lakes and waterways, and in coastal waters. Exclude consumption by ships engaged in domestic navigation (see domestic navigation). The domestic/international split should be determined on the basis of port of departure and port of arrival, and not by the flag or nationality of the ship. Exclude consumption by fishing vessels (see Fishing  – Other sectors) and consumption by military forces (see  Not elsewhere specified – Other sectors)."}]
[null,null,{"$f":"HLOOKUP(LangChoice,Definitions_FlowLang!$C$2:$E$156,Definitions_FlowLang!$A15+1,FALSE)","v":"International aviation bunkers"},":",{"$f":"HLOOKUP(LangChoice,Definitions_FlowLang!$F$2:$H$156,Definitions_FlowLang!$A15+1,FALSE)","v":"Includes deliveries of aviation fuels to aircraft for international aviation. Fuels used by airlines for their road vehicles are excluded. The domestic/international split should be determined on the basis of departure and landing locations and not by the nationality of the airline. For many countries this incorrectly excludes fuel used by domestically owned carriers for their international departures;"}]
[null,null,{"$f":"HLOOKUP(LangChoice,Definitions_FlowLang!$C$2:$E$156,Definitions_FlowLang!$A16+1,FALSE)","v":"Stock changes"},":",{"$f":"HLOOKUP(LangChoice,Definitions_FlowLang!$F$2:$H$156,Definitions_FlowLang!$A16+1,FALSE)","v":"Reflects the difference between opening stock levels on the first day of the year and closing levels on the last day of the year of stocks on national territory held by producers, importers, energy transformation industries and large consumers. A stock build is shown as a negative number, and a stock draw as a positive number."}]
[null,null,{"$f":"HLOOKUP(LangChoice,Definitions_FlowLang!$C$2:$E$156,Definitions_FlowLang!$A17+1,FALSE)","v":"Domestic supply"},":",{"$f":"HLOOKUP(LangChoice,Definitions_FlowLang!$F$2:$H$156,Definitions_FlowLang!$A17+1,FALSE)","v":"Domestic supply is defined as production + inputs from other sources + imports - exports - international marine bunkers - international aviation bunkers ± stock changes."}]
[null,null,{"$f":"HLOOKUP(LangChoice,Definitions_FlowLang!$C$2:$E$156,Definitions_FlowLang!$A18+1,FALSE)","v":"Total energy supply (TES)"},":",{"$f":"HLOOKUP(LangChoice,Definitions_FlowLang!$F$2:$H$156,Definitions_FlowLang!$A18+1,FALSE)","v":"Total energy supply (TES) is made up of production + imports - exports - international marine bunkers - international aviation bunkers ± stock changes."}]
[null,null,{"$f":"HLOOKUP(LangChoice,Definitions_FlowLang!$C$2:$E$156,Definitions_FlowLang!$A19+1,FALSE)","v":"Transfers"},":",{"$f":"HLOOKUP(LangChoice,Definitions_FlowLang!$F$2:$H$156,Definitions_FlowLang!$A19+1,FALSE)","v":"Transfers comprise interproduct transfers, products transferred and recycled products. Interproduct transfers result from reclassification of products either because their specification has changed or because they are blended into another product, e.g. kerosene may be reclassified as gasoil after blending with the latter in order to meet its winter diesel specification.  The net balance of interproduct transfers is zero. Products transferred is intended for oil products imported for further processing in refineries.  For example, fuel oil imported for upgrading in a refinery is transferred to the feedstocks category. Recycled products are finished products which pass a second time through the marketing network, after having been once delivered to final consumers (e.g. used lubricants which are reprocessed)."}]
[null,null,{"$f":"HLOOKUP(LangChoice,Definitions_FlowLang!$C$2:$E$156,Definitions_FlowLang!$A20+1,FALSE)","v":"Statistical differences"},":",{"$f":"HLOOKUP(LangChoice,Definitions_FlowLang!$F$2:$H$156,Definitions_FlowLang!$A20+1,FALSE)","v":"Statistical difference is defined as deliveries to final consumption + use for transformation processes and consumption by energy industry own use + losses – domestic supply – transfers.  Statistical differences arise because the data for the individual components of supply are often derived from different data sources by the national administration.  Furthermore, the inclusion of changes in some large consumers' stocks in the supply part of the balance introduces distortions which also contribute to the statistical differences."}]
[null,null,{"$f":"HLOOKUP(LangChoice,Definitions_FlowLang!$C$2:$E$156,Definitions_FlowLang!$A21+1,FALSE)","v":"Transformation processes"},":"]
[null,null,{"$f":"HLOOKUP(LangChoice,Definitions_FlowLang!$C$2:$E$156,Definitions_FlowLang!$A22+1,FALSE)","v":"Transformation processes"},":",{"$f":"HLOOKUP(LangChoice,Definitions_FlowLang!$F$2:$H$156,Definitions_FlowLang!$A22+1,FALSE)","v":"Transformation processes comprises the conversion of primary forms of energy to secondary and further transformation (e.g. coking coal to coke, crude oil to oil products, and fuel oil to electricity)."}]
[null,null,{"$f":"HLOOKUP(LangChoice,Definitions_FlowLang!$C$2:$E$156,Definitions_FlowLang!$A23+1,FALSE)","v":"Main activity electricity plants"},":",{"$f":"HLOOKUP(LangChoice,Definitions_FlowLang!$F$2:$H$156,Definitions_FlowLang!$A23+1,FALSE)","v":"Refers to plants which are designed to produce electricity only. If one or more units of the plant is a CHP unit (and the inputs and outputs can not be distinguished on a unit basis) then the whole plant is designated as a CHP plant. Main activity producers generate electricity for sale to third parties, as their primary activity. They may be privately or publicly owned. Note that the sale need not take place through the public grid."}]
[null,null,{"$f":"HLOOKUP(LangChoice,Definitions_FlowLang!$C$2:$E$156,Definitions_FlowLang!$A24+1,FALSE)","v":"Autoproducer electricity plants"},":",{"$f":"HLOOKUP(LangChoice,Definitions_FlowLang!$F$2:$H$156,Definitions_FlowLang!$A24+1,FALSE)","v":"Refers to plants which are designed to produce electricity only. If one or more units of the plant is a CHP unit (and the inputs and outputs can not be distinguished on a unit basis) then the whole plant is designated as a CHP plant. Autoproducer undertakings generate electricity wholly or partly for their own use as an activity which supports their primary activity. They may be privately or publicly owned."}]
[null,null,{"$f":"HLOOKUP(LangChoice,Definitions_FlowLang!$C$2:$E$156,Definitions_FlowLang!$A25+1,FALSE)","v":"Main activity producer CHP plants"},":",{"$f":"HLOOKUP(LangChoice,Definitions_FlowLang!$F$2:$H$156,Definitions_FlowLang!$A25+1,FALSE)","v":"Refers to plants which are designed to produce both heat and electricity (sometimes referred to as co-generation power stations). If possible, fuel inputs and electricity/‌heat outputs are on a unit basis rather than on a plant basis. However, if data are not available on a unit basis, the convention for defining a CHP plant noted above should be adopted. Main activity producers generate electricity and/or heat for sale to third parties, as their primary activity. They may be privately or publicly owned. Note that the sale need not take place through the public grid."}]
[null,null,{"$f":"HLOOKUP(LangChoice,Definitions_FlowLang!$C$2:$E$156,Definitions_FlowLang!$A26+1,FALSE)","v":"Autoproducer CHP plants"},":",{"$f":"HLOOKUP(LangChoice,Definitions_FlowLang!$F$2:$H$156,Definitions_FlowLang!$A26+1,FALSE)","v":"Refers to plants which are designed to produce both heat and electricity (sometimes referred to as co-generation power stations). If possible, fuel inputs and electricity/heat outputs are on a unit basis rather than on a plant basis. However, if data are not available on a unit basis, the convention for defining a CHP plant noted above should be adopted. Note that for autoproducer CHP plants, all fuel inputs to electricity production are taken into account, while only the part of fuel inputs to heat sold is shown. Fuel inputs for the production of heat consumed within the autoproducer's establishment are not included here but are included with figures for the final consumption of fuels in the appropriate consuming sector. Autoproducer undertakings generate electricity and/or heat, wholly or partly for their own use as an activity which supports their primary activity. They may be privately or publicly owned."}]
[null,null,{"$f":"HLOOKUP(LangChoice,Definitions_FlowLang!$C$2:$E$156,Definitions_FlowLang!$A27+1,FALSE)","v":"Main activity producer heat plants"},":",{"$f":"HLOOKUP(LangChoice,Definitions_FlowLang!$F$2:$H$156,Definitions_FlowLang!$A27+1,FALSE)","v":"Refers to plants (including heat pumps and electric boilers) designed to produce heat only and who sell heat to a third party (e.g. residential, commercial or industrial consumers) under the provisions of a contract. Main activity producers generate heat for sale to third parties, as their primary activity. They may be privately or publicly owned. Note that the sale need not take place through the public grid."}]
[null,null,{"$f":"HLOOKUP(LangChoice,Definitions_FlowLang!$C$2:$E$156,Definitions_FlowLang!$A28+1,FALSE)","v":"Autoproducer heat plants"},":",{"$f":"HLOOKUP(LangChoice,Definitions_FlowLang!$F$2:$H$156,Definitions_FlowLang!$A28+1,FALSE)","v":"Refers to plants (including heat pumps and electric boilers) designed to produce heat only and who sell heat to a third party (e.g. residential, commercial or industrial consumers) under the provisions of a contract. Autoproducer undertakings generate heat, wholly or partly for their own use as an activity which supports their primary activity. They may be privately or publicly owned."}]
[null,null,{"$f":"HLOOKUP(LangChoice,Definitions_FlowLang!$C$2:$E$156,Definitions_FlowLang!$A29+1,FALSE)","v":"Heat pumps"},":",{"$f":"HLOOKUP(LangChoice,Definitions_FlowLang!$F$2:$H$156,Definitions_FlowLang!$A29+1,FALSE)","v":"Includes heat produced by heat pumps in the transformation sector. Heat pumps that are operated within the residential sector where the heat is not sold are not considered a transformation process and are not included here – the electricity consumption would appear as residential use."}]
[null,null,{"$f":"HLOOKUP(LangChoice,Definitions_FlowLang!$C$2:$E$156,Definitions_FlowLang!$A30+1,FALSE)","v":"Electric boilers"},":",{"$f":"HLOOKUP(LangChoice,Definitions_FlowLang!$F$2:$H$156,Definitions_FlowLang!$A30+1,FALSE)","v":"Includes electric boilers used to produce heat."}]
[null,null,{"$f":"HLOOKUP(LangChoice,Definitions_FlowLang!$C$2:$E$156,Definitions_FlowLang!$A31+1,FALSE)","v":"Chemical heat for electricity production"},":",{"$f":"HLOOKUP(LangChoice,Definitions_FlowLang!$F$2:$H$156,Definitions_FlowLang!$A31+1,FALSE)","v":"Report only the heat originating from processes without input energy, such as a chemical reaction (e.g. the treatment of zinc oxide ore with hydrochloric acid). Note that waste heat originating from energy driven processes is not considered as a primary energy source. Therefore, it should be reported as heat produced from the corresponding fuel."}]
[null,null,{"$f":"HLOOKUP(LangChoice,Definitions_FlowLang!$C$2:$E$156,Definitions_FlowLang!$A32+1,FALSE)","v":"Patent fuel plants"},":",{"$f":"HLOOKUP(LangChoice,Definitions_FlowLang!$F$2:$H$156,Definitions_FlowLang!$A32+1,FALSE)","v":"Includes the manufacture of patent fuels."}]
[null,null,{"$f":"HLOOKUP(LangChoice,Definitions_FlowLang!$C$2:$E$156,Definitions_FlowLang!$A33+1,FALSE)","v":"Coke ovens"},":",{"$f":"HLOOKUP(LangChoice,Definitions_FlowLang!$F$2:$H$156,Definitions_FlowLang!$A33+1,FALSE)","v":"Includes the manufacture of coke and coke oven gas."}]
[null,null,{"$f":"HLOOKUP(LangChoice,Definitions_FlowLang!$C$2:$E$156,Definitions_FlowLang!$A34+1,FALSE)","v":"Gas works"},":",{"$f":"HLOOKUP(LangChoice,Definitions_FlowLang!$F$2:$H$156,Definitions_FlowLang!$A34+1,FALSE)","v":"Includes the manufacture of town gas."}]
[null,null,{"$f":"HLOOKUP(LangChoice,Definitions_FlowLang!$C$2:$E$156,Definitions_FlowLang!$A35+1,FALSE)","v":"Blast furnaces"},":",{"$f":"HLOOKUP(LangChoice,Definitions_FlowLang!$F$2:$H$156,Definitions_FlowLang!$A35+1,FALSE)","v":"Includes the production of recovered gases (e.g. blast furnace gas and oxygen steel furnace gas). The production of pig-iron from iron ore in blast furnaces uses fuels for supporting the blast furnace charge and providing heat and carbon for the reduction of the iron ore. Accounting for the calorific content of the fuels entering the process is a complex matter as transformation (into blast furnace gas) and consumption (heat of combustion) occur simultaneously. Some carbon is also retained in the pigiron; almost all of this reappears later in the oxygen steel furnace gas (or converter gas) when the pig-iron is converted to steel. In the 1992/1993 annual questionnaires, Member Countries were asked for the first time to report in transformation processes the quantities of all fuels (e.g. pulverised coal injection [PCI] coal, coke oven coke, natural gas and oil) entering blast furnaces and the quantity of blast furnace gas and oxygen steel furnace gas produced. The Secretariat then needed to split these inputs into the transformation and consumption components. The transformation component is shown in the row blast furnaces in the column appropriate for the fuel, and the consumption component is shown in the row iron and steel, in the column appropriate for the fuel. The Secretariat decided to assume a transformation efficiency such that the carbon input into the blast furnaces should equal the carbon output. This is roughly equivalent to assuming an energy transformation efficiency of 40%."}]
[null,null,{"$f":"HLOOKUP(LangChoice,Definitions_FlowLang!$C$2:$E$156,Definitions_FlowLang!$A36+1,FALSE)","v":"Petrochemical plants"},":",{"$f":"HLOOKUP(LangChoice,Definitions_FlowLang!$F$2:$H$156,Definitions_FlowLang!$A36+1,FALSE)","v":"Covers backflows returned from the petrochemical industry. Note that backflows from oil products that are used for non-energy purposes (i.e. white spirit and lubricants) are not included here, but in non-energy use."}]
[null,null,{"$f":"HLOOKUP(LangChoice,Definitions_FlowLang!$C$2:$E$156,Definitions_FlowLang!$A37+1,FALSE)","v":"BKB / peat briquette plants"},":",{"$f":"HLOOKUP(LangChoice,Definitions_FlowLang!$F$2:$H$156,Definitions_FlowLang!$A37+1,FALSE)","v":"Includes the use of fuels for the manufacture of BKB and peat briquettes."}]
[null,null,{"$f":"HLOOKUP(LangChoice,Definitions_FlowLang!$C$2:$E$156,Definitions_FlowLang!$A38+1,FALSE)","v":"Oil refineries"},":",{"$f":"HLOOKUP(LangChoice,Definitions_FlowLang!$F$2:$H$156,Definitions_FlowLang!$A38+1,FALSE)","v":"Includes the manufacture of finished oil products."}]
[null,null,{"$f":"HLOOKUP(LangChoice,Definitions_FlowLang!$C$2:$E$156,Definitions_FlowLang!$A39+1,FALSE)","v":"Coal liquefaction plants"},":",{"$f":"HLOOKUP(LangChoice,Definitions_FlowLang!$F$2:$H$156,Definitions_FlowLang!$A39+1,FALSE)","v":"Includes coal, oil and tar sands used to produce synthetic oil."}]
[null,null,{"$f":"HLOOKUP(LangChoice,Definitions_FlowLang!$C$2:$E$156,Definitions_FlowLang!$A40+1,FALSE)","v":"Gas-to-liquids (GTL) plants"},":",{"$f":"HLOOKUP(LangChoice,Definitions_FlowLang!$F$2:$H$156,Definitions_FlowLang!$A40+1,FALSE)","v":"Includes natural gas used as feedstock for the conversion to liquids, e.g. the quantities of fuel entering the methanol product process for transformation into methanol."}]
[null,null,{"$f":"HLOOKUP(LangChoice,Definitions_FlowLang!$C$2:$E$156,Definitions_FlowLang!$A41+1,FALSE)","v":"For blended natural gas"},":",{"$f":"HLOOKUP(LangChoice,Definitions_FlowLang!$F$2:$H$156,Definitions_FlowLang!$A41+1,FALSE)","v":"Includes other gases that are blended with natural gas."}]
[null,null,{"$f":"HLOOKUP(LangChoice,Definitions_FlowLang!$C$2:$E$156,Definitions_FlowLang!$A42+1,FALSE)","v":"Charcoal production plants"},":",{"$f":"HLOOKUP(LangChoice,Definitions_FlowLang!$F$2:$H$156,Definitions_FlowLang!$A42+1,FALSE)","v":"Includes the transformation of solid biofuels into charcoal."}]
[null,null,{"$f":"HLOOKUP(LangChoice,Definitions_FlowLang!$C$2:$E$156,Definitions_FlowLang!$A43+1,FALSE)","v":"Non-specified (transformation)"},":",{"$f":"HLOOKUP(LangChoice,Definitions_FlowLang!$F$2:$H$156,Definitions_FlowLang!$A43+1,FALSE)","v":"Includes other non-specified transformation."}]
[null,null,{"$f":"HLOOKUP(LangChoice,Definitions_FlowLang!$C$2:$E$156,Definitions_FlowLang!$A44+1,FALSE)","v":"Energy industry own use and losses"},":"]
[null,null,{"$f":"HLOOKUP(LangChoice,Definitions_FlowLang!$C$2:$E$156,Definitions_FlowLang!$A45+1,FALSE)","v":"Energy industry own use"},":",{"$f":"HLOOKUP(LangChoice,Definitions_FlowLang!$F$2:$H$156,Definitions_FlowLang!$A45+1,FALSE)","v":"Energy industry own use covers the amount of fuels used by the energy producing industries (e.g. for heating, lighting and operation of all equipment used in the extraction process, for traction and for distribution). It includes energy consumed by energy industries for heating, pumping, traction and lighting purposes [ISIC Rev. 4 Divisions 05, 06, 19 and 35, Group 091 and Classes 0892 and 0721]."}]
[null,null,{"$f":"HLOOKUP(LangChoice,Definitions_FlowLang!$C$2:$E$156,Definitions_FlowLang!$A46+1,FALSE)","v":"Coal mines"},":",{"$f":"HLOOKUP(LangChoice,Definitions_FlowLang!$F$2:$H$156,Definitions_FlowLang!$A46+1,FALSE)","v":"Represents the energy which is used directly within the coal industry for hard coal and lignite mining. It excludes coal burned in pithead power stations (included under electricity plants in the transformation sector) and free allocations to miners and their families (considered as part of household consumption and therefore included under residential)."}]
[null,null,{"$f":"HLOOKUP(LangChoice,Definitions_FlowLang!$C$2:$E$156,Definitions_FlowLang!$A47+1,FALSE)","v":"Oil and gas extraction"},":",{"$f":"HLOOKUP(LangChoice,Definitions_FlowLang!$F$2:$H$156,Definitions_FlowLang!$A47+1,FALSE)","v":"Represents the energy which is used for oil and gas extraction. Flared gas is not included."}]
[null,null,{"$f":"HLOOKUP(LangChoice,Definitions_FlowLang!$C$2:$E$156,Definitions_FlowLang!$A48+1,FALSE)","v":"Patent fuel plants"},":",{"$f":"HLOOKUP(LangChoice,Definitions_FlowLang!$F$2:$H$156,Definitions_FlowLang!$A48+1,FALSE)","v":"Represents the energy used in patent fuel plants."}]
[null,null,{"$f":"HLOOKUP(LangChoice,Definitions_FlowLang!$C$2:$E$156,Definitions_FlowLang!$A49+1,FALSE)","v":"Coke ovens"},":",{"$f":"HLOOKUP(LangChoice,Definitions_FlowLang!$F$2:$H$156,Definitions_FlowLang!$A49+1,FALSE)","v":"Represents the energy used in coke ovens."}]
[null,null,{"$f":"HLOOKUP(LangChoice,Definitions_FlowLang!$C$2:$E$156,Definitions_FlowLang!$A50+1,FALSE)","v":"Gas works"},":",{"$f":"HLOOKUP(LangChoice,Definitions_FlowLang!$F$2:$H$156,Definitions_FlowLang!$A50+1,FALSE)","v":"Represents the energy which is used in gas works."}]
[null,null,{"$f":"HLOOKUP(LangChoice,Definitions_FlowLang!$C$2:$E$156,Definitions_FlowLang!$A51+1,FALSE)","v":"Gasification plants for biogases"},":",{"$f":"HLOOKUP(LangChoice,Definitions_FlowLang!$F$2:$H$156,Definitions_FlowLang!$A51+1,FALSE)","v":"Represents own consumption of biogas necessary to support temperatures needed for anaerobic fermentation."}]
[null,null,{"$f":"HLOOKUP(LangChoice,Definitions_FlowLang!$C$2:$E$156,Definitions_FlowLang!$A52+1,FALSE)","v":"Blast furnaces"},":",{"$f":"HLOOKUP(LangChoice,Definitions_FlowLang!$F$2:$H$156,Definitions_FlowLang!$A52+1,FALSE)","v":"Represents the energy which is used in blast furnaces."}]
[null,null,{"$f":"HLOOKUP(LangChoice,Definitions_FlowLang!$C$2:$E$156,Definitions_FlowLang!$A53+1,FALSE)","v":"BKB / peat briquette plants"},":",{"$f":"HLOOKUP(LangChoice,Definitions_FlowLang!$F$2:$H$156,Definitions_FlowLang!$A53+1,FALSE)","v":"Represents the energy used in BKB and peat briquette plants."}]
[null,null,{"$f":"HLOOKUP(LangChoice,Definitions_FlowLang!$C$2:$E$156,Definitions_FlowLang!$A54+1,FALSE)","v":"Oil refineries"},":",{"$f":"HLOOKUP(LangChoice,Definitions_FlowLang!$F$2:$H$156,Definitions_FlowLang!$A54+1,FALSE)","v":"Represents the energy used in oil refineries."}]
[null,null,{"$f":"HLOOKUP(LangChoice,Definitions_FlowLang!$C$2:$E$156,Definitions_FlowLang!$A55+1,FALSE)","v":"Coal liquefaction plants"},":",{"$f":"HLOOKUP(LangChoice,Definitions_FlowLang!$F$2:$H$156,Definitions_FlowLang!$A55+1,FALSE)","v":"Represents the energy used in coal liquefaction plants."}]
[null,null,{"$f":"HLOOKUP(LangChoice,Definitions_FlowLang!$C$2:$E$156,Definitions_FlowLang!$A56+1,FALSE)","v":"Liquefaction (LNG) / regasification plants"},":",{"$f":"HLOOKUP(LangChoice,Definitions_FlowLang!$F$2:$H$156,Definitions_FlowLang!$A56+1,FALSE)","v":"Represents the energy used in LNG and regasification plants."}]
[null,null,{"$f":"HLOOKUP(LangChoice,Definitions_FlowLang!$C$2:$E$156,Definitions_FlowLang!$A57+1,FALSE)","v":"Gas-to-liquids (GTL) plants"},":",{"$f":"HLOOKUP(LangChoice,Definitions_FlowLang!$F$2:$H$156,Definitions_FlowLang!$A57+1,FALSE)","v":"Represents the energy used in gas-to-liquids plants."}]
[null,null,{"$f":"HLOOKUP(LangChoice,Definitions_FlowLang!$C$2:$E$156,Definitions_FlowLang!$A58+1,FALSE)","v":"Own use in electricity, CHP and heat plants"},":",{"$f":"HLOOKUP(LangChoice,Definitions_FlowLang!$F$2:$H$156,Definitions_FlowLang!$A58+1,FALSE)","v":"Represents the energy used in main activity producer electricity, CHP and heat plants."}]
[null,null,{"$f":"HLOOKUP(LangChoice,Definitions_FlowLang!$C$2:$E$156,Definitions_FlowLang!$A59+1,FALSE)","v":"Used for pumped storage"},":",{"$f":"HLOOKUP(LangChoice,Definitions_FlowLang!$F$2:$H$156,Definitions_FlowLang!$A59+1,FALSE)","v":"Represents electricity consumed in hydro-electric plants for pumped storage."}]
[null,null,{"$f":"HLOOKUP(LangChoice,Definitions_FlowLang!$C$2:$E$156,Definitions_FlowLang!$A60+1,FALSE)","v":"Nuclear industry"},":",{"$f":"HLOOKUP(LangChoice,Definitions_FlowLang!$F$2:$H$156,Definitions_FlowLang!$A60+1,FALSE)","v":"Represents the energy used in the nuclear industry."}]
[null,null,{"$f":"HLOOKUP(LangChoice,Definitions_FlowLang!$C$2:$E$156,Definitions_FlowLang!$A61+1,FALSE)","v":"Charcoal production plants"},":",{"$f":"HLOOKUP(LangChoice,Definitions_FlowLang!$F$2:$H$156,Definitions_FlowLang!$A61+1,FALSE)","v":"Represents the energy used in charcoal production plants."}]
[null,null,{"$f":"HLOOKUP(LangChoice,Definitions_FlowLang!$C$2:$E$156,Definitions_FlowLang!$A62+1,FALSE)","v":"Non-specified (Energy)"},":",{"$f":"HLOOKUP(LangChoice,Definitions_FlowLang!$F$2:$H$156,Definitions_FlowLang!$A62+1,FALSE)","v":"Represents use in non-specified energy industries."}]
[null,null,{"$f":"HLOOKUP(LangChoice,Definitions_FlowLang!$C$2:$E$156,Definitions_FlowLang!$A63+1,FALSE)","v":"Losses"},":",{"$f":"HLOOKUP(LangChoice,Definitions_FlowLang!$F$2:$H$156,Definitions_FlowLang!$A63+1,FALSE)","v":"Losses in energy distribution, transmission and transport."}]
[null,null,{"$f":"HLOOKUP(LangChoice,Definitions_FlowLang!$C$2:$E$156,Definitions_FlowLang!$A64+1,FALSE)","v":"Final consumption"},":"]
[null,null,{"$f":"HLOOKUP(LangChoice,Definitions_FlowLang!$C$2:$E$156,Definitions_FlowLang!$A65+1,FALSE)","v":"Final consumption"},":",{"$f":"HLOOKUP(LangChoice,Definitions_FlowLang!$F$2:$H$156,Definitions_FlowLang!$A65+1,FALSE)","v":"Equal to the sum of the consumption in the end-use sectors. Energy used for transformation processes and for own use of the energy producing industries is excluded. Final consumption reflects for the most part deliveries to consumers (see note on stock changes). Backflows from the petrochemical industry are not included in final consumption (see from other sources under supply and petrochemical plants in transformation processes)."}]
[null,null,{"$f":"HLOOKUP(LangChoice,Definitions_FlowLang!$C$2:$E$156,Definitions_FlowLang!$A66+1,FALSE)","v":"Industry"},":",{"$f":"HLOOKUP(LangChoice,Definitions_FlowLang!$F$2:$H$156,Definitions_FlowLang!$A66+1,FALSE)","v":"Report the fuel, electricity or purchased heat consumption by the industrial undertaking in support of its primary activities in the appropriate sub-sectors:\n\nReport quantities of fuels consumed in heat or CHP plants for the production of heat used by the plant itself. Quantities of fuels consumed for the production of heat that is sold, and for the production of electricity should be reported under the appropriate Transformation sector."}]
[null,null,{"$f":"HLOOKUP(LangChoice,Definitions_FlowLang!$C$2:$E$156,Definitions_FlowLang!$A67+1,FALSE)","v":"Iron and steel"},":",{"$f":"HLOOKUP(LangChoice,Definitions_FlowLang!$F$2:$H$156,Definitions_FlowLang!$A67+1,FALSE)","v":"[ISIC Rev. 4 Group 241 + Class 2431 (NACE Groups 24.1, 24.2, 24.3, Classes 24.51 and 24.52)]. To avoid double counting, energy used in blast furnaces should be reported in the Energy sector."}]
[null,null,{"$f":"HLOOKUP(LangChoice,Definitions_FlowLang!$C$2:$E$156,Definitions_FlowLang!$A68+1,FALSE)","v":"Chemical and petrochemical"},":",{"$f":"HLOOKUP(LangChoice,Definitions_FlowLang!$F$2:$H$156,Definitions_FlowLang!$A68+1,FALSE)","v":"[ISIC Rev. 4 Divisions 20 and 21] Excluding petrochemical feedstocks."}]
[null,null,{"$f":"HLOOKUP(LangChoice,Definitions_FlowLang!$C$2:$E$156,Definitions_FlowLang!$A69+1,FALSE)","v":"Non-ferrous metals"},":",{"$f":"HLOOKUP(LangChoice,Definitions_FlowLang!$F$2:$H$156,Definitions_FlowLang!$A69+1,FALSE)","v":"ISIC Group 242 + Class 2432 (NACE Group 24.4, Classes 24.53 and 24.54)."}]
[null,null,{"$f":"HLOOKUP(LangChoice,Definitions_FlowLang!$C$2:$E$156,Definitions_FlowLang!$A70+1,FALSE)","v":"Non-metallic minerals"},":",{"$f":"HLOOKUP(LangChoice,Definitions_FlowLang!$F$2:$H$156,Definitions_FlowLang!$A70+1,FALSE)","v":"[ISIC Rev. 4 and NACE Division 23.] Report glass, ceramic, cement, and other building materials industries."}]
[null,null,{"$f":"HLOOKUP(LangChoice,Definitions_FlowLang!$C$2:$E$156,Definitions_FlowLang!$A71+1,FALSE)","v":"Transport equipment"},":",{"$f":"HLOOKUP(LangChoice,Definitions_FlowLang!$F$2:$H$156,Definitions_FlowLang!$A71+1,FALSE)","v":"[ISIC Rev. 4 and NACE Divisions 29 and 30.]"}]
[null,null,{"$f":"HLOOKUP(LangChoice,Definitions_FlowLang!$C$2:$E$156,Definitions_FlowLang!$A72+1,FALSE)","v":"Machinery"},":",{"$f":"HLOOKUP(LangChoice,Definitions_FlowLang!$F$2:$H$156,Definitions_FlowLang!$A72+1,FALSE)","v":"[ISIC Rev. 4 and NACE Divisions 25, 26, 27 and 28.] Report fabricated metal products, machinery and equipment other than transport equipment."}]
[null,null,{"$f":"HLOOKUP(LangChoice,Definitions_FlowLang!$C$2:$E$156,Definitions_FlowLang!$A73+1,FALSE)","v":"Mining and quarrying"},":",{"$f":"HLOOKUP(LangChoice,Definitions_FlowLang!$F$2:$H$156,Definitions_FlowLang!$A73+1,FALSE)","v":"[ISIC Rev. 4 Divisions 07 and 08 + Group 099 (NACE Divisions 07 and 08 + Group 09.9)]"}]
[null,null,{"$f":"HLOOKUP(LangChoice,Definitions_FlowLang!$C$2:$E$156,Definitions_FlowLang!$A74+1,FALSE)","v":"Food, beverages and tobacco"},":",{"$f":"HLOOKUP(LangChoice,Definitions_FlowLang!$F$2:$H$156,Definitions_FlowLang!$A74+1,FALSE)","v":"[ISIC Rev. 4 and NACE Divisions 10, 11 and 12.]"}]
[null,null,{"$f":"HLOOKUP(LangChoice,Definitions_FlowLang!$C$2:$E$156,Definitions_FlowLang!$A75+1,FALSE)","v":"Paper, pulp and print"},":",{"$f":"HLOOKUP(LangChoice,Definitions_FlowLang!$F$2:$H$156,Definitions_FlowLang!$A75+1,FALSE)","v":"[ISIC Rev. 4 and NACE Divisions 17 and 18.] Includes reproduction of recorded media."}]
[null,null,{"$f":"HLOOKUP(LangChoice,Definitions_FlowLang!$C$2:$E$156,Definitions_FlowLang!$A76+1,FALSE)","v":"Wood and wood products"},":",{"$f":"HLOOKUP(LangChoice,Definitions_FlowLang!$F$2:$H$156,Definitions_FlowLang!$A76+1,FALSE)","v":"[ISIC Rev. 4 and NACE Division 16] Wood and wood products other than pulp and paper."}]
[null,null,{"$f":"HLOOKUP(LangChoice,Definitions_FlowLang!$C$2:$E$156,Definitions_FlowLang!$A77+1,FALSE)","v":"Construction"},":",{"$f":"HLOOKUP(LangChoice,Definitions_FlowLang!$F$2:$H$156,Definitions_FlowLang!$A77+1,FALSE)","v":"[ISIC Rev. 4 and NACE Division 41, 42 and 43]"}]
[null,null,{"$f":"HLOOKUP(LangChoice,Definitions_FlowLang!$C$2:$E$156,Definitions_FlowLang!$A78+1,FALSE)","v":"Textiles and leather"},":",{"$f":"HLOOKUP(LangChoice,Definitions_FlowLang!$F$2:$H$156,Definitions_FlowLang!$A78+1,FALSE)","v":"[ISIC and NACE Divisions 13, 14 and 15.]"}]
[null,null,{"$f":"HLOOKUP(LangChoice,Definitions_FlowLang!$C$2:$E$156,Definitions_FlowLang!$A79+1,FALSE)","v":"Non-specified (Industry)"},":",{"$f":"HLOOKUP(LangChoice,Definitions_FlowLang!$F$2:$H$156,Definitions_FlowLang!$A79+1,FALSE)","v":"[ISIC and NACE Divisions 22, 31 and 32.] If your country's industrial classification consumption of fuels/electricity does not correspond to the above ISIC or NACE codes, please estimate the breakdown by industry and include in Not elsewhere specified (Industry) only consumption in sectors which is not covered above."}]
[null,null,{"$f":"HLOOKUP(LangChoice,Definitions_FlowLang!$C$2:$E$156,Definitions_FlowLang!$A80+1,FALSE)","v":"Transport"},":",{"$f":"HLOOKUP(LangChoice,Definitions_FlowLang!$F$2:$H$156,Definitions_FlowLang!$A80+1,FALSE)","v":"[ISIC Rev. 4 and NACE categories: Divisions 49, 50 and 51.] Report fuels / electricity used for all transport activity irrespective of the economic sector, in which the activity occurs (except military fuel use, see Not elsewhere specified - Other). Electricity and purchased heat used for heating and lighting at railway and bus stations and airports should be reported in Commercial and public services.  The transport sector is divided into the following sub-sectors:"}]
[null,null,{"$f":"HLOOKUP(LangChoice,Definitions_FlowLang!$C$2:$E$156,Definitions_FlowLang!$A81+1,FALSE)","v":"Domestic aviation"},":",{"$f":"HLOOKUP(LangChoice,Definitions_FlowLang!$F$2:$H$156,Definitions_FlowLang!$A81+1,FALSE)","v":"Report quantities of aviation fuels delivered to aircraft for Domestic aviation – commercial, private, agricultural, etc. Include fuel used for purposes other than flying, e.g. bench testing of engines. The domestic/international split should be determined on the basis of departure and landing locations and not by the nationality of the airline. Note that this may include journeys of considerable length between two airports in a country (e.g. San Francisco to Honolulu). Exclude fuels used by airlines for their road vehicles (see Not elsewhere specified – Transport sector) and military use of aviation fuels (see Not elsewhere specified – Other sectors).\n\n For many countries this incorrectly includes fuel used by domestically owned carriers for outbound international traffic."}]
[null,null,{"$f":"HLOOKUP(LangChoice,Definitions_FlowLang!$C$2:$E$156,Definitions_FlowLang!$A82+1,FALSE)","v":"Road"},":",{"$f":"HLOOKUP(LangChoice,Definitions_FlowLang!$F$2:$H$156,Definitions_FlowLang!$A82+1,FALSE)","v":"Report oil for use in road vehicles. Include fuel used by agricultural vehicles on highways and lubricants for use in road vehicles. Exclude motor gasoline and diesel used in stationary engines (see Not elsewhere specified – Other sectors), diesel oil for non–highway use in tractors (see Agriculture/forestry – Other sectors), military use (see Not elsewhere specified – Other sectors) and gasoil used in engines at construction sites (see Construction – Industry sector)."}]
[null,null,{"$f":"HLOOKUP(LangChoice,Definitions_FlowLang!$C$2:$E$156,Definitions_FlowLang!$A83+1,FALSE)","v":"Rail"},":",{"$f":"HLOOKUP(LangChoice,Definitions_FlowLang!$F$2:$H$156,Definitions_FlowLang!$A83+1,FALSE)","v":"Includes quantities used in rail traffic, including industrial railways. It includes oil used in rail transport as part of urban or suburban transport systems."}]
[null,null,{"$f":"HLOOKUP(LangChoice,Definitions_FlowLang!$C$2:$E$156,Definitions_FlowLang!$A84+1,FALSE)","v":"Pipeline transport"},":",{"$f":"HLOOKUP(LangChoice,Definitions_FlowLang!$F$2:$H$156,Definitions_FlowLang!$A84+1,FALSE)","v":"Report oil used as energy in the support and operation of pipelines transporting gases, liquids, slurries and other commodities, including the energy used for pump stations and maintenance of the pipeline. Oil used as energy for the pipeline distribution of natural or manufactured gas, hot water or steam (ISIC Rev. 4 Division 35) from the distributor to final users is excluded and should be reported in the Energy sector, while the oil used for the final distribution of water (ISIC 36) to household, industrial, commercial and other users should be included in the Commercial/public sector. Losses occurring during this transport between distributor and final users should be reported as Distribution losses."}]
[null,null,{"$f":"HLOOKUP(LangChoice,Definitions_FlowLang!$C$2:$E$156,Definitions_FlowLang!$A85+1,FALSE)","v":"Domestic navigation"},":",{"$f":"HLOOKUP(LangChoice,Definitions_FlowLang!$F$2:$H$156,Definitions_FlowLang!$A85+1,FALSE)","v":"Report fuels delivered to vessels of all flags not engaged in international navigation (see international marine bunkers). The domestic/international split should be determined on the basis of port of departure and port of arrival and not by the flag or nationality of the ship. Note that this may include journeys of considerable length between two ports in a country (e.g. San Francisco to Honolulu)."}]
[null,null,{"$f":"HLOOKUP(LangChoice,Definitions_FlowLang!$C$2:$E$156,Definitions_FlowLang!$A86+1,FALSE)","v":"Non-specified (transport)"},":",{"$f":"HLOOKUP(LangChoice,Definitions_FlowLang!$F$2:$H$156,Definitions_FlowLang!$A86+1,FALSE)","v":"Report fuels used for transport activities not included elsewhere. Include fuels used by airlines for their road vehicles. Note: International marine bunkers and International aviation bunkers are shown in supply and are not included in the transport sector as part of final consumption."}]
[null,null,{"$f":"HLOOKUP(LangChoice,Definitions_FlowLang!$C$2:$E$156,Definitions_FlowLang!$A87+1,FALSE)","v":"Other"},":",{"$f":"HLOOKUP(LangChoice,Definitions_FlowLang!$F$2:$H$156,Definitions_FlowLang!$A87+1,FALSE)","v":"Includes residential, commercial/public services, agriculture/‌forestry, fishing and non-specified (other)."}]
[null,null,{"$f":"HLOOKUP(LangChoice,Definitions_FlowLang!$C$2:$E$156,Definitions_FlowLang!$A88+1,FALSE)","v":"Residential"},":",{"$f":"HLOOKUP(LangChoice,Definitions_FlowLang!$F$2:$H$156,Definitions_FlowLang!$A88+1,FALSE)","v":"Report fuels/electricity consumed by all households including \"households with employed persons\" (ISIC and NACE Divisions 97 and 98). "}]
[null,null,{"$f":"HLOOKUP(LangChoice,Definitions_FlowLang!$C$2:$E$156,Definitions_FlowLang!$A89+1,FALSE)","v":"Commercial and public services"},":",{"$f":"HLOOKUP(LangChoice,Definitions_FlowLang!$F$2:$H$156,Definitions_FlowLang!$A89+1,FALSE)","v":"[ISIC Rev. 4 Divisions and NACE Divisions 33, 36, 37, 38, 39, 45, 46, 47, 52, 53, 55, 56, 58, 59, 60, 61, 62, 63, 64, 65, 66, 68, 69, 70, 71, 72, 73, 74, 75, 77, 78, 79, 80, 81, 82, 84 (exclude Class 8422), 85, 86, 87, 88, 90, 91, 92, 93, 94, 95, 96 and 99.]\n\nConsumption by businesses and offices in the public and private sectors. Note that consumption at railway, bus stations, shipping piers and airports should be reported in this category and not shown in the Transport sector."}]
[null,null,{"$f":"HLOOKUP(LangChoice,Definitions_FlowLang!$C$2:$E$156,Definitions_FlowLang!$A90+1,FALSE)","v":"Agriculture/forestry"},":",{"$f":"HLOOKUP(LangChoice,Definitions_FlowLang!$F$2:$H$156,Definitions_FlowLang!$A90+1,FALSE)","v":"[ISIC Rev. 4 and NACE Divisions 01 and 02].\n\nIncludes deliveries to users classified as agriculture, hunting and forestry by the ISIC, and therefore includes energy consumed by such users whether for traction (excluding agricultural highway use), power or heating (agricultural and domestic)."}]
[null,null,{"$f":"HLOOKUP(LangChoice,Definitions_FlowLang!$C$2:$E$156,Definitions_FlowLang!$A91+1,FALSE)","v":"Fishing"},":",{"$f":"HLOOKUP(LangChoice,Definitions_FlowLang!$F$2:$H$156,Definitions_FlowLang!$A91+1,FALSE)","v":"Report fuels used for inland, coastal and deep–sea fishing. Fishing should cover fuels delivered to ships of all flags that have refuelled in the country (include international fishing). Also include energy used in the fishing industry as specified in ISIC Division 03 and NACE Division 03. Prior to 2007 edition, fishing was included with agriculture/forestry and this may continue to be the case for some countries."}]
[null,null,{"$f":"HLOOKUP(LangChoice,Definitions_FlowLang!$C$2:$E$156,Definitions_FlowLang!$A92+1,FALSE)","v":"Non-specified (other)"},":",{"$f":"HLOOKUP(LangChoice,Definitions_FlowLang!$F$2:$H$156,Definitions_FlowLang!$A92+1,FALSE)","v":"Report activities not included elsewhere. This category includes military fuel use for all mobile and stationary consumption (e.g. ships, aircraft, road and energy used in living quarters), regardless of whether the fuel delivered is for the military of that country or for the military of another country."}]
[null,null,{"$f":"HLOOKUP(LangChoice,Definitions_FlowLang!$C$2:$E$156,Definitions_FlowLang!$A93+1,FALSE)","v":"Non-energy use"},":",{"$f":"HLOOKUP(LangChoice,Definitions_FlowLang!$F$2:$H$156,Definitions_FlowLang!$A93+1,FALSE)","v":"Non-energy use covers those fuels that are used as raw materials in the different sectors and are not consumed as a fuel or transformed into another fuel. Non-energy use is shown separately in final consumption under the heading non-energy use."}]
[null,null,{"$f":"HLOOKUP(LangChoice,Definitions_FlowLang!$C$2:$E$156,Definitions_FlowLang!$A94+1,FALSE)","v":"Non-energy use industry/transformation/energy"},":",{"$f":"HLOOKUP(LangChoice,Definitions_FlowLang!$F$2:$H$156,Definitions_FlowLang!$A94+1,FALSE)","v":"Non-energy in industry, transformation processes and energy industry own use."}]
[null,null,{"$f":"HLOOKUP(LangChoice,Definitions_FlowLang!$C$2:$E$156,Definitions_FlowLang!$A95+1,FALSE)","v":"Non-energy use in transport"},":",{"$f":"HLOOKUP(LangChoice,Definitions_FlowLang!$F$2:$H$156,Definitions_FlowLang!$A95+1,FALSE)","v":"Non-energy use in transport."}]
[null,null,{"$f":"HLOOKUP(LangChoice,Definitions_FlowLang!$C$2:$E$156,Definitions_FlowLang!$A96+1,FALSE)","v":"Non-energy use in other"},":",{"$f":"HLOOKUP(LangChoice,Definitions_FlowLang!$F$2:$H$156,Definitions_FlowLang!$A96+1,FALSE)","v":"Non-energy use in Commercial and public services, Residential, Agriculture and Not elsewhere specified - Other sectors."}]
[null,null,{"$f":"HLOOKUP(LangChoice,Definitions_FlowLang!$C$2:$E$156,Definitions_FlowLang!$A97+1,FALSE)","v":"Memo: Non-energy use chemical/petrochemical"},":",{"$f":"HLOOKUP(LangChoice,Definitions_FlowLang!$F$2:$H$156,Definitions_FlowLang!$A97+1,FALSE)","v":"Report quantities used in the petrochemical industry for the purpose of producing ethylene, propylene, butylene, synthesis gas, aromatics, butadiene and other hydrocarbon–based raw materials in processes such as steam cracking, aromatics plants and steam reforming [part of ISIC Rev. 4 Group 201]. Exclude amounts of oil used for fuel purposes."}]
[null,null,{"$f":"HLOOKUP(LangChoice,Definitions_FlowLang!$C$2:$E$156,Definitions_FlowLang!$A98+1,FALSE)","v":"Electricity and heat output"},":"]
[null,null,{"$f":"HLOOKUP(LangChoice,Definitions_FlowLang!$C$2:$E$156,Definitions_FlowLang!$A99+1,FALSE)","v":"Electricity output in GWh"},":",{"$f":"HLOOKUP(LangChoice,Definitions_FlowLang!$F$2:$H$156,Definitions_FlowLang!$A99+1,FALSE)","v":"Shows the total number of GWh generated by power plants separated into electricity plants and CHP plants."}]
[null,null,{"$f":"HLOOKUP(LangChoice,Definitions_FlowLang!$C$2:$E$156,Definitions_FlowLang!$A108+1,FALSE)","v":"Heat output in TJ"},":",{"$f":"HLOOKUP(LangChoice,Definitions_FlowLang!$F$2:$H$156,Definitions_FlowLang!$A108+1,FALSE)","v":"Shows the total amount of TJ generated by power plants separated into CHP plants and heat plants."}]

{"sheet":"Definitions_ProdLang","index":4,"n_rows":77,"n_cols":17,"rows_kept":77,"cut":false,"hidden":true,"merged":[]}
[null,null,"Product language",null,null,"Product definition",null,null,"Product unit (for commodity balance)",null,null,null,null,"Text for various sheets"]
[null,null,"English","Pусский","中文",{"$f":"C2","v":"English"},{"$f":"D2","v":"Pусский"},{"$f":"E2","v":"中文"},"English","Pусский","中文",null,null,"English","Pусский","中文","Comments"]
[1,null,"PRODUCT DEFINITIONS","ОПРЕДЕЛЕНИЯ ПРОДУКТА","产品定义",null,null,null,null,null,null,null,1,"Coal gases","Угольные газы","煤气（太焦耳 - 毛量）","Text for 'Data in physical units'"]
[2,null,"Coal, peat, oilshale and oil sands","Уголь, tорф и Горючие сланцы и битуминозные пески","煤、泥煤、油页岩和油砂"," ",null,null,null,null,null,null,2,"Data in physical units","Данные в физических единицах","物理单位数据","Text for 'Data in physical units'"]
[3,"ANTCOAL","Anthracite","Антрацит","无烟煤","High rank coal used for industrial and residential applications. It has generally less than 10% volatile matter and a high carbon content (about 90% fixed carbon). Its gross calorific value is equal to or greater than 24 000 kJ/kg on an ash-free but moist basis.","уголь высшего качества, используемый для промышленного и бытового применения. Обычно имеет менее 10% летучих веществ и высокое содержание углерода (приблизительно 90% связанного углерода). Высшая теплотворная способность не менее 24 000 кДж/кг на беззольной, но влажной основе.","无烟煤是一种用于工业和民用用途的高级煤。通常情况下，其挥发物含量低于10%，碳含量较高（固定碳含量约90%）。无烟煤的恒湿无灰基高位发热量大于或等于24000千焦/千克。","kt","тыс. тонн","千吨",null,3,"Disaggregated balance","Дезагрегированный баланс","分类平衡表","Text for 'Disaggregated balance'"]
[4,"COKCOAL","Coking coal","Коксующийся уголь","焦煤","Bituminous coal with a quality that allows the production of a coke suitable to support a blast furnace charge. Its gross calorific value is equal to or greater than 24 000 kJ/kg on an ash-free but moist basis.","битуминозный уголь, качество которого позволяет производить кокс, пригодный для поддержки загрузки доменной печи. Высшая теплотворная способность не менее 24 000 кДж/кг на беззольной, но влажной основе.","焦煤是一种烟煤，用于生产适合支撑高炉炉料的焦炭。焦煤的恒湿无灰基高位发热量大于或等于24000千焦/千克。","kt","тыс. тонн","千吨",null,4,"Total of all energy sources","Сумма для вех источников энергии","总计","Text for 'Disaggregated balance'"]
[5,"BITCOAL","Other bituminous coal","Прочий битуминозный уголь","其它烟煤","Coal mainly used for steam raising purposes and includes all bituminous coal that is not included under coking coal nor anthracite. It is characterized by higher volatile matter than anthracite (more than 10%) and lower carbon content (less than 90% fixed carbon). Its gross calorific value is equal to or greater than 24 000 kJ/kg on an ash-free but moist basis. If bituminous coal is used in coke ovens it should be reported as coking coal.","уголь, используемый в основном для производства пара. Включает все виды битуминозного угля, не включенные в коксующийся уголь и антрацит. Характеризуется более высоким содержанием летучих веществ, чем антрацит (более 10%), и более низким содержанием углерода (менее 90% связанного углерода). Его высшая теплотворная способность не менее 24 000 кДж/кг на беззольной, но влажной основе. Если битуминозный уголь используется в коксовых печах, то его следует указать как коксующийся уголь.","其它烟煤主要用于锅炉升火和空间采暖，包括未归入焦煤和无烟煤的所有其它烟煤，其具有挥发物含量高于无烟煤（10%以上）、碳含量较低（固定碳含量低于90%）的特征，恒湿无灰基高位发热量大于或等于24000千焦/千克。","kt","тыс. тонн","千吨",null,5,"Efficiencies","Показатели эффективности","效率\n","Text for 'Disaggregated balance'"]
[6,"SUBCOAL","Sub-bituminous coal","Полубитуминозный уголь","次烟煤","Non-agglomerating coal with a gross calorific value equal to or greater than 20 000 kJ/kg and less than 24 000 kJ/kg containing more than 31% volatile matter on a dry mineral matter free basis.","Неагломерированный уголь с высшей теплотворной способностью, равной или превышающей 20 000 кДж/кг и менее 24 000 кДж/кг, содержащий более 31% летучих веществ на сухой безминеральной основе.","次烟煤属于一种不粘结煤，干燥无矿物质基高位发热量在20 000千焦/千克和24 000千焦/千克之间，挥发物含量高于31%。","kt","тыс. тонн","千吨",null,6,"Aggregated balance","Агрегированный баланс","汇总平衡表","Text for 'Aggregated balance'"]
[7,"LIGNITE","Lignite","Лигнит","褐煤","Non-agglomerating coal with a gross calorific value less than 20 000 kJ/kg and greater than 31% volatile matter on a dry mineral matter free basis.","Неагломерированный уголь с высшей теплотворной способностью менее 20 000 кДж/кг, с содержанием летучих веществ более 31% на сухой безминеральной основе.","褐煤是一种不粘结煤，干燥无矿物质基高位发热量低于20 000千焦/千克，挥发物含量高于31%。","kt","тыс. тонн","千吨",null,7,"Total","Всего","总计","Text for 'Aggregated balance'"]
[8,"PATFUEL","Patent fuel","Каменноугольные брикеты","专利燃料 ","A composition fuel manufactured from hard coal fines with the addition of a binding agent. The amount of patent fuel produced may, therefore, be slightly higher than the actual amount of coal consumed in the transformation process.","Топливная смесь, изготовляемая из мелких частиц каменного угля, с добавкой связующего материала. Поэтому общее количество готовых каменноугольных брикетов может немного превышать количество угля, фактически потребленного в процессе преобразования.","专利燃料是使用硬煤粉和粘合剂制造的一种合成燃料。因此，生产出来的专利燃料数量可能略高于转换过程中煤的实际消费量。专利燃料制造过程中专利燃料的消费量列入能源行业自用项目。","kt","тыс. тонн","千吨",null,8,"Solar, Wind, Others","Солнечная, ветровая, иное","生物燃料和废弃物","Text for 'Aggregated balance'"]
[9,"OVENCOKE","Coke oven coke","Кокс из коксовых печей","焦炉焦炭","The solid product obtained from carbonization of coal, principally coking coal, at high temperature, it is low in moisture and volatile matter. Coke oven coke is used mainly in the iron and steel industry acting as energy source and chemical agent. Coke breeze and foundry coke are included in this category. Semi-coke (a solid product obtained from carbonization of coal at low temperature) should be included in this category. Semi-coke is used as a domestic fuel or by the transformation plant itself. This heading also includes coke, coke breeze and semi-coke made from lignite/brown coal.","Твердый продукт, получаемый при высокотемпературной карбонизации угля, в основном коксующегося угля, имеющий низкое содержание влаги и летучих веществ. Кокс из коксовых печей используется в основном в черной металлургии как источник энергии и химический реагент. В эту категорию входят также коксовая мелочь и литейный кокс. В эту категорию следует включить полукокс (твердый продукт, получаемый с помощью низкотемпературной карбонизации угля). Полукокс используется как бытовое топливо или непосредственно станцией преобразования. Эта категория включает также кокс, коксовую мелочь и полукокс, получаемые из лигнита/бурого угля.","焦炉焦炭是将煤（主要是炼焦煤）高温碳化形成的一种固体产物，水分和挥发物含量低。焦炉焦炭主要用于钢铁业，作为能源和化学试剂。同时，焦炉焦炭还包括半焦炭（煤低温碳化形成的一种固体产物）、褐煤焦炭（褐煤形成的一种半焦炭）、焦炭屑和铸造用焦炭。能源行业自用标题项下包括炼焦厂自身的焦炉焦炭消费量。钢铁业消费的焦炉焦炭不包括转换成高炉煤气的焦炭。在计算钢铁业的焦炉焦炭消费总量时，应当加上转换成高炉煤气的焦炭数量（这些焦炭数量列入高炉项目）。","kt","тыс. тонн","千吨",null,9,"Coal transformation","Преобразование угля","煤转换","Text for 'Aggregated balance'"]
[10,"GASCOKE","Gas coke","Газовый кокс","煤气焦炭","By-product of hard coal used for production of town gas in gas works. Gas coke is used for heating purposes.","Побочный продукт каменного угля, используемого для производства бытового газа на газовых заводах. Газовый кокс используется для отопления.","煤气焦炭是硬煤的一种副产品，用于煤气厂生产民用煤气。煤气焦炭用于采暖。能源行业自用包括煤气厂的煤气焦炭消费量。","kt","тыс. тонн","千吨",null,10,"Liquefaction plants","Заводы по сжижению","液化厂\n","Text for 'Aggregated balance'"]
[11,"COALTAR","Coal tar","Каменноугольная смола","煤焦油","A result of the destructive distillation of bituminous coal or of the low-temperature carbonisation of brown coal. Coal tar from bituminous coal is the liquid by-product of the distillation of coal to make coke in the coke oven process. Coal tar can be further distilled into different organic products (e.g. benzene, toluene, naphthalene), which normally would be reported as a feedstock to the petrochemical industry.","Результат сухой перегонки битуминозного угля или низкотемпературной карбонизации бурого угля. Каменноугольная смола из битуминозного угля - это жидкий побочный продукт перегонки угля с целью получения кокса в коксовых печах. Каменноугольная смола может подвергаться дальнейшей перегонке для получения разных органических продуктов (например, бензола, толуола, нафталина), которые обычно указывают в отчетности как сырье для нефтехимической промышленности.","煤焦油是烟煤干馏或褐煤低温碳化的产物。烟煤形成的煤焦油是在焦炉炼焦过程中，对烟煤进行蒸馏生成的液体副产品。煤焦油可进一步蒸馏提炼成不同的有机产品（例如：苯、甲苯、萘），一般情况下，这些有机产品可作为石油化工行业原料进行报送。","kt","тыс. тонн","千吨",null,11,"Conversion factors","Коэффициенты пересчета","换算因子","Text for 'Conversion factors'"]
[12,"BKB","BKB (Brown coal briquettes)","Буроугольные брикеты (БУБ)","褐煤型煤 ","BKB is a composition fuel manufactured from lignite or sub-bituminous coal, produced by briquetting under high pressure without the addition of a binding agent.","Буроугольные брикеты – это топливная смесь, получаемая из лигнита или полубитуминозного угля посредством брикетирования под высоким давлением, без добавления связующего материала.","褐煤型煤是使用褐煤，在添加或不添加粘合剂的情况下，通过高压压块制作而成的合成燃料。","kt","тыс. тонн","千吨",null,12,"Net calorific values (kJ/kg)","Значения низшей теплоты сгорания (кДж/кг)","净热值（千焦/千克）","Text for 'Conversion factors'"]
[13,"GASWKSGS","Gas works gas","Заводской газ","煤气厂煤气  ","Covers all types of gases produced in public utility or private plants, whose main purpose is manufacture, transport and distribution of gas. It includes gas produced by carbonization (including gas produced by coke ovens and transferred to gas works gas), by total gasification with or without enrichment with oil products (LPG, residual fuel oil, etc.), and by reforming and simple mixing of gases and/or air, reported under the rows, From other sources. Under the transformation sector identify amounts of gas work gas transferred to blended natural gas which will be distributed and consumed through the natural gas grid. The quantity of fuel should be reported on a gross calorific value basis.\nThe production of other coal gases (i.e. coke oven gas, blast furnace gas and other recovered gases) should be reported in the columns concerning such gases, and not as production of gas works gas. The coal gases transferred to gas works plants should then be reported (in their own column) in the transformation sector in the gas works plants row. The total amount of gas works gas resulting from transfers of other coal gases should appear in the production line for gas works gas.\n","Эта категория включает все газы, вырабатываемые на коммунальных или частных предприятиях, основным видом деятельности которых является производство, транспортировка и распределение газа. В эту категорию входит газ, производимый путем карбонизации (в том числе газ, производимый в коксовых печах и передаваемый в заводской газ), путем полной газификации с обогащением нефтепродуктами (сжиженным нефтяным газом, топочным мазутом и др.) или без него, а также путем реформинга и простого смешивания газов и/или воздуха, указываемый в строках «Из прочих источников». В Секторе преобразования укажите объемы заводского газа, переданного для смешивания с природным газом, который будет распределяться и употребляться через сеть природного газа. Объем топлива следует указать на основе высшей теплотворной способности. \nПроизводство других газов из угля (коксового, доменного и других восстановленных газов) должно быть указано в колонках, относящихся к таким газам, а не как производство заводского газа. Газы из угля, переданные на газовые заводы, должны быть потом представлены (в своей колонке) в Cекторе преобразования в строке, относящейся к газовым заводам. Общий объем заводского газа, созданный в результате передачи других газов из угля, следует указать в строке производства заводского газа.  \n","煤气厂煤气包括以煤气制造、运输和配送为主营业务的公用或私营煤气厂生产的各种煤气。煤气厂煤气包括通过碳化生成的煤气（包括焦炉生产的并传输给煤气厂的煤气）、完全气化（无论是否添加石油产品）生成的煤气，及通过重整和简单混合煤气和/或空气生成的煤气 。","TJ-gross","ТДж - ВТС","太焦耳 - 毛值",null,13,"Share of renewables in supply (%)","Доля ВИЭ в предложении (%)","[missing_Chinese]","Text for 'Disaggregated balance'"]
[14,"COKEOVGS","Coke oven gas","Коксовый газ","焦炉煤气  ","Obtained as a by-product from the manufacture of coke oven coke for the production of iron and steel. The quantity of fuel should be reported on a gross calorific value basis.","Образуется как побочный продукт производства кокса в коксовых печах для использования в производстве железа и стали. Объем топлива должен быть указан на основе высшей теплотворной способности.","焦炉煤气是在炼制用于钢铁生产的焦炉焦炭过程中生成的副产品。","TJ-gross","ТДж - ВТС","太焦耳 - 毛值",null,14]
[15,"BLFURGS","Blast furnace gas","Доменный газ","高炉煤气  ","Produced during the combustion of coke in blast furnaces in the iron and steel industry. It is recovered and used as a fuel partly within the plant and partly in other steel industry processes or in power stations equipped to burn it. The quantity of recuperated fuel should be reported on a gross calorific value basis. In addition, off-gases from all iron-production reduction processes utilising air as the oxygen source (such as Direct reduced iron) should be reported here.","Производится при сжигании кокса в доменных печах на предприятиях черной металлургии. Этот газ извлекается и используется в качестве топлива, частично на предприятии, частично в других процессах черной металлургии или на электростанциях, которые могут его сжигать. Объем рекуперируемого топлива следует указать на основе высшей теплотворной способности. К тому же, здесь следует указать отходящие газы всех восстановительных металлургических процессов, использующих воздух как источник кислорода (например, прямое восстановление железа).","高炉煤气在钢铁业高炉焦炭的燃烧过程中产生。高炉煤气一部分在厂内回收并用作燃料，一部分在其他钢铁业工艺中或具备燃烧设备的发电站回收并用作燃料。","TJ-gross","ТДж - ВТС","太焦耳 - 毛值",null,15]
[16,"OGASES","Other recovered gases","Прочие восстановленные газы","其他回收煤气  ","By-product of the production of steel in an oxygen furnace, recovered on leaving the furnace. The gases are also known as converter gas, LD gas or BOS gas. The quantity of recuperated fuel should be reported on a gross calorific value basis.  Also covers non-specified manufactured gases not mentioned above, such as combustible gases of solid carbonaceous origin recovered from manufacturing and chemical processes not elsewhere defined.","Побочный продукт производства стали в кислородно-конвертерной печи, который улавливается на выходе. Эти газы известны также как конвертерный газ, ЛД-газ или кислородно-конвертерный газ. Объем рекуперируемого топлива следует указать на основе высшей теплотворной способности. Эта подгруппа включает также неспецифические синтез-газы, не указанные выше, такие как горючие газы твердого углеродного происхождения, улавливаемые при производственных или химических процессах и не включенные в другие подгруппы.","其他回收煤气是利用吹氧炉生产钢铁时生成的副产品，在出炉时回收。这些气体也被称作转炉煤气、LD煤气或BOS煤气。 回收燃料的数量应基于高位发热量进行报送。此外，其他回收煤气还应包括未在上文提及的未列明的人造煤气，例如：在生产和化学过程中回收的固体碳源易燃气体（未另行予以定义）。","TJ-gross","ТДж - ВТС","太焦耳 - 毛值",null,16]
[17,"MANGAS","Elec/heat output from non-spec. manufactured gases","Производство электроэнергии/тепла из неуказанных конкретно произведенных газов","未列明的人造煤气产生的电力/热力","This item is only used if the detailed breakdown is not available. It includes coke oven gas, blast furnace gas and other recovered gases. Gas works gas is not included here.","Этот пункт используется только в случае отсутствия подробной разбивки. Включает в себя коксовый газ, доменный газ и другие виды извлеченных газов, кроме газа, произведенного на газовых заводах.","该项仅在具体明细信息无法获得的情况下使用。它包括焦炉煤气、高炉煤气和其他回收煤气，但不包括煤气厂煤气。","TJ-gross","ТДж - ВТС","太焦耳 - 毛值",null,17]
[18,"PEAT","Peat","Торф","泥煤","A combustible soft, porous or compressed, fossil sedimentary deposit of plant origin with high water content (up to 90 percent in the raw state), easily cut, and of light to dark brown colour. Peat used for non-energy purposes should not included here. Milled peat is included here.","Мягкое горючее, пористое или сжатое, ископаемое осадочное отложение растительного происхождения с высоким содержанием воды (до 90% в сыром состоянии), легко режется, от светло-коричневого до темно-коричневого цвета. Торф для неэнергетического использования указывать не следует. Фрезерный торф входит в эту подгруппу.","泥煤是一种易燃的柔软、多孔或压缩的植物源化石沉积物，水分含量高（在原始状态下高达90%），容易切割，颜色从浅褐色到深褐色不等。此项不包括出于非能源用途使用的泥煤，但包括碎泥煤。","kt","тыс. тонн","千吨",null,18]
[19,"PEATPROD","Peat products","Продукты переработки торфа","泥煤产品","Products such as peat briquettes derived directly or indirectly from sod peat and milled peat.","Эта категория включает такие продукты, как торфяные брикеты, полученные прямо или косвенно из торфяного дерна или фрезерного торфа.","泥煤产品包括直接或间接使用草泥煤和碎泥煤制成的泥煤砖等产品。","kt","тыс. тонн","千吨",null,19]
[20,"OILSHALE","Oil shale and oil sands","Горючие сланцы и битуминозные пески","油页岩和油砂","Oil shale and oil sands are sedimentary rock which contains organic matter in the form of kerogen. Kerogen is a waxy hydrocarbon-rich material regarded as a precursor of petroleum. Oil shale may be burned directly or processed by heating to extract shale oil. Oil shale and tar sands used as inputs for other transformation processes are also included here (this includes the portion consumed in the transformation process). Shale oil and other products derived from liquefaction are included in from other sources under crude oil (other hydrocarbons).","Горючие сланцы и битуминозные пески – это осадочная порода, которая состоит из органического вещества в форме керогена. Кероген – это парафинистый, богатый углеводородом материал, который рассматривается в качестве предшественника нефти. Горючие сланцы могут сжигаться непосредственно или проходить термическую обработку для извлечения сланцевого масла. Сланцевое масло и прочие продукты, извлеченные в процессе сжижения, следует указать в «Годовом вопроснике по нефти» в подгруппе «Прочие углеводороды».","油页岩和油砂是含有油母页岩有机质的沉积岩。油母页岩是 一种光滑的、富含碳氢化合物的物质，被视作石油前体。油页岩可直接燃烧，或者通过加热分解提炼岩页油。此项还包括被用作其他转换过程输入原料的油页岩和焦油砂（包括在转换过程中消费的部分）。页岩油和因溶解生产的其他产品列入原油项下其他能源项目（其他碳氢化合物）。","kt","тыс. тонн","千吨",null,20]
[21,null,"Crude, NGL, refinery feedstocks","Нефть, ПГК и Сырьё для нефтепереработки","原油、天然气凝析液、炼油厂原料"," ",null,null,"kt","тыс. тонн",null,null,21]
[22,"CRUDEOIL","Crude oil","Сырая нефть","原油","Crude oil is a mineral oil of natural origin comprising a mixture of hydrocarbons and associated impurities, such as sulphur. It exists in the liquid phase under normal surface temperature and pressure and its physical characteristics (density, viscosity, etc.) are highly variable. This category includes field or lease condensate recovered from associated and non–associated gas where it is commingled with the commercial crude oil stream.","Сырая нефть является минеральным топливом природного происхождения состоящим из углеводородов и связанных примесей, таких как сера. Сырая нефть при нормальной температуре и давлении существует в жидком виде и её физические свойства (плотность, вязкость и т.д.) сильно переменчивы. В эту категорию включена жидкость изъятая из газоконденсатного месторождения или промысловый конденсат изъятый из попутного или непопутного газа, там, где он смешанный с коммерческим потоком сырой нефти.","原油是一种天然矿物质油，由碳氢化合物和伴生杂质（如硫磺）混合而成。原油在正常地表温度和压力下呈液体状态，其物理特征（密度、粘度等）有较大的可变性。该项包括从与商业原油流相混合的伴生和非伴生气体中回收的油田凝析油或矿场气凝析油（分离液）。","kt","тыс. тонн","千吨",null,22]
[23,"NGL","Natural gas liquids (NGL)","Природный газоконденсат (ПГК)","天然气凝析液","NGL are liquid or liquefied hydrocarbons recovered from natural gas in separation facilities or gas processing plants. Natural gas liquids include ethane, propane, butane (normal and iso–), (iso) pentane and pentanes plus (sometimes referred to as natural gasoline or plant condensate).","Природный газоконденсат это жидкие или сжиженные углеводороды, извлекаемые из природного газа в сепараторных установках или на газоперерабатывающих станциях. В состав  природного газоконденсата входят этан, пропан, бутан (нормальный и изобутан), (изо)пентан и плюс пентаны (пентаны и более тяжёлые углеводороды, которые иногда упоминаются как природный бензин или производственный конденсат).","天然气凝析液是从分离设施或气体加工厂的天然气中回收的液体或液化碳氢化合物。天然气凝析液包括乙烷、丙烷、丁烷（正丁烷和异丁烷）、（异）戊烷和戊烷以上的烃（有时也被称作天然汽油或加工厂凝析油）。","kt","тыс. тонн","千吨"]
[24,"REFFEEDS","Refinery feedstocks","Сырьё для нефтепереработки","炼油厂原料","A refinery feedstock is a processed oil destined for further processing (e.g. straight run fuel oil or vacuum gas oil) excluding blending. With further processing, it will be transformed into one or more components and/or finished products. This definition also covers returns from the petrochemical industry to the refining industry (e.g. pyrolysis gasoline, C4 fractions, gasoil and fuel oil fractions).","Сырьё для нефтепереработки это переработанная нефть, которая предназначается для дальнейшей обработки (например мазут первой перегонки или вакуумный газойль), исключая смешивание. В дальнейших этапах переработки, сырьё для нефтепереработки преобразуется в один или несколько компонентов и/или конечных продуктов. Данное определение охватывает также возвратные продукты из нефтехимической промышленности в нефтеперерабатывающую промышленность (например пиролизный бензин, фракции С4 и фракции газойля и мазута).","炼油厂原料是一种加工油，在炼油工业用作调配以外的其他加工目的（例如：直馏燃料油或减压轻柴油）。经过进一步的加工，炼油厂原料将转化成一种或多种组分和/或成品。本定义还涵盖从石油化工行业返回至炼油行业的产品（例如：裂解汽油、碳四馏分、汽油和燃料油馏分）。","kt","тыс. тонн","千吨"]
[25,"ADDITIVE","Additives/ blending components","Присадки/оксигенаты","添加剂/调合组分","Additives are non-hydrocarbon compounds added to or blended with a product to modify fuel properties (octane, cetane, cold properties, etc.):\ni. Oxygenates, such as alcohols (methanol, ethanol); ethers, such as MTBE (methyl tertiary butyl ether), ETBE (ethyl tertiary butyl ether), TAME (tertiary amyl methyl ether);\nii. Esters (e.g. rapeseed or dimethylester, etc.);\niii. Chemical compounds (such as TML, TEL and detergents).\nThe biofuel fractions of biogasoline, biodiesel and ethanol are not included here, but under liquid biofuels. This differs from the presentation of additives in the Oil Information publication.\n","Присадки это неуглеводородные соединения, которые добавляются или смешиваются с продуктами нефтепереработки для изменения свойств топлива (таких как октановое и цетановое число, устойчивость при низких температурах, и т.д.):\ni. Оксигенаты, такие как алкоголи (метанол, этанол), эфиры (например МТБЭ (метил-трет-бутиловый эфир), ЭТБЭ (этил-трет-бутиловый эфир), ТАМЭ (третичный амил метиловый эфир);\nii. Сложные эфиры (например репсовое масло или диметиловый эфир и т.д.);\niii. Химические соединения (такие как тетраметилсвинец, тетраэтилсвинец и детергенты).\n","添加剂是加入某一产品或与其相调合以改进该产品的特性（例如，改进燃烧特性）的非碳氢化合物。该项包括醇类和乙醚（MTBE，即甲基叔丁基醚）和四乙基铅等化学合金。但是生物汽油、生物柴油和乙醇的生物燃料馏分不包含在内，而列入液体生物燃料。本定义有别于石油信息公告中有关添加剂的说明。","kt","тыс. тонн","千吨"]
[26,"NONCRUDE","Other hydro-carbons","Прочие углеводороды","其它碳氢化合物","This category includes synthetic crude oil from tar sands, shale oil, etc., liquids from coal liquefaction, (see the Annual coal questionnaire), output of liquids from natural gas conversion into gasoline (see the Annual natural gas questionnaire), hydrogen and emulsified oils (e.g. Orimulsion).","Эта категория включает синтетическую сырую нефть получаемую из битуминозных песков, горючих сланцев и т.д., жидкие продукты получаемые при сжижении угля (см. Годовой вопросник по углю), жидкие продукты переработки  природного газа в бензин (см. Годовой вопросник по природному газу), водород и эмульсированные масла (например водно-битумная эмульсия – ориэмульсия).","此类碳氢化合物包括从油砂、页岩油等中提炼的合成原油，煤液化生成的液体，以及在天然气转换成汽油、氢、乳化油（例如：沥青乳油）过程中产生的液体。","kt","тыс. тонн","千吨"]
[27,null,"Oil products","Нефтепродукты","石油产品"," ",null,null,"kt","тыс. тонн"]
[28,"REFINGAS","Refinery gas","Нефтезаводской газ","炼厂气","Refinery gas includes a mixture of non-condensed gases mainly consisting of hydrogen, methane, ethane and olefins obtained during distillation of crude oil or treatment of oil products (e.g. cracking) in refineries. It also includes gases which are returned from the petrochemical industry. Refinery gas production refers to gross production. Own consumption is shown separately under oil refineries in energy industry own use.","Нефтезаводской газ включает смесь неконденсированных газов, состоящую главным образом из водорода, метана, этана, а также олефинов, полученных при перегонке сырой нефти или переработке нефтепродуктов (например при крекинге) на НПЗах. Эта категория включает также газы возвращённые из нефтехимической промышленности.","炼厂气包括非冷凝性气体的混合物，非冷凝性气体主要包括炼油厂原油提炼或石油产品处理（例如：分裂）过程中获取的氢气、甲烷、乙烷和烯烃等。炼厂气还包括从石化行业返回的气体。炼厂气产量系指毛产量。自用消费量单独列入能源行业自用项下的炼油厂项目。","kt","тыс. тонн","千吨"]
[29,"ETHANE","Ethane","Этан","乙烷","A naturally gaseous straight–chain hydrocarbon, (C2H6) extracted from natural gas and refinery gas streams.","Естественно газообразный неразветвленный углеводород (C2H6), извлекаемый из потоков природного и нефтезаводского газа.","乙烷是一种自然状况下为气态的直链烷烃（C2H6），从天然气和炼厂气流中提炼而成。","kt","тыс. тонн","千吨"]
[30,"LPG","Liquefied petroleum gases (LPG)","Сжиженные нефтяные газы (СНГ)","液化石油气（LPG）","LPG are light paraffinic hydrocarbons derived from the refinery processes, crude oil stabilisation and natural gas processing plants. They consist mainly of propane (C3H8) and butane (C4H10) or a combination of the two. They could also include propylene, butylene, isobutene and isobutylene. LPG are normally liquefied under pressure for transportation and storage.","СНГ это лёгкие парафиновые углеводороды, полученные в процессах перегонки, стабилизации сырой нефти и заводах по переработке природного газа. Они состоят в основном из пропана (C3H8) и бутана (C4H10) или их смеси, но могут также включать пропилен, бутилен, изобутан и изобутилен. Для транспортировки и хранения СНГ обычно подвергаются сжижению под давлением.","液化石油气是在炼油过程、原油稳定处理厂和天然气加工厂形成的轻质石蜡族碳氢化合物，主要包括丙烷（C3H8）、丁烷（C4H10）或丙烷丁烷混合气体。液化石油气还包括丙烯、丁烯和异丁烯。运输和存储时，液化石油气通常进行加压液化。","kt","тыс. тонн","千吨"]
[31,"NONBIOGASO","Motor gasoline excl. biofuels","Моторный бензин","车用汽油（生物燃料除外）","Motor gasoline is light hydrocarbon oil for use in internal combustion engines such as motor vehicles, excluding aircraft. Motor gasoline is distilled between 35°C and 215°C and is used as a fuel for land based spark ignition engines. Motor gasoline may include additives, oxygenates and octane enhancers, including lead compounds such as TEL (tetraethyl lead) and TML (tetramethyl lead). Motor gasoline excluding biofuels does not include the liquid biofuels or ethanol blended with gasoline - see liquid biofuels. This differs from the presentation of motor gasoline in the Oil Information publication.","Моторный бензин это смесь лёгких углеводородов с температурой перегонки в пределах от 35°C до 215°C. Мотобензин используется как топливо для наземных двигателей с искровым зажиганием. Он может содержать присадки, оксигенаты и октановые усилители, включая соединения свинца, такие как ТЭС (тетраэтилсвинец) и ТМС (тетраметилсвинец). \nЭта категория включает компоненты для смешивания с автомобильным бензином (за исключением Присадок/оксигенатов), например алкилаты, изомеризат, реформат, крекинг-бензин для использования как конечный автомобильный бензин. \n","车用汽油是一种轻质石蜡族碳氢化合物，用于内燃机，如机动车，但不包括飞机。车用汽油的沸程为35°C至215°C，而且车用汽油用作陆基点燃式发动机的燃料。车用汽油中可包含添加剂、充氧剂和辛烷值提高剂，包括例如TEL（四乙基铅）和TML（四甲基铅）等铅化合物。车用汽油（生物燃料除外）不包括液体生物燃料或乙醇汽油 - 参见液体生物燃料。本定义有别于石油信息公告中有关车用汽油的说明。","kt","тыс. тонн","千吨"]
[32,"AVGAS","Aviation gasoline","Авиационный бензин","航空汽油","Aviation gasoline is motor spirit prepared especially for aviation piston engines, with an octane number suited to the engine, a freezing point of -60°C, and a distillation range usually within the limits of 30°C and 180°C.","Это моторный бензин подготовлен специально для авиационных поршневых двигателей, с октановым числом подобранным для использования в двигателях этого типа, и имеющий точку замерзания –60°C.Температурный интервал перегонки находится обычно в пределах от 30°C до 180°C.","航空汽油是专门为航空活塞发动机配制的发动机燃料，其辛烷值适用于该发动机，冰点为-60°C，沸程通常为30°C至180°C。","kt","тыс. тонн","千吨"]
[33,"JETGAS","Gasoline type jet fuel","Бензин для реактивных двигателей (нафта для реактивных двигателей или JP4)","汽油型喷气燃料","Gasoline type jet fuel includes all light hydrocarbon oils for use in aviation turbine power units, distilling between 100°C and 250°C. This fuel is obtained by blending kerosene and gasoline or naphtha in such a way that the aromatic content does not exceed 25% in volume, and the vapour pressure is between 13.7 kPa and 20.6 kPa. Additives can be included to improve fuel stability and combustibility.","Эта категория включает все виды лёгкого углеводородного топлива, используемые в авиационных турбинных установках и имеющие температуру перегонки от 100°C до 250°C. Этот бензин производится с помощью смешивания керосина и бензина или нафты в такой пропорции, чтобы содержание ароматических соединений не превышало 25% по объёму, а давление насыщенных паров бензина находилось в пределах от 13.7кПа до 20.6кПa.","汽油型喷气燃料包括用于航空涡轮动力机组的所有轻烃油，沸程为100°C至250°C。该燃料是由柴油和汽油或挥发油调合而成，其芳烃含量不超过25%，蒸汽压在13.7 千帕和20.6千帕之间。该燃料中可加入添加剂，以提高燃料的稳定性和易燃性。","kt","тыс. тонн","千吨"]
[34,"NONBIOJETK","Kerosene type jet fuel excl. biofuels","Керосин для реактивных двигателей","煤油型喷气燃料（生物燃料除外）","Kerosene type jet fuel is a medium distillate used for aviation turbine power units. It has the same distillation characteristics and flash point as kerosene (between 150°C and 300°C but not generally above 250°C). In addition, it has particular specifications (such as freezing point) which are established by the International Air Transport Association (IATA). It includes kerosene blending components. Kerosene type jet fuel excluding biofuels does not include the liquid biofuels blended with jet kerosene.","Это продукт перегонки, используемый в авиационных турбинных установках. Он имеет такие же характеристики перегонки в диапазоне от 150°C до 300°C (обычно не выше 250°C) и точку возгорания, как и керосин. Кроме того, он имеет ряд особых свойств (таких как точка замерзания), утверждённых Международной ассоциацией воздушного транспорта (ИАТА).","煤油型喷气燃料是一种用于航空涡轮动力机组的中间馏分油，具有与柴油相同的沸程特性和闪点（沸程为150°C至300°C，但一般不超过250°C）。此外，煤油型喷气燃料具有国际航空运输协会（IATA）规定的专门规格（例如冰点等）。煤油型喷气燃料包括煤油调合组分。煤油型喷气燃料（生物燃料除外）不包括与航空煤油调合的液体生物燃料。","kt","тыс. тонн","千吨"]
[35,"OTHKERO","Other kerosene","Прочие керосины","其他煤油","Kerosene (other than kerosene used for aircraft transport which is included with aviation fuels) comprises refined petroleum distillate intermediate in volatility between gasoline and gas/diesel oil. It is a medium oil distillate between 150°C and 300°C.","Прочие керосины включают в себя очищенные продукты перегонки нефти и используются в различных секторах, кроме авиационного транспорта. Температура их перегонки заключается в пределах от 150°C до 300°C.","煤油（航空运输所用的属于航空燃料的煤油除外）包括挥发度介于汽油和轻柴油/柴油之间的精制石油中间馏分油。其属于一种中间馏分油，沸程为 150°C至300°C。","kt","тыс. тонн","千吨"]
[36,"NONBIODIES","Gas/diesel oil excluding biofuels","Газойль/ дизельное топливо (дистиллятный мазут)","轻柴油/柴油（生物燃料除外）","Gas/diesel oil includes heavy gas oils. Gas oils are obtained from the lowest fraction from atmospheric distillation of crude oil, while heavy gas oils are obtained by vacuum redistillation of the residual from atmospheric distillation. Gas/diesel oil distils between 180°C and 380°C. Several grades are available depending on uses: diesel oil for diesel compression ignition (cars, trucks, marine, etc.), light heating oil for industrial and commercial uses, and other gas oil including heavy gas oils which distil between 380°C and 540°C and which are used as petrochemical feedstocks. Gas/diesel oil excluding biofuels does not include the liquid biofuels blended with gas/diesel oil – see liquid biofuels. This differs from the presentation of gas/diesel oil in the Oil Information publication.","Газойль/дизельное топливо – это в основном средний дистиллят перегонки нефти при температурах от 180°C до 380°C. В зависимости от использования, существует  несколько его сортов:","轻柴油/柴油（生物燃料除外）包括重轻柴油。轻柴油生成于原油常压蒸馏的最低馏分，而重轻柴油生成于对常压蒸馏的渣油进一步的真空蒸馏。轻柴油/柴油的沸程为180°C至380°C。根据不同的用途，轻柴油/柴油分为若干个级别：用于柴油压缩点火装置（汽车、卡车、船舶）的柴油、用于工业和商业用途的轻取暖用油，以及其他轻柴油（包括沸程为 380°C至540°C，并用作石化原料的重轻柴油）。轻柴油/柴油（生物燃料除外）不包括与轻柴油/柴油进行调合的液体生物燃料 – 参见液体生物燃料。本定义有别于石油信息公告中有关轻柴油/柴油的说明。","kt","тыс. тонн","千吨"]
[37,"RESFUEL","Fuel oil","Мазут","燃料油","Fuel oil defines oils that make up the distillation residue. It comprises all residual fuel oils, including those obtained by blending. Its kinematic viscosity is above 10 cSt at 80°C. The flash point is always above 50°C and the density is always higher than 0.90 kg/l.","Эта категория включает все виды остаточных (тяжёлых) мазутов, в том числе полученных с помощью смешивания. Кинематическая вязкость выше 10 сСт при 80oC. Точка возгорания всегда выше 50oC, а плотность всегда превышает 0.90 кг/л","燃料油是指原油经蒸馏后留下的残余物，涵盖所有残余燃料油，包括通过调合取得的燃料油。在温度为80°C的条件下，燃料油的动力粘度在10 厘斯以上。燃料油的闪点始终保持在50°C以上，且密度始终保持在0.90 千克/升以上。","kt","тыс. тонн","千吨"]
[38,"NAPHTHA","Naphtha","Нафта","石脑油","Naphtha is a feedstock destined either for the petrochemical industry (e.g. ethylene manufacture or aromatics production) or for gasoline production by reforming or isomerisation within the refinery. Naphtha comprises material that distils between 30°C and 210°C. Naphtha imported for blending is shown as an import of naphtha, and then shown in the transfers row as a negative entry for naphtha and a positive entry for the corresponding finished product (e.g. gasoline).","Нафта это сырьё для нефтехимической промышленности (например производства этилена или ароматических углеводородов), а также для производства бензина с помощью реформинга или изомеризации внутри НПЗа. Нафта включает фракции с температурой перегонки в диапазоне от 30°C до 210 °C или в части этого диапазона.\nНафта импортируемая для смешивания должна быть указана как импорт нафты, а затем указана в графе «Межпродуктовая передача» с отрицательным знаком для Нафты и положительным знаком для соответствующего конечного продукта.\n","石脑油作为一种原料，可用于石油化工行业（例如乙烯或芳香剂生产），也可用于炼油厂通过重整或异构化进行生产汽油，石脑油组分的沸程为30°C至210°C。进口用于调合用途的石脑油列示为石脑油进口，并在转换产出量行中，在石脑油项下记为负值，在相应成品（如汽油）项下记为正值。","kt","тыс. тонн","千吨"]
[39,"WHITESP","White spirit & SBP","Уайт-спирит  и бензин для промышленно-технических целей (SBP)","工业用白油和溶剂油","White spirit and SBP are refined distillate intermediates with a distillation in the naphtha/kerosene range.\ni. White Spirit has a flash point above 30°C and a distillation range of 135°C to 200°C.\nii. Industrial Spirit (SBP) comprises light oils distilling between 30°C and 200°C, with a temperature difference between 5% volume and 90% volume distillation points, including losses, of not more than 60°C. In other words, SBP is a light oil of narrower cut than motor spirit. There are seven or eight grades of industrial spirit, depending on the position of the cut in the distillation range defined above.","Уайт-спирит и бензин для промышленно-технических целей являются промежуточными продуктами перегонки с температурами перегонки в диапазоне перегонки нафты и керосина. Они подразделяются на:\ni. Бензин для промышленно-технических целей (SBP): Лёгкие нефтепродукты  с температурой перегонки от 30°  до 200°C.  Различаем 7-8 сортов бензина для промышленно-технических целей, в зависимости от крайних температурных значений по шкале перегонки. Эти сорта определяются согласно разнице температур в пределах от 5% до 90% объёма дистилляционных пунктов (которая не больше, чем 60°C).\nii. Уайт-спирит: Бензин-растворитель с точкой возгорания свыше 30oC. Диапазон температур перегонки уайт-спирита заключается в пределах от 135 °C до 200°C.\n","工业用白油和溶剂油是沸程在石脑油/煤油区间内的精制中间馏分油。工业用白油的闪点在30°C以上，沸程为135°C至200°C。工业用溶剂油（SBP）包括沸程为30°C至200°C的轻质油，温度差异为5%-90%体积蒸馏点（包括损失，不高于60ºC）之间。换言之，工业用溶剂油是一种沸程比车用汽油更窄的轻质油。根据上述确定的沸程的不同切割位置，工业用溶剂油可分为七至八个级别。","kt","тыс. тонн","千吨"]
[40,"LUBRIC","Lubricants","Смазочные материалы","润滑油","Lubricants are hydrocarbons produced from distillate or residue; they are mainly used to reduce friction between bearing surfaces. This category includes all finished grades of lubricating oil, from spindle oil to cylinder oil, and those used in greases, including motor oils and all grades of lubricating oil base stocks.","Смазочные материалы это углеводороды, получаемые из побочных продуктов перегонки нефти. Они в основном используются для уменьшения трения между соприкасающимися поверхностями. Эта категория включает все готовые сорта смазочных масел от веретённого до цилиндрового масла, а также масла, используемые в консистентных смазках, включая моторные масла и все сорта основных компонентов смазочных масел.","润滑油是利用蒸馏物或残余物生成的碳氢化合物，主要用于减少支撑面的摩擦。该类别包括锭子油、汽缸油等所有成品级别的润滑油，用作润滑油脂的所有润滑油（包括机油），以及所有级别的润滑油基础油。","kt","тыс. тонн","千吨"]
[41,"BITUMEN","Bitumen","Битум","沥青","Bitumen is a solid, semi-solid or viscous hydrocarbon with a colloidal structure that is brown to black in colour. It is obtained by vacuum distillation of oil residues from atmospheric distillation of crude oil. Bitumen is often referred to as asphalt and is primarily used for surfacing of roads and for roofing material. This category includes fluidised and cut back bitumen.","Битум является твёрдым, полутвёрдым или вязким углеводородным веществом, имеющим коллоидную структуру, тёмно-коричневого или чёрного цвета, образующимся как остаток при перегонке сырой нефти путём вакуумной перегонки нефтяных остатков при атмосферном давлении. Битум часто называют асфальтом и используют, в основном, в строительстве дорог и в качестве кровельного материала. Эта категория включает псевдоожиженный и жидкий битум.","沥青是一种呈褐色至黑色胶状结构的固体、半固体或粘性碳氢化合物。它是利用原油常压蒸馏后产生的渣油，进行进一步真空蒸馏后取得的。 沥青通常被称作柏油，主要用作路面和屋顶铺设材料。沥青包括流化沥青和稀释沥青。","kt","тыс. тонн","千吨"]
[42,"PARWAX","Paraffin waxes","Твёрдые парафины","固体石蜡","Paraffin waxes are saturated aliphatic hydrocarbons. These waxes are residues extracted when dewaxing lubricant oils, and they have a crystalline structure which is more or less fine according to the grade. Their main characteristics are that they are colourless, odourless and translucent, with a melting point above 45°C.","Твёрдые парафины это насыщённые алифатические углеводороды. Парафины являются остатками, извлечёнными при депарафинизации смазочных материалов. Они имеют кристаллическую структуру, более или менее тонкую в зависимости от сорта. Парафины представляют собой полупрозрачные вещества без цвета и запаха, с температурой плавления выше 45oC.","固体石蜡为饱和脂肪烃，是在润滑油脱蜡过程中提炼出的残余物，呈晶体结构，根据不同的等级，晶体结构的粗细程度也不同。固体石蜡的主要特征是无色、无味、半透明，熔点在45°C以上。","kt","тыс. тонн","千吨"]
[43,"PETCOKE","Petroleum coke","Нефтяной кокс","石油焦","Petroleum coke is defined as a black solid by-product, obtained mainly by cracking and carbonising of petroleum derived feedstocks, vacuum bottoms, tar and pitches in processes such as delayed coking or fluid coking. It consists mainly of carbon (90 to 95%) and has a low ash content. It is used as a feedstock in coke ovens for the steel industry, for heating purposes, for electrode manufacture and for production of chemicals. The two most important qualities are \"green coke\" and \"calcined coke\". This category also includes \"catalyst coke\" deposited on the catalyst during refining processes: this coke is not recoverable and is usually burned as refinery fuel.","Нефтяной кокс это чёрный, твёрдый побочный продукт, полученный главным образом при крекинге и карбонизации производных нефтянного сырья, гудрона, смолы и пеков в таких процессах, как замедлённое коксование и коксование в псевдоожиженном слое. Этот кокс состоит в основном из угля (от 90% до 95%) и имеет низкую зольность. Нефтяной кокс используется как сырьё в коксующих печах для сталелитейной промышленности, для обогревания, при производстве электродов и химических веществ. Двумя наиболее важными сортами являются неготовый кокс (недопал) и кальцинированный кокс. Эта категория включает также «каталический кокс», отлагающийся на катализаторах при перегонке нефтепродуктов; этот кокс не возмещается и обычно сжигается в качестве топлива при перегонке нефти.","石油焦是指在延迟焦化或液体焦化等过程中主要通过对石油衍生原料、真空残渣油、焦油和沥青进行裂解和碳化而生成的黑色固体副产品。石油焦的主要成分为碳（含量为90至95%），此外还含有少量的灰份。石油焦在炼钢业、采暖、电极制造和化工品生产过程中用作焦炉原料。石油焦两个最重要的特质是“生焦”和“煅烧石油焦”。该类别还包括炼油过程中放置在催化剂上的“催化焦”，“催化焦”不可回收，通常用作炼厂燃料进行燃烧。","kt","тыс. тонн","千吨"]
[44,"ONONSPEC","Non-specified oil products","Прочие нефтепродукты","未列明的石油产品","Other oil products not classified above (e.g. tar, sulphur and grease) are included here. This category also includes aromatics (e.g. BTX or benzene, toluene and xylene) and olefins (e.g. propylene) produced within refineries.","Все прочие продукты, неупомянутые выше, например: смола и сера. Эта категория включает также ароматические углеводороды (например: БТК или бензол, толуол и ксилол) и олефины (например: пропилен), производимые на НПЗах.","本定义涵盖了未被纳入上述类别的其他石油产品（例如：焦油、硫磺和油脂）。该类别还包括在炼油厂内生产的芳香烃产品（例如BTX，又称苯-甲苯-二甲苯混合物）和烯烃产品（例如：丙烯）。","kt","тыс. тонн","千吨"]
[45,null,"Natural gas","Природный газ","天然气"]
[46,"NATGAS","Natural gas","Природный газ","天然气","Natural gas comprises gases, occurring in underground deposits, whether liquefied or gaseous, consisting mainly of methane.  It includes both \"non-associated\" gas originating from fields producing hydrocarbons only in gaseous form, and \"associated\" gas produced in association with crude oil as well as methane recovered from coal mines (colliery gas) or from coal seams (coal seam gas). Production represents dry marketable production within national boundaries, including offshore production and is measured after purification and extraction of NGL and sulphur. In other words, quantities of gas that are re-injected, vented or flared are excluded. It includes gas consumed by gas processing plants and gas transported by pipeline. \n\nBiogases produced by anaerobic digestion of biomass (e.g. municipal or sewage gas) should be reported in the Renewables annual questionnaire, while gas works gas production should be reported in the Coal annual questionnaire. Transfers of such production to the natural gas network will be reported as “Receipts from other sources”.","В состав природного газа входят газы, которые встречаются в подземных месторождениях в сжиженном или газообразном виде, состоящие в основном из метана. Природный газ состоит как из «непопутного» газа, который добывается из месторождений, дающих углеводороды только в газообразном виде, так и «попутного» газа, добыча которого связана с сырой нефтью. Природный газ – это также метан из угольных шахт (шахтный газ) или угольных пластов (газ угольных пластов). Биогазы, полученные в процессе анаэробного сбраживания биомассы (например, газ из городских отходов или из осадка сточных вод), следует указывать в «Годовом вопроснике по возобновляемым источникам энергии», в то время как производство заводского газа – в «Годовом вопроснике по углю». Поставки такой продукции в сеть природного газа следует указать как «Поступления из других источников».","天然气包括地下矿床中生成的、以甲烷作为主要成分的液态或气态气体。它包括从仅生产气态烃的油气田获取的“非伴生”气体，原油开采过程中产生的“伴生”气体，以及从煤矿中回收的甲烷（煤矿瓦斯）或从煤层中回收的甲烷（煤层瓦斯）。天然气的产量为国内（包括境外生产）可销售的干气产量，在提纯和提炼天然气凝析液及硫磺后进行计算。该项包括气体加工厂消费的天然气和通过管道运输的天然气，但不包括重新注入、放空或作为火炬气燃烧的天然气数量 。注：自2011年版本起，煤气厂煤气列入煤项目。2011年之前，煤气厂煤气列入天然气项目。","TJ-gross","ТДж - ВТС","太焦耳 - 毛值"]
[47,null,"Biofuels and waste","Возобновляемые источники энергии и отходы","生物燃料和废弃物"]
[48,"INDWASTE","Industrial waste","Промышленные отходы (невозобновляемые)","工业废弃物","Industrial waste of non-renewable origin consists of solid and liquid products (e.g. tyres) combusted directly, usually in specialised plants, to produce heat and/or power. The quantity of fuel used should be reported on a net calorific value basis. Renewable industrial waste should be reported in the Solid biofuels, Biogases and/or Liquid biofuels categories.","Укажите отходы промышленного невозобновляемого происхождения (твердые или жидкие), сжигаемые непосредственно для производства электричества и/или тепла. Объем использованного топлива следует указывать на основе низшей теплотворной способности. Возобновляемые промышленные отходы должны быть указаны в категориях «Твердая биомасса», «Биогазы» и/или «Жидкое биотопливо».","不可再生的工业废弃物包括为生产热力和/或电力而通常在专业工厂内直接燃烧的固体和液体产品（例如，轮胎）。可再生的工业废弃物未包括在内，而列入固体生物燃料、生物质气或液体生物燃料。","TJ-net","ТДж - HТС","太焦耳 - 净值"]
[49,"MUNWASTER","Municipal waste (renewable)","Коммунальные отходы (Возобновляемые)","城市废弃物（可再生）  ","Municipal waste consists of that portion of waste produced by households, industry, hospitals and the tertiary sector which is biological material collected by local authorities and incinerated at specific installations. The quantity of fuel used should be reported on a net calorific value basis.","Укажите ту часть отходов, образовавшихся в домашних хозяйствах, промышленности, медицинских учреждениях и третичном секторе, которая является биологическим материалом, собранным местными муниципальными органами и сожженным в специальных установках. Объем топлива следует указать на основе низшей теплотворной способности.","城市废弃物由为生产热力和/或电力而直接燃料的产品组成，包括及家庭、工厂、医院和第三产业生成的，由当地主管部门收集并在特定设施内焚烧的废弃物。城市废弃物分为可再生和不可再生两种。","TJ-net","ТДж - HТС","太焦耳 - 净值"]
[50,"MUNWASTEN","Municipal waste (non-renewable)","Коммунальные отходы (Невозобновляемые)","城市废弃物（不可再生）   ","Municipal waste consists of that portion of waste produced by households, industry, hospitals and the tertiary sector which is non-biological material collected by local authorities and incinerated at specific installations. The quantity of fuel used should be reported on a net calorific value basis.","Укажите ту часть отходов, образовавшихся в домашних хозяйствах, промышленности, медицинских учреждениях и третичном секторе, которая является небиологическим материалом, собранным местными муниципальными властями и сожженным в специальных установках. Объем топлива следует указать на основе низшей теплотворной способности.","城市废弃物由为生产热力和/或电力而直接燃料的产品组成，包括及家庭、工厂、医院和第三产业生成的，由当地主管部门收集并在特定设施内焚烧的废弃物。城市废弃物分为可再生和不可再生两种。","TJ-net","ТДж - HТС","太焦耳 - 净值"]
[51,"PRIMSBIO","Primary solid biofuels","Твердые виды биотоплива","初级固体生物燃料","Primary solid biofuels is defined as any plant matter used directly as fuel or converted into other forms before combustion. This covers a multitude of woody materials generated by industrial process or provided directly by forestry and agriculture (firewood, wood chips,  bark, sawdust, shavings, chips, sulphite lyes also known as black liquor, animal materials/wastes and other solid biofuels). Note that for biofuels, only the amounts of biomass specifically used for energy purposes (a small part of the total) are included in the energy statistics. Therefore, the non-energy use of biomass is not taken into consideration and the quantities are null by definition.","Включает органическое неископаемое сырье биологического происхождения, которое можно использовать в виде топлива для производства тепла или электричества.","初级固体生物燃料是指直接用作燃料或在转换成其他形式燃料后进行燃烧的任何植物物质。它包括通过工业加工生成的或林业和农业直接提供的大量木质材料（木柴、木片、树皮、锯屑、木屑、碎木片、亚硫酸盐碱液（也称为黑液）、动物材料/粪便和其他固体生物燃料）。请注意，只有明确用于能源用途的生物质数量（仅占总量的一小部分）才纳入生物燃料的能源统计。因此，用于非能源使用的生物质未予以考虑，而且用于非能源使用的生物质数量按照定义为零。","TJ-net","ТДж - HТС","太焦耳 - 净值"]
[52,"BIOGASES","Biogases","Биогазы","生物质气","Biogases are gases arising from the anaerobic fermentation of biomass and the gasification of solid biomass (including biomass in wastes). The biogases from anaerobic fermentation are composed principally of methane and carbon dioxide and comprise landfill gas, sewage sludge gas and other biogases from anaerobic fermentation. Biogases can also be produced from thermal processes (by gasification or pyrolysis of biomass) and are mixtures containing hydrogen and carbon monoxide (usually known as syngas) along with other components. These gases may be further processed to modify their composition and can be further processed to produce substitute natural gas. Biogases are used mainly as a fuel but can be used as a chemical feedstock.","Газы, состоящие в основном из метана и двуокиси углерода, производимые путем анаэробной ферментации биомассы или термических процессов.","生物质气是生物质厌氧发酵和固体生物质气化（包括废弃物中的生物质）生成的气体。厌氧发酵生成的生物质气主要由甲烷和二氧化碳构成，包括填埋气、污水污泥气和厌氧发酵产生的其他生物质气。生物质气还可通过热处理（生物质气化或热解）生成，是氢气和一氧化碳以及其他成分的混合物（又称作合成气）。这些气体可经过进一步加工，改变其成分；也可进一步加工，生产天然气替代品。生物质气主要用作燃料，但也可用作化学原料。","TJ-net","ТДж - HТС","太焦耳 - 净值"]
[53,"BIOGASOL","Biogasoline","Биобензин","生物汽油","Biogasoline includes bioethanol (ethanol produced from biomass and/or the biodegradable fraction of waste), biomethanol (methanol produced from biomass and/or the biodegradable fraction of waste), bioETBE (ethyl-tertio-butyl-ether produced on the basis of bioethanol; the percentage by volume of bioETBE that is calculated as biofuel is 47%) and bioMTBE (methyl-tertio-butyl-ether produced on the basis of biomethanol: the percentage by volume of bioMTBE that is calculated as biofuel is 36%). Biogasoline includes the amounts that are blended into the gasoline - it does not include the total volume of gasoline into which the biogasoline is blended.","эта категория включает биоэтанол (этанол полученный из биомассы и/или  биоразлагаемой фракции отходов), биометанол (метанол полученный из биомассы и/или биоразлагаемой фракции отходов), биоЭТБЭ (этил-трет-бутиловый эфир, произведенный на основе биоэтанола: с процентным соотношением объема биоЭТБЭ, рассчитанного как биотопливо, равным 47%) и биоМТБЭ (метил-трет-бутиловый эфир, произведенный на основе биометанола: с процентным соотношением объема биоМТБЭ, рассчитанного как биотопливо, равным 36%).","生物汽油包括生物乙醇（利用生物质和/或废物中可降解的部分生成的乙醇）、生物甲醇（利用生物质和/或废物中可降解的部分生成的甲醇）、生物ETBE（基于生物乙醇生成的乙基叔丁基醚；作为生物燃料计算的生物ETBE占比为37%）和生物MTBE（基于生物甲醇生成的甲基叔丁基醚；作为生物燃料计算的生物MTBE的占比为22%）。生物汽油包括掺入汽油中的生物汽油数量，但不包括掺有生物汽油的汽油总量。","kt","тыс. тонн","千吨"]
[54,"BIOJETKERO","Bio jet kerosene","Биокeросин для реактивных двигателей","生物航空煤油","Liquid biofuels derived from biomass and blended with or replacing jet kerosene.","жидкое биотопливо, извлеченные из биомассы и смешанное с керосином для реактивных двигателей, либо заменяющее его.","由生物质生成的液体生物燃料，用作调合或替代航空煤油。","kt","тыс. тонн","千吨"]
[55,"BIODIESEL","Biodiesels","Биодизель","生物柴油","Biodiesels includes biodiesel (a methyl-ester produced from vegetable or animal oil, of diesel quality), biodimethylether (dimethylether produced from biomass), Fischer-Tropsch (Fischer-Tropsch produced from biomass), cold pressed bio-oil (oil produced from oil seed through mechanical processing only) and all other liquid biofuels which are added to, blended with or used straight as transport diesel or in electricity and heat generation. Biodiesels includes the amounts that are blended into the diesel - it does not include the total volume of diesel into which the biodiesel is blended.","эта категория включает биодизель (метиловый эфир, произведенный из растительного или животного масла, дизельного качества), биодиметиловый эфир (диметиловый эфир, произведенный из биомассы), Процесс Фишера-Тропша (его использование для биомассы), биомасло холодного отжима (масло, произведенное из семян путем только механической обработки).","生物柴油包括生物柴油（利用植物或动物油生成的、具有柴油品质的甲酯），生物二甲醚（利用生物质生成的二甲醚），费托（利用生物质生成的费托），冷榨生物油（仅包括使用油籽通过机械加工生成的油），以及掺入运输用柴油，或与之进行调配，或直接用作运输柴油或用于发电或发热的所有其他液体生物油。生物柴油包括掺入柴油中的生物柴油数量，但不包括掺有生物柴油的柴油总量。","kt","тыс. тонн","千吨"]
[56,"OBIOLIQ","Other liquid biofuels","Прочие виды жидкого биотоплива","其他液体生物燃料","Other liquid biofuels includes liquid biofuels, used directly as fuel, not included in the definitions of biogasoline, biodiesel or bio jet kerosene and liquid biofuels consumption that cannot be reported under the right category because of missing information.","эта категория включает жидкие виды биотоплива, используемые непосредственно в качестве топлива, которое не попадает под определение биобензина, биодизеля или биокеросина для реактивных двигателей, и потребление жидкого биотоплива, которое невозможно указать в правильной категории из-за нехватки информации.","其他液体生物燃料包括生物汽油或生物柴油项下未报送的直接用作燃料的的液体生物燃料。","kt","тыс. тонн","千吨"]
[57,"RENEWNS","Non-specified primary biofuels/ waste","Неуказанные конкретно виды первичного биотоплива / отходов","未列明的初级生物燃料/废弃物","This item is used when the detailed breakdown for primary biofuels and waste is not available.","Этот пункт используется в случае отсутствия подробной разбивки для видов первичного биотоплива и отходов.","该项在有关初级生物燃料和废弃物的具体明细信息无法获得的情况下使用。","TJ-net","ТДж - HТС","太焦耳 - 净值"]
[58,"CHARCOAL","Charcoal","Древесный уголь","木碳","It covers the solid residue of the destructive distillation and pyrolysis of wood and other vegetal material.","охватывает твердые отходы сухой перегонки и пиролиза древесины и прочих растительных материалов.","木炭包括木头和其他植物材料经干馏和高温分解后的固体残留物。","kt","тыс. тонн","千吨"]
[59,null,"Electricity and heat","Электричество и тепло","电力和热力"]
[60,"NUCLEAR","Nuclear","Атомная энергия","核能","Energy released by nuclear fission or nuclear fusion.","Энергия, выработанная в результате ядерного распада или ядерного синтеза.","通过核裂变和核聚变释放的能量。","GWh","ГВт.ч","吉瓦时"]
[61,"HYDRO","Hydro","Гидроэнергия","水能  ","Potential and kinetic energy of water converted into electricity in hydroelectric plants. Pumped storage from mixed and pure pumped storage plants should be included.","Потенциальная и кинетическая энергия воды, преобразованная в электричество на гидроэлектростанциях. Гидроаккумулирующие электростанции смешанного и чистого типа следует включить в эту подгруппу.","水能是指在水电站转换成电力的水体潜能和动能。","GWh","ГВт.ч","吉瓦时"]
[62,"GEOTHERM","Geothermal","Геотермальная энергия","地热能","Energy available as heat emitted from within the earth’s crust, usually in the form of hot water or steam. It is exploited at suitable sites:\n-for electricity generation using dry steam or high enthalpy brine after flashing\n-directly as heat for district heating, agriculture, etc.\n","Энергия, доступная в виде тепла, выделенного из земной коры, как правило, в виде горячей воды или пара. Эта энергия эксплуатируется в подходящих для этого местах: \ni. для выработки электричества путем использования сухого пара или высокоэнтальпийного рассола после вскипания;\nii. непосредственно как источник тепла для централизованного теплоснабжения, в сельском хозяйстве и т.д. \n","地热能是从地壳中释放出的热力，通常形式为热水或蒸汽。地热能在不同的场所具有不同的用途：\n• 使用干蒸汽或高焓盐水闪蒸发电\n• 直接用作集中供热、农业等。","TJ","ТДж","太焦耳"]
[63,"SOLARPV","Solar photovoltaic","Фотоэлементы","太阳能光伏能","Converts sunlight into electricity by the use of solar cells usually made of semi-conducting material which exposed to light will generate electricity.","преобразуют солнечный свет в электричество с помощью солнечных панелей, изготовленных обычно из полупроводникового материала, который при воздействии света вырабатывает электричество.","光伏电池产生的电力。","GWh","ГВт.ч","吉瓦时"]
[64,"SOLARTH","Solar thermal","Солнечная тепловая станция","太阳能热能","Solar thermal can consist of \n-solar thermal-electric plants;\n-equipment for the production of heat for sale (hot water or steam)\n\nPassive solar energy for the direct heating, cooling and lighting of dwellings or other buildings is not included.","может состоять из: \ni. солнечных теплоэлектростанций; \nii. оборудования для производства тепла на продажу (горячей воды или пара). \n","太阳能是指通过以下方式用于生产热水和发电的太阳辐射：\n• 采用以热虹吸类型为主的平板式太阳能集热器，提供家用热水或对游泳池进行季节性加热\n• 太阳能热电厂\n该项不包括用于住宅或其他楼宇直接供热、制冷和照明的被动式太阳能。","TJ","ТДж","太焦耳"]
[65,"TIDE","Tide/ wave/ ocean","Энергия приливов /волн /океанских течений","潮汐/波浪/海洋能","Tide, wave and ocean represents the mechanical energy derived from tidal movement, wave motion or ocean current and exploited for electricity generation.","Механическая энергия, получаемая от приливов, движения волн или океанических течений, используемая для выработки электричества.","潮汐、波浪和海洋能是指潮汐运动、波浪运动或海洋流产生的用于发电的能源。","GWh","ГВт.ч","吉瓦时"]
[66,"WIND","Wind","Ветровая энергия","风能","Wind energy represents the kinetic energy of wind exploited for electricity generation in wind turbines.","Кинетическая энергия ветра, используемая для выработки электричества в ветровых турбинах.","风能是指通过风力涡轮机用于发电的风动能。","GWh","ГВт.ч","吉瓦时"]
[67,"HEATPUMP","Heat pumps","Теплонасосы","热泵","Heat pumps should include the inputs and outputs to heat pumps corresponding to the amount of heat that is sold to third parties.","Укажите производство тепла теплонасосами только в тех случаях, когда тепло было продано третьим лицам (т.е. когда производство осуществляется в Секторе преобразования).","热泵应包括与出售给第三方的热量相对应的热泵输入和输出热量。","TJ","ТДж","太焦耳"]
[68,"BOILER","Electric boilers","Электрические котлы","电热锅炉","Electric boilers should include the inputs and outputs to electric boilers corresponding to the amount of heat that is sold to third parties.","Укажите производство тепла электрическими котлами, когда тепло было продано третьим лицам. Укажите электричество, потребленное такими котлами, в Таблице 3.","电热锅炉应包括与出售给第三方的热量相对应的电热锅炉输入和输出热量。","TJ","ТДж","太焦耳"]
[69,"CHEMHEAT","Heat from chemical sources","Тепло, выделяемое химическими процессами","化学热力","Report only the heat originating from processes without input energy, such as a chemical reaction (e.g. the treatment of zinc oxide ore with hydrochloric acid). Note that waste heat originating from energy driven processes is not considered as a primary energy source. Therefore, it should be reported as heat produced from the corresponding fuel.","Укажите только тепло, выделяемое химическими процессами без расхода энергии, как например химическая реакция (отработка руды окиси цинка хлористоводородной кислотой). Следует учесть, что отходящее тепло энергетических процессов, не рассматривается как первичный источник энергии.  Следовательно, оно должно быть учтено как тепло, выделяемое соответствующим топливом.","化学热力是指通过化学反应（如氧化锌矿石与盐酸的反应）等未输入能源的过程产生的热力。请注意，能源驱动过程中产生的废热不被视为初级能源，而列入相应燃料产生的热力。","TJ","ТДж","太焦耳"]
[70,"OTHER","Other sources","Прочие источники","其他能源","Report electricity production from sources other than those listed, e.g. from fuel cells.","Укажите производство электричества из источников, не упомянутых выше, например из топливных элементов. Опишите, пожалуйста, детально эти источники на «Странице для заметок».","其他能源包括未被列入其他项目的产量，例如燃料电池。","GWh","ГВт.ч","吉瓦时"]
[71,"ELECTR","Electricity","Электричество","电力","Gross electricity production is measured at the terminals of all alternator sets in a station; it therefore includes the energy taken by station auxiliaries and losses in transformers that are considered integral parts of the station. The difference between gross and net production is generally estimated as 7% for conventional thermal stations, 1% for hydro stations, and 6% for nuclear, geothermal and solar stations. Production in hydro stations includes production from pumped storage plants.","Валовое производство электричества – это сумма электрической энергии, произведенной всеми видами соответствующих генерирующих установок (включая гидроаккумулирующие), измеряемая на выходных клеммах основных генераторов.","电力毛产量以发电站所有交流发电机组终端计量的数据为准；因此，电力毛产量包括电站辅助设备使用的能源，以及视为发电站必要组成部分的变压器损耗的能源。电力毛产量和电力净产量之间的差异，常规热电站一般为7%，水电站为1%，核电站、地热电站和太阳能电站为6%。水电站的电力产量包括抽水蓄能电厂的电力产量。","GWh","ГВт.ч","吉瓦时"]
[72,"HEAT","Heat","Тепло","热力","Heat production includes all heat produced by main activity producer CHP and heat plants, as well as heat sold by autoproducer CHP and heat plants to third parties. Fuels used to produce quantities of heat for sale are included in the transformation processes under the rows CHP plants and Heat plants. The use of fuels for heat which is not sold is included under the sectors in which the fuel use occurs.","Валовое производство тепла – это общий объем тепла, произведенного установками, включающий тепло, использованное вспомогательным оборудованием установок, которое использует горячую жидкость (отопление помещения, нагрев жидкого топлива и т.д.); потери при обмене теплом между установкой и сетью, а также тепло химических процессов, использованное в виде первичной энергии.","热力产量包括公用电联产厂和公用热力厂生产的全部热力，以及自用热电联产厂和自用热力厂向第三方出售的热力。生产进行出售的热力所使用的燃料列入热电联产厂和热力厂行下的转换过程项目。生产不进行出售的热力所使用的燃料，列入使用该燃料的相关部门项下。","TJ","ТДж","太焦耳"]
[73,"HEATNS","Heat output from non-specified combustible fuels","Производство тепла из неуказанных конкретно видов горючего топлива","未列明的易燃燃料产生的热力","This item is only used if the detailed breakdown is not available.","Этот пункт используется только в случае отсутствия подробной разбивки.","该项仅在具体明细信息无法获得的情况下使用。","TJ","ТДж","太焦耳"]
[74]
[75]

{"sheet":"Definitions_FlowLang","index":5,"n_rows":112,"n_cols":9,"rows_kept":112,"cut":false,"hidden":true,"merged":[]}
[null,null,"Flow Language",null,null,"Definition"]
[null,null,"English","Pусский","中文",{"$f":"C2","v":"English"},{"$f":"D2","v":"Pусский"},{"$f":"E2","v":"中文"}]
[1,null,"FLOW DEFINITIONS","ОПРЕДЕЛЕНИЯ ПОТОКА","流量定义"," ",null,null," "]
[2,null,"Supply","Поставка","供应"," ",null,null," "]
[3,"INDPROD","Production","Производство","产量","In the balances, production refers to the quantities of fuels extracted or produced, calculated after any operation for removal of inert matter or impurities (e.g. sulphur from natural gas).\nIn the energy statistics, production of secondary products is also included. Production of secondary oil products represents the gross refinery output.  Secondary coal products and gases represent the output from coke ovens, gas works, blast furnaces and other transformation processes.","[missing_Russian]","在平衡表中，产量系指提炼、生产或计算的经去除非活性物质或杂质（例如从天然气中去除硫）后的燃料数量。在能源统计中，次级产品的产量也包含在内。石油次级产品的产量为炼油毛产量。煤次级产品及煤气的产量为焦炉、煤气厂、高炉和其他转换过程的产量。"," "]
[4,null,"From other sources","Из других источников","其他能源","All inputs of origin other than primary energy sources explicitly recognised in the tables are listed under inputs from other sources, e.g. under crude oil:  inputs of origin other than crude oil and NGL such as hydrogen, synthetic crude oil (including mineral oil extracted from bituminous minerals such as shales, bituminous sand, etc.); under additives:  benzol, alcohol and methanol produced from natural gas; under refinery feedstocks:  backflows from the petrochemical industry used as refinery feedstocks;  under hard coal:  recovered slurries, middlings, recuperated coal dust and other low-grade coal products that cannot be classified according to type of coal from which they are obtained; under gas works gas:  natural gas, refinery gas, and LPG, that are treated or mixed in gas works (i.e. gas works gas produced from sources other than coal).","[missing_Russian]","表格中明确认可的初级能源以外的所有原始能源输入量均列入其他能源输入量项下，例如：在原油项下：原油和天然气凝析液以外的氢、合成原油（包括从页岩、沥青砂等沥青矿物中开采的矿物油）等原始能源输入量；在添加剂项下：由天然气生成的苯、乙醇、甲醇；在炼油厂原料项下：从石化行业回流的用作炼油厂原料的产品；在硬煤项下：回收的泥煤浆、中煤、回收的煤粉尘，以及无法根据所属煤的种类进行归类的其他低级煤产品；在煤气厂煤气项下：在煤气厂进行处理或混合的天然气、炼厂气和液化石油气（即，煤以外的其他能源生成的煤气厂煤气）。"," "]
[5,"OSCOAL","From other sources - coal                    ","Из других источников – уголь                    ","[missing_Chinese]",null,null,null," "]
[6,"OSNATGAS","From other sources - natural gas             ","Из других источников – природный газ             ","[missing_Chinese]",null,null,null," "]
[7,"OSOIL","From other sources - oil products            ","Из других источников – нефтепродукты            ","[missing_Chinese]",null,null,null," "]
[8,"OSRENEW","From other sources - renewables              ","Из других источников – ВИЭ              ","[missing_Chinese]",null,null,null," "]
[9,"OSNONSPEC","From other sources - non-specified           ","Из других источников – не указано           ","[missing_Chinese]",null,null,null," "]
[10,"IMPORTS","Imports","Импорт","进口量","Comprise amounts having crossed the national territorial boundaries of the country whether or not customs clearance has taken place. For coal: Imports comprise the amount of fuels obtained from other countries, whether or not there is an economic or customs union between the relevant countries. Coal in transit should not be included. For oil and natural gas: Quantities of crude oil and oil products imported under processing agreements (i.e. refining on account) are included. Quantities of oil in transit are excluded. Crude oil, NGL and natural gas are reported as coming from the country of origin; refinery feedstocks and oil products are reported as coming from the country of last consignment.  For electricity: Amounts are considered as imported when they have crossed the national territorial boundaries of the country. If electricity is “wheeled” or transited through a country, the amount is shown as both an import and an export.","[missing_Russian]","包括已跨过相关国家国境的产品数量，无论是否完成清关。对于煤而言：进口量包括从其他国家取得的燃料数量，无论相关国家之间是否有经济或关税联盟关系；运输途中的煤不包括在内。对于石油和天然气而言：进口量包括根据加工协议（即先精炼后付款）进口的原油和石油产品；运输途中的石油数量不包括在内。原油、天然气凝析液和天然气应按照其原产国进行报告；炼油厂原料和石油产品应按照最后装运国进行报告。对于电力而言：已跨过相关国家国境的电量视为进口量。“横穿”或途径某一国家边境的电量同时列示为进口量和出口量。"," "]
[11,"EXPORTS","Exports","Экспорт","出口量","Comprise amounts having crossed the national territorial boundaries of the country whether or not customs clearance has taken place.\n● For coal: Exports comprise the amount of fuels supplied to other countries, whether or not there is an economic or customs union between the relevant countries. Coal in transit should not be included.\n● For oil and natural gas: Quantities of crude oil and oil products exported under processing agreements (i.e. refining on account) are included. Re-exports of oil imported for processing within bonded areas are shown as an export of product from the processing country to the final destination.\n● For electricity: Amounts are considered as exported when they have crossed the national territorial boundaries of the country. If electricity is “wheeled” or transited through a country, the amount is shown as both an import and an export.","[missing_Russian]","包括已跨过相关国家国境的产品数量，无论是否完成清关。对于煤而言：出口量包括向其他国家供应的燃料数量，无论相关国家之间是否有经济或关税联盟关系；运输途中的煤不应包括在内。对于石油和天然气而言：出口量包括根据加工协议（即先精炼后付款）出口的原油和石油产品；保税区进口加工的石油的再出口量，列示为从加工国向最终目的国的产品出口量。对于电力而言：已跨过相关国家国境的电量视为出口量。“横穿”或途径某一国家边境的电量同时列示为进口量和出口量。"," "]
[12,"MARBUNK","International marine bunkers","международный бункер водных перевозок","国际海运船舶燃料","Report the quantities of oil delivered to ships of all flags that are engaged in international navigation. The international navigation may take place at sea, on inland lakes and waterways, and in coastal waters. Exclude consumption by ships engaged in domestic navigation (see domestic navigation). The domestic/international split should be determined on the basis of port of departure and port of arrival, and not by the flag or nationality of the ship. Exclude consumption by fishing vessels (see Fishing  – Other sectors) and consumption by military forces (see  Not elsewhere specified – Other sectors).","Укажите объём нефти поставленный на судна всех флагов участвующие в международном судоходстве. Международное судоходство  может иметь место  в море, на озёрах и речных путях, а также на прибрежных  водах. Исключите потребление судов, которые участвуют в судоходстве внутри страны (см. местное судоходство). Разделение международное\\местное судоходство производится ссылаясь на информацию о порту отправления и порту прибытия, а не на флаг под которым плавает данное судно или его страну происхождения. Исключите потребление рыболовными суднами (см. рыболовство – прочие секторы) и потребление военно-морскими силами (см. неуказанные в другом месте – прочие секторы).","包括向从事国际航运的悬挂任何国旗的船舶供应的燃料数量。国际航运可包括海洋、内陆湖泊和水道及沿海运输。从事国内航运的船舶所消费的燃料量不包括在内。国内/国际航运的区分依据是发运港和目的港，而非船舶悬挂的国旗或船籍。渔船和军队消费的燃料量也不包括在内。参见国内航运、渔业和其他未列明的产业。"," "]
[13,"AVBUNK","International aviation bunkers","международный бункер авиационных перевозок","国际航空燃料","Includes deliveries of aviation fuels to aircraft for international aviation. Fuels used by airlines for their road vehicles are excluded. The domestic/international split should be determined on the basis of departure and landing locations and not by the nationality of the airline. For many countries this incorrectly excludes fuel used by domestically owned carriers for their international departures;","Укажите объёмы авиационных топлив поставленных для воздушных судов в рамках международной авиационной бункеровки (‘известной также как Международная Авиационная Бункеровка’). Разделение международная\\местная авиация должно производиться ссылаясь на информацию о месте отправки и посадки, а не на основе страны происхождения авиакомпании. Исключите топлива использованные авиакомпаниями для дорожного транспорта (см. Прочие, неуказанные в другом месте  – Транспортный сектор) и военное использование авиационных топлив (см. Прочие, неуказанные в другом месте  - Прочие секторы).","包括向进行国际航空飞行的飞机供应的航空燃料数量，但不包括航空公司陆地车辆使用的燃料。国内/国际航空飞行的区分依据是出发地和抵达地，而非航空公司的国籍。许多国家未将国内航空公司在国际飞行中使用的燃料纳入在内，这一做法是不正确的。"," "]
[14,"STOCKCHA","Stock changes","Изменение остатков","库存变化","Reflects the difference between opening stock levels on the first day of the year and closing levels on the last day of the year of stocks on national territory held by producers, importers, energy transformation industries and large consumers. A stock build is shown as a negative number, and a stock draw as a positive number.","Изменения запасов должны отражать разницу между уровнем запасов в начале периода и в конце периода для запасов находящихся на национальной территории. Накопление запасов  имеет отрицательный знак, а расходование запасов - положительный. (Следует заметить, что  изменение запасов, которое указывается в ежемесячном вопроснике по нефти (ЕВН), является разницей между конечным и начальным уровнем запасов.)","对于生厂商、进口商、能源转换行业和大型消费单位持有的境内库存而言，库存变化是指在某年度第一天的期初库存量与该年度最后一天的期末库存水平之间的差额。库存增加记为负值，库存减少记为正值。"," "]
[15,null,"Domestic supply","Внутреннее снабжение","国内供应量","Domestic supply is defined as production + inputs from other sources + imports - exports - international marine bunkers - international aviation bunkers ± stock changes.","[missing_Russian]","国内供应量的计算公式为：产量 + 其他能源输入量 + 进口量 - 出口量 – 国际海运船舶燃料 – 国际航空燃料 ± 库存变化。"," "]
[16,"DOMSUP","Total energy supply (TES)","ОБЩЕЕ ПРЕДЛОЖЕНИЕ ПЕРВИЧНОЙ ЭНЕРГИИ (ОППЭ)","初级能源供应总量","Total energy supply (TES) is made up of production + imports - exports - international marine bunkers - international aviation bunkers ± stock changes.","[missing_Russian]","初级能源供应总量（TPES）的计算公式为：产量 + 进口量 - 出口量 – 国际海运船舶燃料 – 国际航空燃料 ± 库存变化。"," "]
[17,"TRANSFER","Transfers","Передачи","转换产出量","Transfers comprise interproduct transfers, products transferred and recycled products. Interproduct transfers result from reclassification of products either because their specification has changed or because they are blended into another product, e.g. kerosene may be reclassified as gasoil after blending with the latter in order to meet its winter diesel specification.  The net balance of interproduct transfers is zero. Products transferred is intended for oil products imported for further processing in refineries.  For example, fuel oil imported for upgrading in a refinery is transferred to the feedstocks category. Recycled products are finished products which pass a second time through the marketing network, after having been once delivered to final consumers (e.g. used lubricants which are reprocessed).","[missing_Russian]","转换产出量包括产品间转换、转换产品和再生产品。产品间转换是因产品的规格发生变化或者掺入其他产品而重新分类；例如，煤油经与轻柴油调合后符合冬用柴油的规格的，可被重新归类为轻柴油。产品间转换的净差额为零。转换产品旨在使进口石油产品在炼油厂进行进一步的加工；例如，为了在炼油厂进行升级而进口的燃料油，被转换至原料类别。再生产品是指在首次交付给最终消费者使用后，通过营销网络再次交付给最终消费者使用的成品（例如，经重新处理的废润滑剂）。"," "]
[18,"STATDIFF","Statistical differences","Статистическое расхождение","统计差异","Statistical difference is defined as deliveries to final consumption + use for transformation processes and consumption by energy industry own use + losses – domestic supply – transfers.  Statistical differences arise because the data for the individual components of supply are often derived from different data sources by the national administration.  Furthermore, the inclusion of changes in some large consumers' stocks in the supply part of the balance introduces distortions which also contribute to the statistical differences.","Это разница между общим потреблением (расчетным) и общим потреблением (наблюдаемым).","统计差异的计算公式为：终端消费的输送量 + 转换过程的使用量和能源行业自用消费量 + 损耗量 – 国内供应量 – 转换产出量。统计差异产生的原因在于供应量各组成部分的数据通常是由各国管理部门通过不同数据渠道获得。此外，大型消费单位的库存变化列入平衡表中的供应部分引起的数据失真，也会导致统计差异。"," "]
[19,null,"Transformation processes","Сектор преобразования - всего","转换过程"," ",null,null," "]
[20,"TOTTRANF","Transformation processes","Сектор преобразования - всего","转换过程","Transformation processes comprises the conversion of primary forms of energy to secondary and further transformation (e.g. coking coal to coke, crude oil to oil products, and fuel oil to electricity).","Укажите объемы топлива, использованного для первичного или вторичного преобразования энергии (например, угля в электричество) или для преобразования полученных энергетических продуктов (например, коксующегося угля в кокс). Сектор преобразования разделен на следующие подсекторы: ","转换过程包括将初级能源转换成次级能源，以及其他进一步的转换（例如：焦煤到焦炭转换，原油到石油产品的转换，以及燃料油到电力的转换）。"," "]
[21,"MAINELEC","Main activity electricity plants","Электростанции производителей энергии (основной вид деятельности)","公用发电厂","Refers to plants which are designed to produce electricity only. If one or more units of the plant is a CHP unit (and the inputs and outputs can not be distinguished on a unit basis) then the whole plant is designated as a CHP plant. Main activity producers generate electricity for sale to third parties, as their primary activity. They may be privately or publicly owned. Note that the sale need not take place through the public grid.","Укажите объем топлива, потребленного для производства электричества. Топливо, потребленное электростанциями, имеющими хотя бы один блок ТЭЦ, следует указать в категории «ТЭЦ – производители по основному виду деятельности».","是指仅进行电力生产的工厂。如果发电厂的一个或数个机组为热电联产机组（且机组的输入和输出电量无法逐个进行区分），则整个发电厂被称为热电联产厂。公用发电厂的主营业务是生产电力向第三方出售。公用发电厂可以为私营公司，也可以为公众公司。请注意，电力出售并非必须通过公共电网进行。"," "]
[22,"AUTOELEC","Autoproducer electricity plants","Электростанции предприятий, производящих энергию для собственных нужд","自用发电厂","Refers to plants which are designed to produce electricity only. If one or more units of the plant is a CHP unit (and the inputs and outputs can not be distinguished on a unit basis) then the whole plant is designated as a CHP plant. Autoproducer undertakings generate electricity wholly or partly for their own use as an activity which supports their primary activity. They may be privately or publicly owned.","Укажите объем топлива, потребленного для производства электричества. Топливо, потребленное станциями, имеющими хотя бы один блок ТЭЦ, следует указать в подгруппе «ТЭЦ – производители для собственных нужд».","是指仅进行电力生产的工厂。如果发电厂的一个或数个机组为热电联产机组（且机组的输入和输出电量无法逐个进行区分），则整个发电厂被称为热电联产厂。作为其主营业务的一项辅助业务，自用发电厂将生产的电力全部或部分用于其自身使用。自用发电厂可以为私营公司，也可以为公众公司。"," "]
[23,"MAINCHP","Main activity producer CHP plants","ТЭЦ производителей энергии (основной вид деятельности)","公用热电联产厂","Refers to plants which are designed to produce both heat and electricity (sometimes referred to as co-generation power stations). If possible, fuel inputs and electricity/‌heat outputs are on a unit basis rather than on a plant basis. However, if data are not available on a unit basis, the convention for defining a CHP plant noted above should be adopted. Main activity producers generate electricity and/or heat for sale to third parties, as their primary activity. They may be privately or publicly owned. Note that the sale need not take place through the public grid.","Укажите объем топлива, потребленного для производства электричества и тепла.","是指同时生产热力和电力的工厂（有时也称作热电站）。在可能的情况下，燃料输入量和电力/热力输出量按机组而非工厂进行计算。但是如果无法获得基于机组的数据，则采用上文所述的确定热电联产厂的惯例。公用热电联产厂的主营业务是生产电力和/或热力向第三方出售。公用热电联产厂可以为私营公司，也可以为公众公司。请注意，电力/热力出售并非必须通过公共电网/公共管网进行。"," "]
[24,"AUTOCHP","Autoproducer CHP plants","ТЭЦ предприятий, производящих энергию для собственных нужд","自用热电联产厂","Refers to plants which are designed to produce both heat and electricity (sometimes referred to as co-generation power stations). If possible, fuel inputs and electricity/heat outputs are on a unit basis rather than on a plant basis. However, if data are not available on a unit basis, the convention for defining a CHP plant noted above should be adopted. Note that for autoproducer CHP plants, all fuel inputs to electricity production are taken into account, while only the part of fuel inputs to heat sold is shown. Fuel inputs for the production of heat consumed within the autoproducer's establishment are not included here but are included with figures for the final consumption of fuels in the appropriate consuming sector. Autoproducer undertakings generate electricity and/or heat, wholly or partly for their own use as an activity which supports their primary activity. They may be privately or publicly owned.","Укажите объем топлива, соответствующий объему произведенного электричества и проданного тепла.","指同时生产热和电的工厂（有时也称作热电站）。在可能的情况下，燃料输入量和电力/热力输出量按机组而非工厂进行计算。但是如果无法获得基于机组的数据，则采用上文所述的确定热电联产厂的惯例。请注意，对于自用热电联产厂，虽然用于电力生产的燃料输入量全部纳入考虑，但只有用于生产所出售热力的燃料输入量才予以列示。自用热电联产厂为生产在其设施内消费的热力所用的燃料输入量不包括本项内，而列入相应消费部门的燃料终端消费量数据。作为其主营业务的一项辅助业务，自用热电联产厂将生产的电力和/或热力全部或部分用于其自身使用。自用热电联产厂可以为私营公司，也可以为公众公司。"," "]
[25,"MAINHEAT","Main activity producer heat plants","Теплоцентрали производителей энергии (основной вид деятельности)","公用热力厂","Refers to plants (including heat pumps and electric boilers) designed to produce heat only and who sell heat to a third party (e.g. residential, commercial or industrial consumers) under the provisions of a contract. Main activity producers generate heat for sale to third parties, as their primary activity. They may be privately or publicly owned. Note that the sale need not take place through the public grid.","Укажите объем топлива, потребленного для производства тепла.","指仅生产热力，并按照合同的规定将热力出售给第三方（例如：住宅、商业或工业消费者）的工厂（包括热泵和电热锅炉）。公用热力厂的主营业务是生产热力向第三方出售。公用热力厂可以为私营公司，也可以为公众公司。请注意，热力出售并非必须通过公共管网进行。"," "]
[26,"AUTOHEAT","Autoproducer heat plants","Теплоцентрали предприятий, производящих энергию для собственных нужд","自用热力厂","Refers to plants (including heat pumps and electric boilers) designed to produce heat only and who sell heat to a third party (e.g. residential, commercial or industrial consumers) under the provisions of a contract. Autoproducer undertakings generate heat, wholly or partly for their own use as an activity which supports their primary activity. They may be privately or publicly owned.","Укажите объем топлива, соответствующий объему проданного тепла.","是指仅生产热力，并按照合同的规定将热力出售给第三方（例如：住宅、商业或工业消费者）的工厂（包括热泵和电热锅炉）。作为其主营业务的一项辅助业务，自用热力厂将生产的热力全部或部分用于其自身使用。自用热力厂可以为私营公司，也可以为公众公司。"," "]
[27,"THEAT","Heat pumps","Потребление в теплонасосах","热泵","Includes heat produced by heat pumps in the transformation sector. Heat pumps that are operated within the residential sector where the heat is not sold are not considered a transformation process and are not included here – the electricity consumption would appear as residential use.","Укажите производство тепла теплонасосами только в тех случаях, когда тепло было продано третьим лицам (т.е. когда производство осуществляется в Секторе преобразования).","包括转换部门热泵生产的热力。在居民生活部门，生产不出售热力的热泵，不属于转换过程，也不包含在此项内 -电力消费量列示为居民生活使用量。"," "]
[28,"TBOILER","Electric boilers","Потребление в электрокотлах","电热锅炉","Includes electric boilers used to produce heat.","Укажите производство тепла электрическими котлами, когда тепло было продано третьим лицам. ","包括用于生产热力的电热锅炉。"," "]
[29,"TELE","Chemical heat for electricity production","Теплота из химических процессов","用于电力生产的化学热力","Report only the heat originating from processes without input energy, such as a chemical reaction (e.g. the treatment of zinc oxide ore with hydrochloric acid). Note that waste heat originating from energy driven processes is not considered as a primary energy source. Therefore, it should be reported as heat produced from the corresponding fuel.","Укажите только тепло, выделяемое химическими процессами без расхода энергии, как например химическая реакция (отработка руды окиси цинка хлористоводородной кислотой). Следует учесть, что отходящее тепло энергетических процессов, не рассматривается как первичный источник энергии.  Следовательно, оно должно быть учтено как тепло, выделяемое соответствующим топливом.","包括用于发电的化学过程产生的热力。"," "]
[30,"TPATFUEL","Patent fuel plants","Агломерационные установки","专利燃料厂","Includes the manufacture of patent fuels.","Укажите объем каменного угля, использованного для производства каменноугольных брикетов.","包括专利燃料的生产。"," "]
[31,"TCOKEOVS","Coke ovens","Коксовые печи","焦炉","Includes the manufacture of coke and coke oven gas.","Укажите объем коксующегося угля, угольной мелочи и лигнита или полубитуминозного угля, используемого в коксовых печах. Угольные продукты, используемые для отопления и работы устройств в эту категорию включать не следует, но указать как потребление в Секторе энергетики.","包括焦炭和焦炉煤气的生产。"," "]
[32,"TGASWKS","Gas works","Газовые заводы","煤气厂","Includes the manufacture of town gas.","Укажите объем угля, угольных продуктов, коксового газа и заменителя природного газа, используемого для производства газа на газовом заводе и на станциях газификации угля. Продукты, используемые для отопления и работы устройств в эту категорию включать не следует, но указать как потребление в Секторе энергетики. ","包括民用煤气的生产。"," "]
[33,"TBLASTFUR","Blast furnaces","Доменные печи","高炉","Includes the production of recovered gases (e.g. blast furnace gas and oxygen steel furnace gas). The production of pig-iron from iron ore in blast furnaces uses fuels for supporting the blast furnace charge and providing heat and carbon for the reduction of the iron ore. Accounting for the calorific content of the fuels entering the process is a complex matter as transformation (into blast furnace gas) and consumption (heat of combustion) occur simultaneously. Some carbon is also retained in the pigiron; almost all of this reappears later in the oxygen steel furnace gas (or converter gas) when the pig-iron is converted to steel. In the 1992/1993 annual questionnaires, Member Countries were asked for the first time to report in transformation processes the quantities of all fuels (e.g. pulverised coal injection [PCI] coal, coke oven coke, natural gas and oil) entering blast furnaces and the quantity of blast furnace gas and oxygen steel furnace gas produced. The Secretariat then needed to split these inputs into the transformation and consumption components. The transformation component is shown in the row blast furnaces in the column appropriate for the fuel, and the consumption component is shown in the row iron and steel, in the column appropriate for the fuel. The Secretariat decided to assume a transformation efficiency such that the carbon input into the blast furnaces should equal the carbon output. This is roughly equivalent to assuming an energy transformation efficiency of 40%.","Укажите фактические объемы коксующегося угля и/или битуминозного угля (в основном обозначаемого как пульверизованное пылеугольное топливо – ППТ) и кокса, преобразованного в доменных печах. Объемы, использованные для отопления и работы доменных печей (например, доменный газ) в эту категорию включать не следует, но указать как потребление в Секторе энергетики.","包括回收煤气的生产（例如高炉煤气和吹氧炼钢炉气）。使用铁矿石通过高炉生产生铁时，采用燃料支撑高炉炉料，并提供铁矿石还原所需的热力和炭。计算此过程中所用燃料的热焓是非常复杂的，因为转换（高炉煤气转换）和消耗（燃烧热）同时发生。某些碳还留存在生铁中。随后在生铁转换成钢时，吹氧炼钢炉气（或转化炉气）几乎会再次发生所有这些现象。在1992/1993年度的调查问卷中，成员国首次被要求报送转换过程中高炉使用的全部燃料数量（例如：喷煤[PCI]、煤、焦炉焦炭、天然气和石油），以及所产生的高炉煤气和吹氧炼钢炉气数量。秘书处然后需将这些输入量分成转换和消费两部分。转换部分列示在相应燃料列的高炉行；消费部分则列示在相应燃料列的钢铁行。秘书处决定采用一项转换效率，以便高炉炭输入量等于炭输出量，根据粗略计算，该能源转换效率为40%。"," "]
[34,"TPETCHEM","Petrochemical plants","Нефтехимические заводы","石化厂","Covers backflows returned from the petrochemical industry. Note that backflows from oil products that are used for non-energy purposes (i.e. white spirit and lubricants) are not included here, but in non-energy use.","[missing_Russian]","包括从石化行业返回的回流产品。请注意，用于非能源使用的石油产品回流（例如工业用白油和润滑油）不包含在内，而列入非能源使用项下。"," "]
[35,"TBKB","BKB / peat briquette plants","Установки по производству брикетов","褐煤型煤/泥煤砖厂","Includes the use of fuels for the manufacture of BKB and peat briquettes.","Укажите объем лигнита или полубитуминозного угля, используемого для производства буроугольных брикетов (БУБ), объем торфа для производства торфяных брикетов (ТБ) и прочих продуктов переработки торфа.","包括为生产褐煤型煤和泥煤砖而使用的燃料。"," "]
[36,"TREFINER","Oil refineries","Нефтеперерабатывающие заводы","炼油厂","Includes the manufacture of finished oil products.","Загрузка нефтеперерабатывающих заводов определяется как общий объём нефти поступившей в нефтеперерабатывающий процесс.","包括成品石油产品的生产。"," "]
[37,"TCOALLIQ","Coal liquefaction plants","Сжижение угля","煤液化厂","Includes coal, oil and tar sands used to produce synthetic oil.","Укажите объемы угля, горючих сланцев и битуминозных песков, используемых для производства синтетической нефти. Сланцевое масло и прочие продукты, полученные в процессе сжижения следует указывать в «Годовом вопроснике по нефти».","包括用于生产合成油的煤、石油和焦油砂。"," "]
[38,"TGTL","Gas-to-liquids (GTL) plants","Газ-в-жидкость","气转液厂                 ","Includes natural gas used as feedstock for the conversion to liquids, e.g. the quantities of fuel entering the methanol product process for transformation into methanol.","Укажите объем природного газа, использованного в качестве сырья, для преобразования в жидкость, например объем топлива, поступающего в процессе производства метанола для преобразования в метанол. ","包括在液化过程中作为原料使用的天然气，例如在甲醇产品转换过程中使用的燃料数量。"," "]
[39,"TBLENDGAS","For blended natural gas","Для смешанного природного газа","天然气调合:","Includes other gases that are blended with natural gas.","Укажите объемы, смешанных с природным газом.","包括与天然气进行调合的其他气体。"," "]
[40,"TCHARCOAL","Charcoal production plants","Устан. по произв. древесного угля","木炭生产厂","Includes the transformation of solid biofuels into charcoal.","Укажите объемы древесины, использованной для производства древесного угля.","包括转换成木炭的固体生物燃料。"," "]
[41,"TNONSPEC","Non-specified (transformation)","Прочее поставки","未列明的产业（转换）","Includes other non-specified transformation.","Данные следует указывать здесь только в крайнем случае.","包括其他未列明的转换。"," "]
[42,null,"Energy industry own use and losses","Собственное использование сектором энергетики и потери","能源行业自用和损耗"," ",null,null," "]
[43,"TOTENGY","Energy industry own use","Собственное использование сектором энергетики","能源行业自用","Energy industry own use covers the amount of fuels used by the energy producing industries (e.g. for heating, lighting and operation of all equipment used in the extraction process, for traction and for distribution). It includes energy consumed by energy industries for heating, pumping, traction and lighting purposes [ISIC Rev. 4 Divisions 05, 06, 19 and 35, Group 091 and Classes 0892 and 0721].","Укажите топливо, потребляемое Сектором энергетики для добычи полезных ископаемых (разработки угольных месторождений, добычи нефти и газа) или работы установок, обеспечивающих процессы преобразования. Например, топливо, используемое для отопления, освещения или работы насосов, или компрессоров, или потребленное для энергетических целей в печах.\n\nСектор энергетики охватывает в классификаторе ISIC  разделы 05, 06, 19, 35, группу 091, классы 0892 и 0721 (в классификаторе NACE : разделы 05, 06, 19 и 35, группу 09.1, классы 08.92 и 07.21).","能源行业自用包括能源生产行业（例如：为了加热、照明、开采过程中所用各项设备的运作、及牵引、配送之目的）使用的燃料数量，还包括能源行业为加热、抽水、牵引和照明之目的消费的能源【《国际标准行业分类》修订本第4版第05、06、19和35部分，第091组和第0892 和0721类】。"," "]
[44,"EMINES","Coal mines","Угольные шахты","煤矿","Represents the energy which is used directly within the coal industry for hard coal and lignite mining. It excludes coal burned in pithead power stations (included under electricity plants in the transformation sector) and free allocations to miners and their families (considered as part of household consumption and therefore included under residential).","Укажите топливо, потребленное в качестве энергии для поддержки добычи и подготовки угля в угольной промышленности. Уголь, сожженный в шахтных электростанциях, следует указывать в Секторе преобразования.","指在煤行业内直接用于开采硬煤和褐煤的能源，不包括在坑口电站燃烧的煤（此类煤列入转换部门发电厂项下）及无偿分配给矿工及其家属的煤（此类煤视为家庭消费的一部分，因此列入居民生活项下）。"," "]
[45,"EOILGASEX","Oil and gas extraction","Добыча нефти и газа","石油和天然气开采","Represents the energy which is used for oil and gas extraction. Flared gas is not included.","Укажите объем природного газа, потребленного в качестве топлива при добыче нефти и газа, и на заводах по переработке природного газа. Потери в трубопроводах следует указывать в категории «Потери при распределении».","指开采石油和天然气所用的能源，不包括火炬气。"," "]
[46,"EPATFUEL","Patent fuel plants","Агломерационные установки","专利燃料厂","Represents the energy used in patent fuel plants.","Укажите топливо, потребленное в виде энергии на заводах по производству каменноугольных брикетов.","指专利燃料厂使用的能源。"," "]
[47,"ECOKEOVS","Coke ovens","Коксовые печи","焦炉","Represents the energy used in coke ovens.","Укажите топливо, потребленное в качестве энергии в доменных печах.","指焦炉使用的能源。"," "]
[48,"EGASWKS","Gas works","Газовые эаводы","煤气厂","Represents the energy which is used in gas works.","Укажите топливо, потребленное в качестве энергии на газовых заводах и станциях газификации угля.","指煤气厂使用的能源"," "]
[49,"EBIOGAS","Gasification plants for biogases","Газификационные установки (биогаз)","生物质气化厂","Represents own consumption of biogas necessary to support temperatures needed for anaerobic fermentation.","Укажите объем возобновляемых источников энергии и отходов, потребленных в виде энергии, необходимой для поддержки температуры в процессе анаэробной ферментации.","指支持厌氧发酵所需的温度所必需的生物气自用消费量。"," "]
[50,"EBLASTFUR","Blast furnaces","Доменные печи","高炉","Represents the energy which is used in blast furnaces.","Укажите топливо, потребленное в качестве энергии на коксовых заводах.","指高炉使用的能源。"," "]
[51,"EBKB","BKB / peat briquette plants","Установки по производству брикетов","褐煤型煤/ 泥煤砖厂","Represents the energy used in BKB and peat briquette plants.","Укажите топливо, потребленное в качестве энергии на заводах по производству БУБ/ТБ.","指褐煤型煤厂和泥煤砖厂使用的能源。"," "]
[52,"EREFINER","Oil refineries","Нефтеперераб. заводы","炼油厂","Represents the energy used in oil refineries.","Укажите топливо, потребленное в качестве энергии на нефтеперерабатывающих заводах.","指炼油厂使用的能源。"," "]
[53,"ECOALLIQ","Coal liquefaction plants","Заводы сжижения угля","煤气化厂","Represents the energy used in coal liquefaction plants.","Укажите топливо, потребленное в качестве энергии на станциях по сжижению угля.","指煤气化厂使用的能源。"," "]
[54,"ELNG","Liquefaction (LNG) / regasification plants","Сжижение (СПГ) / установки регазификации","液化（液化天然气）/ 再气化厂","Represents the energy used in LNG and regasification plants.","Укажите объем природного газа, потребленного в качестве топлива на заводах по сжижению и регазификации газа.","指液化天然气厂和再气化厂使用的能源。"," "]
[55,"EGTL","Gas-to-liquids (GTL) plants","Газ-в-жидкость","气转液厂    ","Represents the energy used in gas-to-liquids plants.","Укажите объем природного газа, потребленного в качестве топлива на заводах, преобразующих газ в жидкость.","指气转液厂使用的能源。"," "]
[56,"EPOWERPLT","Own use in electricity, CHP and heat plants","Электростанции, ТЭЦ и теплоцентрали","发电厂、热电联产厂和热力厂自用","Represents the energy used in main activity producer electricity, CHP and heat plants.","Укажите топливо, потребленное в качестве энергии на электростанциях, ТЭЦ и котельных.","指公用发电厂、热电联产厂和热力厂使用的能源。"," "]
[57,"EPUMPST","Used for pumped storage","Электричество для гидроаккумулирования","抽水蓄能使用        ","Represents electricity consumed in hydro-electric plants for pumped storage.","Укажите электричество, потребленное во время работы гидроэлектростанций в насосном режиме. ","指水电站为抽水蓄能消费的电力。"," "]
[58,"ENUC","Nuclear industry","Атомная промышленность","核工业","Represents the energy used in the nuclear industry.","Укажите электричество и купленное тепло, потребленное атомными электростанциями.","指核工业使用的能源。"," "]
[59,"ECHARCOAL","Charcoal production plants","Устан. по произв. древесного угля","木炭生产厂","Represents the energy used in charcoal production plants.","Укажите объем возобновляемых источников энергии и отходов, потребленных в качестве энергии на станциях по производству древесного угля.","指木炭生产厂使用的能源。"," "]
[60,"ENONSPEC","Non-specified (Energy)","Не указанные в других графах","未列明的产业（能源）","Represents use in non-specified energy industries.","В этой категории укажите топливо, потребленное в качестве энергии для прочих целей, не указанных выше.","指未列明的能源行业使用的能源。"," "]
[61,"DISTLOSS","Losses","Потери","损耗","Losses in energy distribution, transmission and transport.","Укажите все потери в результате транспортировки и распределения, а также сжигания синтез-газов в факелах.","能源配送、传送和运输过程中的损耗。"," "]
[62,null,"Final consumption","Общее потребление","[missing_Chinese]"," ",null,null," "]
[63,"FINCONS","Final consumption","Общее потребление","终端消费量","Equal to the sum of the consumption in the end-use sectors. Energy used for transformation processes and for own use of the energy producing industries is excluded. Final consumption reflects for the most part deliveries to consumers (see note on stock changes). Backflows from the petrochemical industry are not included in final consumption (see from other sources under supply and petrochemical plants in transformation processes).","[missing_Russian]","[missing_Chinese]"," "]
[64,"TOTIND","Industry","Сектор промышленности","工业部门","Report the fuel, electricity or purchased heat consumption by the industrial undertaking in support of its primary activities in the appropriate sub-sectors:\n\nReport quantities of fuels consumed in heat or CHP plants for the production of heat used by the plant itself. Quantities of fuels consumed for the production of heat that is sold, and for the production of electricity should be reported under the appropriate Transformation sector.","Укажите потребление топлива/ электричества и купленного тепла промышленными предприятиями для поддержки основного вида деятельности.\n\nУкажите объемы топлива, потребленного котельными и ТЭЦ для производства тепла для собственных нужд. Объемы топлива, использованного для производства тепла на продажу и для производства электричества следует указать в соответствующем подразделе Сектора преобразования. ","工业部门消费量的明细如下（工业部门运输使用的能源不包括在内，而是在交通运输部门项下报送）："," "]
[65,"IRONSTL","Iron and steel","Черная металлургия","钢铁","[ISIC Rev. 4 Group 241 + Class 2431 (NACE Groups 24.1, 24.2, 24.3, Classes 24.51 and 24.52)]. To avoid double counting, energy used in blast furnaces should be reported in the Energy sector.","ISIC: группа 241 и Класс 2431 (NACE: группы 24.1, 24.2, 24.3; классы 24.51 и 24.52). Во избежание двойного учета, энергия, использованное в доменных печах, следует указывать в Секторе энергетики.","【《国际标准行业分类》修订本第4版第241组和第2431类】"," "]
[66,"CHEMICAL","Chemical and petrochemical","Химическая (в т.ч. нефтехимическая) промышленность","化学和石油化工","[ISIC Rev. 4 Divisions 20 and 21] Excluding petrochemical feedstocks.","ISIC и NACE: разделы 20 и 21.","【《国际标准行业分类》修订本第4版第20和21部分】不包括石化原料。"," "]
[67,"NONFERR","Non-ferrous metals","Цветная металлургия","有色金属","ISIC Group 242 + Class 2432 (NACE Group 24.4, Classes 24.53 and 24.54).","ISIC: группа 242 и класс 2432 (NACE: группа 24.4 и классы 24.53, 24.54).","【《国际标准行业分类》修订本第4版第242组和第2432类】基础行业。"," "]
[68,"NONMET","Non-metallic minerals","Неметаллические минеральные продукты","非金属矿物","[ISIC Rev. 4 and NACE Division 23.] Report glass, ceramic, cement, and other building materials industries.","ISIC: раздел 23 (NACE: раздел 23). Укажите отрасли стекла, керамики, цемента и прочих строительных материалов.","【《国际标准行业分类》修订本第4版第23部分】如玻璃、陶瓷、水泥等。"," "]
[69,"TRANSEQ","Transport equipment","Транспортное оборудование","交通运输设备","[ISIC Rev. 4 and NACE Divisions 29 and 30.]","ISIC и NACE: разделы 29 и 30. ","【《国际标准行业分类》修订本第4版第29和30部分】"," "]
[70,"MACHINE","Machinery","Машиностроение","机器设备","[ISIC Rev. 4 and NACE Divisions 25, 26, 27 and 28.] Report fabricated metal products, machinery and equipment other than transport equipment.","ISIC и NACE – разделы 25, 26, 27, и 28. Укажите изготовленные металлические продукты, машины и оборудование, кроме транспортного оборудования.","【《国际标准行业分类》修订本第4版第25至28部分】装配式金属产品、机器及交通运输设备以外的设备。"," "]
[71,"MINING","Mining and quarrying","Горнодобыв. промышленность и разраб. карьеров","采矿和采石","[ISIC Rev. 4 Divisions 07 and 08 + Group 099 (NACE Divisions 07 and 08 + Group 09.9)]","ISIC: разделы 07, 08 и группа 099 (NACE: разделы 07, 08 и группа 09.9).","【《国际标准行业分类》修订本第4版第07和08部分和第099组】采矿（不包括燃料）和采石。"," "]
[72,"FOODPRO","Food, beverages and tobacco","Пищевая промышленность, производство напитков и табачных изделий","食品和烟草","[ISIC Rev. 4 and NACE Divisions 10, 11 and 12.]","ISIC и NACE: разделы 10, 11 и 12. ","【《国际标准行业分类》修订本第4版第10至12部分】"," "]
[73,"PAPERPRO","Paper, pulp and print","Целлюлозно-бумажная и полиграфическая промышленность","纸、纸浆和印刷","[ISIC Rev. 4 and NACE Divisions 17 and 18.] Includes reproduction of recorded media.","ISIC и NACE: разделы 17 и 18. Эта категория включает также тиражирование записанных носителей информации. ","【《国际标准行业分类》修订本第4版第17和18部分】"," "]
[74,"WOODPRO","Wood and wood products","Производство древесины и деревянных изделий","木材和木材制品","[ISIC Rev. 4 and NACE Division 16] Wood and wood products other than pulp and paper.","ISIC и NACE: раздел 16.","【《国际标准行业分类》修订本第4版第16部分】纸和纸浆以外的木材和木材制品"," "]
[75,"CONSTRUC","Construction","Строительство","建筑","[ISIC Rev. 4 and NACE Division 41, 42 and 43]","ISIC и NACE: разделы 41, 42 и 43.","【《国际标准行业分类》修订本第4版第41至43部分】"," "]
[76,"TEXTILES","Textiles and leather","Текстильная и кожевенная промышленность","纺织品和皮革","[ISIC and NACE Divisions 13, 14 and 15.]","ISIC и NACE: разделы 13, 14 и 15.","【《国际标准行业分类》修订本第4版第13至15部分】"," "]
[77,"INONSPEC","Non-specified (Industry)","Др. отрасли промышленности","未列明的产业","[ISIC and NACE Divisions 22, 31 and 32.] If your country's industrial classification consumption of fuels/electricity does not correspond to the above ISIC or NACE codes, please estimate the breakdown by industry and include in Not elsewhere specified (Industry) only consumption in sectors which is not covered above.","ISIC и NACE: разделы 22, 31 и 32. Если промышленный классификатор потребления топлива / электричества в вашей стране не соответствует упомянутым выше кодам ISIC и NACE, то оцените, пожалуйста, разбивку по отраслям промышленности и включите в «Не указанные в других подгруппах» только потребление в секторах, не упомянутых выше. ","【《国际标准行业分类》修订本第4版第22、31和32部分】上文未包括的任何制造业。注：大多数国家难以提供所有燃料的工业明细信息，在这种情况下，可使用未列明的产业这一行。因此，应慎重使用区域合计工业消费量。"," "]
[78,"TOTTRANS","Transport","Сектор транспорта","交通运输部门","[ISIC Rev. 4 and NACE categories: Divisions 49, 50 and 51.] Report fuels / electricity used for all transport activity irrespective of the economic sector, in which the activity occurs (except military fuel use, see Not elsewhere specified - Other). Electricity and purchased heat used for heating and lighting at railway and bus stations and airports should be reported in Commercial and public services.  The transport sector is divided into the following sub-sectors:","ISIC и NACE: разделы 49, 50 и 51. Укажите потребленное энергия,  всеми видами транспортной деятельности, независимо от экономического сектора, в котором деятельность осуществляется (за исключением военного спользования, см. «Не указанные в других подгруппах» (Прочее)». Электричество и купленное тепло, используемое для отопления и освещения железнодорожных и автобусных станций и аэропортов следует указывать в Секторе коммерческих и общественных услуг. Укажите потребление в следующих категориях классификаторов:","交通运输部门能源消费量涵盖所有（使用机动发动机）的交通运输活动，无论其有助于哪一经济部门【《国际标准行业分类》修订本第4版第49至51部分】。交通运输部门能源消费量的明细如下："," "]
[79,"ROAD","Domestic aviation","Внутренний воздушный транспорт","国内航空","Report quantities of aviation fuels delivered to aircraft for Domestic aviation – commercial, private, agricultural, etc. Include fuel used for purposes other than flying, e.g. bench testing of engines. The domestic/international split should be determined on the basis of departure and landing locations and not by the nationality of the airline. Note that this may include journeys of considerable length between two airports in a country (e.g. San Francisco to Honolulu). Exclude fuels used by airlines for their road vehicles (see Not elsewhere specified – Transport sector) and military use of aviation fuels (see Not elsewhere specified – Other sectors).\n\n For many countries this incorrectly includes fuel used by domestically owned carriers for outbound international traffic.","Укажите объёмы авиационных топлив поставленных для воздушных судов в рамках внутренней авиации – коммерческой, частной, сельскохозяйственной и т.д. Включите топливо используемое для неавиационных целей - например стендового испытания двигателей. Разделение международная\\местная авиация должно производиться ссылаясь на информацию о месте отправки и посадки, а не на основе страны происхождения авиакомпании. Заметьте, что эта категория может включать длинные путешествия между двумя аэропортами одной страны (например с Сан-Франциско в Гонолулу). Исключите топливо используемое авиакомпаниями для дорожного транспорта (см. Прочие, неуказанные в другом месте – Транспортный сектор) и военное использование авиационных топлив (см. Прочие, неуказанные в другом месте - Прочие секторы).","包括向进行国内（商业、私人、农业等）航空飞行的飞机输送的航空燃料数量，包括为飞行以外的其他目的使用的燃料数量，例如发动机台架试验，但不包括航空公司陆地运输使用的燃料。国内/国际航空飞行的区分依据是出发地和抵达地，而非航空公司的国籍。请注意：该项可包括在某一国家境内两个机场之间的长距离行程（例如从旧金山到檀香山）。许多国家将国内航空公司在出境国际飞行中使用的燃料列入此项，这一做法是不正确的。"," "]
[80,"DOMESAIR","Road","Автоперевозки","公路","Report oil for use in road vehicles. Include fuel used by agricultural vehicles on highways and lubricants for use in road vehicles. Exclude motor gasoline and diesel used in stationary engines (see Not elsewhere specified – Other sectors), diesel oil for non–highway use in tractors (see Agriculture/forestry – Other sectors), military use (see Not elsewhere specified – Other sectors) and gasoil used in engines at construction sites (see Construction – Industry sector).","Укажите нефть используемую для дорожно-транспортных средств. Включите топливо используемое  сельскохозяйственными машинами на шоссе и смазочные материалы для дорожно-транспортных средств. Исключите моторный бензин и дизель использованные в стационарных двигателях (см. Прочие, неуказанные в другом месте - Прочие секторы), дизельное топливо для внедорожного использования в тракторах (см. Сельское/лесное хозяйство - Прочие секторы), военное использование (см. Прочие, неуказанные в другом месте - Прочие секторы) и газойль  использованный в двигателях на стройплощадках (см. Строительство – Промышленный сектор).","包括公路车辆以及农业和工业公路使用的燃料，不包括军队消费的燃料、固定式发动机使用的车用汽油和非公路用拖拉机使用的柴油。"," "]
[81,"RAIL","Rail","Железные дороги","铁路","Includes quantities used in rail traffic, including industrial railways. It includes oil used in rail transport as part of urban or suburban transport systems.","Укажите нефть используемую в железнодорожных перевозках, включая промышленные железные дороги. Эта категория включает потребление нефти в железнодорожном транспорте как части городских или пригородных транспортных систем.  ","包括铁路运输（含工业铁路运输）使用的燃料数量。"," "]
[82,"PIPELINE","Pipeline transport","Транспортировк а по трубопроводам","管道运输","Report oil used as energy in the support and operation of pipelines transporting gases, liquids, slurries and other commodities, including the energy used for pump stations and maintenance of the pipeline. Oil used as energy for the pipeline distribution of natural or manufactured gas, hot water or steam (ISIC Rev. 4 Division 35) from the distributor to final users is excluded and should be reported in the Energy sector, while the oil used for the final distribution of water (ISIC 36) to household, industrial, commercial and other users should be included in the Commercial/public sector. Losses occurring during this transport between distributor and final users should be reported as Distribution losses.","Укажите нефть использованную в виде энергии для поддержки и работы трубопроводов транспортирующих газы, жидкости, суспензии и прочие товары, включая энергию используемую для насосных станций и ухода за трубопроводом. Нефть, использованную в виде энергии для распределения по трубопроводу природного или синтезного газа, горячей воды или пара  (ISIC 35) от поставщика до конечного потребителя следует исключить и указать в Секторе энергетики, в то время как нефть использованная для конечного распределения воды (ISIC 36) домашним хозяйствам, промышленным, коммерческим и прочим потребителям должна учитываться в категории Коммерческий\\общественный сектор. Потери при транспортировке между поставщиком и конечными потребителями должны указываться как потери при распределении.","包括为支持和运作气体、液体、泥浆和其他货物的运输管道而使用的能源，包括为泵站和管道维护而使用的能源。配送商为向最终用户管道配送天然气或人造煤气、热水、蒸汽（《国际标准行业分类》修订本第4版第35部分）二使用的能源不包括在内，而应在能源行业自用项下报送。但是为向家庭、工业、商业和其他用户最终配送水（《国际标准行业分类》修订本第4版第36部分）而使用的能源应列在商业/公共服务项下。配送商和最终用户之间的运输过程中发生的损耗应作为损耗进行报送。"," "]
[83,"DOMESNAV","Domestic navigation","Внутренний водный транспорт","国内航运","Report fuels delivered to vessels of all flags not engaged in international navigation (see international marine bunkers). The domestic/international split should be determined on the basis of port of departure and port of arrival and not by the flag or nationality of the ship. Note that this may include journeys of considerable length between two ports in a country (e.g. San Francisco to Honolulu).","Укажите топлива поставленные для судов плавающих под всеми флагами не участвующими в международном судоходстве (см. Международная морская бункеровка). Раздел международное\\местное судоходство производится ссылаясь на информацию о порту отправления и порту прибытия, а не на флаг под которым плавает данное судно или его страну происхождения. Заметьте, что эта категория может включать длинные путешествия между двумя портами одной страны (например с Сан-Франциско в Гонолулу).","包括向并非从事国际航运（见国际海运船舶燃料）的悬挂任何国旗的船舶输送的燃料数量。国内/国际航运的区分依据是发运港和目的港，而非船舶悬挂的国旗或船籍。请注意：该项可以包括某一国家境内两个港口之间的长距离航程（例如从旧金山到檀香山）。海洋、沿海和内陆渔业使用的燃料和军队消费的燃料不包括在内。"," "]
[84,"TRNONSPE","Non-specified (transport)","Неспецифицированный транспорт","未列明的产业（交通运输）","Report fuels used for transport activities not included elsewhere. Include fuels used by airlines for their road vehicles. Note: International marine bunkers and International aviation bunkers are shown in supply and are not included in the transport sector as part of final consumption.","Укажите использование топлив для транспортных деятельностей, не включённых в вышеупомянутые категории. Включите здесь топливо используемое авиакомпаниями для дорожных средств.","包括未另行列明的所有交通运输。请注意：国际海运船舶燃料和国际航空燃料列示于供应项下，而不作为终端消费量的组成部分纳入交通运输部门。"," "]
[85,"TOTOTHER","Other","Другие","其他部门","Includes residential, commercial/public services, agriculture/‌forestry, fishing and non-specified (other).","Укажите жилищный сектор, коммерческие предприятия и государственные учреждения, сельское хозяйство, рыболовство и неспецифицированные другие секторы.","包括居民生活、商业/公共服务、农业/林业、渔业和未列明的产业（其他）。"," "]
[86,"RESIDENT","Residential","Жилищный сектор","居民生活","Report fuels/electricity consumed by all households including \"households with employed persons\" (ISIC and NACE Divisions 97 and 98). ","Укажите топлива потреблённые всеми видами домашних хозяйств, включая \"домашние хозяйства с  домработниками\" (ISIC и NACE Разделы 97 и 98).","包括家庭消费量，但用于交通运输的燃料除外。该项包括在居民生活消费总量中占比不大的有雇佣人员的家庭消费量[《国际标准行业分类》修订本第4版第97部分]。"," "]
[87,"COMMPUB","Commercial and public services","Коммерческие предприятия и государственные учреждения","商业和公共服务","[ISIC Rev. 4 Divisions and NACE Divisions 33, 36, 37, 38, 39, 45, 46, 47, 52, 53, 55, 56, 58, 59, 60, 61, 62, 63, 64, 65, 66, 68, 69, 70, 71, 72, 73, 74, 75, 77, 78, 79, 80, 81, 82, 84 (exclude Class 8422), 85, 86, 87, 88, 90, 91, 92, 93, 94, 95, 96 and 99.]\n\nConsumption by businesses and offices in the public and private sectors. Note that consumption at railway, bus stations, shipping piers and airports should be reported in this category and not shown in the Transport sector.","[ISIC Разделы и NACE Разделы 33, 36, 37, 38, 39, 45, 46, 47, 52, 53, 55, 56, 58, 59, 60, 61, 62, 63, 64, 65, 66, 68, 69, 70, 71, 72, 73, 74, 75, 77, 78, 79, 80, 81, 82, 84 (без Класса 8422), 85, 86, 87, 88, 90, 91, 92, 93, 94, 95, 96 и 99.]\n\nпотребление бизнесами и офисами в общественном и частном секторе. Заметьте, что использование потреблениена железной дороге, автобусных станциях, речных причалах и в аэропортах следует указать в этой категории, а не в Секторе транспорта.","【《国际标准行业分类》修订本第4版第33、36-39、45-47、52、53、55-56、58-66、68-75、77-82、84（不包括第8422类）、85-88、90-96和99部分】"," "]
[88,"AGRICULT","Agriculture/forestry","Сельское хозяйство","农业/林业","[ISIC Rev. 4 and NACE Divisions 01 and 02].\n\nIncludes deliveries to users classified as agriculture, hunting and forestry by the ISIC, and therefore includes energy consumed by such users whether for traction (excluding agricultural highway use), power or heating (agricultural and domestic).","[ISIC Разделы 01 и 02 (NACE Разделы 01 и 02).]\n\nУкажите потребление пользователями классифицированными как сельское хозяйство, охота и лесное хозяйство. ","包括向《国际标准行业分类》项下列为农业、狩猎、林业用户输送的能源，因此，该项包括该等用户为牵引（农业公路使用除外）、电力或取暖而消费的能源【《国际标准行业分类》修订本第4版第01和02部分】。"," "]
[89,"FISHING","Fishing","Рыболовство","渔业","Report fuels used for inland, coastal and deep–sea fishing. Fishing should cover fuels delivered to ships of all flags that have refuelled in the country (include international fishing). Also include energy used in the fishing industry as specified in ISIC Division 03 and NACE Division 03. Prior to 2007 edition, fishing was included with agriculture/forestry and this may continue to be the case for some countries.","Укажите топлива используемые для речного, прибрежного и глубоко-морского рыболовства. Рыболовство должно включать топлива, поставленные на судна всех флагов, которые дозаправлялись в стране (включая международную рыбную ловлю). Включите также энергию использованную в рыболовной промышленности, как это указано в ISIC Разделе 03 и NACE Разделе 03.","包括内陆、沿海和深海渔业使用的燃料。此项包括向在国境内添加燃料的、悬挂任何国旗的渔船（含国际捕鱼船）输送的燃料，以及渔业使用的能源【《国际标准行业分类》修订本第4版第03部分】。在2007年版本之前，渔业列入农业/林业项下，某些国家可能仍继续沿用这一做法。"," "]
[90,"ONONSPEC","Non-specified (other)","Неспецифицированные другие секторы","未列明的产业（其他）","Report activities not included elsewhere. This category includes military fuel use for all mobile and stationary consumption (e.g. ships, aircraft, road and energy used in living quarters), regardless of whether the fuel delivered is for the military of that country or for the military of another country.","Укажите деятельности неуказанные в других категориях. Эта категория включает военное использование топлива как для мобильных, так и стационарных нужд (например: корабли, воздушные судна, дорожный транспорт и энергия используемая в жилых кварталах), независимо от того, была ли поставка осуществлена для военных целей отчитывающейся страны или для военных целей другой страны.","包括未另行列明的所有燃料使用量，以及未提供单独数据的上述类别的消费量。此项包括用于所有机动和固定消费的军用燃料使用量（例如：船舶、飞机、道路和生活区域使用的能源），无论该燃料是输送给本国军队，还是输送给他国军队。"," "]
[91,"NONENUSE","Non-energy use","Неэнергетическое использование","非能源使用","Non-energy use covers those fuels that are used as raw materials in the different sectors and are not consumed as a fuel or transformed into another fuel. Non-energy use is shown separately in final consumption under the heading non-energy use.","Укажите энергетические продукты, использованные в виде сырья в разных секторах; т.е. не потреблённые в качестве топлива и не преобразованные в другое топливо. Укажите неэнергетическое потребление по секторам:","非能源使用包括不同部门作为原材料使用的，且不作为燃料消费的或未转换为其他燃料的燃料。非能源使用在终端消费量中单独列示，列在非能源使用标题项下。"," "]
[92,"NEINTREN","Non-energy use industry/transformation/energy","в промышленности/преобраз.-переработке/топл. энергетике","工业/转换/能源部门非能源使用","Non-energy in industry, transformation processes and energy industry own use.","неэнергетическое  использование всех подсекторов промышленности, преобразования и энергетики. Например, укажите в этой категории использование угля для производства метанола или аммиака.","工业、转换过程和能源行业自用项下的非能源使用量。"," "]
[93,"NETRANS","Non-energy use in transport","в транспорте","交通运输部门非能源用途            ","Non-energy use in transport.","неэнергетическое использование во всех подсекторах транспортного сектора. ","交通运输部门项下的非能源使用量。"," "]
[94,"NEOTHER","Non-energy use in other","в других секторах","其他部门的非能源用途             ","Non-energy use in Commercial and public services, Residential, Agriculture and Not elsewhere specified - Other sectors.","неэнергетическое использование в Секторе коммерческих и общественных услуг, Жилищном секторе, Сельском хозяйстве и в «Не включенные в другие подгруппы (Прочие секторы)».","“其他部门”项下的非能源使用量。"," "]
[95,"NECHEM","Memo: Non-energy use chemical/petrochemical","в т.ч. химикаты / нефтехимия","备忘项化学/石化产业非能源使用 ","Report quantities used in the petrochemical industry for the purpose of producing ethylene, propylene, butylene, synthesis gas, aromatics, butadiene and other hydrocarbon–based raw materials in processes such as steam cracking, aromatics plants and steam reforming [part of ISIC Rev. 4 Group 201]. Exclude amounts of oil used for fuel purposes.","Укажите объёмы которые используются в нефтехимической промышленности для производства этилена, пропилена, бутилена, синтезного газа, ароматических соединений,  бутадиена и прочего сырья базирующего на углеводородах в таких процессах, как паровой крекинг, установки по производству ароматических соединений и паровой реформинг. Исключите объёмы нефти использованные для топливных целей.","化学/石化行业包括生产乙烯、丙烯、丁烯、合成气、芳香烃、丁二烯和其他烃基原材料的裂解和重整过程，例如蒸汽裂解、芳香烃厂和蒸汽重整【《国际标准行业分类》修订本第4版第201组的部分】。注：该流量在以往版本中被称作“其中：化工原料”。"," "]
[96,null,"Electricity and heat output","Производство электроэнерги и тепла","电力和热力产量"," ",null,null," "]
[97,"ELOUTPUT","Electricity output in GWh","Производство электроэнергии ● ГВт-ч","电力产量（单位：吉瓦时）","Shows the total number of GWh generated by power plants separated into electricity plants and CHP plants.","это сумма электрической энергии, произведенной всеми видами соответствующих генерирующих установок (включая гидроаккумулирующие), измеряемая на выходных клеммах основных генераторов.","发电厂生产的电力总量（单位：吉瓦时），分别按照发电厂和热电联产厂列示。"," "]
[98,"ELMAINE","Elec output-main activity producer ele plants",{"$f":"\"электроэнергии, \"&D23","v":"электроэнергии, Электростанции производителей энергии (основной вид деятельности)"},"电力产量-公用发电厂"," ",null,null," "]
[99,"ELAUTOE","Elec output-autoproducer electricity plants",{"$f":"\"электроэнергии, \"&D24","v":"электроэнергии, Электростанции предприятий, производящих энергию для собственных нужд"},"电力产量-自用发电厂"," ",null,null," "]
[100,"ELMAINC","Elec output-main activity producer CHP plants",{"$f":"\"электроэнергии, \"&D25","v":"электроэнергии, ТЭЦ производителей энергии (основной вид деятельности)"},"电力产量-公用热电联产厂"," ",null,null," "]
[101,"ELAUTOC","Elec output-autoproducer CHP plants",{"$f":"\"электроэнергии, \"&D26","v":"электроэнергии, ТЭЦ предприятий, производящих энергию для собственных нужд"},"电力产量-自用热电联产厂"," ",null,null," "]
[102,"HEMAINC","Heat output-main activity producer CHP plants",{"$f":"\"тепла, \"&D25","v":"тепла, ТЭЦ производителей энергии (основной вид деятельности)"},"热力产量-公用热电联产厂"," ",null,null," "]
[103,"HEAUTOC","Heat output-autoproducer CHP plants",{"$f":"\"тепла, \"&D26","v":"тепла, ТЭЦ предприятий, производящих энергию для собственных нужд"},"热力产量-自用热电联产厂"," ",null,null," "]
[104,"HEMAINH","Heat output-main activity producer heat plant",{"$f":"\"тепла, \"&D27","v":"тепла, Теплоцентрали производителей энергии (основной вид деятельности)"},"热力产量-公用热力厂"," ",null,null," "]
[105,"HEAUTOH","Heat output-autoproducer heat plants",{"$f":"\"тепла, \"&D28","v":"тепла, Теплоцентрали предприятий, производящих энергию для собственных нужд"},"热力产量-自用热力厂"," ",null,null," "]
[106,"HEATOUT","Heat output in TJ","Производство тепла ● ТДж","热力产量（单位：太焦耳）","Shows the total amount of TJ generated by power plants separated into CHP plants and heat plants.","это общий объем тепла, произведенного установками, включающий тепло, использованное вспомогательным оборудованием установок, которое использует горячую жидкость (отопление помещения, нагрев жидкого топлива и т.д.); потери при обмене теплом между установкой и сетью, а также тепло химических процессов, использованное в виде первичной энергии.","热力厂生产的热力总量（单位：太焦耳），分别按照热电联产厂和热力厂列示。"," "]
[107,"MHYDPUMP","Memo: Main activity producer - pumped hydro","Примечание: Производитель по основному виду деятельности – ГАЭС","备忘项：公用发电厂 - 抽水蓄能电站"," ",null,null," "]
[108,"AHYDPUMP","Memo: Autoproducer - pumped hydro","Примечание: Производитель для своих нужд – ГАЭС","备忘录：自用发电厂 - 抽水蓄能电站        "," ",null,null," "]
[109,"VENTED","Memo: gas vented","Примечание: выпускаемый газ","备忘录：放空气",null,null,null," "]
[110,"FLARED","Memo: gas flared","Примечание: сжигаемый газ","备忘录：火炬气",null,null,null," "]

{"sheet":"Exceptions","index":6,"n_rows":44,"n_cols":7,"rows_kept":44,"cut":false,"hidden":true,"merged":[[2,1,4,4]]}
[null,null,"Exceptions"]
[]
[null,"The country-specific exceptions listed in the \"Exceptions\" worksheet are automatically copied to the disaggregated balance when necessary. This worksheet should not be modified, it is made available for information. When \"Disaggregated Balance\" cells are modified their font color is changed to red."]
[]
[]
[]
[]
[null,"Exception","Country","Product","Cell","Default","New"]
[null,1,"GERMANY, GREECE, TURKEY","LIGNITE, TBKB","$I$29","=-VLOOKUP($B29,RawData,I$4,FALSE)*VLOOKUP(I$3,ConversionFactors,$D29,FALSE)/MJ_per_toe","=-VLOOKUP($B29,RawData,I$4,FALSE)*VLOOKUP(I$3,ConversionFactors,MATCH(\"NIND\",CFHeadings,0),FALSE)/MJ_per_toe"]
[null,1,"GERMANY, GREECE, TURKEY","LIGNITE, EBKB","$I$44","=-VLOOKUP($B44,RawData,I$4,FALSE)*VLOOKUP(I$3,ConversionFactors,$D44,FALSE)/MJ_per_toe","=-VLOOKUP($B44,RawData,I$4,FALSE)*VLOOKUP(I$3,ConversionFactors,MATCH(\"NIND\",CFHeadings,0),FALSE)/MJ_per_toe"]
[null,2,"IRELAND","PEAT, TBKB","$T$29","=-VLOOKUP($B29,RawData,T$4,FALSE)*VLOOKUP(T$3,ConversionFactors,$D29,FALSE)/MJ_per_toe","=-VLOOKUP($B29,RawData,T$4,FALSE)*VLOOKUP(T$3,ConversionFactors,MATCH(\"NIND\",CFHeadings,0),FALSE)/MJ_per_toe"]
[null,2,"IRELAND","PEAT, EBKB","$T$44","=-VLOOKUP($B44,RawData,T$4,FALSE)*VLOOKUP(T$3,ConversionFactors,$D44,FALSE)/MJ_per_toe","=-VLOOKUP($B44,RawData,T$4,FALSE)*VLOOKUP(T$3,ConversionFactors,MATCH(\"NIND\",CFHeadings,0),FALSE)/MJ_per_toe"]
[null,3,"UNITED KINGDOM","COKEOVGS, TCOKEOVS","$P$25","=(SUM(VLOOKUP($B5,RawData,P$4,FALSE),VLOOKUP(\"OSNATGAS\",RawData,P$4,FALSE),VLOOKUP(\"OSOIL\",RawData,P$4,FALSE),VLOOKUP(\"OSRENEW\",RawData,P$4,FALSE),VLOOKUP(\"OSNONSPEC\",RawData,P$4,FALSE),-VLOOKUP($B25,RawData,P$4,FALSE))*VLOOKUP(P$3,ConversionFactors,2,FALSE))*TJ_to_ktoe","=(SUM(VLOOKUP($B5,RawData,P$4,FALSE),VLOOKUP(\"OSOIL\",RawData,P$4,FALSE),VLOOKUP(\"OSRENEW\",RawData,P$4,FALSE),-VLOOKUP($B25,RawData,P$4,FALSE))*VLOOKUP(P$3,ConversionFactors,2,FALSE))*TJ_to_ktoe"]
[null,3,"UNITED KINGDOM","COKEOVGS, TNONSPEC","$P$35","=(-VLOOKUP($B35,RawData,P$4,FALSE)*VLOOKUP(P$3,ConversionFactors,2,FALSE))*TJ_to_ktoe","=(SUM(VLOOKUP(\"OSNATGAS\",RawData,P$4,FALSE),VLOOKUP(\"OSNONSPEC\",RawData,P$4,FALSE),-VLOOKUP($B35,RawData,P$4,FALSE))*VLOOKUP(P$3,ConversionFactors,2,FALSE))*TJ_to_ktoe"]
[null,4,"PEOPLE'S REPUBLIC OF CHINA           ","COKCOAL, TGASWKS","$F$26","=-VLOOKUP($B26,RawData,F$4,FALSE)*VLOOKUP(F$3,ConversionFactors,$D26,FALSE)/MJ_per_toe","=-VLOOKUP($B26,RawData,F$4,FALSE)*VLOOKUP(F$3,ConversionFactors,MATCH(\"NBLAST\",CFHeadings,0),FALSE)/MJ_per_toe"]
[null,4,"PEOPLE'S REPUBLIC OF CHINA           ","BITCOAL, TGASWKS","$G$26","=-VLOOKUP($B26,RawData,G$4,FALSE)*VLOOKUP(G$3,ConversionFactors,$D26,FALSE)/MJ_per_toe","=-VLOOKUP($B26,RawData,G$4,FALSE)*VLOOKUP(G$3,ConversionFactors,MATCH(\"NBLAST\",CFHeadings,0),FALSE)/MJ_per_toe"]
[null,4,"PEOPLE'S REPUBLIC OF CHINA           ","OVENCOKE, TGASWKS","$K$26","=-VLOOKUP($B26,RawData,K$4,FALSE)*VLOOKUP(K$3,ConversionFactors,$D26,FALSE)/MJ_per_toe","=-VLOOKUP($B26,RawData,K$4,FALSE)*VLOOKUP(K$3,ConversionFactors,MATCH(\"NBLAST\",CFHeadings,0),FALSE)/MJ_per_toe"]
[null,4,"PEOPLE'S REPUBLIC OF CHINA           ","COKCOAL, EGASWKS","$F$41","=-VLOOKUP($B41,RawData,F$4,FALSE)*VLOOKUP(F$3,ConversionFactors,$D41,FALSE)/MJ_per_toe","=-VLOOKUP($B41,RawData,F$4,FALSE)*VLOOKUP(F$3,ConversionFactors,MATCH(\"NBLAST\",CFHeadings,0),FALSE)/MJ_per_toe"]
[null,4,"PEOPLE'S REPUBLIC OF CHINA           ","BITCOAL, EGASWKS","$G$41","=-VLOOKUP($B41,RawData,G$4,FALSE)*VLOOKUP(G$3,ConversionFactors,$D41,FALSE)/MJ_per_toe","=-VLOOKUP($B41,RawData,G$4,FALSE)*VLOOKUP(G$3,ConversionFactors,MATCH(\"NBLAST\",CFHeadings,0),FALSE)/MJ_per_toe"]
[null,4,"PEOPLE'S REPUBLIC OF CHINA           ","OVENCOKE, EGASWKS","$K$41","=-VLOOKUP($B41,RawData,K$4,FALSE)*VLOOKUP(K$3,ConversionFactors,$D41,FALSE)/MJ_per_toe","=-VLOOKUP($B41,RawData,K$4,FALSE)*VLOOKUP(K$3,ConversionFactors,MATCH(\"NBLAST\",CFHeadings,0),FALSE)/MJ_per_toe"]
[null,5,"SOUTH AFRICA","BITCOAL, TCOALLIQ","$G$31","=-VLOOKUP($B31,RawData,G$4,FALSE)*VLOOKUP(G$3,ConversionFactors,$D31,FALSE)/MJ_per_toe","=-VLOOKUP($B31,RawData,G$4,FALSE)*0.4968"]
[null,5,"SOUTH AFRICA","BITCOAL, ECOALLIQ","$G$46","=-VLOOKUP($B46,RawData,G$4,FALSE)*VLOOKUP(G$3,ConversionFactors,$D46,FALSE)/MJ_per_toe","=-VLOOKUP($B46,RawData,G$4,FALSE)*0.4968"]
[null,6,"GERMANY","NONCRUDE, TCOALLIQ","$AA$31","=(VLOOKUP(\"OSCOAL\",RawData,AA$4,FALSE)-VLOOKUP($B31,RawData,AA$4,FALSE))*VLOOKUP(AA$3,ConversionFactors,2,FALSE)/MJ_per_toe","=-VLOOKUP($B31,RawData,AA$4,FALSE)*VLOOKUP(AA$3,ConversionFactors,2,FALSE)/MJ_per_toe"]
[null,6,"GERMANY","NONCRUDE, TCOKEOVS","$AA$25","=-VLOOKUP($B25,RawData,AA$4,FALSE)*VLOOKUP(AA$3,ConversionFactors,2,FALSE)/MJ_per_toe","=(VLOOKUP(\"OSCOAL\",RawData,AA$4,FALSE)-VLOOKUP($B25,RawData,AA$4,FALSE))*VLOOKUP(AA$3,ConversionFactors,2,FALSE)/MJ_per_toe"]
[null,7,"AUSTRALIA, CANADA, FINLAND, HUNGARY, IRELAND, MEXICO, POLAND, PORTUGAL, SLOVAK REPUBLIC, TURKEY, UNITED STATES, BRAZIL, BULGARIA, CROATIA, ROMANIA, SERBIA","NONCRUDE, TGTL","$AA$32","=(VLOOKUP(\"OSNATGAS\",RawData,AA$4,FALSE)-VLOOKUP($B32,RawData,AA$4,FALSE))*VLOOKUP(AA$3,ConversionFactors,2,FALSE)/MJ_per_toe","=-VLOOKUP($B32,RawData,AA$4,FALSE)*VLOOKUP(AA$3,ConversionFactors,2,FALSE)/MJ_per_toe"]
[null,7,"AUSTRALIA, CANADA, FINLAND, HUNGARY, IRELAND, MEXICO, POLAND, PORTUGAL, SLOVAK REPUBLIC, TURKEY, UNITED STATES, BRAZIL, BULGARIA, CROATIA, ROMANIA, SERBIA","NONCRUDE, TNONSPEC","$AA$35","=(VLOOKUP(\"OSNONSPEC\",RawData,AA$4,FALSE)-VLOOKUP($B35,RawData,AA$4,FALSE))*VLOOKUP(AA$3,ConversionFactors,2,FALSE)/MJ_per_toe","=(VLOOKUP(\"OSNATGAS\",RawData,AA$4,FALSE)-VLOOKUP($B35,RawData,AA$4,FALSE))*VLOOKUP(AA$3,ConversionFactors,2,FALSE)/MJ_per_toe"]
[null,8,"ESTONIA","OILSHALE, TCOALLIQ","$V$31","=-VLOOKUP($B31,RawData,V$4,FALSE)*VLOOKUP(V$3,ConversionFactors,$D31,FALSE)/MJ_per_toe","=-VLOOKUP($B31,RawData,V$4,FALSE)*VLOOKUP(V$3,ConversionFactors,MATCH(\"NCOKEOVS\",CFHeadings,0),FALSE)/MJ_per_toe"]
[null,9,"UKRAINE","NONCRUDE, TCOALLIQ","$AA$31","=(VLOOKUP(\"OSCOAL\",RawData,AA$4,FALSE)-VLOOKUP($B31,RawData,AA$4,FALSE))*VLOOKUP(AA$3,ConversionFactors,2,FALSE)/MJ_per_toe","=-VLOOKUP($B31,RawData,AA$4,FALSE)*VLOOKUP(AA$3,ConversionFactors,2,FALSE)/MJ_per_toe"]
[null,9,"UKRAINE","NONCRUDE, TNONSPEC","$AA$35","=(VLOOKUP(\"OSNONSPEC\",RawData,AA$4,FALSE)-VLOOKUP($B35,RawData,AA$4,FALSE))*VLOOKUP(AA$3,ConversionFactors,2,FALSE)/MJ_per_toe","=(VLOOKUP(\"OSCOAL\",RawData,AA$4,FALSE)-VLOOKUP($B35,RawData,AA$4,FALSE))*VLOOKUP(AA$3,ConversionFactors,2,FALSE)/MJ_per_toe"]
[null,10,"LITHUANIA","ADDITIVE, INDPROD","$Z$5","=SUM(VLOOKUP($B5,RawData,Z$4,FALSE),VLOOKUP(\"OSCOAL\",RawData,Z$4,FALSE),VLOOKUP(\"OSNATGAS\",RawData,Z$4,FALSE),VLOOKUP(\"OSOIL\",RawData,Z$4,FALSE),VLOOKUP(\"OSRENEW\",RawData,Z$4,FALSE),VLOOKUP(\"OSNONSPEC\",RawData,Z$4,FALSE))*VLOOKUP(Z$3,ConversionFactors,$D5,FALSE)/MJ_per_toe","=SUM(VLOOKUP($B5,RawData,Z$4,FALSE),VLOOKUP(\"OSCOAL\",RawData,Z$4,FALSE),VLOOKUP(\"OSOIL\",RawData,Z$4,FALSE),VLOOKUP(\"OSRENEW\",RawData,Z$4,FALSE),VLOOKUP(\"OSNONSPEC\",RawData,Z$4,FALSE))*VLOOKUP(Z$3,ConversionFactors,$D5,FALSE)/MJ_per_toe"]
[null,10,"LITHUANIA","ADDITIVE, TNONSPEC","$Z$35","=-VLOOKUP($B35,RawData,Z$4,FALSE)*VLOOKUP(Z$3,ConversionFactors,2,FALSE)/MJ_per_toe","=VLOOKUP(\"OSNATGAS\",RawData,Z$4,FALSE)*VLOOKUP(Z$3,ConversionFactors,2,FALSE)/MJ_per_toe"]
[null,11,"BELGIUM, CANADA, CHILE, CZECH REPUBLIC, DENMARK, FINLAND, FRANCE, GERMANY, ISRAEL, ITALY, JAPAN, NEW ZEALAND, NORWAY, POLAND, SLOVAK REPUBLIC, SPAIN, SWITZERLAND, UNITED STATES, LATVIA, RUSSIAN FEDERATION","OTHER, MAINELEC","$BL$15","=-VLOOKUP(\"ELMAINE\",RawData,BL$4,FALSE)*GWh_to_ktoe",0]
[null,11,"BELGIUM, CANADA, CHILE, CZECH REPUBLIC, DENMARK, FINLAND, FRANCE, GERMANY, ISRAEL, ITALY, JAPAN, NEW ZEALAND, NORWAY, POLAND, SLOVAK REPUBLIC, SPAIN, SWITZERLAND, UNITED STATES, LATVIA, RUSSIAN FEDERATION","OTHER, AUTOELEC","$BL$16","=-VLOOKUP(\"ELAUTOE\",RawData,BL$4,FALSE)*GWh_to_ktoe",0]
[null,11,"BELGIUM, CANADA, CHILE, CZECH REPUBLIC, DENMARK, FINLAND, FRANCE, GERMANY, ISRAEL, ITALY, JAPAN, NEW ZEALAND, NORWAY, POLAND, SLOVAK REPUBLIC, SPAIN, SWITZERLAND, UNITED STATES, LATVIA, RUSSIAN FEDERATION","OTHER, MAINCHP","$BL$17","=-VLOOKUP(\"ELMAINC\",RawData,BL$4,FALSE)*GWh_to_ktoe-VLOOKUP(\"HEMAINC\",RawData,BL$4,FALSE)*TJ_to_ktoe",0]
[null,11,"BELGIUM, CANADA, CHILE, CZECH REPUBLIC, DENMARK, FINLAND, FRANCE, GERMANY, ISRAEL, ITALY, JAPAN, NEW ZEALAND, NORWAY, POLAND, SLOVAK REPUBLIC, SPAIN, SWITZERLAND, UNITED STATES, LATVIA, RUSSIAN FEDERATION","OTHER, AUTOCHP","$BL$18","=-VLOOKUP(\"ELAUTOC\",RawData,BL$4,FALSE)*GWh_to_ktoe-VLOOKUP(\"HEAUTOC\",RawData,BL$4,FALSE)*TJ_to_ktoe",0]
[null,11,"BELGIUM, CANADA, CHILE, CZECH REPUBLIC, DENMARK, FINLAND, FRANCE, GERMANY, ISRAEL, ITALY, JAPAN, NEW ZEALAND, NORWAY, POLAND, SLOVAK REPUBLIC, SPAIN, SWITZERLAND, UNITED STATES, LATVIA, RUSSIAN FEDERATION","OTHER, MAINHEAT","$BL$19","=-VLOOKUP(\"HEMAINH\",RawData,BL$4,FALSE)*TJ_to_ktoe",0]
[null,11,"BELGIUM, CANADA, CHILE, CZECH REPUBLIC, DENMARK, FINLAND, FRANCE, GERMANY, ISRAEL, ITALY, JAPAN, NEW ZEALAND, NORWAY, POLAND, SLOVAK REPUBLIC, SPAIN, SWITZERLAND, UNITED STATES, LATVIA, RUSSIAN FEDERATION","OTHER, AUTOHEAT","$BL$20","=-VLOOKUP(\"HEAUTOH\",RawData,BL$4,FALSE)*TJ_to_ktoe",0]
[null,12,"SWEDEN","HEAT, THEAT","$BN$21","=VLOOKUP($B21,RawData,MATCH(\"ELECTR\",RawDataHeadings,0),FALSE)*GWh_to_ktoe","=(VLOOKUP(\"HEATOUT\",RawData,MATCH(\"HEATPUMP\",RawDataHeadings,0),FALSE)*TJ_to_ktoe-VLOOKUP(\"THEAT\",RawData,MATCH(\"ELECTR\",RawDataHeadings,0),FALSE)*GWh_to_ktoe)*0.21+VLOOKUP(\"THEAT\",RawData,MATCH(\"ELECTR\",RawDataHeadings,0),FALSE)*GWh_to_ktoe"]
[null,12,"SWEDEN","HEAT, INDPROD","$BN$5","=(VLOOKUP(\"HEATOUT\",RawData,MATCH(\"HEATPUMP\",RawDataHeadings,0),FALSE)+VLOOKUP(\"HEATOUT\",RawData,MATCH(\"CHEMHEAT\",RawDataHeadings,0),FALSE))*TJ_to_ktoe-VLOOKUP(\"THEAT\",RawData,MATCH(\"ELECTR\",RawDataHeadings,0),FALSE)*GWh_to_ktoe","=(VLOOKUP(\"HEATOUT\",RawData,MATCH(\"HEATPUMP\",RawDataHeadings,0),FALSE)*TJ_to_ktoe-VLOOKUP(\"THEAT\",RawData,MATCH(\"ELECTR\",RawDataHeadings,0),FALSE)*GWh_to_ktoe)*0.79+VLOOKUP(\"HEATOUT\",RawData,MATCH(\"CHEMHEAT\",RawDataHeadings,0),FALSE)*TJ_to_ktoe"]
[null,13,"BAHRAIN","REFFEEDS,TPETCHEM","$Y$28","=VLOOKUP(\"OSOIL\",RawData,Y$4,FALSE)*VLOOKUP(Y$3,ConversionFactors,2,FALSE)/MJ_per_toe","=-VLOOKUP($B28,RawData,Y$4,FALSE)*VLOOKUP(Y$3,ConversionFactors,2,FALSE)/MJ_per_toe"]
[null,13,"BAHRAIN","REFFEEDS,TNONSPEC","$Y$35","=-VLOOKUP($B35,RawData,Y$4,FALSE)*VLOOKUP(Y$3,ConversionFactors,2,FALSE)/MJ_per_toe","=VLOOKUP(\"OSOIL\",RawData,Y$4,FALSE)*VLOOKUP(Y$3,ConversionFactors,2,FALSE)/MJ_per_toe"]
[null,14,"HUNGARY","HEAT, INDPROD","$BN$5","=(VLOOKUP(\"HEATOUT\",RawData,MATCH(\"HEATPUMP\",RawDataHeadings,0),FALSE)+VLOOKUP(\"HEATOUT\",RawData,MATCH(\"CHEMHEAT\",RawDataHeadings,0),FALSE))*TJ_to_ktoe-VLOOKUP(\"THEAT\",RawData,MATCH(\"ELECTR\",RawDataHeadings,0),FALSE)*GWh_to_ktoe",0]
[null,15,"FINLAND","OGASES, TBLASTFUR","$R$27","=SUM(VLOOKUP($B5,RawData,R$4,FALSE),VLOOKUP(\"OSNATGAS\",RawData,R$4,FALSE),VLOOKUP(\"OSOIL\",RawData,R$4,FALSE),VLOOKUP(\"OSRENEW\",RawData,R$4,FALSE),VLOOKUP(\"OSNONSPEC\",RawData,R$4,FALSE),-VLOOKUP($B27,RawData,R$4,FALSE))*VLOOKUP(R$3,ConversionFactors,2,FALSE)*TJ_to_ktoe",0]
[null,15,"FINLAND","OGASES, TNONSPEC","$R$35","=-VLOOKUP($B35,RawData,R$4,FALSE)*VLOOKUP(R$3,ConversionFactors,2,FALSE)*TJ_to_ktoe","=SUM(VLOOKUP($B5,RawData,R$4,FALSE),VLOOKUP(\"OSNATGAS\",RawData,R$4,FALSE),VLOOKUP(\"OSOIL\",RawData,R$4,FALSE),VLOOKUP(\"OSRENEW\",RawData,R$4,FALSE),VLOOKUP(\"OSNONSPEC\",RawData,R$4,FALSE),-VLOOKUP($B27,RawData,R$4,FALSE))*VLOOKUP(R$3,ConversionFactors,2,FALSE)*TJ_to_ktoe"]

{"sheet":"Data in physical units","index":7,"n_rows":118,"n_cols":68,"rows_kept":118,"cut":false,"hidden":false,"merged":[[1,18,2,18],[1,54,1,67],[1,43,1,53],[1,2,1,11],[1,17,2,17],[1,12,1,16],[1,20,1,24],[1,25,1,41],[1,42,2,42],[1,19,2,19]]}
[{"$f":"HLOOKUP(LangChoice,Definitions_ProdLang!$M$2:$P$30,3)","v":"Data in physical units"}]
[null,null,{"$f":"'Published Balance'!$B$6& \" (\"&INDEX(Definitions_ProdLang!$I$3:$K$75,MATCH(C$4,Definitions_ProdLang!$B$3:$B$75,0),MATCH(LangChoice,Definitions_ProdLang!$I$2:$K$2,0)) & \")\"","v":"Coal (kt)"},null,null,null,null,null,null,null,null,null,{"$f":"HLOOKUP(LangChoice,Definitions_ProdLang!$M$2:$P$30,2)& \" (\"&INDEX(Definitions_ProdLang!$I$3:$K$75,MATCH(M$4,Definitions_ProdLang!$B$3:$B$75,0),MATCH(LangChoice,Definitions_ProdLang!$I$2:$K$2,0)) & \")\"","v":"Coal gases (TJ-gross)"},null,null,null,null,{"$f":"PEAT&CHAR(10) & \"(\"&INDEX(Definitions_ProdLang!$I$3:$K$75,MATCH(R$4,Definitions_ProdLang!$B$3:$B$75,0),MATCH(LangChoice,Definitions_ProdLang!$I$2:$K$2,0)) & \")\"","v":"Peat\n(kt)"},{"$f":"PEATPROD&CHAR(10) & \"(\"&INDEX(Definitions_ProdLang!$I$3:$K$75,MATCH(S$4,Definitions_ProdLang!$B$3:$B$75,0),MATCH(LangChoice,Definitions_ProdLang!$I$2:$K$2,0)) & \")\"","v":"Peat products\n(kt)"},{"$f":"OILSHALE&CHAR(10) & \"(\"&INDEX(Definitions_ProdLang!$I$3:$K$75,MATCH(T$4,Definitions_ProdLang!$B$3:$B$75,0),MATCH(LangChoice,Definitions_ProdLang!$I$2:$K$2,0)) & \")\"","v":"Oil shale and oil sands\n(kt)"},{"$f":"'Balance Summary'!$AH$4& \" (\"&INDEX(Definitions_ProdLang!$I$3:$K$75,MATCH(U$4,Definitions_ProdLang!$B$3:$B$75,0),MATCH(LangChoice,Definitions_ProdLang!$I$2:$K$2,0)) & \")\"","v":"Oil (kt)"},null,null,null,null,{"$f":"HLOOKUP(LangChoice,Definitions_ProdLang!$C$2:$E$75,Definitions_ProdLang!$A29+1,FALSE)& \" (\"&INDEX(Definitions_ProdLang!$I$3:$K$75,MATCH(Z$4,Definitions_ProdLang!$B$3:$B$75,0),MATCH(LangChoice,Definitions_ProdLang!$I$2:$K$2,0)) & \")\"","v":"Oil products (kt)"},null,null,null,null,null,null,null,null,null,null,null,null,null,null,null,null,{"$f":"NATGAS&CHAR(10) & \"(\"&INDEX(Definitions_ProdLang!$I$3:$K$75,MATCH(AQ$4,Definitions_ProdLang!$B$3:$B$75,0),MATCH(LangChoice,Definitions_ProdLang!$I$2:$K$2,0)) & \")\"","v":"Natural gas\n(TJ-gross)"},{"$f":"HLOOKUP(LangChoice,Definitions_ProdLang!$C$2:$E$75,Definitions_ProdLang!$A49+1,FALSE)","v":"Biofuels and waste"},null,null,null,null,null,null,null,null,null,null,{"$f":"HLOOKUP(LangChoice,Definitions_ProdLang!$C$2:$E$75,Definitions_ProdLang!$A61+1,FALSE)","v":"Electricity and heat"}]
[{"$f":"CountryName &\", \"&DataYear","v":"Statisland, 2023"},null,{"$f":"ANTCOAL","v":"Anthracite"},{"$f":"COKCOAL","v":"Coking coal"},{"$f":"BITCOAL","v":"Other bituminous coal"},{"$f":"SUBCOAL","v":"Sub-bituminous coal"},{"$f":"LIGNITE","v":"Lignite"},{"$f":"PATFUEL","v":"Patent fuel"},{"$f":"OVENCOKE","v":"Coke oven coke"},{"$f":"GASCOKE","v":"Gas coke"},{"$f":"COALTAR","v":"Coal tar"},{"$f":"BKB","v":"BKB (Brown coal briquettes)"},{"$f":"GASWKSGS","v":"Gas works gas"},{"$f":"COKEOVGS","v":"Coke oven gas"},{"$f":"BLFURGS","v":"Blast furnace gas"},{"$f":"OGASES","v":"Other recovered gases"},{"$f":"MANGAS","v":"Elec/heat output from non-spec. manufactured gases"},null,null,null,{"$f":"CRUDEOIL","v":"Crude oil"},{"$f":"NGL","v":"Natural gas liquids (NGL)"},{"$f":"REFFEEDS","v":"Refinery feedstocks"},{"$f":"ADDITIVE","v":"Additives/ blending components"},{"$f":"NONCRUDE","v":"Other hydro-carbons"},{"$f":"REFINGAS","v":"Refinery gas"},{"$f":"ETHANE","v":"Ethane"},{"$f":"LPG","v":"Liquefied petroleum gases (LPG)"},{"$f":"NONBIOGASO","v":"Motor gasoline excl. biofuels"},{"$f":"AVGAS","v":"Aviation gasoline"},{"$f":"JETGAS","v":"Gasoline type jet fuel"},{"$f":"NONBIOJETK","v":"Kerosene type jet fuel excl. biofuels"},{"$f":"OTHKERO","v":"Other kerosene"},{"$f":"NONBIODIES","v":"Gas/diesel oil excluding biofuels"},{"$f":"RESFUEL","v":"Fuel oil"},{"$f":"NAPHTHA","v":"Naphtha"},{"$f":"WHITESP","v":"White spirit & SBP"},{"$f":"LUBRIC","v":"Lubricants"},{"$f":"BITUMEN","v":"Bitumen"},{"$f":"PARWAX","v":"Paraffin waxes"},{"$f":"PETCOKE","v":"Petroleum coke"},{"$f":"ONONSPEC","v":"Non-specified oil products"},null,{"$f":"INDWASTE&CHAR(10) & \"(\"&INDEX(Definitions_ProdLang!$I$3:$K$75,MATCH(AR$4,Definitions_ProdLang!$B$3:$B$75,0),MATCH(LangChoice,Definitions_ProdLang!$I$2:$K$2,0)) & \")\"","v":"Industrial waste\n(TJ-net)"},{"$f":"MUNWASTER&CHAR(10) & \"(\"&INDEX(Definitions_ProdLang!$I$3:$K$75,MATCH(AS$4,Definitions_ProdLang!$B$3:$B$75,0),MATCH(LangChoice,Definitions_ProdLang!$I$2:$K$2,0)) & \")\"","v":"Municipal waste (renewable)\n(TJ-net)"},{"$f":"MUNWASTEN&CHAR(10) & \"(\"&INDEX(Definitions_ProdLang!$I$3:$K$75,MATCH(AT$4,Definitions_ProdLang!$B$3:$B$75,0),MATCH(LangChoice,Definitions_ProdLang!$I$2:$K$2,0)) & \")\"","v":"Municipal waste (non-renewable)\n(TJ-net)"},{"$f":"PRIMSBIO&CHAR(10) & \"(\"&INDEX(Definitions_ProdLang!$I$3:$K$75,MATCH(AU$4,Definitions_ProdLang!$B$3:$B$75,0),MATCH(LangChoice,Definitions_ProdLang!$I$2:$K$2,0)) & \")\"","v":"Primary solid biofuels\n(TJ-net)"},{"$f":"BIOGASES&CHAR(10) & \"(\"&INDEX(Definitions_ProdLang!$I$3:$K$75,MATCH(AV$4,Definitions_ProdLang!$B$3:$B$75,0),MATCH(LangChoice,Definitions_ProdLang!$I$2:$K$2,0)) & \")\"","v":"Biogases\n(TJ-net)"},{"$f":"BIOGASOL&CHAR(10) & \"(\"&INDEX(Definitions_ProdLang!$I$3:$K$75,MATCH(AW$4,Definitions_ProdLang!$B$3:$B$75,0),MATCH(LangChoice,Definitions_ProdLang!$I$2:$K$2,0)) & \")\"","v":"Biogasoline\n(kt)"},{"$f":"BIOJETKERO&CHAR(10) & \"(\"&INDEX(Definitions_ProdLang!$I$3:$K$75,MATCH(AX$4,Definitions_ProdLang!$B$3:$B$75,0),MATCH(LangChoice,Definitions_ProdLang!$I$2:$K$2,0)) & \")\"","v":"Bio jet kerosene\n(kt)"},{"$f":"BIODIESEL&CHAR(10) & \"(\"&INDEX(Definitions_ProdLang!$I$3:$K$75,MATCH(AY$4,Definitions_ProdLang!$B$3:$B$75,0),MATCH(LangChoice,Definitions_ProdLang!$I$2:$K$2,0)) & \")\"","v":"Biodiesels\n(kt)"},{"$f":"OBIOLIQ&CHAR(10) & \"(\"&INDEX(Definitions_ProdLang!$I$3:$K$75,MATCH(AZ$4,Definitions_ProdLang!$B$3:$B$75,0),MATCH(LangChoice,Definitions_ProdLang!$I$2:$K$2,0)) & \")\"","v":"Other liquid biofuels\n(kt)"},{"$f":"RENEWNS&CHAR(10) & \"(\"&INDEX(Definitions_ProdLang!$I$3:$K$75,MATCH(BA$4,Definitions_ProdLang!$B$3:$B$75,0),MATCH(LangChoice,Definitions_ProdLang!$I$2:$K$2,0)) & \")\"","v":"Non-specified primary biofuels/ waste\n(TJ-net)"},{"$f":"CHARCOAL&CHAR(10) & \"(\"&INDEX(Definitions_ProdLang!$I$3:$K$75,MATCH(BB$4,Definitions_ProdLang!$B$3:$B$75,0),MATCH(LangChoice,Definitions_ProdLang!$I$2:$K$2,0)) & \")\"","v":"Charcoal\n(kt)"},{"$f":"NUCLEAR&CHAR(10) & \"(\"&INDEX(Definitions_ProdLang!$I$3:$K$75,MATCH(BC$4,Definitions_ProdLang!$B$3:$B$75,0),MATCH(LangChoice,Definitions_ProdLang!$I$2:$K$2,0)) & \")\"","v":"Nuclear\n(GWh)"},{"$f":"HYDRO&CHAR(10) & \"(\"&INDEX(Definitions_ProdLang!$I$3:$K$75,MATCH(BD$4,Definitions_ProdLang!$B$3:$B$75,0),MATCH(LangChoice,Definitions_ProdLang!$I$2:$K$2,0)) & \")\"","v":"Hydro\n(GWh)"},{"$f":"GEOTHERM&CHAR(10) & \"(\"&INDEX(Definitions_ProdLang!$I$3:$K$75,MATCH(BE$4,Definitions_ProdLang!$B$3:$B$75,0),MATCH(LangChoice,Definitions_ProdLang!$I$2:$K$2,0)) & \")\"","v":"Geothermal\n(TJ)"},{"$f":"SOLARPV&CHAR(10) & \"(\"&INDEX(Definitions_ProdLang!$I$3:$K$75,MATCH(BF$4,Definitions_ProdLang!$B$3:$B$75,0),MATCH(LangChoice,Definitions_ProdLang!$I$2:$K$2,0)) & \")\"","v":"Solar photovoltaic\n(GWh)"},{"$f":"SOLARTH&CHAR(10) & \"(\"&INDEX(Definitions_ProdLang!$I$3:$K$75,MATCH(BG$4,Definitions_ProdLang!$B$3:$B$75,0),MATCH(LangChoice,Definitions_ProdLang!$I$2:$K$2,0)) & \")\"","v":"Solar thermal\n(TJ)"},{"$f":"TIDE&CHAR(10) & \"(\"&INDEX(Definitions_ProdLang!$I$3:$K$75,MATCH(BH$4,Definitions_ProdLang!$B$3:$B$75,0),MATCH(LangChoice,Definitions_ProdLang!$I$2:$K$2,0)) & \")\"","v":"Tide/ wave/ ocean\n(GWh)"},{"$f":"WIND&CHAR(10) & \"(\"&INDEX(Definitions_ProdLang!$I$3:$K$75,MATCH(BI$4,Definitions_ProdLang!$B$3:$B$75,0),MATCH(LangChoice,Definitions_ProdLang!$I$2:$K$2,0)) & \")\"","v":"Wind\n(GWh)"},{"$f":"HEATPUMP&CHAR(10) & \"(\"&INDEX(Definitions_ProdLang!$I$3:$K$75,MATCH(BJ$4,Definitions_ProdLang!$B$3:$B$75,0),MATCH(LangChoice,Definitions_ProdLang!$I$2:$K$2,0)) & \")\"","v":"Heat pumps\n(TJ)"},{"$f":"BOILER&CHAR(10) & \"(\"&INDEX(Definitions_ProdLang!$I$3:$K$75,MATCH(BK$4,Definitions_ProdLang!$B$3:$B$75,0),MATCH(LangChoice,Definitions_ProdLang!$I$2:$K$2,0)) & \")\"","v":"Electric boilers\n(TJ)"},{"$f":"CHEMHEAT&CHAR(10) & \"(\"&INDEX(Definitions_ProdLang!$I$3:$K$75,MATCH(BL$4,Definitions_ProdLang!$B$3:$B$75,0),MATCH(LangChoice,Definitions_ProdLang!$I$2:$K$2,0)) & \")\"","v":"Heat from chemical sources\n(TJ)"},{"$f":"OTHER&CHAR(10) & \"(\"&INDEX(Definitions_ProdLang!$I$3:$K$75,MATCH(BM$4,Definitions_ProdLang!$B$3:$B$75,0),MATCH(LangChoice,Definitions_ProdLang!$I$2:$K$2,0)) & \")\"","v":"Other sources\n(GWh)"},{"$f":"ELECTR&CHAR(10) & \"(\"&INDEX(Definitions_ProdLang!$I$3:$K$75,MATCH(BN$4,Definitions_ProdLang!$B$3:$B$75,0),MATCH(LangChoice,Definitions_ProdLang!$I$2:$K$2,0)) & \")\"","v":"Electricity\n(GWh)"},{"$f":"HEAT&CHAR(10) & \"(\"&INDEX(Definitions_ProdLang!$I$3:$K$75,MATCH(BO$4,Definitions_ProdLang!$B$3:$B$75,0),MATCH(LangChoice,Definitions_ProdLang!$I$2:$K$2,0)) & \")\"","v":"Heat\n(TJ)"},{"$f":"HEATNS& \" (\"&INDEX(Definitions_ProdLang!$I$3:$K$75,MATCH(BP$4,Definitions_ProdLang!$B$3:$B$75,0),MATCH(LangChoice,Definitions_ProdLang!$I$2:$K$2,0)) & \")\"","v":"Heat output from non-specified combustible fuels (TJ)"}]
[null,"SHORT NAMES","ANTCOAL","COKCOAL","BITCOAL","SUBCOAL","LIGNITE","PATFUEL","OVENCOKE","GASCOKE","COALTAR","BKB","GASWKSGS","COKEOVGS","BLFURGS","OGASES","MANGAS","PEAT","PEATPROD","OILSHALE","CRUDEOIL","NGL","REFFEEDS","ADDITIVE","NONCRUDE","REFINGAS","ETHANE","LPG","NONBIOGASO","AVGAS","JETGAS","NONBIOJETK","OTHKERO","NONBIODIES","RESFUEL","NAPHTHA","WHITESP","LUBRIC","BITUMEN","PARWAX","PETCOKE","ONONSPEC","NATGAS","INDWASTE","MUNWASTER","MUNWASTEN","PRIMSBIO","BIOGASES","BIOGASOL","BIOJETKERO","BIODIESEL","OBIOLIQ","RENEWNS","CHARCOAL","NUCLEAR","HYDRO","GEOTHERM","SOLARPV","SOLARTH","TIDE","WIND","HEATPUMP","BOILER","CHEMHEAT","OTHER","ELECTR","HEAT","HEATNS"]
[{"$f":"INDPROD","v":"Production"},"INDPROD",0,0,0,0,0,0,0,0,0,0,0,0,0,0,0,0,0,0,1100,0,0,0,0,0,0,0,0,0,0,0,0,500,0,0,0,0,0,0,0,0,0,0,0,0,62.5,0,0,0,1.5,0,0,0,0,0,0,0,0,0,0,0,0,0,0,10499,0,0]
[{"$f":"HLOOKUP(LangChoice,Definitions_FlowLang!$C$2:$E$112,MATCH($B6,Definitions_FlowLang!$B$2:$B$112,0),FALSE)","v":"From other sources - coal                    "},"OSCOAL",0,0,0,0,0,0,0,0,0,0,0,0,0,0,0,0,0,0,0,0,0,0,0,0,0,0,0,0,0,0,0,0,0,0,0,0,0,0,0,0,0,0,0,0,0,0,0,0,0,0,0,0,0,0,0,0,0,0,0,0,0,0,0,0,0,0]
[{"$f":"HLOOKUP(LangChoice,Definitions_FlowLang!$C$2:$E$112,MATCH($B7,Definitions_FlowLang!$B$2:$B$112,0),FALSE)","v":"From other sources - natural gas             "},"OSNATGAS",0,0,0,0,0,0,0,0,0,0,0,0,0,0,0,0,0,0,0,0,0,0,0,0,0,0,0,0,0,0,0,0,0,0,0,0,0,0,0,0,0,0,0,0,0,0,0,0,0,0,0,0,0,0,0,0,0,0,0,0,0,0,0,0,0,0]
[{"$f":"HLOOKUP(LangChoice,Definitions_FlowLang!$C$2:$E$112,MATCH($B8,Definitions_FlowLang!$B$2:$B$112,0),FALSE)","v":"From other sources - oil products            "},"OSOIL",0,0,0,0,0,0,0,0,0,0,0,0,0,0,0,0,0,0,0,0,0,0,0,0,0,0,0,0,0,0,0,0,0,0,0,0,0,0,0,0,0,0,0,0,0,0,0,0,0,0,0,0,0,0,0,0,0,0,0,0,0,0,0,0,0,0]
[{"$f":"HLOOKUP(LangChoice,Definitions_FlowLang!$C$2:$E$112,MATCH($B9,Definitions_FlowLang!$B$2:$B$112,0),FALSE)","v":"From other sources - renewables              "},"OSRENEW",0,0,0,0,0,0,0,0,0,0,0,0,0,0,0,0,0,0,0,0,0,0,0,0,0,0,0,0,0,0,0,0,0,0,0,0,0,0,0,0,0,0,0,0,0,0,0,0,0,0,0,0,0,0,0,0,0,0,0,0,0,0,0,0,0,0]
[{"$f":"HLOOKUP(LangChoice,Definitions_FlowLang!$C$2:$E$112,MATCH($B10,Definitions_FlowLang!$B$2:$B$112,0),FALSE)","v":"From other sources - non-specified           "},"OSNONSPEC",0,0,0,0,0,0,0,0,0,0,0,0,0,0,0,0,0,0,0,0,0,0,0,0,0,0,0,0,0,0,0,0,0,0,0,0,0,0,0,0,0,0,0,0,0,0,0,0,0,0,0,0,0,0,0,0,0,0,0,0,0,0,0,0,0,0]
[{"$f":"IMPORTS","v":"Imports"},"IMPORTS",0,0,0,0,0,0,0,0,0,0,0,0,0,0,0,0,0,0,0,0,0,0,0,0,0,0,0,0,0,0,0,2900,0,0,0,0,0,0,0,0,0,0,0,0,0,0,0,0,0,0,0,0,0,0,0,0,0,0,0,0,0,0,0,45,0,0]
[{"$f":"EXPORTS","v":"Exports"},"EXPORTS",0,0,0,0,0,0,0,0,0,0,0,0,0,0,0,0,0,0,700,0,0,0,0,0,0,0,0,0,0,0,0,0,0,0,0,0,0,0,0,0,0,0,0,0,0,0,0,0,0,0,0,0,0,0,0,0,0,0,0,0,0,0,0,-22,0,0]
[{"$f":"MARBUNK","v":"International marine bunkers"},"MARBUNK",0,0,0,0,0,0,0,0,0,0,0,0,0,0,0,0,0,0,0,0,0,0,0,0,0,0,0,0,0,0,0,-40,0,0,0,0,0,0,0,0,0,0,0,0,0,0,0,0,0,0,0,0,0,0,0,0,0,0,0,0,0,0,0,0,0,0]
[{"$f":"AVBUNK","v":"International aviation bunkers"},"AVBUNK",0,0,0,0,0,0,0,0,0,0,0,0,0,0,0,0,0,0,0,0,0,0,0,0,0,0,0,0,0,0,0,0,0,0,0,0,0,0,0,0,0,0,0,0,0,0,0,0,0,0,0,0,0,0,0,0,0,0,0,0,0,0,0,0,0,0]
[{"$f":"STOCKCHA","v":"Stock changes"},"STOCKCHA",0,0,0,0,0,0,0,0,0,0,0,0,0,0,0,0,0,0,120,0,0,0,0,0,0,0,0,0,0,0,0,-15,0,0,0,0,0,0,0,0,0,0,0,0,0,0,0,0,0,0,0,0,0,0,0,0,0,0,0,0,0,0,0,0,0,0]
[{"$f":"DOMSUP","v":"Domestic supply"},"DOMSUP",{"$f":"SUM(C5:C15)","v":0},0,0,0,0,0,0,0,0,0,0,0,0,0,0,0,0,0,1920,0,0,0,0,0,0,0,0,0,0,0,0,3345,{"$f":"SUM(AI5:AI15)","v":0},0,0,0,0,0,0,0,0,0,0,0,62.5,0,0,0,1.5,0,0,{"$f":"SUM(BB5:BB15)","v":0},0,0,{"$f":"SUM(BE5:BE15)","v":0},0,{"$f":"SUM(BG5:BG15)","v":0},0,0,0,0,0,0,{"$f":"BN5+BN11+BN12","v":10522},{"$f":"BO5+BO11+BO12","v":0},0]
[{"$f":"TRANSFER","v":"Transfers"},"TRANSFER",0,0,0,0,0,0,0,0,0,0,0,0,0,0,0,0,0,0,0,0,0,0,0,0,0,0,0,0,0,0,0,0,0,0,0,0,0,0,0,0,0,0,0,0,0,0,0,0,0,0,0,0,0,0,0,0,0,0,0,0,0,0,0,0,0,0]
[{"$f":"STATDIFF","v":"Statistical differences"},"STATDIFF",{"$f":"C19+C41+C59+C60-(C16+C17)","v":0},{"$f":"D19+D41+D59+D60-(D16+D17)","v":0},0,0,0,0,0,0,0,0,0,0,0,0,0,0,0,0,-1405,0,0,0,0,0,0,0,0,0,0,0,0,-110,0,0,0,0,0,0,0,0,0,0,0,0,0,0,0,0,0,0,0,0,0,0,0,0,0,0,0,0,0,0,0,0,0,0]
[{"$f":"TOTTRANF","v":"Transformation processes"},"TOTTRANF",{"$f":"SUM(C20:C40)","v":0},0,0,0,0,0,0,0,0,0,0,0,0,0,0,0,0,0,515,0,0,0,0,0,0,0,0,0,0,0,0,2700,{"$f":"SUM(AI20:AI40)","v":0},0,0,0,0,0,0,0,0,0,0,0,0,0,0,0,0,0,0,{"$f":"SUM(BB20:BB40)","v":0},0,0,{"$f":"SUM(BE20:BE40)","v":0},0,{"$f":"SUM(BG20:BG40)","v":0},0,0,0,0,0,0,{"$f":"SUM(BN20:BN40)","v":0},{"$f":"SUM(BO20:BO40)","v":0},0]
[{"$f":"MAINELEC","v":"Main activity electricity plants"},"MAINELEC",0,0,0,0,0,0,0,0,0,0,0,0,0,0,0,0,0,0,0,0,0,0,0,0,0,0,0,0,0,0,0,2300,0,0,0,0,0,0,0,0,0,0,0,0,0,0,0,0,0,0,0,0,0,0,0,0,0,0,0,0,0,0,0,0,0,0]
[{"$f":"AUTOELEC","v":"Autoproducer electricity plants"},"AUTOELEC",0,0,0,0,0,0,0,0,0,0,0,0,0,0,0,0,0,0,0,0,0,0,0,0,0,0,0,0,0,0,0,400,0,0,0,0,0,0,0,0,0,0,0,0,0,0,0,0,0,0,0,0,0,0,0,0,0,0,0,0,0,0,0,0,0,0]
[{"$f":"MAINCHP","v":"Main activity producer CHP plants"},"MAINCHP",0,0,0,0,0,0,0,0,0,0,0,0,0,0,0,0,0,0,0,0,0,0,0,0,0,0,0,0,0,0,0,0,0,0,0,0,0,0,0,0,0,0,0,0,0,0,0,0,0,0,0,0,0,0,0,0,0,0,0,0,0,0,0,0,0,0]
[{"$f":"AUTOCHP","v":"Autoproducer CHP plants"},"AUTOCHP",0,0,0,0,0,0,0,0,0,0,0,0,0,0,0,0,0,0,0,0,0,0,0,0,0,0,0,0,0,0,0,0,0,0,0,0,0,0,0,0,0,0,0,0,0,0,0,0,0,0,0,0,0,0,0,0,0,0,0,0,0,0,0,0,0,0]
[{"$f":"MAINHEAT","v":"Main activity producer heat plants"},"MAINHEAT",0,0,0,0,0,0,0,0,0,0,0,0,0,0,0,0,0,0,0,0,0,0,0,0,0,0,0,0,0,0,0,0,0,0,0,0,0,0,0,0,0,0,0,0,0,0,0,0,0,0,0,0,0,0,0,0,0,0,0,0,0,0,0,0,0,0]
[{"$f":"AUTOHEAT","v":"Autoproducer heat plants"},"AUTOHEAT",0,0,0,0,0,0,0,0,0,0,0,0,0,0,0,0,0,0,0,0,0,0,0,0,0,0,0,0,0,0,0,0,0,0,0,0,0,0,0,0,0,0,0,0,0,0,0,0,0,0,0,0,0,0,0,0,0,0,0,0,0,0,0,0,0,0]
[{"$f":"THEAT","v":"Heat pumps"},"THEAT",0,0,0,0,0,0,0,0,0,0,0,0,0,0,0,0,0,0,0,0,0,0,0,0,0,0,0,0,0,0,0,0,0,0,0,0,0,0,0,0,0,0,0,0,0,0,0,0,0,0,0,0,0,0,0,0,0,0,0,0,0,0,0,0,0,0]
[{"$f":"TBOILER","v":"Electric boilers"},"TBOILER",0,0,0,0,0,0,0,0,0,0,0,0,0,0,0,0,0,0,0,0,0,0,0,0,0,0,0,0,0,0,0,0,0,0,0,0,0,0,0,0,0,0,0,0,0,0,0,0,0,0,0,0,0,0,0,0,0,0,0,0,0,0,0,0,0,0]
[{"$f":"TELE","v":"Chemical heat for electricity production"},"TELE",0,0,0,0,0,0,0,0,0,0,0,0,0,0,0,0,0,0,0,0,0,0,0,0,0,0,0,0,0,0,0,0,0,0,0,0,0,0,0,0,0,0,0,0,0,0,0,0,0,0,0,0,0,0,0,0,0,0,0,0,0,0,0,0,0,0]
[{"$f":"TPATFUEL","v":"Patent fuel plants"},"TPATFUEL",0,0,0,0,0,0,0,0,0,0,0,0,0,0,0,0,0,0,0,0,0,0,0,0,0,0,0,0,0,0,0,0,0,0,0,0,0,0,0,0,0,0,0,0,0,0,0,0,0,0,0,0,0,0,0,0,0,0,0,0,0,0,0,0,0,0]
[{"$f":"TCOKEOVS","v":"Coke ovens"},"TCOKEOVS",0,0,0,0,0,0,0,0,0,0,0,0,0,0,0,0,0,0,0,0,0,0,0,0,0,0,0,0,0,0,0,0,0,0,0,0,0,0,0,0,0,0,0,0,0,0,0,0,0,0,0,0,0,0,0,0,0,0,0,0,0,0,0,0,0,0]
[{"$f":"TGASWKS","v":"Gas works"},"TGASWKS",0,0,0,0,0,0,0,0,0,0,0,0,0,0,0,0,0,0,0,0,0,0,0,0,0,0,0,0,0,0,0,0,0,0,0,0,0,0,0,0,0,0,0,0,0,0,0,0,0,0,0,0,0,0,0,0,0,0,0,0,0,0,0,0,0,0]
[{"$f":"TBLASTFUR","v":"Blast furnaces"},"TBLASTFUR",0,0,0,0,0,0,0,0,0,0,0,0,0,0,0,0,0,0,0,0,0,0,0,0,0,0,0,0,0,0,0,0,0,0,0,0,0,0,0,0,0,0,0,0,0,0,0,0,0,0,0,0,0,0,0,0,0,0,0,0,0,0,0,0,0,0]
[{"$f":"TPETCHEM","v":"Petrochemical plants"},"TPETCHEM",0,0,0,0,0,0,0,0,0,0,0,0,0,0,0,0,0,0,0,0,0,0,0,0,0,0,0,0,0,0,0,0,0,0,0,0,0,0,0,0,0,0,0,0,0,0,0,0,0,0,0,0,0,0,0,0,0,0,0,0,0,0,0,0,0,0]
[{"$f":"TBKB","v":"BKB / peat briquette plants"},"TBKB",0,0,0,0,0,0,0,0,0,0,0,0,0,0,0,0,0,0,0,0,0,0,0,0,0,0,0,0,0,0,0,0,0,0,0,0,0,0,0,0,0,0,0,0,0,0,0,0,0,0,0,0,0,0,0,0,0,0,0,0,0,0,0,0,0,0]
[{"$f":"TREFINER","v":"Oil refineries"},"TREFINER",0,0,0,0,0,0,0,0,0,0,0,0,0,0,0,0,0,0,515,0,0,0,0,0,0,0,0,0,0,0,0,0,0,0,0,0,0,0,0,0,0,0,0,0,0,0,0,0,0,0,0,0,0,0,0,0,0,0,0,0,0,0,0,0,0,0]
[{"$f":"TCOALLIQ","v":"Coal liquefaction plants"},"TCOALLIQ",0,0,0,0,0,0,0,0,0,0,0,0,0,0,0,0,0,0,0,0,0,0,0,0,0,0,0,0,0,0,0,0,0,0,0,0,0,0,0,0,0,0,0,0,0,0,0,0,0,0,0,0,0,0,0,0,0,0,0,0,0,0,0,0,0,0]
[{"$f":"TGTL","v":"Gas-to-liquids (GTL) plants"},"TGTL",0,0,0,0,0,0,0,0,0,0,0,0,0,0,0,0,0,0,0,0,0,0,0,0,0,0,0,0,0,0,0,0,0,0,0,0,0,0,0,0,0,0,0,0,0,0,0,0,0,0,0,0,0,0,0,0,0,0,0,0,0,0,0,0,0,0]
[{"$f":"TBLENDGAS","v":"For blended natural gas"},"TBLENDGAS",0,0,0,0,0,0,0,0,0,0,0,0,0,0,0,0,0,0,0,0,0,0,0,0,0,0,0,0,0,0,0,0,0,0,0,0,0,0,0,0,0,0,0,0,0,0,0,0,0,0,0,0,0,0,0,0,0,0,0,0,0,0,0,0,0,0]
[{"$f":"TCHARCOAL","v":"Charcoal production plants"},"TCHARCOAL",0,0,0,0,0,0,0,0,0,0,0,0,0,0,0,0,0,0,0,0,0,0,0,0,0,0,0,0,0,0,0,0,0,0,0,0,0,0,0,0,0,0,0,0,0,0,0,0,0,0,0,0,0,0,0,0,0,0,0,0,0,0,0,0,0,0]
[{"$f":"TNONSPEC","v":"Non-specified (transformation)"},"TNONSPEC",0,0,0,0,0,0,0,0,0,0,0,0,0,0,0,0,0,0,0,0,0,0,0,0,0,0,0,0,0,0,0,0,0,0,0,0,0,0,0,0,0,0,0,0,0,0,0,0,0,0,0,0,0,0,0,0,0,0,0,0,0,0,0,0,0,0]
[{"$f":"TOTENGY","v":"Energy industry own use"},"TOTENGY",{"$f":"SUM(C42:C58)","v":0},0,0,0,0,0,0,0,0,0,0,0,0,0,0,0,0,0,0,0,0,0,0,{"$f":"SUM(Z42:Z58)","v":0},0,0,0,0,0,0,0,0,0,0,0,0,0,0,0,0,0,0,0,0,0,0,0,0,0,0,0,{"$f":"SUM(BB42:BB58)","v":0},0,0,{"$f":"SUM(BE42:BE58)","v":0},0,{"$f":"SUM(BG42:BG58)","v":0},0,0,0,0,0,0,{"$f":"SUM(BN42:BN58)","v":300},{"$f":"SUM(BO42:BO58)","v":0},0]
[{"$f":"EMINES","v":"Coal mines"},"EMINES",0,0,0,0,0,0,0,0,0,0,0,0,0,0,0,0,0,0,0,0,0,0,0,0,0,0,0,0,0,0,0,0,0,0,0,0,0,0,0,0,0,0,0,0,0,0,0,0,0,0,0,0,0,0,0,0,0,0,0,0,0,0,0,0,0,0]
[{"$f":"EOILGASEX","v":"Oil and gas extraction"},"EOILGASEX",0,0,0,0,0,0,0,0,0,0,0,0,0,0,0,0,0,0,0,0,0,0,0,0,0,0,0,0,0,0,0,0,0,0,0,0,0,0,0,0,0,0,0,0,0,0,0,0,0,0,0,0,0,0,0,0,0,0,0,0,0,0,0,0,0,0]
[{"$f":"EPATFUEL","v":"Patent fuel plants"},"EPATFUEL",0,0,0,0,0,0,0,0,0,0,0,0,0,0,0,0,0,0,0,0,0,0,0,0,0,0,0,0,0,0,0,0,0,0,0,0,0,0,0,0,0,0,0,0,0,0,0,0,0,0,0,0,0,0,0,0,0,0,0,0,0,0,0,0,0,0]
[{"$f":"ECOKEOVS","v":"Coke ovens"},"ECOKEOVS",0,0,0,0,0,0,0,0,0,0,0,0,0,0,0,0,0,0,0,0,0,0,0,0,0,0,0,0,0,0,0,0,0,0,0,0,0,0,0,0,0,0,0,0,0,0,0,0,0,0,0,0,0,0,0,0,0,0,0,0,0,0,0,0,0,0]
[{"$f":"EGASWKS","v":"Gas works"},"EGASWKS",0,0,0,0,0,0,0,0,0,0,0,0,0,0,0,0,0,0,0,0,0,0,0,0,0,0,0,0,0,0,0,0,0,0,0,0,0,0,0,0,0,0,0,0,0,0,0,0,0,0,0,0,0,0,0,0,0,0,0,0,0,0,0,0,0,0]
[{"$f":"EBIOGAS","v":"Gasification plants for biogases"},"EBIOGAS",0,0,0,0,0,0,0,0,0,0,0,0,0,0,0,0,0,0,0,0,0,0,0,0,0,0,0,0,0,0,0,0,0,0,0,0,0,0,0,0,0,0,0,0,0,0,0,0,0,0,0,0,0,0,0,0,0,0,0,0,0,0,0,0,0,0]
[{"$f":"EBLASTFUR","v":"Blast furnaces"},"EBLASTFUR",0,0,0,0,0,0,0,0,0,0,0,0,0,0,0,0,0,0,0,0,0,0,0,0,0,0,0,0,0,0,0,0,0,0,0,0,0,0,0,0,0,0,0,0,0,0,0,0,0,0,0,0,0,0,0,0,0,0,0,0,0,0,0,0,0,0]
[{"$f":"EBKB","v":"BKB / peat briquette plants"},"EBKB",0,0,0,0,0,0,0,0,0,0,0,0,0,0,0,0,0,0,0,0,0,0,0,0,0,0,0,0,0,0,0,0,0,0,0,0,0,0,0,0,0,0,0,0,0,0,0,0,0,0,0,0,0,0,0,0,0,0,0,0,0,0,0,0,0,0]
[{"$f":"EREFINER","v":"Oil refineries"},"EREFINER",0,0,0,0,0,0,0,0,0,0,0,0,0,0,0,0,0,0,0,0,0,0,0,0,0,0,0,0,0,0,0,0,0,0,0,0,0,0,0,0,0,0,0,0,0,0,0,0,0,0,0,0,0,0,0,0,0,0,0,0,0,0,0,0,0,0]
[{"$f":"ECOALLIQ","v":"Coal liquefaction plants"},"ECOALLIQ",0,0,0,0,0,0,0,0,0,0,0,0,0,0,0,0,0,0,0,0,0,0,0,0,0,0,0,0,0,0,0,0,0,0,0,0,0,0,0,0,0,0,0,0,0,0,0,0,0,0,0,0,0,0,0,0,0,0,0,0,0,0,0,0,0,0]
[{"$f":"ELNG","v":"Liquefaction (LNG) / regasification plants"},"ELNG",0,0,0,0,0,0,0,0,0,0,0,0,0,0,0,0,0,0,0,0,0,0,0,0,0,0,0,0,0,0,0,0,0,0,0,0,0,0,0,0,0,0,0,0,0,0,0,0,0,0,0,0,0,0,0,0,0,0,0,0,0,0,0,0,0,0]
[{"$f":"EGTL","v":"Gas-to-liquids (GTL) plants"},"EGTL",0,0,0,0,0,0,0,0,0,0,0,0,0,0,0,0,0,0,0,0,0,0,0,0,0,0,0,0,0,0,0,0,0,0,0,0,0,0,0,0,0,0,0,0,0,0,0,0,0,0,0,0,0,0,0,0,0,0,0,0,0,0,0,0,0,0]
[{"$f":"EPOWERPLT","v":"Own use in electricity, CHP and heat plants"},"EPOWERPLT",0,0,0,0,0,0,0,0,0,0,0,0,0,0,0,0,0,0,0,0,0,0,0,0,0,0,0,0,0,0,0,0,0,0,0,0,0,0,0,0,0,0,0,0,0,0,0,0,0,0,0,0,0,0,0,0,0,0,0,0,0,0,0,300,0,0]
[{"$f":"EPUMPST","v":"Used for pumped storage"},"EPUMPST",0,0,0,0,0,0,0,0,0,0,0,0,0,0,0,0,0,0,0,0,0,0,0,0,0,0,0,0,0,0,0,0,0,0,0,0,0,0,0,0,0,0,0,0,0,0,0,0,0,0,0,0,0,0,0,0,0,0,0,0,0,0,0,0,0,0]
[{"$f":"ENUC","v":"Nuclear industry"},"ENUC",0,0,0,0,0,0,0,0,0,0,0,0,0,0,0,0,0,0,0,0,0,0,0,0,0,0,0,0,0,0,0,0,0,0,0,0,0,0,0,0,0,0,0,0,0,0,0,0,0,0,0,0,0,0,0,0,0,0,0,0,0,0,0,0,0,0]
[{"$f":"ECHARCOAL","v":"Charcoal production plants"},"ECHARCOAL",0,0,0,0,0,0,0,0,0,0,0,0,0,0,0,0,0,0,0,0,0,0,0,0,0,0,0,0,0,0,0,0,0,0,0,0,0,0,0,0,0,0,0,0,0,0,0,0,0,0,0,0,0,0,0,0,0,0,0,0,0,0,0,0,0,0]
[{"$f":"ENONSPEC","v":"Non-specified (Energy)"},"ENONSPEC",0,0,0,0,0,0,0,0,0,0,0,0,0,0,0,0,0,0,0,0,0,0,0,0,0,0,0,0,0,0,0,0,0,0,0,0,0,0,0,0,0,0,0,0,0,0,0,0,0,0,0,0,0,0,0,0,0,0,0,0,0,0,0,0,0,0]
[{"$f":"DISTLOSS","v":"Losses"},"DISTLOSS",0,0,0,0,0,0,0,0,0,0,0,0,0,0,0,0,0,0,0,0,0,0,0,0,0,0,0,0,0,0,0,0,0,0,0,0,0,0,0,0,0,0,0,0,0,0,0,0,0,0,0,0,0,0,0,0,0,0,0,0,0,0,0,1156,0,0]
[{"$f":"FINCONS","v":"Final consumption"},"FINCONS",{"$f":"C61+C75+C82+C88","v":0},0,0,0,0,0,0,0,0,0,0,0,0,0,0,0,0,0,0,0,0,0,0,{"$f":"Z61+Z75+Z82+Z88","v":0},0,0,0,0,0,0,0,535,0,0,0,0,0,0,0,0,0,0,0,0,62.5,0,0,0,1.5,0,0,{"$f":"BB61+BB75+BB82+BB88","v":0},0,0,{"$f":"BE61+BE75+BE82+BE88","v":0},0,{"$f":"BG61+BG75+BG82+BG88","v":0},0,0,0,0,0,0,{"$f":"BN61+BN75+BN82+BN88","v":9066},{"$f":"BO61+BO75+BO82+BO88","v":0},0]
[{"$f":"TOTIND","v":"Industry"},"TOTIND",{"$f":"SUM(C62:C74)","v":0},0,0,0,0,0,0,0,0,0,0,0,0,0,0,0,0,0,0,0,0,0,0,{"$f":"SUM(Z62:Z74)","v":0},0,0,0,0,0,0,0,0,0,0,0,0,0,0,0,0,0,0,0,0,0,0,0,0,0,0,0,{"$f":"SUM(BB62:BB74)","v":0},0,0,{"$f":"SUM(BE62:BE74)","v":0},0,{"$f":"SUM(BG62:BG74)","v":0},0,0,0,0,0,0,{"$f":"SUM(BN62:BN74)","v":4400},{"$f":"SUM(BO62:BO74)","v":0},0]
[{"$f":"IRONSTL","v":"Iron and steel"},"IRONSTL",0,0,0,0,0,0,0,0,0,0,0,0,0,0,0,0,0,0,0,0,0,0,0,0,0,0,0,0,0,0,0,0,0,0,0,0,0,0,0,0,0,0,0,0,0,0,0,0,0,0,0,0,0,0,0,0,0,0,0,0,0,0,0,0,0,0]
[{"$f":"CHEMICAL","v":"Chemical and petrochemical"},"CHEMICAL",0,0,0,0,0,0,0,0,0,0,0,0,0,0,0,0,0,0,0,0,0,0,0,0,0,0,0,0,0,0,0,0,0,0,0,0,0,0,0,0,0,0,0,0,0,0,0,0,0,0,0,0,0,0,0,0,0,0,0,0,0,0,0,0,0,0]
[{"$f":"NONFERR","v":"Non-ferrous metals"},"NONFERR",0,0,0,0,0,0,0,0,0,0,0,0,0,0,0,0,0,0,0,0,0,0,0,0,0,0,0,0,0,0,0,0,0,0,0,0,0,0,0,0,0,0,0,0,0,0,0,0,0,0,0,0,0,0,0,0,0,0,0,0,0,0,0,0,0,0]
[{"$f":"NONMET","v":"Non-metallic minerals"},"NONMET",0,0,0,0,0,0,0,0,0,0,0,0,0,0,0,0,0,0,0,0,0,0,0,0,0,0,0,0,0,0,0,0,0,0,0,0,0,0,0,0,0,0,0,0,0,0,0,0,0,0,0,0,0,0,0,0,0,0,0,0,0,0,0,0,0,0]
[{"$f":"TRANSEQ","v":"Transport equipment"},"TRANSEQ",0,0,0,0,0,0,0,0,0,0,0,0,0,0,0,0,0,0,0,0,0,0,0,0,0,0,0,0,0,0,0,0,0,0,0,0,0,0,0,0,0,0,0,0,0,0,0,0,0,0,0,0,0,0,0,0,0,0,0,0,0,0,0,0,0,0]
[{"$f":"MACHINE","v":"Machinery"},"MACHINE",0,0,0,0,0,0,0,0,0,0,0,0,0,0,0,0,0,0,0,0,0,0,0,0,0,0,0,0,0,0,0,0,0,0,0,0,0,0,0,0,0,0,0,0,0,0,0,0,0,0,0,0,0,0,0,0,0,0,0,0,0,0,0,0,0,0]
[{"$f":"MINING","v":"Mining and quarrying"},"MINING",0,0,0,0,0,0,0,0,0,0,0,0,0,0,0,0,0,0,0,0,0,0,0,0,0,0,0,0,0,0,0,0,0,0,0,0,0,0,0,0,0,0,0,0,0,0,0,0,0,0,0,0,0,0,0,0,0,0,0,0,0,0,0,0,0,0]
[{"$f":"FOODPRO","v":"Food, beverages and tobacco"},"FOODPRO",0,0,0,0,0,0,0,0,0,0,0,0,0,0,0,0,0,0,0,0,0,0,0,0,0,0,0,0,0,0,0,0,0,0,0,0,0,0,0,0,0,0,0,0,0,0,0,0,0,0,0,0,0,0,0,0,0,0,0,0,0,0,0,0,0,0]
[{"$f":"PAPERPRO","v":"Paper, pulp and print"},"PAPERPRO",0,0,0,0,0,0,0,0,0,0,0,0,0,0,0,0,0,0,0,0,0,0,0,0,0,0,0,0,0,0,0,0,0,0,0,0,0,0,0,0,0,0,0,0,0,0,0,0,0,0,0,0,0,0,0,0,0,0,0,0,0,0,0,0,0,0]
[{"$f":"WOODPRO","v":"Wood and wood products"},"WOODPRO",0,0,0,0,0,0,0,0,0,0,0,0,0,0,0,0,0,0,0,0,0,0,0,0,0,0,0,0,0,0,0,0,0,0,0,0,0,0,0,0,0,0,0,0,0,0,0,0,0,0,0,0,0,0,0,0,0,0,0,0,0,0,0,0,0,0]
[{"$f":"CONSTRUC","v":"Construction"},"CONSTRUC",0,0,0,0,0,0,0,0,0,0,0,0,0,0,0,0,0,0,0,0,0,0,0,0,0,0,0,0,0,0,0,0,0,0,0,0,0,0,0,0,0,0,0,0,0,0,0,0,0,0,0,0,0,0,0,0,0,0,0,0,0,0,0,0,0,0]
[{"$f":"TEXTILES","v":"Textiles and leather"},"TEXTILES",0,0,0,0,0,0,0,0,0,0,0,0,0,0,0,0,0,0,0,0,0,0,0,0,0,0,0,0,0,0,0,0,0,0,0,0,0,0,0,0,0,0,0,0,0,0,0,0,0,0,0,0,0,0,0,0,0,0,0,0,0,0,0,0,0,0]
[{"$f":"INONSPEC","v":"Non-specified (Industry)"},"INONSPEC",0,0,0,0,0,0,0,0,0,0,0,0,0,0,0,0,0,0,0,0,0,0,0,0,0,0,0,0,0,0,0,0,0,0,0,0,0,0,0,0,0,0,0,0,0,0,0,0,0,0,0,0,0,0,0,0,0,0,0,0,0,0,0,4400,0,0]
[{"$f":"TOTTRANS","v":"Transport"},"TOTTRANS",{"$f":"SUM(C76:C81)","v":0},0,0,0,0,0,0,0,0,0,0,0,0,0,0,0,0,0,0,0,0,0,0,{"$f":"SUM(Z76:Z81)","v":0},0,0,0,0,0,0,0,535,0,0,0,0,0,0,0,0,0,0,0,0,0,0,0,0,1.5,0,0,{"$f":"SUM(BB76:BB81)","v":0},0,0,{"$f":"SUM(BE76:BE81)","v":0},0,{"$f":"SUM(BG76:BG81)","v":0},0,0,0,0,0,0,{"$f":"SUM(BN76:BN81)","v":10},0,0]
[{"$f":"ROAD","v":"Road"},"ROAD",0,0,0,0,0,0,0,0,0,0,0,0,0,0,0,0,0,0,0,0,0,0,0,0,0,0,0,0,0,0,0,525,0,0,0,0,0,0,0,0,0,0,0,0,0,0,0,0,1.5,0,0,0,0,0,0,0,0,0,0,0,0,0,0,0,0,0]
[{"$f":"DOMESAIR","v":"Domestic aviation"},"DOMESAIR",0,0,0,0,0,0,0,0,0,0,0,0,0,0,0,0,0,0,0,0,0,0,0,0,0,0,0,0,0,0,0,0,0,0,0,0,0,0,0,0,0,0,0,0,0,0,0,0,0,0,0,0,0,0,0,0,0,0,0,0,0,0,0,0,0,0]
[{"$f":"RAIL","v":"Rail"},"RAIL",0,0,0,0,0,0,0,0,0,0,0,0,0,0,0,0,0,0,0,0,0,0,0,0,0,0,0,0,0,0,0,0,0,0,0,0,0,0,0,0,0,0,0,0,0,0,0,0,0,0,0,0,0,0,0,0,0,0,0,0,0,0,0,10,0,0]
[{"$f":"PIPELINE","v":"Pipeline transport"},"PIPELINE",0,0,0,0,0,0,0,0,0,0,0,0,0,0,0,0,0,0,0,0,0,0,0,0,0,0,0,0,0,0,0,0,0,0,0,0,0,0,0,0,0,0,0,0,0,0,0,0,0,0,0,0,0,0,0,0,0,0,0,0,0,0,0,0,0,0]
[{"$f":"DOMESNAV","v":"Domestic navigation"},"DOMESNAV",0,0,0,0,0,0,0,0,0,0,0,0,0,0,0,0,0,0,0,0,0,0,0,0,0,0,0,0,0,0,0,10,0,0,0,0,0,0,0,0,0,0,0,0,0,0,0,0,0,0,0,0,0,0,0,0,0,0,0,0,0,0,0,0,0,0]
[{"$f":"TRNONSPE","v":"Non-specified (transport)"},"TRNONSPE",0,0,0,0,0,0,0,0,0,0,0,0,0,0,0,0,0,0,0,0,0,0,0,0,0,0,0,0,0,0,0,0,0,0,0,0,0,0,0,0,0,0,0,0,0,0,0,0,0,0,0,0,0,0,0,0,0,0,0,0,0,0,0,0,0,0]
[{"$f":"TOTOTHER","v":"Other"},"TOTOTHER",{"$f":"SUM(C83:C87)","v":0},0,0,0,0,0,0,0,0,0,0,0,0,0,0,0,0,0,0,0,0,0,0,{"$f":"SUM(Z83:Z87)","v":0},0,0,0,0,0,0,0,0,0,0,0,0,0,0,0,0,0,0,0,0,62.5,0,0,0,0,0,0,{"$f":"SUM(BB83:BB87)","v":0},0,0,{"$f":"SUM(BE83:BE87)","v":0},0,{"$f":"SUM(BG83:BG87)","v":0},0,0,0,0,0,0,{"$f":"SUM(BN83:BN87)","v":4656},{"$f":"SUM(BO83:BO87)","v":0},0]
[{"$f":"RESIDENT","v":"Residential"},"RESIDENT",0,0,0,0,0,0,0,0,0,0,0,0,0,0,0,0,0,0,0,0,0,0,0,0,0,0,0,0,0,0,0,0,0,0,0,0,0,0,0,0,0,0,0,0,62.5,0,0,0,0,0,0,0,0,0,0,0,0,0,0,0,0,0,0,2251,0,0]
[{"$f":"COMMPUB","v":"Commercial and public services"},"COMMPUB",0,0,0,0,0,0,0,0,0,0,0,0,0,0,0,0,0,0,0,0,0,0,0,0,0,0,0,0,0,0,0,0,0,0,0,0,0,0,0,0,0,0,0,0,0,0,0,0,0,0,0,0,0,0,0,0,0,0,0,0,0,0,0,2305,0,0]
[{"$f":"AGRICULT","v":"Agriculture/forestry"},"AGRICULT",0,0,0,0,0,0,0,0,0,0,0,0,0,0,0,0,0,0,0,0,0,0,0,0,0,0,0,0,0,0,0,0,0,0,0,0,0,0,0,0,0,0,0,0,0,0,0,0,0,0,0,0,0,0,0,0,0,0,0,0,0,0,0,100,0,0]
[{"$f":"FISHING","v":"Fishing"},"FISHING",0,0,0,0,0,0,0,0,0,0,0,0,0,0,0,0,0,0,0,0,0,0,0,0,0,0,0,0,0,0,0,0,0,0,0,0,0,0,0,0,0,0,0,0,0,0,0,0,0,0,0,0,0,0,0,0,0,0,0,0,0,0,0,0,0,0]
[{"$f":"OTHNONSPEC","v":"Non-specified (other)"},"ONONSPEC",0,0,0,0,0,0,0,0,0,0,0,0,0,0,0,0,0,0,0,0,0,0,0,0,0,0,0,0,0,0,0,0,0,0,0,0,0,0,0,0,0,0,0,0,0,0,0,0,0,0,0,0,0,0,0,0,0,0,0,0,0,0,0,0,0,0]
[{"$f":"NONENUSE","v":"Non-energy use"},"NONENUSE",{"$f":"SUM(C89:C91)","v":0},0,0,0,0,0,0,0,0,0,0,0,0,0,0,0,0,0,0,0,0,0,0,{"$f":"SUM(Z89:Z91)","v":0},0,0,0,0,0,0,0,0,0,0,0,0,0,0,0,0,0,0,0,0,0,0,{"$f":"SUM(AW89:AW91)","v":0},{"$f":"SUM(AX89:AX91)","v":0},{"$f":"SUM(AY89:AY91)","v":0},{"$f":"SUM(AZ89:AZ91)","v":0},0,0,0,0,0,0,0,0,0,0,0,0,0,0,0,0]
[{"$f":"NEINTREN","v":"Non-energy use industry/transformation/energy"},"NEINTREN",0,0,0,0,0,0,0,0,0,0,0,0,0,0,0,0,0,0,0,0,0,0,0,0,0,0,0,0,0,0,0,0,0,0,0,0,0,0,0,0,0,0,0,0,0,0,0,0,0,0,0,0,0,0,0,0,0,0,0,0,0,0,0,0,0,0]
[{"$f":"NETRANS","v":"Non-energy use in transport"},"NETRANS",0,0,0,0,0,0,0,0,0,0,0,0,0,0,0,0,0,0,0,0,0,0,0,0,0,0,0,0,0,0,0,0,0,0,0,0,0,0,0,0,0,0,0,0,0,0,0,0,0,0,0,0,0,0,0,0,0,0,0,0,0,0,0,0,0,0]
[{"$f":"NEOTHER","v":"Non-energy use in other"},"NEOTHER",0,0,0,0,0,0,0,0,0,0,0,0,0,0,0,0,0,0,0,0,0,0,0,0,0,0,0,0,0,0,0,0,0,0,0,0,0,0,0,0,0,0,0,0,0,0,0,0,0,0,0,0,0,0,0,0,0,0,0,0,0,0,0,0,0,0]
[{"$f":"NECHEM","v":"Memo: Non-energy use chemical/petrochemical"},"NECHEM",0,0,0,0,0,0,0,0,0,0,0,0,0,0,0,0,0,0,0,0,0,0,0,0,0,0,0,0,0,0,0,0,0,0,0,0,0,0,0,0,0,0,0,0,0,0,0,0,0,0,0,0,0,0,0,0,0,0,0,0,0,0,0,0,0,0]
[{"$f":"ELOUTPUT","v":"Electricity output in GWh"},"ELOUTPUT",{"$f":"SUM(C94:C97)","v":0},0,0,0,0,0,0,0,0,0,0,0,0,0,0,0,0,0,0,0,0,0,0,{"$f":"SUM(Z94:Z97)","v":0},0,{"$f":"SUM(AB94:AB97)","v":0},0,0,0,{"$f":"SUM(AF94:AF97)","v":0},{"$f":"SUM(AG94:AG97)","v":0},{"$f":"SUM(AH94:AH97)","v":9850},{"$f":"SUM(AI94:AI97)","v":0},{"$f":"SUM(AJ94:AJ97)","v":0},0,0,{"$f":"SUM(AM94:AM97)","v":0},0,{"$f":"SUM(AO94:AO97)","v":0},0,0,0,0,0,0,0,0,0,0,{"$f":"SUM(AZ94:AZ97)","v":0},0,0,{"$f":"SUM(BC94:BC97)","v":0},600,0,19,0,0,30,0,0,{"$f":"SUM(BL94:BL97)","v":0},{"$f":"SUM(BM94:BM97)","v":0},{"$f":"SUM(BN94:BN97)","v":10499},0,0]
[{"$f":"HLOOKUP(LangChoice,Definitions_FlowLang!$C$2:$E$112,MATCH($B94,Definitions_FlowLang!$B$2:$B$112,0),FALSE)","v":"Elec output-main activity producer ele plants"},"ELMAINE",0,0,0,0,0,0,0,0,0,0,0,0,0,0,0,0,0,0,0,0,0,0,0,0,0,0,0,0,0,0,0,8700,0,0,0,0,0,0,0,0,0,0,0,0,0,0,0,0,0,0,0,0,0,600,0,19,0,0,30,0,0,0,0,9349,0,0]
[{"$f":"HLOOKUP(LangChoice,Definitions_FlowLang!$C$2:$E$112,MATCH($B95,Definitions_FlowLang!$B$2:$B$112,0),FALSE)","v":"Elec output-autoproducer electricity plants"},"ELAUTOE",0,0,0,0,0,0,0,0,0,0,0,0,0,0,0,0,0,0,0,0,0,0,0,0,0,0,0,0,0,0,0,1150,0,0,0,0,0,0,0,0,0,0,0,0,0,0,0,0,0,0,0,0,0,0,0,0,0,0,0,0,0,0,0,1150,0,0]
[{"$f":"HLOOKUP(LangChoice,Definitions_FlowLang!$C$2:$E$112,MATCH($B96,Definitions_FlowLang!$B$2:$B$112,0),FALSE)","v":"Elec output-main activity producer CHP plants"},"ELMAINC",0,0,0,0,0,0,0,0,0,0,0,0,0,0,0,0,0,0,0,0,0,0,0,0,0,0,0,0,0,0,0,0,0,0,0,0,0,0,0,0,0,0,0,0,0,0,0,0,0,0,0,0,0,0,0,0,0,0,0,0,0,0,0,0,0,0]
[{"$f":"HLOOKUP(LangChoice,Definitions_FlowLang!$C$2:$E$112,MATCH($B97,Definitions_FlowLang!$B$2:$B$112,0),FALSE)","v":"Elec output-autoproducer CHP plants"},"ELAUTOC",0,0,0,0,0,0,0,0,0,0,0,0,0,0,0,0,0,0,0,0,0,0,0,0,0,0,0,0,0,0,0,0,0,0,0,0,0,0,0,0,0,0,0,0,0,0,0,0,0,0,0,0,0,0,0,0,0,0,0,0,0,0,0,0,0,0]
[{"$f":"HLOOKUP(LangChoice,Definitions_FlowLang!$C$2:$E$112,MATCH($B98,Definitions_FlowLang!$B$2:$B$112,0),FALSE)","v":"Heat output-main activity producer CHP plants"},"HEMAINC",0,0,0,0,0,0,0,0,0,0,0,0,0,0,0,0,0,0,0,0,0,0,0,0,0,0,0,0,0,0,0,0,0,0,0,0,0,0,0,0,0,0,0,0,0,0,0,0,0,0,0,0,0,0,0,0,0,0,0,0,0,0,0,0,0,0]
[{"$f":"HLOOKUP(LangChoice,Definitions_FlowLang!$C$2:$E$112,MATCH($B99,Definitions_FlowLang!$B$2:$B$112,0),FALSE)","v":"Heat output-autoproducer CHP plants"},"HEAUTOC",0,0,0,0,0,0,0,0,0,0,0,0,0,0,0,0,0,0,0,0,0,0,0,0,0,0,0,0,0,0,0,0,0,0,0,0,0,0,0,0,0,0,0,0,0,0,0,0,0,0,0,0,0,0,0,0,0,0,0,0,0,0,0,0,0,0]
[{"$f":"HLOOKUP(LangChoice,Definitions_FlowLang!$C$2:$E$112,MATCH($B100,Definitions_FlowLang!$B$2:$B$112,0),FALSE)","v":"Heat output-main activity producer heat plant"},"HEMAINH",0,0,0,0,0,0,0,0,0,0,0,0,0,0,0,0,0,0,0,0,0,0,0,0,0,0,0,0,0,0,0,0,0,0,0,0,0,0,0,0,0,0,0,0,0,0,0,0,0,0,0,0,0,0,0,0,0,0,0,0,0,0,0,0,0,0]
[{"$f":"HLOOKUP(LangChoice,Definitions_FlowLang!$C$2:$E$112,MATCH($B101,Definitions_FlowLang!$B$2:$B$112,0),FALSE)","v":"Heat output-autoproducer heat plants"},"HEAUTOH",0,0,0,0,0,0,0,0,0,0,0,0,0,0,0,0,0,0,0,0,0,0,0,0,0,0,0,0,0,0,0,0,0,0,0,0,0,0,0,0,0,0,0,0,0,0,0,0,0,0,0,0,0,0,0,0,0,0,0,0,0,0,0,0,0,0]
[{"$f":"HEATOUT","v":"Heat output in TJ"},"HEATOUT",{"$f":"SUM(C98:C101)","v":0},0,0,0,0,0,0,0,0,0,0,0,0,0,0,0,0,0,0,0,0,0,0,{"$f":"SUM(Z98:Z101)","v":0},0,{"$f":"SUM(AB98:AB101)","v":0},0,0,0,{"$f":"SUM(AF98:AF101)","v":0},{"$f":"SUM(AG98:AG101)","v":0},{"$f":"SUM(AH98:AH101)","v":0},{"$f":"SUM(AI98:AI101)","v":0},{"$f":"SUM(AJ98:AJ101)","v":0},0,0,{"$f":"SUM(AM98:AM101)","v":0},0,{"$f":"SUM(AO98:AO101)","v":0},0,0,0,0,0,0,0,0,0,{"$f":"SUM(AY98:AY101)","v":0},{"$f":"SUM(AZ98:AZ101)","v":0},0,0,{"$f":"SUM(BC98:BC101)","v":0},0,{"$f":"SUM(BE98:BE101)","v":0},0,{"$f":"SUM(BG98:BG101)","v":0},0,0,{"$f":"SUM(BJ98:BJ101)","v":0},{"$f":"SUM(BK98:BK101)","v":0},{"$f":"SUM(BL98:BL101)","v":0},{"$f":"SUM(BM98:BM101)","v":0},0,{"$f":"SUM(BO98:BO101)","v":0},0]
["Memo: main activity producer - pumped hydro  ","MHYDPUMP",0,0,0,0,0,0,0,0,0,0,0,0,0,0,0,0,0,0,0,0,0,0,0,0,0,0,0,0,0,0,0,0,0,0,0,0,0,0,0,0,0,0,0,0,0,0,0,0,0,0,0,0,0,0,0,0,0,0,0,0,0,0,0,0,0,0]
["Memo: autoproducer - pumped hydro            ","AHYDPUMP",0,0,0,0,0,0,0,0,0,0,0,0,0,0,0,0,0,0,0,0,0,0,0,0,0,0,0,0,0,0,0,0,0,0,0,0,0,0,0,0,0,0,0,0,0,0,0,0,0,0,0,0,0,0,0,0,0,0,0,0,0,0,0,0,0,0]
["Memo: gas vented                             ","VENTED",0,0,0,0,0,0,0,0,0,0,0,0,0,0,0,0,0,0,0,0,0,0,0,0,0,0,0,0,0,0,0,0,0,0,0,0,0,0,0,0,0,0,0,0,0,0,0,0,0,0,0,0,0,0,0,0,0,0,0,0,0,0,0,0,0,0]
["Memo: gas flared                             ","FLARED",0,0,0,0,0,0,0,0,0,0,0,0,0,0,0,0,0,0,0,0,0,0,0,0,0,0,0,0,0,0,0,0,0,0,0,0,0,0,0,0,0,0,0,0,0,0,0,0,0,0,0,0,0,0,0,0,0,0,0,0,0,0,0,0,0,0]
[]
[]
[]
[]
[]
[]
[]
[]
[]
[]
["TFC test 1",null,{"$f":"C60<>C61+C75+C82+C88","v":false},{"$f":"D60<>D61+D75+D82+D88","v":false},false,false,false,false,false,false,false,false,false,false,false,false,false,false,false,false,false,false,false,false,false,false,false,false,false,false,false,false,false,false,false,false,false,false,false,false,false,false,false,false,false,false,false,false,false,false,false,false,false,false,false,false,false,false,false,false,false,false,false,false,false,false,false,{"$f":"BP60<>BP61+BP75+BP82+BP88","v":false}]
["TFC test 2",null,{"$f":"C60<>C16-C19-C41-C59+C17+C18","v":false},{"$f":"D60<>D16-D19-D41-D59+D17+D18","v":false},false,false,false,false,false,false,false,false,false,false,false,false,false,false,false,false,false,false,false,false,false,false,false,false,false,false,false,false,false,false,false,false,false,false,false,false,false,false,false,false,false,false,false,false,false,false,false,false,false,false,false,false,false,false,false,false,false,false,false,false,false,false,false,{"$f":"BP60<>BP16-BP19-BP41-BP59+BP17+BP18","v":false}]

{"sheet":"Conversion factors","index":8,"n_rows":123,"n_cols":42,"rows_kept":123,"cut":false,"hidden":false,"merged":[[47,3,51,9],[1,2,1,16],[1,0,2,0]]}
[{"$f":"HLOOKUP(LangChoice,Definitions_ProdLang!$M$2:$P$30,Definitions_ProdLang!$M$13+1)","v":"Conversion factors"},"Hide"]
[{"$f":"CountryName &\", \"&DataYear","v":"Statisland, 2023"},null,{"$f":"HLOOKUP(LangChoice,Definitions_ProdLang!$M$2:$P$30,Definitions_ProdLang!$M$14+1)","v":"Net calorific values (kJ/kg)"}]
[null,null,"Average NCV",{"$f":"INDPROD","v":"Production"},{"$f":"OSOURCES","v":"From other sources"},{"$f":"IMPORTS","v":"Imports"},{"$f":"EXPORTS","v":"Exports"},{"$f":"TCOKEOVS","v":"Coke ovens"},{"$f":"TBLASTFUR","v":"Blast furnaces"},{"$f":"MAINELEC","v":"Main activity electricity plants"},{"$f":"AUTOELEC","v":"Autoproducer electricity plants"},{"$f":"MAINCHP","v":"Main activity producer CHP plants"},{"$f":"AUTOCHP","v":"Autoproducer CHP plants"},{"$f":"MAINHEAT","v":"Main activity producer heat plants"},{"$f":"AUTOHEAT","v":"Autoproducer heat plants"},{"$f":"TOTIND","v":"Industry"},{"$f":"OTHNONSPEC","v":"Non-specified (other)"},null,null,null,null,null,null,null,null,null,"HIDE","When preparing the file, macro pastes these values as defaults."]
["Hide","SHORT NAME","NAVERAGE","NINDPROD","NOSOURCES","NIMPORTS","NEXPORTS","NCOKEOVS","NBLAST","NMAIN","NAUTOELEC","NMAINCHP","NAUTOCHP","NMAINHEAT","NAUTOHEAT","NIND","NOTHER",null,null,null,null,null,null,null,null,null,null,"NAVERAGE","NINDPROD","NOSOURCES","NIMPORTS","NEXPORTS","NCOKEOVS","NBLAST","NMAIN","NAUTOELEC","NMAINCHP","NAUTOCHP","NMAINHEAT","NAUTOHEAT","NIND","NOTHER"]
[{"$f":"ANTCOAL","v":"Anthracite"},"ANTCOAL",{"$f":"ROUND(IF('Data in physical units'!C$5+'Data in physical units'!C$6+'Data in physical units'!C$11+'Data in physical units'!C$13+'Data in physical units'!C$12,(D5*'Data in physical units'!C$5+E5*'Data in physical units'!C$6+F5*'Data in physical units'!C$11+G5*'Data in physical units'!C$12+Q5*'Data in physical units'!C$13)/('Data in physical units'!C$5+'Data in physical units'!C$6+'Data in physical units'!C$11+'Data in physical units'!C$13+'Data in physical units'!C$12),D5),)","v":26700},26700,26700,26700,26700,26700,26700,26700,26700,26700,26700,26700,26700,26700,26700,null,null,null,null,null,null,null,null,null,"ANTCOAL",{"$f":"ROUND(IF('Data in physical units'!AB$5+'Data in physical units'!AB$6+'Data in physical units'!AB$11+'Data in physical units'!AB$13+'Data in physical units'!AB$12,(AC5*'Data in physical units'!AB$5+AD5*'Data in physical units'!AB$6+AE5*'Data in physical units'!AB$11+AF5*'Data in physical units'!AB$12+AP5*'Data in physical units'!AB$13)/('Data in physical units'!AB$5+'Data in physical units'!AB$6+'Data in physical units'!AB$11+'Data in physical units'!AB$13+'Data in physical units'!AB$12),AC5),)","v":26700},26700,26700,26700,26700,26700,26700,26700,26700,26700,26700,26700,26700,26700,26700]
[{"$f":"COKCOAL","v":"Coking coal"},"COKCOAL",{"$f":"ROUND(IF('Data in physical units'!D$5+'Data in physical units'!D$6+'Data in physical units'!D$11+'Data in physical units'!D$13+'Data in physical units'!D$12,(D6*'Data in physical units'!D$5+E6*'Data in physical units'!D$6+F6*'Data in physical units'!D$11+G6*'Data in physical units'!D$12+Q6*'Data in physical units'!D$13)/('Data in physical units'!D$5+'Data in physical units'!D$6+'Data in physical units'!D$11+'Data in physical units'!D$13+'Data in physical units'!D$12),D6),)","v":28200},28200,28200,28200,28200,28200,28200,28200,28200,28200,28200,28200,28200,28200,28200,null,null,null,null,null,null,null,null,null,"COKCOAL",{"$f":"ROUND(IF('Data in physical units'!AC$5+'Data in physical units'!AC$6+'Data in physical units'!AC$11+'Data in physical units'!AC$13+'Data in physical units'!AC$12,(AC6*'Data in physical units'!AC$5+AD6*'Data in physical units'!AC$6+AE6*'Data in physical units'!AC$11+AF6*'Data in physical units'!AC$12+AP6*'Data in physical units'!AC$13)/('Data in physical units'!AC$5+'Data in physical units'!AC$6+'Data in physical units'!AC$11+'Data in physical units'!AC$13+'Data in physical units'!AC$12),AC6),)","v":28200},28200,28200,28200,28200,28200,28200,28200,28200,28200,28200,28200,28200,28200,28200]
[{"$f":"BITCOAL","v":"Other bituminous coal"},"BITCOAL",{"$f":"ROUND(IF('Data in physical units'!E$5+'Data in physical units'!E$6+'Data in physical units'!E$11+'Data in physical units'!E$13+'Data in physical units'!E$12,(D7*'Data in physical units'!E$5+E7*'Data in physical units'!E$6+F7*'Data in physical units'!E$11+G7*'Data in physical units'!E$12+Q7*'Data in physical units'!E$13)/('Data in physical units'!E$5+'Data in physical units'!E$6+'Data in physical units'!E$11+'Data in physical units'!E$13+'Data in physical units'!E$12),D7),)","v":25800},25800,25800,25800,25800,25800,25800,25800,25800,25800,25800,25800,25800,25800,25800,null,null,null,null,null,null,null,null,null,"BITCOAL",{"$f":"ROUND(IF('Data in physical units'!AD$5+'Data in physical units'!AD$6+'Data in physical units'!AD$11+'Data in physical units'!AD$13+'Data in physical units'!AD$12,(AC7*'Data in physical units'!AD$5+AD7*'Data in physical units'!AD$6+AE7*'Data in physical units'!AD$11+AF7*'Data in physical units'!AD$12+AP7*'Data in physical units'!AD$13)/('Data in physical units'!AD$5+'Data in physical units'!AD$6+'Data in physical units'!AD$11+'Data in physical units'!AD$13+'Data in physical units'!AD$12),AC7),)","v":25800},25800,25800,25800,25800,25800,25800,25800,25800,25800,25800,25800,25800,25800,25800]
[{"$f":"SUBCOAL","v":"Sub-bituminous coal"},"SUBCOAL",{"$f":"ROUND(IF('Data in physical units'!F$5+'Data in physical units'!F$6+'Data in physical units'!F$11+'Data in physical units'!F$13+'Data in physical units'!F$12,(D8*'Data in physical units'!F$5+E8*'Data in physical units'!F$6+F8*'Data in physical units'!F$11+G8*'Data in physical units'!F$12+Q8*'Data in physical units'!F$13)/('Data in physical units'!F$5+'Data in physical units'!F$6+'Data in physical units'!F$11+'Data in physical units'!F$13+'Data in physical units'!F$12),D8),)","v":18900},18900,18900,18900,18900,18900,18900,18900,18900,18900,18900,18900,18900,18900,18900,null,null,null,null,null,null,null,null,null,"SUBCOAL",{"$f":"ROUND(IF('Data in physical units'!AE$5+'Data in physical units'!AE$6+'Data in physical units'!AE$11+'Data in physical units'!AE$13+'Data in physical units'!AE$12,(AC8*'Data in physical units'!AE$5+AD8*'Data in physical units'!AE$6+AE8*'Data in physical units'!AE$11+AF8*'Data in physical units'!AE$12+AP8*'Data in physical units'!AE$13)/('Data in physical units'!AE$5+'Data in physical units'!AE$6+'Data in physical units'!AE$11+'Data in physical units'!AE$13+'Data in physical units'!AE$12),AC8),)","v":18900},18900,18900,18900,18900,18900,18900,18900,18900,18900,18900,18900,18900,18900,18900]
[{"$f":"LIGNITE","v":"Lignite"},"LIGNITE",{"$f":"ROUND(IF('Data in physical units'!G$5+'Data in physical units'!G$6+'Data in physical units'!G$11+'Data in physical units'!G$13+'Data in physical units'!G$12,(D9*'Data in physical units'!G$5+E9*'Data in physical units'!G$6+F9*'Data in physical units'!G$11+G9*'Data in physical units'!G$12+Q9*'Data in physical units'!G$13)/('Data in physical units'!G$5+'Data in physical units'!G$6+'Data in physical units'!G$11+'Data in physical units'!G$13+'Data in physical units'!G$12),D9),)","v":11900},11900,11900,11900,11900,11900,11900,11900,11900,11900,11900,11900,11900,11900,11900,null,null,null,null,null,null,null,null,null,"LIGNITE",{"$f":"ROUND(IF('Data in physical units'!AF$5+'Data in physical units'!AF$6+'Data in physical units'!AF$11+'Data in physical units'!AF$13+'Data in physical units'!AF$12,(AC9*'Data in physical units'!AF$5+AD9*'Data in physical units'!AF$6+AE9*'Data in physical units'!AF$11+AF9*'Data in physical units'!AF$12+AP9*'Data in physical units'!AF$13)/('Data in physical units'!AF$5+'Data in physical units'!AF$6+'Data in physical units'!AF$11+'Data in physical units'!AF$13+'Data in physical units'!AF$12),AC9),)","v":11900},11900,11900,11900,11900,11900,11900,11900,11900,11900,11900,11900,11900,11900,11900]
[{"$f":"PATFUEL","v":"Patent fuel"},"PATFUEL",{"$f":"ROUND(IF('Data in physical units'!H$5+'Data in physical units'!H$6+'Data in physical units'!H$11+'Data in physical units'!H$13+'Data in physical units'!H$12,(D10*'Data in physical units'!H$5+E10*'Data in physical units'!H$6+F10*'Data in physical units'!H$11+G10*'Data in physical units'!H$12+Q10*'Data in physical units'!H$13)/('Data in physical units'!H$5+'Data in physical units'!H$6+'Data in physical units'!H$11+'Data in physical units'!H$13+'Data in physical units'!H$12),D10),)","v":29000},29000,29000,29000,29000,29000,29000,29000,29000,29000,29000,29000,29000,29000,29000,null,null,null,null,null,null,null,null,null,"PATFUEL",{"$f":"ROUND(IF('Data in physical units'!AG$5+'Data in physical units'!AG$6+'Data in physical units'!AG$11+'Data in physical units'!AG$13+'Data in physical units'!AG$12,(AC10*'Data in physical units'!AG$5+AD10*'Data in physical units'!AG$6+AE10*'Data in physical units'!AG$11+AF10*'Data in physical units'!AG$12+AP10*'Data in physical units'!AG$13)/('Data in physical units'!AG$5+'Data in physical units'!AG$6+'Data in physical units'!AG$11+'Data in physical units'!AG$13+'Data in physical units'!AG$12),AC10),)","v":29000},29000,29000,29000,29000,29000,29000,29000,29000,29000,29000,29000,29000,29000,29000]
[{"$f":"OVENCOKE","v":"Coke oven coke"},"OVENCOKE",{"$f":"ROUND(IF('Data in physical units'!I$5+'Data in physical units'!I$6+'Data in physical units'!I$11+'Data in physical units'!I$13+'Data in physical units'!I$12,(D11*'Data in physical units'!I$5+E11*'Data in physical units'!I$6+F11*'Data in physical units'!I$11+G11*'Data in physical units'!I$12+Q11*'Data in physical units'!I$13)/('Data in physical units'!I$5+'Data in physical units'!I$6+'Data in physical units'!I$11+'Data in physical units'!I$13+'Data in physical units'!I$12),D11),)","v":28200},28200,28200,28200,28200,28200,28200,28200,28200,28200,28200,28200,28200,28200,28200,null,null,null,null,null,null,null,null,null,"OVENCOKE",{"$f":"ROUND(IF('Data in physical units'!AH$5+'Data in physical units'!AH$6+'Data in physical units'!AH$11+'Data in physical units'!AH$13+'Data in physical units'!AH$12,(AC11*'Data in physical units'!AH$5+AD11*'Data in physical units'!AH$6+AE11*'Data in physical units'!AH$11+AF11*'Data in physical units'!AH$12+AP11*'Data in physical units'!AH$13)/('Data in physical units'!AH$5+'Data in physical units'!AH$6+'Data in physical units'!AH$11+'Data in physical units'!AH$13+'Data in physical units'!AH$12),AC11),)","v":28200},28200,28200,28200,28200,28200,28200,28200,28200,28200,28200,28200,28200,28200,28200]
[{"$f":"GASCOKE","v":"Gas coke"},"GASCOKE",{"$f":"ROUND(IF('Data in physical units'!J$5+'Data in physical units'!J$6+'Data in physical units'!J$11+'Data in physical units'!J$13+'Data in physical units'!J$12,(D12*'Data in physical units'!J$5+E12*'Data in physical units'!J$6+F12*'Data in physical units'!J$11+G12*'Data in physical units'!J$12+Q12*'Data in physical units'!J$13)/('Data in physical units'!J$5+'Data in physical units'!J$6+'Data in physical units'!J$11+'Data in physical units'!J$13+'Data in physical units'!J$12),D12),)","v":28200},28200,28200,28200,28200,28200,28200,28200,28200,28200,28200,28200,28200,28200,28200,null,null,null,null,null,null,null,null,null,"GASCOKE",{"$f":"ROUND(IF('Data in physical units'!AI$5+'Data in physical units'!AI$6+'Data in physical units'!AI$11+'Data in physical units'!AI$13+'Data in physical units'!AI$12,(AC12*'Data in physical units'!AI$5+AD12*'Data in physical units'!AI$6+AE12*'Data in physical units'!AI$11+AF12*'Data in physical units'!AI$12+AP12*'Data in physical units'!AI$13)/('Data in physical units'!AI$5+'Data in physical units'!AI$6+'Data in physical units'!AI$11+'Data in physical units'!AI$13+'Data in physical units'!AI$12),AC12),)","v":28200},28200,28200,28200,28200,28200,28200,28200,28200,28200,28200,28200,28200,28200,28200]
[{"$f":"COALTAR","v":"Coal tar"},"COALTAR",{"$f":"ROUND(IF('Data in physical units'!K$5+'Data in physical units'!K$6+'Data in physical units'!K$11+'Data in physical units'!K$13+'Data in physical units'!K$12,(D13*'Data in physical units'!K$5+E13*'Data in physical units'!K$6+F13*'Data in physical units'!K$11+G13*'Data in physical units'!K$12+Q13*'Data in physical units'!K$13)/('Data in physical units'!K$5+'Data in physical units'!K$6+'Data in physical units'!K$11+'Data in physical units'!K$13+'Data in physical units'!K$12),D13),)","v":38000},38000,38000,38000,38000,38000,38000,38000,38000,38000,38000,38000,38000,38000,38000,null,null,null,null,null,null,null,null,null,"COALTAR",{"$f":"ROUND(IF('Data in physical units'!AJ$5+'Data in physical units'!AJ$6+'Data in physical units'!AJ$11+'Data in physical units'!AJ$13+'Data in physical units'!AJ$12,(AC13*'Data in physical units'!AJ$5+AD13*'Data in physical units'!AJ$6+AE13*'Data in physical units'!AJ$11+AF13*'Data in physical units'!AJ$12+AP13*'Data in physical units'!AJ$13)/('Data in physical units'!AJ$5+'Data in physical units'!AJ$6+'Data in physical units'!AJ$11+'Data in physical units'!AJ$13+'Data in physical units'!AJ$12),AC13),)","v":38000},38000,38000,38000,38000,38000,38000,38000,38000,38000,38000,38000,38000,38000,38000]
[{"$f":"BKB","v":"BKB (Brown coal briquettes)"},"BKB",{"$f":"ROUND(IF('Data in physical units'!L$5+'Data in physical units'!L$6+'Data in physical units'!L$11+'Data in physical units'!L$13+'Data in physical units'!L$12,(D14*'Data in physical units'!L$5+E14*'Data in physical units'!L$6+F14*'Data in physical units'!L$11+G14*'Data in physical units'!L$12+Q14*'Data in physical units'!L$13)/('Data in physical units'!L$5+'Data in physical units'!L$6+'Data in physical units'!L$11+'Data in physical units'!L$13+'Data in physical units'!L$12),D14),)","v":20000},20000,20000,20000,20000,20000,20000,20000,20000,20000,20000,20000,20000,20000,20000,null,null,null,null,null,null,null,null,null,"BKB",{"$f":"ROUND(IF('Data in physical units'!AK$5+'Data in physical units'!AK$6+'Data in physical units'!AK$11+'Data in physical units'!AK$13+'Data in physical units'!AK$12,(AC14*'Data in physical units'!AK$5+AD14*'Data in physical units'!AK$6+AE14*'Data in physical units'!AK$11+AF14*'Data in physical units'!AK$12+AP14*'Data in physical units'!AK$13)/('Data in physical units'!AK$5+'Data in physical units'!AK$6+'Data in physical units'!AK$11+'Data in physical units'!AK$13+'Data in physical units'!AK$12),AC14),)","v":20000},20000,20000,20000,20000,20000,20000,20000,20000,20000,20000,20000,20000,20000,20000]
[{"$f":"PEAT","v":"Peat"},"PEAT",{"$f":"ROUND(IF('Data in physical units'!R$5+'Data in physical units'!R$6+'Data in physical units'!R$11+'Data in physical units'!R$13+'Data in physical units'!R$1,(D15*'Data in physical units'!R$5+E15*'Data in physical units'!R$6+F15*'Data in physical units'!R$11+G15*'Data in physical units'!R$12+Q15*'Data in physical units'!R$13)/('Data in physical units'!R$5+'Data in physical units'!R$6+'Data in physical units'!R$11+'Data in physical units'!R$13+'Data in physical units'!R$12),D15),)","v":9760},9760,9760,9760,9760,9760,9760,9760,9760,9760,9760,9760,9760,9760,9760,null,null,null,null,null,null,null,null,null,"PEAT",{"$f":"ROUND(IF('Data in physical units'!AQ$5+'Data in physical units'!AQ$6+'Data in physical units'!AQ$11+'Data in physical units'!AQ$13+'Data in physical units'!AQ$1,(AC15*'Data in physical units'!AQ$5+AD15*'Data in physical units'!AQ$6+AE15*'Data in physical units'!AQ$11+AF15*'Data in physical units'!AQ$12+AP15*'Data in physical units'!AQ$13)/('Data in physical units'!AQ$5+'Data in physical units'!AQ$6+'Data in physical units'!AQ$11+'Data in physical units'!AQ$13+'Data in physical units'!AQ$12),AC15),)","v":9760},9760,9760,9760,9760,9760,9760,9760,9760,9760,9760,9760,9760,9760,9760]
[{"$f":"PEATPROD","v":"Peat products"},"PEATPROD",{"$f":"ROUND(IF('Data in physical units'!S$5+'Data in physical units'!S$6+'Data in physical units'!S$11+'Data in physical units'!S$13+'Data in physical units'!S$12,(D16*'Data in physical units'!S$5+E16*'Data in physical units'!S$6+F16*'Data in physical units'!S$11+G16*'Data in physical units'!S$12+Q16*'Data in physical units'!S$13)/('Data in physical units'!S$5+'Data in physical units'!S$6+'Data in physical units'!S$11+'Data in physical units'!S$13+'Data in physical units'!S$12),D16),)","v":20000},20000,20000,20000,20000,20000,20000,20000,20000,20000,20000,20000,20000,20000,20000,null,null,null,null,null,null,null,null,null,"PEATPROD",{"$f":"ROUND(IF('Data in physical units'!AR$5+'Data in physical units'!AR$6+'Data in physical units'!AR$11+'Data in physical units'!AR$13+'Data in physical units'!AR$12,(AC16*'Data in physical units'!AR$5+AD16*'Data in physical units'!AR$6+AE16*'Data in physical units'!AR$11+AF16*'Data in physical units'!AR$12+AP16*'Data in physical units'!AR$13)/('Data in physical units'!AR$5+'Data in physical units'!AR$6+'Data in physical units'!AR$11+'Data in physical units'!AR$13+'Data in physical units'!AR$12),AC16),)","v":20000},20000,20000,20000,20000,20000,20000,20000,20000,20000,20000,20000,20000,20000,20000]
[{"$f":"OILSHALE","v":"Oil shale and oil sands"},"OILSHALE",{"$f":"ROUND(IF('Data in physical units'!T$5+'Data in physical units'!T$6+'Data in physical units'!T$11+'Data in physical units'!T$13+'Data in physical units'!T$12,(D17*'Data in physical units'!T$5+E17*'Data in physical units'!T$6+F17*'Data in physical units'!T$11+G17*'Data in physical units'!T$12+Q17*'Data in physical units'!T$13)/('Data in physical units'!T$5+'Data in physical units'!T$6+'Data in physical units'!T$11+'Data in physical units'!T$13+'Data in physical units'!T$12),D17),)","v":9400},9400,9400,9400,9400,9400,9400,9400,9400,9400,9400,9400,9400,9400,9400,null,null,null,null,null,null,null,null,null,"OILSHALE",{"$f":"ROUND(IF('Data in physical units'!AS$5+'Data in physical units'!AS$6+'Data in physical units'!AS$11+'Data in physical units'!AS$13+'Data in physical units'!AS$12,(AC17*'Data in physical units'!AS$5+AD17*'Data in physical units'!AS$6+AE17*'Data in physical units'!AS$11+AF17*'Data in physical units'!AS$12+AP17*'Data in physical units'!AS$13)/('Data in physical units'!AS$5+'Data in physical units'!AS$6+'Data in physical units'!AS$11+'Data in physical units'!AS$13+'Data in physical units'!AS$12),AC17),)","v":9400},9400,9400,9400,9400,9400,9400,9400,9400,9400,9400,9400,9400,9400,9400]
[{"$f":"CRUDEOIL","v":"Crude oil"},"CRUDEOIL",40000,42.3,"not used",42300,42300,null,null,null,null,null,null,null,null,null," ",null,null,null,null,null,null,null,null,null,"CRUDEOIL",42300,42300,"not used",42300,42300,null,null,null,null,null,null,null,null,null," "]
[{"$f":"NGL","v":"Natural gas liquids (NGL)"},"NGL",43000,43000,"not used",43000,43000,null,null,null,null,null,null,null,null,null," ",null,null,null,null,null,null,null,null,null,"NGL",43000,43000,"not used",43000,43000,null,null,null,null,null,null,null,null,null," "]
[{"$f":"REFFEEDS","v":"Refinery feedstocks"},"REFFEEDS",41868,41868,"not used",41868,41868,null,null,null,null,null,null,null,null,null," ",null,null,null,null,null,null,null,null,null,"REFFEEDS",41868,41868,"not used",41868,41868,null,null,null,null,null,null,null,null,null," "]
[{"$f":"ADDITIVE","v":"Additives/ blending components"},"ADDITIVE",25120,25120,"not used",25120,25120,null,null,null,null,null,null,null,null,null," ",null,null,null,null,null,null,null,null,null,"ADDITIVE",25120,25120,"not used",25120,25120,null,null,null,null,null,null,null,null,null," "]
[{"$f":"NONCRUDE","v":"Other hydro-carbons"},"NONCRUDE",41868,41868,"not used",41868,41868,null,null,null,null,null,null,null,null,null," ",null,null,null,null,null,null,null,null,null,"NONCRUDE",41868,41868,"not used",41868,41868,null,null,null,null,null,null,null,null,null," "]
[{"$f":"REFINGAS","v":"Refinery gas"},"REFINGAS",{"$f":"INDEX(G103:T103,IF(ISNA($D$101),4,$D$101))","v":48100}]
[{"$f":"ETHANE","v":"Ethane"},"ETHANE",49400]
[{"$f":"LPG","v":"Liquefied petroleum gases (LPG)"},"LPG",47300]
[{"$f":"NONBIOGASO","v":"Motor gasoline excl. biofuels"},"NONBIOGASO",44800]
[{"$f":"AVGAS","v":"Aviation gasoline"},"AVGAS",44800]
[{"$f":"JETGAS","v":"Gasoline type jet fuel"},"JETGAS",44800]
[{"$f":"NONBIOJETK","v":"Kerosene type jet fuel excl. biofuels"},"NONBIOJETK",44600]
[{"$f":"OTHKERO","v":"Other kerosene"},"OTHKERO",43800]
[{"$f":"NONBIODIES","v":"Gas/diesel oil excluding biofuels"},"NONBIODIES",43000]
[{"$f":"RESFUEL","v":"Fuel oil"},"RESFUEL",40200]
[{"$f":"NAPHTHA","v":"Naphtha"},"NAPHTHA",45000]
[{"$f":"WHITESP","v":"White spirit & SBP"},"WHITESP",43000]
[{"$f":"LUBRIC","v":"Lubricants"},"LUBRIC",42000]
[{"$f":"BITUMEN","v":"Bitumen"},"BITUMEN",39000]
[{"$f":"PARWAX","v":"Paraffin waxes"},"PARWAX",40000]
[{"$f":"PETCOKE","v":"Petroleum coke"},"PETCOKE",32000]
[{"$f":"ONONSPEC","v":"Non-specified oil products"},"ONONSPEC",40000]
[{"$f":"BIOGASOL","v":"Biogasoline"},"BIOGASOL",{"$f":"IF(Ren_Table_3a!E63,Ren_Table_3a!E63,26800)","v":26800}]
[{"$f":"BIOJETKERO","v":"Bio jet kerosene"},"BIOJETKERO",{"$f":"IF(Ren_Table_3a!E66,Ren_Table_3a!E66,44600)","v":44600}]
[{"$f":"BIODIESEL","v":"Biodiesels"},"BIODIESEL",{"$f":"IF(Ren_Table_3a!E65,Ren_Table_3a!E65,36800)","v":36800}]
[{"$f":"OBIOLIQ","v":"Other liquid biofuels"},"OBIOLIQ",{"$f":"IF(Ren_Table_3a!E67,Ren_Table_3a!E67,36800)","v":36800}]
[{"$f":"CHARCOAL","v":"Charcoal"},"CHARCOAL",{"$f":"IF(Ren_Table_3a!E68,Ren_Table_3a!E68,30800)","v":30800}]
[]
["Other conversion factors"]
["Net to gross -ratios for gases"]
[{"$f":"GASWKSGS","v":"Gas works gas"},"GASWKSGS",0.9,"These gases are reported in the \"Data in physical units\" worksheet in terajoules, using their gross calorific value. To calculate the net heat content of a gas from its gross heat content, the gross heat content is multiplied by the appropriate factor."]
[{"$f":"COKEOVGS","v":"Coke oven gas"},"COKEOVGS",0.9]
[{"$f":"BLFURGS","v":"Blast furnace gas"},"BLFURGS",1]
[{"$f":"OGASES","v":"Other recovered gases"},"OGASES",1]
[{"$f":"NATGAS","v":"Natural gas"},"NATGAS",0.9]
["Common energy unit conversions"]
["From kt to kg",null,{"$f":"10^6","v":1000000}]
["From kJ to TJ",null,{"$f":"10^-9","v":1.0000000000000001E-9}]
["From TJ to ktoe",null,{"$f":"1/41.868","v":2.3884589662749593E-2}]
["From kJ to ktoe",null,{"$f":"TJ_to_ktoe*kJ_to_TJ","v":2.3884589662749594E-11}]
["From GWh to ktoe",null,{"$f":"1/11.63","v":8.5984522785898534E-2}]
[]
[]
[]
[]
[]
[]
[]
[]
[]
[]
[]
[]
[]
[]
[]
[]
[]
[]
[]
[]
[]
[]
[]
[]
[]
[]
[]
[]
[]
[]
[]
[]
[]
[]
[]
[]
[]
[]
[]
[]
[]
["HIDE",null,"Country:",{"$f":"CountryName","v":"Statisland"},null,"Table lookup for default NCVs for petroleum products by region"]
[null,null,"Region where country belongs to:",{"$f":"'CF formulas'!D101","v":4},null,null,1,2,3,4,5,6,7,8,9,10,11]
[null,null,null,null,null,null,"Europe","Americas","Asia Oceania","Non-OECD","Algeria","Brazil","China","Malaysia","South Africa","Tunisia","Ukraine"]
[null,null,null,null,null,"Refinery Gas",{"$f":"'CF formulas'!G103","v":49500},{"$f":"'CF formulas'!H103","v":48100},{"$f":"'CF formulas'!I103","v":48100},{"$f":"'CF formulas'!J103","v":48100},{"$f":"'CF formulas'!K103","v":48100},{"$f":"'CF formulas'!L103","v":35008},{"$f":"'CF formulas'!M103","v":46055},{"$f":"'CF formulas'!N103","v":48100},{"$f":"'CF formulas'!O103","v":48100},{"$f":"'CF formulas'!P103","v":48100},{"$f":"'CF formulas'!Q103","v":49500}]
[null,null,null,null,null,"Ethane",{"$f":"'CF formulas'!G104","v":49500},{"$f":"'CF formulas'!H104","v":49400},{"$f":"'CF formulas'!I104","v":49400},{"$f":"'CF formulas'!J104","v":49400},{"$f":"'CF formulas'!K104","v":49400},{"$f":"'CF formulas'!L104","v":49400},{"$f":"'CF formulas'!M104","v":49400},{"$f":"'CF formulas'!N104","v":49400},{"$f":"'CF formulas'!O104","v":49400},{"$f":"'CF formulas'!P104","v":49400},{"$f":"'CF formulas'!Q104","v":49500}]
[null,null,null,null,null,"Liquefied Petroleum Gases",{"$f":"'CF formulas'!G105","v":46000},{"$f":"'CF formulas'!H105","v":47300},{"$f":"'CF formulas'!I105","v":47700},{"$f":"'CF formulas'!J105","v":47300},{"$f":"'CF formulas'!K105","v":49404},{"$f":"'CF formulas'!L105","v":46473},{"$f":"'CF formulas'!M105","v":50242},{"$f":"'CF formulas'!N105","v":45544},{"$f":"'CF formulas'!O105","v":46767},{"$f":"'CF formulas'!P105","v":46306},{"$f":"'CF formulas'!Q105","v":46000},null,null,null,null,{"$f":"'CF formulas'!V105","v":0},{"$f":"'CF formulas'!W105","v":0},{"$f":"'CF formulas'!X105","v":0},null,{"$f":"'CF formulas'!Y105","v":0},{"$f":"'CF formulas'!Z105","v":0},{"$f":"'CF formulas'!AA105","v":0}]
[null,null,null,null,null,"Motor Gasoline excl. bio",{"$f":"'CF formulas'!G106","v":44000},{"$f":"'CF formulas'!H106","v":44800},{"$f":"'CF formulas'!I106","v":44600},{"$f":"'CF formulas'!J106","v":44800},{"$f":"'CF formulas'!K106","v":44800},{"$f":"'CF formulas'!L106","v":43543},{"$f":"'CF formulas'!M106","v":43124},{"$f":"'CF formulas'!N106","v":43961},{"$f":"'CF formulas'!O106","v":44045},{"$f":"'CF formulas'!P106","v":43878},{"$f":"'CF formulas'!Q106","v":44000},null,null,null,null,{"$f":"'CF formulas'!V106","v":0},{"$f":"'CF formulas'!W106","v":0},{"$f":"'CF formulas'!X106","v":0},null,{"$f":"'CF formulas'!Y106","v":0},{"$f":"'CF formulas'!Z106","v":0},{"$f":"'CF formulas'!AA106","v":0}]
[null,null,null,null,null,"Aviation Gasoline",{"$f":"'CF formulas'!G107","v":44000},{"$f":"'CF formulas'!H107","v":44800},{"$f":"'CF formulas'!I107","v":44600},{"$f":"'CF formulas'!J107","v":44800},{"$f":"'CF formulas'!K107","v":44800},{"$f":"'CF formulas'!L107","v":44380},{"$f":"'CF formulas'!M107","v":43124},{"$f":"'CF formulas'!N107","v":43961},{"$f":"'CF formulas'!O107","v":45552},{"$f":"'CF formulas'!P107","v":43878},{"$f":"'CF formulas'!Q107","v":44000},null,null,null,null,{"$f":"'CF formulas'!V107","v":0},{"$f":"'CF formulas'!W107","v":0},{"$f":"'CF formulas'!X107","v":0},null,{"$f":"'CF formulas'!Y107","v":0},{"$f":"'CF formulas'!Z107","v":0},{"$f":"'CF formulas'!AA107","v":0}]
[null,null,null,null,null,"Gasoline Type Jet Fuel",{"$f":"'CF formulas'!G108","v":43000},{"$f":"'CF formulas'!H108","v":44800},{"$f":"'CF formulas'!I108","v":44600},{"$f":"'CF formulas'!J108","v":44800},{"$f":"'CF formulas'!K108","v":44800},{"$f":"'CF formulas'!L108","v":44800},{"$f":"'CF formulas'!M108","v":43124},{"$f":"'CF formulas'!N108","v":44800},{"$f":"'CF formulas'!O108","v":40738},{"$f":"'CF formulas'!P108","v":43878},{"$f":"'CF formulas'!Q108","v":43000},null,null,null,null,{"$f":"'CF formulas'!V108","v":0},{"$f":"'CF formulas'!W108","v":0},{"$f":"'CF formulas'!X108","v":0},null,{"$f":"'CF formulas'!Y108","v":0},{"$f":"'CF formulas'!Z108","v":0},{"$f":"'CF formulas'!AA108","v":0}]
[null,null,null,null,null,"Kerosene Type Jet Fuel excl. bio",{"$f":"'CF formulas'!G109","v":43000},{"$f":"'CF formulas'!H109","v":44600},{"$f":"'CF formulas'!I109","v":44500},{"$f":"'CF formulas'!J109","v":44600},{"$f":"'CF formulas'!K109","v":44600},{"$f":"'CF formulas'!L109","v":43543},{"$f":"'CF formulas'!M109","v":43124},{"$f":"'CF formulas'!N109","v":43199},{"$f":"'CF formulas'!O109","v":41073},{"$f":"'CF formulas'!P109","v":43333},{"$f":"'CF formulas'!Q109","v":43000},null,null,null,null,{"$f":"'CF formulas'!V109","v":0},{"$f":"'CF formulas'!W109","v":0},{"$f":"'CF formulas'!X109","v":0},null,{"$f":"'CF formulas'!Y109","v":0},{"$f":"'CF formulas'!Z109","v":0},{"$f":"'CF formulas'!AA109","v":0}]
[null,null,null,null,null,"Kerosene",{"$f":"'CF formulas'!G110","v":43000},{"$f":"'CF formulas'!H110","v":43800},{"$f":"'CF formulas'!I110","v":42900},{"$f":"'CF formulas'!J110","v":43800},{"$f":"'CF formulas'!K110","v":43800},{"$f":"'CF formulas'!L110","v":43543},{"$f":"'CF formulas'!M110","v":43124},{"$f":"'CF formulas'!N110","v":43208},{"$f":"'CF formulas'!O110","v":43250},{"$f":"'CF formulas'!P110","v":43208},{"$f":"'CF formulas'!Q110","v":43000},null,null,null,null,{"$f":"'CF formulas'!V110","v":0},{"$f":"'CF formulas'!W110","v":0},{"$f":"'CF formulas'!X110","v":0},null,{"$f":"'CF formulas'!Y110","v":0},{"$f":"'CF formulas'!Z110","v":0},{"$f":"'CF formulas'!AA110","v":0}]
[null,null,null,null,null,"Gas/Diesel Oil  excl. bio",{"$f":"'CF formulas'!G111","v":42600},{"$f":"'CF formulas'!H111","v":42600},{"$f":"'CF formulas'!I111","v":42600},{"$f":"'CF formulas'!J111","v":43300},{"$f":"'CF formulas'!K111","v":43300},{"$f":"'CF formulas'!L111","v":42267},{"$f":"'CF formulas'!M111","v":42705},{"$f":"'CF formulas'!N111","v":42496},{"$f":"'CF formulas'!O111","v":42915},{"$f":"'CF formulas'!P111","v":42998},{"$f":"'CF formulas'!Q111","v":42600},null,null,null,null,{"$f":"'CF formulas'!V111","v":0},{"$f":"'CF formulas'!W111","v":0},{"$f":"'CF formulas'!X111","v":0},null,{"$f":"'CF formulas'!Y111","v":0},{"$f":"'CF formulas'!Z111","v":0},{"$f":"'CF formulas'!AA111","v":0}]
[null,null,null,null,null,"Fuel Oil",{"$f":"'CF formulas'!G112","v":40000},{"$f":"'CF formulas'!H112","v":40200},{"$f":"'CF formulas'!I112","v":42600},{"$f":"'CF formulas'!J112","v":40200},{"$f":"'CF formulas'!K112","v":40200},{"$f":"'CF formulas'!L112","v":40068},{"$f":"'CF formulas'!M112","v":41868},{"$f":"'CF formulas'!N112","v":41500},{"$f":"'CF formulas'!O112","v":41826},{"$f":"'CF formulas'!P112","v":40989},{"$f":"'CF formulas'!Q112","v":40000},null,null,null,null,{"$f":"'CF formulas'!V112","v":0},{"$f":"'CF formulas'!W112","v":0},{"$f":"'CF formulas'!X112","v":0},null,{"$f":"'CF formulas'!Y112","v":0},{"$f":"'CF formulas'!Z112","v":0},{"$f":"'CF formulas'!AA112","v":0}]
[null,null,null,null,null,"Naphtha",{"$f":"'CF formulas'!G113","v":44000},{"$f":"'CF formulas'!H113","v":45000},{"$f":"'CF formulas'!I113","v":43200},{"$f":"'CF formulas'!J113","v":45000},{"$f":"'CF formulas'!K113","v":45000},{"$f":"'CF formulas'!L113","v":44506},{"$f":"'CF formulas'!M113","v":43124},{"$f":"'CF formulas'!N113","v":44129},{"$f":"'CF formulas'!O113","v":44924},{"$f":"'CF formulas'!P113","v":44129},{"$f":"'CF formulas'!Q113","v":44000},null,null,null,null,{"$f":"'CF formulas'!V113","v":0},{"$f":"'CF formulas'!W113","v":0},{"$f":"'CF formulas'!X113","v":0},null,{"$f":"'CF formulas'!Y113","v":0},{"$f":"'CF formulas'!Z113","v":0},{"$f":"'CF formulas'!AA113","v":0}]
[null,null,null,null,null,"White Spirit",{"$f":"'CF formulas'!G114","v":43600},{"$f":"'CF formulas'!H114","v":43000},{"$f":"'CF formulas'!I114","v":43000},{"$f":"'CF formulas'!J114","v":43000},{"$f":"'CF formulas'!K114","v":43000},{"$f":"'CF formulas'!L114","v":47060},{"$f":"'CF formulas'!M114","v":38519},{"$f":"'CF formulas'!N114","v":43208},{"$f":"'CF formulas'!O114","v":42496},{"$f":"'CF formulas'!P114","v":43585},{"$f":"'CF formulas'!Q114","v":43600},null,null,null,null,{"$f":"'CF formulas'!V114","v":0},{"$f":"'CF formulas'!W114","v":0},{"$f":"'CF formulas'!X114","v":0},null,{"$f":"'CF formulas'!Y114","v":0},{"$f":"'CF formulas'!Z114","v":0},{"$f":"'CF formulas'!AA114","v":0}]
[null,null,null,null,null,"Lubricants",{"$f":"'CF formulas'!G115","v":42000},{"$f":"'CF formulas'!H115","v":42000},{"$f":"'CF formulas'!I115","v":42900},{"$f":"'CF formulas'!J115","v":42000},{"$f":"'CF formulas'!K115","v":42000},{"$f":"'CF formulas'!L115","v":41372},{"$f":"'CF formulas'!M115","v":38519},{"$f":"'CF formulas'!N115","v":42140},{"$f":"'CF formulas'!O115","v":42000},{"$f":"'CF formulas'!P115","v":42705},{"$f":"'CF formulas'!Q115","v":42000},null,null,null,null,{"$f":"'CF formulas'!V115","v":0},{"$f":"'CF formulas'!W115","v":0},{"$f":"'CF formulas'!X115","v":0},null,{"$f":"'CF formulas'!Y115","v":0},{"$f":"'CF formulas'!Z115","v":0},{"$f":"'CF formulas'!AA115","v":0}]
[null,null,null,null,null,"Bitumen",{"$f":"'CF formulas'!G116","v":39000},{"$f":"'CF formulas'!H116","v":40000},{"$f":"'CF formulas'!I116","v":38800},{"$f":"'CF formulas'!J116","v":39000},{"$f":"'CF formulas'!K116","v":39000},{"$f":"'CF formulas'!L116","v":40828},{"$f":"'CF formulas'!M116","v":39000},{"$f":"'CF formulas'!N116","v":41800},{"$f":"'CF formulas'!O116","v":39000},{"$f":"'CF formulas'!P116","v":42705},{"$f":"'CF formulas'!Q116","v":39000},null,null,null,null,{"$f":"'CF formulas'!V116","v":0},{"$f":"'CF formulas'!W116","v":0},{"$f":"'CF formulas'!X116","v":0},null,{"$f":"'CF formulas'!Y116","v":0},{"$f":"'CF formulas'!Z116","v":0},{"$f":"'CF formulas'!AA116","v":0}]
[null,null,null,null,null,"Paraffin Waxes",{"$f":"'CF formulas'!G117","v":40000},{"$f":"'CF formulas'!H117","v":40000},{"$f":"'CF formulas'!I117","v":40000},{"$f":"'CF formulas'!J117","v":40000},{"$f":"'CF formulas'!K117","v":40000},{"$f":"'CF formulas'!L117","v":40000},{"$f":"'CF formulas'!M117","v":40000},{"$f":"'CF formulas'!N117","v":43333},{"$f":"'CF formulas'!O117","v":40000},{"$f":"'CF formulas'!P117","v":40000},{"$f":"'CF formulas'!Q117","v":40000},null,null,null,null,{"$f":"'CF formulas'!V117","v":0},{"$f":"'CF formulas'!W117","v":0},{"$f":"'CF formulas'!X117","v":0},null,{"$f":"'CF formulas'!Y117","v":0},{"$f":"'CF formulas'!Z117","v":0},{"$f":"'CF formulas'!AA117","v":0}]
[null,null,null,null,null,"Petroleum Coke",{"$f":"'CF formulas'!G118","v":32000},{"$f":"'CF formulas'!H118","v":32000},{"$f":"'CF formulas'!I118","v":33800},{"$f":"'CF formulas'!J118","v":32000},{"$f":"'CF formulas'!K118","v":32000},{"$f":"'CF formulas'!L118","v":35007},{"$f":"'CF formulas'!M118","v":32000},{"$f":"'CF formulas'!N118","v":36400},{"$f":"'CF formulas'!O118","v":32000},{"$f":"'CF formulas'!P118","v":32000},{"$f":"'CF formulas'!Q118","v":32000},null,null,null,null,{"$f":"'CF formulas'!V118","v":0},{"$f":"'CF formulas'!W118","v":0},{"$f":"'CF formulas'!X118","v":0},null,{"$f":"'CF formulas'!Y118","v":0},{"$f":"'CF formulas'!Z118","v":0},{"$f":"'CF formulas'!AA118","v":0}]
["HIDE",null,null,null,null,"Non+specified Oil Products",{"$f":"'CF formulas'!G119","v":40000},{"$f":"'CF formulas'!H119","v":40000},{"$f":"'CF formulas'!I119","v":40000},{"$f":"'CF formulas'!J119","v":40000},{"$f":"'CF formulas'!K119","v":40000},{"$f":"'CF formulas'!L119","v":40763},{"$f":"'CF formulas'!M119","v":38519},{"$f":"'CF formulas'!N119","v":42496},{"$f":"'CF formulas'!O119","v":40000},{"$f":"'CF formulas'!P119","v":42705},{"$f":"'CF formulas'!Q119","v":40000},null,null,null,null,{"$f":"'CF formulas'!V119","v":0},{"$f":"'CF formulas'!W119","v":0},{"$f":"'CF formulas'!X119","v":0},null,{"$f":"'CF formulas'!Y119","v":0},{"$f":"'CF formulas'!Z119","v":0},{"$f":"'CF formulas'!AA119","v":0}]
[null,null,null,null,null,null,null,null,null,null,null,null,null,null,null,null,null,null,null,null,null,null,{"$f":"'CF formulas'!W120","v":0},{"$f":"'CF formulas'!X120","v":0},null,{"$f":"'CF formulas'!Y120","v":0},{"$f":"'CF formulas'!Z120","v":0},{"$f":"'CF formulas'!AA120","v":0}]
[null,null,null,null,null,null,null,null,null,null,null,null,null,null,null,null,null,null,null,null,null,null,{"$f":"'CF formulas'!W121","v":0},{"$f":"'CF formulas'!X121","v":0},null,{"$f":"'CF formulas'!Y121","v":0},{"$f":"'CF formulas'!Z121","v":0},{"$f":"'CF formulas'!AA121","v":0}]
[null,null,null,null,null,null,null,null,null,null,null,null,null,null,null,null,null,null,null,null,null,null,{"$f":"'CF formulas'!W122","v":0},{"$f":"'CF formulas'!X122","v":0},null,{"$f":"'CF formulas'!Y122","v":0},{"$f":"'CF formulas'!Z122","v":0},{"$f":"'CF formulas'!AA122","v":0}]
[null,null,null,null,null,null,null,null,null,null,null,null,null,null,null,null,null,null,null,null,null,null,{"$f":"'CF formulas'!W123","v":0},{"$f":"'CF formulas'!X123","v":0},null,{"$f":"'CF formulas'!Y123","v":0},{"$f":"'CF formulas'!Z123","v":0},{"$f":"'CF formulas'!AA123","v":0}]

{"sheet":"Disaggregated Balance","index":9,"n_rows":106,"n_cols":142,"rows_kept":106,"cut":false,"hidden":false,"merged":[]}
[{"$f":"HLOOKUP(LangChoice,Definitions_ProdLang!$M$2:$P$30,4)","v":"Disaggregated balance"},"Hide","Hide","Hide",null,null,null,null,null,null,null,null,null,null,null,null,null,null,null,null,null,null,null,null,null,null,null,null,null,null,null,null,null,null,null,null,null,null,null,null,null,null,null,null,null,null,null,null,null,null,null,null,null,null,null,null,null,null,null,null,null,null,null,null,null,null,null,null,null,null,null,null,null,null,null,null,null,null,null,"Safety precaution: VLOOKUPS don't work properly sometimes and the formulas crash. There is a macro in the \"utils\"-module that copies these ones in place if that happens. However, it has to be run manually."]
[{"$f":"CountryName &\", \"&DataYear &\" (TJ)\"","v":"Statisland, 2023 (TJ)"},"Product Shortname","Coal CV Shortname","Coal\nCV Col Number",{"$f":"ANTCOAL","v":"Anthracite"},{"$f":"COKCOAL","v":"Coking coal"},{"$f":"BITCOAL","v":"Other bituminous coal"},{"$f":"SUBCOAL","v":"Sub-bituminous coal"},{"$f":"LIGNITE","v":"Lignite"},{"$f":"PATFUEL","v":"Patent fuel"},{"$f":"OVENCOKE","v":"Coke oven coke"},{"$f":"GASCOKE","v":"Gas coke"},{"$f":"COALTAR","v":"Coal tar"},{"$f":"BKB","v":"BKB (Brown coal briquettes)"},{"$f":"GASWKSGS","v":"Gas works gas"},{"$f":"COKEOVGS","v":"Coke oven gas"},{"$f":"BLFURGS","v":"Blast furnace gas"},{"$f":"OGASES","v":"Other recovered gases"},{"$f":"MANGAS","v":"Elec/heat output from non-spec. manufactured gases"},{"$f":"PEAT","v":"Peat"},{"$f":"PEATPROD","v":"Peat products"},{"$f":"OILSHALE","v":"Oil shale and oil sands"},{"$f":"CRUDEOIL","v":"Crude oil"},{"$f":"NGL","v":"Natural gas liquids (NGL)"},{"$f":"REFFEEDS","v":"Refinery feedstocks"},{"$f":"ADDITIVE","v":"Additives/ blending components"},{"$f":"NONCRUDE","v":"Other hydro-carbons"},{"$f":"REFINGAS","v":"Refinery gas"},{"$f":"ETHANE","v":"Ethane"},{"$f":"LPG","v":"Liquefied petroleum gases (LPG)"},{"$f":"NONBIOGASO","v":"Motor gasoline excl. biofuels"},{"$f":"AVGAS","v":"Aviation gasoline"},{"$f":"JETGAS","v":"Gasoline type jet fuel"},{"$f":"NONBIOJETK","v":"Kerosene type jet fuel excl. biofuels"},{"$f":"OTHKERO","v":"Other kerosene"},{"$f":"NONBIODIES","v":"Gas/diesel oil excluding biofuels"},{"$f":"RESFUEL","v":"Fuel oil"},{"$f":"NAPHTHA","v":"Naphtha"},{"$f":"WHITESP","v":"White spirit & SBP"},{"$f":"LUBRIC","v":"Lubricants"},{"$f":"BITUMEN","v":"Bitumen"},{"$f":"PARWAX","v":"Paraffin waxes"},{"$f":"PETCOKE","v":"Petroleum coke"},{"$f":"ONONSPEC","v":"Non-specified oil products"},{"$f":"NATGAS","v":"Natural gas"},{"$f":"INDWASTE","v":"Industrial waste"},{"$f":"MUNWASTER","v":"Municipal waste (renewable)"},{"$f":"MUNWASTEN","v":"Municipal waste (non-renewable)"},{"$f":"PRIMSBIO","v":"Primary solid biofuels"},{"$f":"BIOGASES","v":"Biogases"},{"$f":"BIOGASOL","v":"Biogasoline"},{"$f":"BIOJETKERO","v":"Bio jet kerosene"},{"$f":"BIODIESEL","v":"Biodiesels"},{"$f":"OBIOLIQ","v":"Other liquid biofuels"},{"$f":"RENEWNS","v":"Non-specified primary biofuels/ waste"},{"$f":"CHARCOAL","v":"Charcoal"},{"$f":"NUCLEAR","v":"Nuclear"},{"$f":"HYDRO","v":"Hydro"},{"$f":"GEOTHERM","v":"Geothermal"},{"$f":"SOLARPV","v":"Solar photovoltaic"},{"$f":"SOLARTH","v":"Solar thermal"},{"$f":"TIDE","v":"Tide/ wave/ ocean"},{"$f":"WIND","v":"Wind"},{"$f":"OTHER","v":"Other sources"},{"$f":"ELECTR","v":"Electricity"},{"$f":"HEAT","v":"Heat"},{"$f":"HEATNS","v":"Heat output from non-specified combustible fuels"},{"$f":"HLOOKUP(LangChoice,Definitions_ProdLang!$M$2:$P$30,5)","v":"Total of all energy sources"},{"$f":"HLOOKUP(LangChoice,Definitions_ProdLang!$M$2:$P$30,14)","v":"Share of renewables in supply (%)"},null,null,null,null,null,null,null,null,null,"HIDE",{"$f":"E3","v":"ANTCOAL"},{"$f":"F3","v":"COKCOAL"},"BITCOAL","SUBCOAL","LIGNITE","PATFUEL","OVENCOKE","GASCOKE","COALTAR","BKB","GASWKSGS","COKEOVGS","BLFURGS","OGASES","MANGAS","PEAT","PEATPROD","OILSHALE","CRUDEOIL","NGL","REFFEEDS","ADDITIVE","NONCRUDE","REFINGAS","ETHANE","LPG","NONBIOGASO","AVGAS","JETGAS","NONBIOJETK","OTHKERO","NONBIODIES","RESFUEL","NAPHTHA","WHITESP","LUBRIC","BITUMEN","PARWAX","PETCOKE","ONONSPEC","NATGAS","INDWASTE","MUNWASTER","MUNWASTEN","PRIMSBIO","BIOGASES","BIOGASOL","BIOJETKERO","BIODIESEL","OBIOLIQ","RENEWNS","CHARCOAL","NUCLEAR","HYDRO","GEOTHERM","SOLARPV","SOLARTH","TIDE","WIND","OTHER","ELECTR","HEAT","HIDE"]
["Product Short Name",null,null,null,"ANTCOAL","COKCOAL","BITCOAL","SUBCOAL","LIGNITE","PATFUEL","OVENCOKE","GASCOKE","COALTAR","BKB","GASWKSGS","COKEOVGS","BLFURGS","OGASES","MANGAS","PEAT","PEATPROD","OILSHALE","CRUDEOIL","NGL","REFFEEDS","ADDITIVE","NONCRUDE","REFINGAS","ETHANE","LPG","NONBIOGASO","AVGAS","JETGAS","NONBIOJETK","OTHKERO","NONBIODIES","RESFUEL","NAPHTHA","WHITESP","LUBRIC","BITUMEN","PARWAX","PETCOKE","ONONSPEC","NATGAS","INDWASTE","MUNWASTER","MUNWASTEN","PRIMSBIO","BIOGASES","BIOGASOL","BIOJETKERO","BIODIESEL","OBIOLIQ","RENEWNS","CHARCOAL","NUCLEAR","HYDRO","GEOTHERM","SOLARPV","SOLARTH","TIDE","WIND","OTHER","ELECTR","HEAT","HEATNS",null,null,null,null,null,null,null,null,null,null,null,null,"ANTCOAL","COKCOAL","BITCOAL","SUBCOAL","LIGNITE","PATFUEL","OVENCOKE","GASCOKE","COALTAR","BKB","GASWKSGS","COKEOVGS","BLFURGS","OGASES","MANGAS","PEAT","PEATPROD","OILSHALE","CRUDEOIL","NGL","REFFEEDS","ADDITIVE","NONCRUDE","REFINGAS","ETHANE","LPG","NONBIOGASO","AVGAS","JETGAS","NONBIOJETK","OTHKERO","NONBIODIES","RESFUEL","NAPHTHA","WHITESP","LUBRIC","BITUMEN","PARWAX","PETCOKE","ONONSPEC","NATGAS","INDWASTE","MUNWASTER","MUNWASTEN","PRIMSBIO","BIOGASES","BIOGASOL","BIOJETKERO","BIODIESEL","OBIOLIQ","RENEWNS","CHARCOAL","NUCLEAR","HYDRO","GEOTHERM","SOLARPV","SOLARTH","TIDE","WIND","OTHER","ELECTR","HEAT","HEATNS"]
["Data in Physical Units Column Number",null,null,null,{"$f":"MATCH(E3,RawDataHeadings,0)","v":2},3,4,5,6,7,8,9,10,11,12,13,14,15,{"$f":"MATCH(S3,RawDataHeadings,0)","v":16},17,18,19,20,21,22,23,24,25,26,27,28,29,30,31,32,33,34,35,36,37,38,39,40,41,42,43,44,45,46,47,48,{"$f":"MATCH(AZ3,RawDataHeadings,0)","v":49},50,51,52,53,{"$f":"MATCH(BE3,RawDataHeadings,0)","v":54},55,56,57,58,59,60,64,65,66,{"$f":"MATCH(BO3,RawDataHeadings,0)","v":67}]
[{"$f":"INDPROD","v":"Production"},"INDPROD","NINDPROD",{"$f":"MATCH(C5,CFHeadings,0)","v":3},{"$f":"(VLOOKUP($B5,RawData,E$4,FALSE)*VLOOKUP(E$3,ConversionFactors,$D5,FALSE)+VLOOKUP(\"OSCOAL\",RawData,E$4,FALSE)*VLOOKUP(E$3,ConversionFactors,MATCH(\"NOSOURCES\",CFHeadings,0),FALSE))/1000","v":0},{"$f":"(VLOOKUP($B5,RawData,F$4,FALSE)*VLOOKUP(F$3,ConversionFactors,$D5,FALSE)+VLOOKUP(\"OSCOAL\",RawData,F$4,FALSE)*VLOOKUP(F$3,ConversionFactors,MATCH(\"NOSOURCES\",CFHeadings,0),FALSE))/1000","v":0},{"$f":"(VLOOKUP($B5,RawData,G$4,FALSE)*VLOOKUP(G$3,ConversionFactors,$D5,FALSE)+VLOOKUP(\"OSCOAL\",RawData,G$4,FALSE)*VLOOKUP(G$3,ConversionFactors,MATCH(\"NOSOURCES\",CFHeadings,0),FALSE))/1000","v":0},{"$f":"(VLOOKUP($B5,RawData,H$4,FALSE)*VLOOKUP(H$3,ConversionFactors,$D5,FALSE)+VLOOKUP(\"OSCOAL\",RawData,H$4,FALSE)*VLOOKUP(H$3,ConversionFactors,MATCH(\"NOSOURCES\",CFHeadings,0),FALSE))/1000","v":0},{"$f":"(VLOOKUP($B5,RawData,I$4,FALSE)*VLOOKUP(I$3,ConversionFactors,$D5,FALSE)+VLOOKUP(\"OSCOAL\",RawData,I$4,FALSE)*VLOOKUP(I$3,ConversionFactors,MATCH(\"NOSOURCES\",CFHeadings,0),FALSE))/1000","v":0},0,0,0,0,0,0,0,0,0,0,{"$f":"(VLOOKUP($B5,RawData,T$4,FALSE)*VLOOKUP(T$3,ConversionFactors,$D5,FALSE)+VLOOKUP(\"OSCOAL\",RawData,T$4,FALSE)*VLOOKUP(T$3,ConversionFactors,MATCH(\"NOSOURCES\",CFHeadings,0),FALSE))/1000","v":0},0,{"$f":"(VLOOKUP($B5,RawData,V$4,FALSE)*VLOOKUP(V$3,ConversionFactors,$D5,FALSE)+VLOOKUP(\"OSCOAL\",RawData,V$4,FALSE)*VLOOKUP(V$3,ConversionFactors,MATCH(\"NOSOURCES\",CFHeadings,0),FALSE))/1000","v":0},{"$f":"VLOOKUP($B5,RawData,W$4,FALSE)*VLOOKUP(W$3,ConversionFactors,$D5,FALSE)/1000","v":46.53},0,0,{"$f":"SUM(VLOOKUP($B5,RawData,Z$4,FALSE),VLOOKUP(\"OSCOAL\",RawData,Z$4,FALSE),VLOOKUP(\"OSNATGAS\",RawData,Z$4,FALSE),VLOOKUP(\"OSOIL\",RawData,Z$4,FALSE),VLOOKUP(\"OSRENEW\",RawData,Z$4,FALSE),VLOOKUP(\"OSNONSPEC\",RawData,Z$4,FALSE))*VLOOKUP(Z$3,ConversionFactors,$D5,FALSE)/1000","v":0},{"$f":"VLOOKUP($B5,RawData,AA$4,FALSE)*VLOOKUP(AA$3,ConversionFactors,$D5,FALSE)/1000","v":0},0,0,0,0,0,0,0,0,0,0,0,0,0,0,0,0,0,{"$f":"VLOOKUP($B5,RawData,AS$4,FALSE)*VLOOKUP(AS$3,ConversionFactors,2,FALSE)*1","v":0},{"$f":"VLOOKUP($B5,RawData,AT$4,FALSE)*1","v":0},0,0,62.5,0,{"$f":"VLOOKUP($B5,RawData,AY$4,FALSE)*VLOOKUP(AY$3,ConversionFactors,2,FALSE)/1000","v":0},0,55.2,0,{"$f":"VLOOKUP($B5,RawData,BC$4,FALSE)*1","v":0},0,{"$f":"VLOOKUP($B5,RawData,BE$4,FALSE)-BE14","v":0},{"$f":"VLOOKUP($B5,RawData,BF$4,FALSE)-BF14","v":2160},{"$f":"VLOOKUP($B5,RawData,BG$4,FALSE)*1","v":0},{"$f":"VLOOKUP($B5,RawData,BH$4,FALSE)-BH14","v":68.400000000000006},{"$f":"VLOOKUP($B5,RawData,BI$4,FALSE)*1","v":0},{"$f":"VLOOKUP($B5,RawData,BJ$4,FALSE)-BJ14","v":0},{"$f":"VLOOKUP($B5,RawData,BK$4,FALSE)-BK14","v":108},{"$f":"VLOOKUP($B5,RawData,BL$4,FALSE)-BL14","v":0},0,{"$f":"(VLOOKUP(\"HEATOUT\",RawData,MATCH(\"HEATPUMP\",RawDataHeadings,0),FALSE)+VLOOKUP(\"HEATOUT\",RawData,MATCH(\"CHEMHEAT\",RawDataHeadings,0),FALSE))*1-VLOOKUP(\"THEAT\",RawData,MATCH(\"ELECTR\",RawDataHeadings,0),FALSE)*3.6","v":0},0,{"$f":"SUM(E5:BO5)","v":2500.63},{"$f":"IFERROR(SUM(AU5,AW5:BD5,BF5:BK5)/BP5,\"..\")","v":0.98139268904236121},null,null,null,null,null,null,null,null,null,"INDPROD","(VLOOKUP($B5,RawData,E$4,FALSE)*VLOOKUP(E$3,ConversionFactors,$D5,FALSE)+VLOOKUP(\"OSCOAL\",RawData,E$4,FALSE)*VLOOKUP(E$3,ConversionFactors,MATCH(\"NOSOURCES\",CFHeadings,0),FALSE))/1000","(VLOOKUP($B5,RawData,F$4,FALSE)*VLOOKUP(F$3,ConversionFactors,$D5,FALSE)+VLOOKUP(\"OSCOAL\",RawData,F$4,FALSE)*VLOOKUP(F$3,ConversionFactors,MATCH(\"NOSOURCES\",CFHeadings,0),FALSE))/1000","(VLOOKUP($B5,RawData,G$4,FALSE)*VLOOKUP(G$3,ConversionFactors,$D5,FALSE)+VLOOKUP(\"OSCOAL\",RawData,G$4,FALSE)*VLOOKUP(G$3,ConversionFactors,MATCH(\"NOSOURCES\",CFHeadings,0),FALSE))/1000","(VLOOKUP($B5,RawData,H$4,FALSE)*VLOOKUP(H$3,ConversionFactors,$D5,FALSE)+VLOOKUP(\"OSCOAL\",RawData,H$4,FALSE)*VLOOKUP(H$3,ConversionFactors,MATCH(\"NOSOURCES\",CFHeadings,0),FALSE))/1000","(VLOOKUP($B5,RawData,I$4,FALSE)*VLOOKUP(I$3,ConversionFactors,$D5,FALSE)+VLOOKUP(\"OSCOAL\",RawData,I$4,FALSE)*VLOOKUP(I$3,ConversionFactors,MATCH(\"NOSOURCES\",CFHeadings,0),FALSE))/1000",0,0,0,0,0,0,0,0,0,0,"(VLOOKUP($B5,RawData,T$4,FALSE)*VLOOKUP(T$3,ConversionFactors,$D5,FALSE)+VLOOKUP(\"OSCOAL\",RawData,T$4,FALSE)*VLOOKUP(T$3,ConversionFactors,MATCH(\"NOSOURCES\",CFHeadings,0),FALSE))/1000",0,"(VLOOKUP($B5,RawData,V$4,FALSE)*VLOOKUP(V$3,ConversionFactors,$D5,FALSE)+VLOOKUP(\"OSCOAL\",RawData,V$4,FALSE)*VLOOKUP(V$3,ConversionFactors,MATCH(\"NOSOURCES\",CFHeadings,0),FALSE))/1000","VLOOKUP($B5,RawData,W$4,FALSE)*VLOOKUP(W$3,ConversionFactors,$D5,FALSE)/1000","VLOOKUP($B5,RawData,X$4,FALSE)*VLOOKUP(X$3,ConversionFactors,$D5,FALSE)/1000","VLOOKUP($B5,RawData,Y$4,FALSE)*VLOOKUP(Y$3,ConversionFactors,$D5,FALSE)/1000","SUM(VLOOKUP($B5,RawData,Z$4,FALSE),VLOOKUP(\"OSCOAL\",RawData,Z$4,FALSE),VLOOKUP(\"OSNATGAS\",RawData,Z$4,FALSE),VLOOKUP(\"OSOIL\",RawData,Z$4,FALSE),VLOOKUP(\"OSRENEW\",RawData,Z$4,FALSE),VLOOKUP(\"OSNONSPEC\",RawData,Z$4,FALSE))*VLOOKUP(Z$3,ConversionFactors,$D5,FALSE)/1000","VLOOKUP($B5,RawData,AA$4,FALSE)*VLOOKUP(AA$3,ConversionFactors,$D5,FALSE)/1000",0,0,0,0,0,0,0,0,0,0,0,0,0,0,0,0,0,"VLOOKUP($B5,RawData,AS$4,FALSE)*VLOOKUP(AS$3,ConversionFactors,2,FALSE)*1","VLOOKUP($B5,RawData,AT$4,FALSE)*1","VLOOKUP($B5,RawData,AU$4,FALSE)*1","VLOOKUP($B5,RawData,AV$4,FALSE)*1","VLOOKUP($B5,RawData,AW$4,FALSE)*1","VLOOKUP($B5,RawData,AX$4,FALSE)*1","VLOOKUP($B5,RawData,AY$4,FALSE)*VLOOKUP(AY$3,ConversionFactors,2,FALSE)/1000","VLOOKUP($B5,RawData,AZ$4,FALSE)*VLOOKUP(AZ$3,ConversionFactors,2,FALSE)/1000","VLOOKUP($B5,RawData,BA$4,FALSE)*VLOOKUP(BA$3,ConversionFactors,2,FALSE)/1000","VLOOKUP($B5,RawData,BB$4,FALSE)*VLOOKUP(BB$3,ConversionFactors,2,FALSE)/1000","VLOOKUP($B5,RawData,BC$4,FALSE)*1",0,"VLOOKUP($B5,RawData,BE$4,FALSE)-BE14","VLOOKUP($B5,RawData,BF$4,FALSE)-BF14","VLOOKUP($B5,RawData,BG$4,FALSE)*1","VLOOKUP($B5,RawData,BH$4,FALSE)-BH14","VLOOKUP($B5,RawData,BI$4,FALSE)*1","VLOOKUP($B5,RawData,BJ$4,FALSE)-BJ14","VLOOKUP($B5,RawData,BK$4,FALSE)-BK14","VLOOKUP($B5,RawData,BL$4,FALSE)-BL14",0,"(VLOOKUP(\"HEATOUT\",RawData,MATCH(\"HEATPUMP\",RawDataHeadings,0),FALSE)+VLOOKUP(\"HEATOUT\",RawData,MATCH(\"CHEMHEAT\",RawDataHeadings,0),FALSE))*1-VLOOKUP(\"THEAT\",RawData,MATCH(\"ELECTR\",RawDataHeadings,0),FALSE)*3.6",0]
[{"$f":"IMPORTS","v":"Imports"},"IMPORTS","NIMPORTS",{"$f":"MATCH(C6,CFHeadings,0)","v":5},{"$f":"VLOOKUP($B6,RawData,E$4,FALSE)*VLOOKUP(E$3,ConversionFactors,$D6,FALSE)/1000","v":0},0,0,0,0,0,0,0,0,0,{"$f":"(VLOOKUP($B6,RawData,O$4,FALSE)*VLOOKUP(O$3,ConversionFactors,2,FALSE))*1","v":0},0,0,0,0,{"$f":"VLOOKUP($B6,RawData,T$4,FALSE)*VLOOKUP(T$3,ConversionFactors,$D6,FALSE)/1000","v":0},0,0,0,0,0,{"$f":"VLOOKUP($B6,RawData,Z$4,FALSE)*VLOOKUP(Z$3,ConversionFactors,$D6,FALSE)/1000","v":0},{"$f":"VLOOKUP($B6,RawData,AA$4,FALSE)*VLOOKUP(AA$3,ConversionFactors,$D6,FALSE)/1000","v":0},{"$f":"VLOOKUP($B6,RawData,AB$4,FALSE)*VLOOKUP(AB$3,ConversionFactors,2,FALSE)/1000","v":0},0,0,0,0,0,0,0,124700,0,{"$f":"VLOOKUP($B6,RawData,AL$4,FALSE)*VLOOKUP(AL$3,ConversionFactors,2,FALSE)/1000","v":0},0,0,0,0,0,0,0,0,0,0,0,0,0,0,0,0,0,{"$f":"VLOOKUP($B6,RawData,BD$4,FALSE)*VLOOKUP(BD$3,ConversionFactors,2,FALSE)/1000","v":0},0,0,0,0,0,0,0,0,{"$f":"VLOOKUP($B6,RawData,BM$4,FALSE)*3.6","v":162},{"$f":"VLOOKUP($B6,RawData,BN$4,FALSE)*1","v":0},0,124862,null,null,null,null,null,null,null,null,null,null,"IMPORTS","VLOOKUP($B6,RawData,E$4,FALSE)*VLOOKUP(E$3,ConversionFactors,$D6,FALSE)/1000","VLOOKUP($B6,RawData,F$4,FALSE)*VLOOKUP(F$3,ConversionFactors,$D6,FALSE)/1000","VLOOKUP($B6,RawData,G$4,FALSE)*VLOOKUP(G$3,ConversionFactors,$D6,FALSE)/1000","VLOOKUP($B6,RawData,H$4,FALSE)*VLOOKUP(H$3,ConversionFactors,$D6,FALSE)/1000","VLOOKUP($B6,RawData,I$4,FALSE)*VLOOKUP(I$3,ConversionFactors,$D6,FALSE)/1000","VLOOKUP($B6,RawData,J$4,FALSE)*VLOOKUP(J$3,ConversionFactors,$D6,FALSE)/1000","VLOOKUP($B6,RawData,K$4,FALSE)*VLOOKUP(K$3,ConversionFactors,$D6,FALSE)/1000","VLOOKUP($B6,RawData,L$4,FALSE)*VLOOKUP(L$3,ConversionFactors,$D6,FALSE)/1000","VLOOKUP($B6,RawData,M$4,FALSE)*VLOOKUP(M$3,ConversionFactors,$D6,FALSE)/1000","VLOOKUP($B6,RawData,N$4,FALSE)*VLOOKUP(N$3,ConversionFactors,$D6,FALSE)/1000","(VLOOKUP($B6,RawData,O$4,FALSE)*VLOOKUP(O$3,ConversionFactors,2,FALSE))*1","(VLOOKUP($B6,RawData,P$4,FALSE)*VLOOKUP(P$3,ConversionFactors,2,FALSE))*1","(VLOOKUP($B6,RawData,Q$4,FALSE)*VLOOKUP(Q$3,ConversionFactors,2,FALSE))*1","(VLOOKUP($B6,RawData,R$4,FALSE)*VLOOKUP(R$3,ConversionFactors,2,FALSE))*1",0,"VLOOKUP($B6,RawData,T$4,FALSE)*VLOOKUP(T$3,ConversionFactors,$D6,FALSE)/1000","VLOOKUP($B6,RawData,U$4,FALSE)*VLOOKUP(U$3,ConversionFactors,$D6,FALSE)/1000","VLOOKUP($B6,RawData,V$4,FALSE)*VLOOKUP(V$3,ConversionFactors,$D6,FALSE)/1000","VLOOKUP($B6,RawData,W$4,FALSE)*VLOOKUP(W$3,ConversionFactors,$D6,FALSE)/1000","VLOOKUP($B6,RawData,X$4,FALSE)*VLOOKUP(X$3,ConversionFactors,$D6,FALSE)/1000","VLOOKUP($B6,RawData,Y$4,FALSE)*VLOOKUP(Y$3,ConversionFactors,$D6,FALSE)/1000","VLOOKUP($B6,RawData,Z$4,FALSE)*VLOOKUP(Z$3,ConversionFactors,$D6,FALSE)/1000","VLOOKUP($B6,RawData,AA$4,FALSE)*VLOOKUP(AA$3,ConversionFactors,$D6,FALSE)/1000","VLOOKUP($B6,RawData,AB$4,FALSE)*VLOOKUP(AB$3,ConversionFactors,2,FALSE)/1000","VLOOKUP($B6,RawData,AC$4,FALSE)*VLOOKUP(AC$3,ConversionFactors,2,FALSE)/1000","VLOOKUP($B6,RawData,AD$4,FALSE)*VLOOKUP(AD$3,ConversionFactors,2,FALSE)/1000","VLOOKUP($B6,RawData,AE$4,FALSE)*VLOOKUP(AE$3,ConversionFactors,2,FALSE)/1000","VLOOKUP($B6,RawData,AF$4,FALSE)*VLOOKUP(AF$3,ConversionFactors,2,FALSE)/1000","VLOOKUP($B6,RawData,AG$4,FALSE)*VLOOKUP(AG$3,ConversionFactors,2,FALSE)/1000","VLOOKUP($B6,RawData,AH$4,FALSE)*VLOOKUP(AH$3,ConversionFactors,2,FALSE)/1000","VLOOKUP($B6,RawData,AI$4,FALSE)*VLOOKUP(AI$3,ConversionFactors,2,FALSE)/1000","VLOOKUP($B6,RawData,AJ$4,FALSE)*VLOOKUP(AJ$3,ConversionFactors,2,FALSE)/1000","VLOOKUP($B6,RawData,AK$4,FALSE)*VLOOKUP(AK$3,ConversionFactors,2,FALSE)/1000","VLOOKUP($B6,RawData,AL$4,FALSE)*VLOOKUP(AL$3,ConversionFactors,2,FALSE)/1000","VLOOKUP($B6,RawData,AM$4,FALSE)*VLOOKUP(AM$3,ConversionFactors,2,FALSE)/1000","VLOOKUP($B6,RawData,AN$4,FALSE)*VLOOKUP(AN$3,ConversionFactors,2,FALSE)/1000","VLOOKUP($B6,RawData,AO$4,FALSE)*VLOOKUP(AO$3,ConversionFactors,2,FALSE)/1000","VLOOKUP($B6,RawData,AP$4,FALSE)*VLOOKUP(AP$3,ConversionFactors,2,FALSE)/1000","VLOOKUP($B6,RawData,AQ$4,FALSE)*VLOOKUP(AQ$3,ConversionFactors,2,FALSE)/1000","VLOOKUP($B6,RawData,AR$4,FALSE)*VLOOKUP(AR$3,ConversionFactors,2,FALSE)/1000","VLOOKUP($B6,RawData,AS$4,FALSE)*VLOOKUP(AS$3,ConversionFactors,2,FALSE)*1","VLOOKUP($B6,RawData,AT$4,FALSE)*1","VLOOKUP($B6,RawData,AU$4,FALSE)*1","VLOOKUP($B6,RawData,AV$4,FALSE)*1","VLOOKUP($B6,RawData,AW$4,FALSE)*1","VLOOKUP($B6,RawData,AX$4,FALSE)*1","VLOOKUP($B6,RawData,AY$4,FALSE)*VLOOKUP(AY$3,ConversionFactors,2,FALSE)/1000","VLOOKUP($B6,RawData,AZ$4,FALSE)*VLOOKUP(AZ$3,ConversionFactors,2,FALSE)/1000","VLOOKUP($B6,RawData,BA$4,FALSE)*VLOOKUP(BA$3,ConversionFactors,2,FALSE)/1000","VLOOKUP($B6,RawData,BB$4,FALSE)*VLOOKUP(BB$3,ConversionFactors,2,FALSE)/1000","VLOOKUP($B6,RawData,BC$4,FALSE)*1","VLOOKUP($B6,RawData,BD$4,FALSE)*VLOOKUP(BD$3,ConversionFactors,2,FALSE)/1000",0,0,0,0,0,0,0,0,"VLOOKUP($B6,RawData,BM$4,FALSE)*3.6","VLOOKUP($B6,RawData,BN$4,FALSE)*1",0]
[{"$f":"EXPORTS","v":"Exports"},"EXPORTS","NEXPORTS",{"$f":"MATCH(C7,CFHeadings,0)","v":6},0,0,0,0,0,0,0,0,0,0,0,0,0,0,0,0,0,0,29610,0,0,{"$f":"VLOOKUP($B7,RawData,Z$4,FALSE)*VLOOKUP(Z$3,ConversionFactors,$D7,FALSE)/1000","v":0},{"$f":"VLOOKUP($B7,RawData,AA$4,FALSE)*VLOOKUP(AA$3,ConversionFactors,$D7,FALSE)/1000","v":0},0,0,0,0,0,0,0,0,0,0,0,0,0,0,0,0,0,0,0,0,0,0,0,0,0,0,0,0,{"$f":"VLOOKUP($B7,RawData,BD$4,FALSE)*VLOOKUP(BD$3,ConversionFactors,2,FALSE)/1000","v":0},0,0,0,0,0,0,0,0,{"$f":"VLOOKUP($B7,RawData,BM$4,FALSE)*3.6","v":-79.2},{"$f":"VLOOKUP($B7,RawData,BN$4,FALSE)*1","v":0},0,29530.799999999999,null,null,null,null,null,null,null,null,null,null,"EXPORTS","VLOOKUP($B7,RawData,E$4,FALSE)*VLOOKUP(E$3,ConversionFactors,$D7,FALSE)/1000","VLOOKUP($B7,RawData,F$4,FALSE)*VLOOKUP(F$3,ConversionFactors,$D7,FALSE)/1000","VLOOKUP($B7,RawData,G$4,FALSE)*VLOOKUP(G$3,ConversionFactors,$D7,FALSE)/1000","VLOOKUP($B7,RawData,H$4,FALSE)*VLOOKUP(H$3,ConversionFactors,$D7,FALSE)/1000","VLOOKUP($B7,RawData,I$4,FALSE)*VLOOKUP(I$3,ConversionFactors,$D7,FALSE)/1000","VLOOKUP($B7,RawData,J$4,FALSE)*VLOOKUP(J$3,ConversionFactors,$D7,FALSE)/1000","VLOOKUP($B7,RawData,K$4,FALSE)*VLOOKUP(K$3,ConversionFactors,$D7,FALSE)/1000","VLOOKUP($B7,RawData,L$4,FALSE)*VLOOKUP(L$3,ConversionFactors,$D7,FALSE)/1000","VLOOKUP($B7,RawData,M$4,FALSE)*VLOOKUP(M$3,ConversionFactors,$D7,FALSE)/1000","VLOOKUP($B7,RawData,N$4,FALSE)*VLOOKUP(N$3,ConversionFactors,$D7,FALSE)/1000","(VLOOKUP($B7,RawData,O$4,FALSE)*VLOOKUP(O$3,ConversionFactors,2,FALSE))*1","(VLOOKUP($B7,RawData,P$4,FALSE)*VLOOKUP(P$3,ConversionFactors,2,FALSE))*1","(VLOOKUP($B7,RawData,Q$4,FALSE)*VLOOKUP(Q$3,ConversionFactors,2,FALSE))*1","(VLOOKUP($B7,RawData,R$4,FALSE)*VLOOKUP(R$3,ConversionFactors,2,FALSE))*1",0,"VLOOKUP($B7,RawData,T$4,FALSE)*VLOOKUP(T$3,ConversionFactors,$D7,FALSE)/1000","VLOOKUP($B7,RawData,U$4,FALSE)*VLOOKUP(U$3,ConversionFactors,$D7,FALSE)/1000","VLOOKUP($B7,RawData,V$4,FALSE)*VLOOKUP(V$3,ConversionFactors,$D7,FALSE)/1000","VLOOKUP($B7,RawData,W$4,FALSE)*VLOOKUP(W$3,ConversionFactors,$D7,FALSE)/1000","VLOOKUP($B7,RawData,X$4,FALSE)*VLOOKUP(X$3,ConversionFactors,$D7,FALSE)/1000","VLOOKUP($B7,RawData,Y$4,FALSE)*VLOOKUP(Y$3,ConversionFactors,$D7,FALSE)/1000","VLOOKUP($B7,RawData,Z$4,FALSE)*VLOOKUP(Z$3,ConversionFactors,$D7,FALSE)/1000","VLOOKUP($B7,RawData,AA$4,FALSE)*VLOOKUP(AA$3,ConversionFactors,$D7,FALSE)/1000","VLOOKUP($B7,RawData,AB$4,FALSE)*VLOOKUP(AB$3,ConversionFactors,2,FALSE)/1000","VLOOKUP($B7,RawData,AC$4,FALSE)*VLOOKUP(AC$3,ConversionFactors,2,FALSE)/1000","VLOOKUP($B7,RawData,AD$4,FALSE)*VLOOKUP(AD$3,ConversionFactors,2,FALSE)/1000","VLOOKUP($B7,RawData,AE$4,FALSE)*VLOOKUP(AE$3,ConversionFactors,2,FALSE)/1000","VLOOKUP($B7,RawData,AF$4,FALSE)*VLOOKUP(AF$3,ConversionFactors,2,FALSE)/1000","VLOOKUP($B7,RawData,AG$4,FALSE)*VLOOKUP(AG$3,ConversionFactors,2,FALSE)/1000","VLOOKUP($B7,RawData,AH$4,FALSE)*VLOOKUP(AH$3,ConversionFactors,2,FALSE)/1000","VLOOKUP($B7,RawData,AI$4,FALSE)*VLOOKUP(AI$3,ConversionFactors,2,FALSE)/1000","VLOOKUP($B7,RawData,AJ$4,FALSE)*VLOOKUP(AJ$3,ConversionFactors,2,FALSE)/1000","VLOOKUP($B7,RawData,AK$4,FALSE)*VLOOKUP(AK$3,ConversionFactors,2,FALSE)/1000","VLOOKUP($B7,RawData,AL$4,FALSE)*VLOOKUP(AL$3,ConversionFactors,2,FALSE)/1000","VLOOKUP($B7,RawData,AM$4,FALSE)*VLOOKUP(AM$3,ConversionFactors,2,FALSE)/1000","VLOOKUP($B7,RawData,AN$4,FALSE)*VLOOKUP(AN$3,ConversionFactors,2,FALSE)/1000","VLOOKUP($B7,RawData,AO$4,FALSE)*VLOOKUP(AO$3,ConversionFactors,2,FALSE)/1000","VLOOKUP($B7,RawData,AP$4,FALSE)*VLOOKUP(AP$3,ConversionFactors,2,FALSE)/1000","VLOOKUP($B7,RawData,AQ$4,FALSE)*VLOOKUP(AQ$3,ConversionFactors,2,FALSE)/1000","VLOOKUP($B7,RawData,AR$4,FALSE)*VLOOKUP(AR$3,ConversionFactors,2,FALSE)/1000","VLOOKUP($B7,RawData,AS$4,FALSE)*VLOOKUP(AS$3,ConversionFactors,2,FALSE)*1","VLOOKUP($B7,RawData,AT$4,FALSE)*1","VLOOKUP($B7,RawData,AU$4,FALSE)*1","VLOOKUP($B7,RawData,AV$4,FALSE)*1","VLOOKUP($B7,RawData,AW$4,FALSE)*1","VLOOKUP($B7,RawData,AX$4,FALSE)*1","VLOOKUP($B7,RawData,AY$4,FALSE)*VLOOKUP(AY$3,ConversionFactors,2,FALSE)/1000","VLOOKUP($B7,RawData,AZ$4,FALSE)*VLOOKUP(AZ$3,ConversionFactors,2,FALSE)/1000","VLOOKUP($B7,RawData,BA$4,FALSE)*VLOOKUP(BA$3,ConversionFactors,2,FALSE)/1000","VLOOKUP($B7,RawData,BB$4,FALSE)*VLOOKUP(BB$3,ConversionFactors,2,FALSE)/1000","VLOOKUP($B7,RawData,BC$4,FALSE)*1","VLOOKUP($B7,RawData,BD$4,FALSE)*VLOOKUP(BD$3,ConversionFactors,2,FALSE)/1000",0,0,0,0,0,0,0,0,"VLOOKUP($B7,RawData,BM$4,FALSE)*3.6","VLOOKUP($B7,RawData,BN$4,FALSE)*1",0]
[{"$f":"MARBUNK","v":"International marine bunkers"},"MARBUNK","NOTHER",{"$f":"MATCH(C8,CFHeadings,0)","v":16},0,0,0,0,0,0,0,0,0,0,0,0,0,0,0,0,0,0,{"$f":"VLOOKUP($B8,RawData,W$4,FALSE)*VLOOKUP(W$3,ConversionFactors,2,FALSE)/1000","v":0},0,0,0,0,0,0,0,0,0,0,0,0,-1720,0,0,0,0,0,0,0,0,0,0,0,0,0,0,0,0,0,0,0,{"$f":"VLOOKUP($B8,RawData,BD$4,FALSE)*VLOOKUP(BD$3,ConversionFactors,2,FALSE)/1000","v":0},0,0,0,0,0,0,0,0,{"$f":"VLOOKUP($B8,RawData,BM$4,FALSE)*3.6","v":0},{"$f":"VLOOKUP($B8,RawData,BN$4,FALSE)*1","v":0},0,-1720,null,null,null,null,null,null,null,null,null,null,"MARBUNK","VLOOKUP($B8,RawData,E$4,FALSE)*VLOOKUP(E$3,ConversionFactors,$D8,FALSE)/1000","VLOOKUP($B8,RawData,F$4,FALSE)*VLOOKUP(F$3,ConversionFactors,$D8,FALSE)/1000","VLOOKUP($B8,RawData,G$4,FALSE)*VLOOKUP(G$3,ConversionFactors,$D8,FALSE)/1000","VLOOKUP($B8,RawData,H$4,FALSE)*VLOOKUP(H$3,ConversionFactors,$D8,FALSE)/1000","VLOOKUP($B8,RawData,I$4,FALSE)*VLOOKUP(I$3,ConversionFactors,$D8,FALSE)/1000","VLOOKUP($B8,RawData,J$4,FALSE)*VLOOKUP(J$3,ConversionFactors,$D8,FALSE)/1000","VLOOKUP($B8,RawData,K$4,FALSE)*VLOOKUP(K$3,ConversionFactors,$D8,FALSE)/1000","VLOOKUP($B8,RawData,L$4,FALSE)*VLOOKUP(L$3,ConversionFactors,$D8,FALSE)/1000","VLOOKUP($B8,RawData,M$4,FALSE)*VLOOKUP(M$3,ConversionFactors,$D8,FALSE)/1000","VLOOKUP($B8,RawData,N$4,FALSE)*VLOOKUP(N$3,ConversionFactors,$D8,FALSE)/1000","(VLOOKUP($B8,RawData,O$4,FALSE)*VLOOKUP(O$3,ConversionFactors,2,FALSE))*1","(VLOOKUP($B8,RawData,P$4,FALSE)*VLOOKUP(P$3,ConversionFactors,2,FALSE))*1","(VLOOKUP($B8,RawData,Q$4,FALSE)*VLOOKUP(Q$3,ConversionFactors,2,FALSE))*1","(VLOOKUP($B8,RawData,R$4,FALSE)*VLOOKUP(R$3,ConversionFactors,2,FALSE))*1",0,"VLOOKUP($B8,RawData,T$4,FALSE)*VLOOKUP(T$3,ConversionFactors,$D8,FALSE)/1000","VLOOKUP($B8,RawData,U$4,FALSE)*VLOOKUP(U$3,ConversionFactors,$D8,FALSE)/1000","VLOOKUP($B8,RawData,V$4,FALSE)*VLOOKUP(V$3,ConversionFactors,$D8,FALSE)/1000","VLOOKUP($B8,RawData,W$4,FALSE)*VLOOKUP(W$3,ConversionFactors,2,FALSE)/1000","VLOOKUP($B8,RawData,X$4,FALSE)*VLOOKUP(X$3,ConversionFactors,2,FALSE)/1000","VLOOKUP($B8,RawData,Y$4,FALSE)*VLOOKUP(Y$3,ConversionFactors,2,FALSE)/1000","VLOOKUP($B8,RawData,Z$4,FALSE)*VLOOKUP(Z$3,ConversionFactors,2,FALSE)/1000","VLOOKUP($B8,RawData,AA$4,FALSE)*VLOOKUP(AA$3,ConversionFactors,2,FALSE)/1000","VLOOKUP($B8,RawData,AB$4,FALSE)*VLOOKUP(AB$3,ConversionFactors,2,FALSE)/1000","VLOOKUP($B8,RawData,AC$4,FALSE)*VLOOKUP(AC$3,ConversionFactors,2,FALSE)/1000","VLOOKUP($B8,RawData,AD$4,FALSE)*VLOOKUP(AD$3,ConversionFactors,2,FALSE)/1000","VLOOKUP($B8,RawData,AE$4,FALSE)*VLOOKUP(AE$3,ConversionFactors,2,FALSE)/1000","VLOOKUP($B8,RawData,AF$4,FALSE)*VLOOKUP(AF$3,ConversionFactors,2,FALSE)/1000","VLOOKUP($B8,RawData,AG$4,FALSE)*VLOOKUP(AG$3,ConversionFactors,2,FALSE)/1000","VLOOKUP($B8,RawData,AH$4,FALSE)*VLOOKUP(AH$3,ConversionFactors,2,FALSE)/1000","VLOOKUP($B8,RawData,AI$4,FALSE)*VLOOKUP(AI$3,ConversionFactors,2,FALSE)/1000","VLOOKUP($B8,RawData,AJ$4,FALSE)*VLOOKUP(AJ$3,ConversionFactors,2,FALSE)/1000","VLOOKUP($B8,RawData,AK$4,FALSE)*VLOOKUP(AK$3,ConversionFactors,2,FALSE)/1000","VLOOKUP($B8,RawData,AL$4,FALSE)*VLOOKUP(AL$3,ConversionFactors,2,FALSE)/1000","VLOOKUP($B8,RawData,AM$4,FALSE)*VLOOKUP(AM$3,ConversionFactors,2,FALSE)/1000","VLOOKUP($B8,RawData,AN$4,FALSE)*VLOOKUP(AN$3,ConversionFactors,2,FALSE)/1000","VLOOKUP($B8,RawData,AO$4,FALSE)*VLOOKUP(AO$3,ConversionFactors,2,FALSE)/1000","VLOOKUP($B8,RawData,AP$4,FALSE)*VLOOKUP(AP$3,ConversionFactors,2,FALSE)/1000","VLOOKUP($B8,RawData,AQ$4,FALSE)*VLOOKUP(AQ$3,ConversionFactors,2,FALSE)/1000","VLOOKUP($B8,RawData,AR$4,FALSE)*VLOOKUP(AR$3,ConversionFactors,2,FALSE)/1000","VLOOKUP($B8,RawData,AS$4,FALSE)*VLOOKUP(AS$3,ConversionFactors,2,FALSE)*1","VLOOKUP($B8,RawData,AT$4,FALSE)*1","VLOOKUP($B8,RawData,AU$4,FALSE)*1","VLOOKUP($B8,RawData,AV$4,FALSE)*1","VLOOKUP($B8,RawData,AW$4,FALSE)*1","VLOOKUP($B8,RawData,AX$4,FALSE)*1","VLOOKUP($B8,RawData,AY$4,FALSE)*VLOOKUP(AY$3,ConversionFactors,2,FALSE)/1000","VLOOKUP($B8,RawData,AZ$4,FALSE)*VLOOKUP(AZ$3,ConversionFactors,2,FALSE)/1000","VLOOKUP($B8,RawData,BA$4,FALSE)*VLOOKUP(BA$3,ConversionFactors,2,FALSE)/1000","VLOOKUP($B8,RawData,BB$4,FALSE)*VLOOKUP(BB$3,ConversionFactors,2,FALSE)/1000","VLOOKUP($B8,RawData,BC$4,FALSE)*1","VLOOKUP($B8,RawData,BD$4,FALSE)*VLOOKUP(BD$3,ConversionFactors,2,FALSE)/1000",0,0,0,0,0,0,0,0,"VLOOKUP($B8,RawData,BM$4,FALSE)*3.6","VLOOKUP($B8,RawData,BN$4,FALSE)*1",0]
[{"$f":"AVBUNK","v":"International aviation bunkers"},"AVBUNK","NOTHER",{"$f":"MATCH(C9,CFHeadings,0)","v":16},0,0,0,0,0,0,0,0,0,0,0,0,0,0,0,0,0,0,0,0,0,0,0,0,0,0,0,0,0,0,0,0,0,0,0,0,0,0,0,0,0,0,0,0,0,0,0,0,0,0,0,{"$f":"VLOOKUP($B9,RawData,BD$4,FALSE)*VLOOKUP(BD$3,ConversionFactors,2,FALSE)/1000","v":0},0,0,{"$f":"VLOOKUP($B9,RawData,BG$4,FALSE)*1","v":0},0,{"$f":"VLOOKUP($B9,RawData,BI$4,FALSE)*1","v":0},0,0,0,{"$f":"VLOOKUP($B9,RawData,BM$4,FALSE)*3.6","v":0},{"$f":"VLOOKUP($B9,RawData,BN$4,FALSE)*1","v":0},0,{"$f":"SUM(E9:BO9)","v":0},null,null,null,null,null,null,null,null,null,null,"AVBUNK","VLOOKUP($B9,RawData,E$4,FALSE)*VLOOKUP(E$3,ConversionFactors,$D9,FALSE)/1000","VLOOKUP($B9,RawData,F$4,FALSE)*VLOOKUP(F$3,ConversionFactors,$D9,FALSE)/1000","VLOOKUP($B9,RawData,G$4,FALSE)*VLOOKUP(G$3,ConversionFactors,$D9,FALSE)/1000","VLOOKUP($B9,RawData,H$4,FALSE)*VLOOKUP(H$3,ConversionFactors,$D9,FALSE)/1000","VLOOKUP($B9,RawData,I$4,FALSE)*VLOOKUP(I$3,ConversionFactors,$D9,FALSE)/1000","VLOOKUP($B9,RawData,J$4,FALSE)*VLOOKUP(J$3,ConversionFactors,$D9,FALSE)/1000","VLOOKUP($B9,RawData,K$4,FALSE)*VLOOKUP(K$3,ConversionFactors,$D9,FALSE)/1000","VLOOKUP($B9,RawData,L$4,FALSE)*VLOOKUP(L$3,ConversionFactors,$D9,FALSE)/1000","VLOOKUP($B9,RawData,M$4,FALSE)*VLOOKUP(M$3,ConversionFactors,$D9,FALSE)/1000","VLOOKUP($B9,RawData,N$4,FALSE)*VLOOKUP(N$3,ConversionFactors,$D9,FALSE)/1000","(VLOOKUP($B9,RawData,O$4,FALSE)*VLOOKUP(O$3,ConversionFactors,2,FALSE))*1","(VLOOKUP($B9,RawData,P$4,FALSE)*VLOOKUP(P$3,ConversionFactors,2,FALSE))*1","(VLOOKUP($B9,RawData,Q$4,FALSE)*VLOOKUP(Q$3,ConversionFactors,2,FALSE))*1","(VLOOKUP($B9,RawData,R$4,FALSE)*VLOOKUP(R$3,ConversionFactors,2,FALSE))*1",0,"VLOOKUP($B9,RawData,T$4,FALSE)*VLOOKUP(T$3,ConversionFactors,$D9,FALSE)/1000","VLOOKUP($B9,RawData,U$4,FALSE)*VLOOKUP(U$3,ConversionFactors,$D9,FALSE)/1000","VLOOKUP($B9,RawData,V$4,FALSE)*VLOOKUP(V$3,ConversionFactors,$D9,FALSE)/1000","VLOOKUP($B9,RawData,W$4,FALSE)*VLOOKUP(W$3,ConversionFactors,2,FALSE)/1000","VLOOKUP($B9,RawData,X$4,FALSE)*VLOOKUP(X$3,ConversionFactors,2,FALSE)/1000","VLOOKUP($B9,RawData,Y$4,FALSE)*VLOOKUP(Y$3,ConversionFactors,2,FALSE)/1000","VLOOKUP($B9,RawData,Z$4,FALSE)*VLOOKUP(Z$3,ConversionFactors,2,FALSE)/1000","VLOOKUP($B9,RawData,AA$4,FALSE)*VLOOKUP(AA$3,ConversionFactors,2,FALSE)/1000","VLOOKUP($B9,RawData,AB$4,FALSE)*VLOOKUP(AB$3,ConversionFactors,2,FALSE)/1000","VLOOKUP($B9,RawData,AC$4,FALSE)*VLOOKUP(AC$3,ConversionFactors,2,FALSE)/1000","VLOOKUP($B9,RawData,AD$4,FALSE)*VLOOKUP(AD$3,ConversionFactors,2,FALSE)/1000","VLOOKUP($B9,RawData,AE$4,FALSE)*VLOOKUP(AE$3,ConversionFactors,2,FALSE)/1000","VLOOKUP($B9,RawData,AF$4,FALSE)*VLOOKUP(AF$3,ConversionFactors,2,FALSE)/1000","VLOOKUP($B9,RawData,AG$4,FALSE)*VLOOKUP(AG$3,ConversionFactors,2,FALSE)/1000","VLOOKUP($B9,RawData,AH$4,FALSE)*VLOOKUP(AH$3,ConversionFactors,2,FALSE)/1000","VLOOKUP($B9,RawData,AI$4,FALSE)*VLOOKUP(AI$3,ConversionFactors,2,FALSE)/1000","VLOOKUP($B9,RawData,AJ$4,FALSE)*VLOOKUP(AJ$3,ConversionFactors,2,FALSE)/1000","VLOOKUP($B9,RawData,AK$4,FALSE)*VLOOKUP(AK$3,ConversionFactors,2,FALSE)/1000","VLOOKUP($B9,RawData,AL$4,FALSE)*VLOOKUP(AL$3,ConversionFactors,2,FALSE)/1000","VLOOKUP($B9,RawData,AM$4,FALSE)*VLOOKUP(AM$3,ConversionFactors,2,FALSE)/1000","VLOOKUP($B9,RawData,AN$4,FALSE)*VLOOKUP(AN$3,ConversionFactors,2,FALSE)/1000","VLOOKUP($B9,RawData,AO$4,FALSE)*VLOOKUP(AO$3,ConversionFactors,2,FALSE)/1000","VLOOKUP($B9,RawData,AP$4,FALSE)*VLOOKUP(AP$3,ConversionFactors,2,FALSE)/1000","VLOOKUP($B9,RawData,AQ$4,FALSE)*VLOOKUP(AQ$3,ConversionFactors,2,FALSE)/1000","VLOOKUP($B9,RawData,AR$4,FALSE)*VLOOKUP(AR$3,ConversionFactors,2,FALSE)/1000","VLOOKUP($B9,RawData,AS$4,FALSE)*VLOOKUP(AS$3,ConversionFactors,2,FALSE)*1","VLOOKUP($B9,RawData,AT$4,FALSE)*1","VLOOKUP($B9,RawData,AU$4,FALSE)*1","VLOOKUP($B9,RawData,AV$4,FALSE)*1","VLOOKUP($B9,RawData,AW$4,FALSE)*1","VLOOKUP($B9,RawData,AX$4,FALSE)*1","VLOOKUP($B9,RawData,AY$4,FALSE)*VLOOKUP(AY$3,ConversionFactors,2,FALSE)/1000","VLOOKUP($B9,RawData,AZ$4,FALSE)*VLOOKUP(AZ$3,ConversionFactors,2,FALSE)/1000","VLOOKUP($B9,RawData,BA$4,FALSE)*VLOOKUP(BA$3,ConversionFactors,2,FALSE)/1000","VLOOKUP($B9,RawData,BB$4,FALSE)*VLOOKUP(BB$3,ConversionFactors,2,FALSE)/1000","VLOOKUP($B9,RawData,BC$4,FALSE)*1","VLOOKUP($B9,RawData,BD$4,FALSE)*VLOOKUP(BD$3,ConversionFactors,2,FALSE)/1000",0,0,"VLOOKUP($B9,RawData,BG$4,FALSE)*1",0,"VLOOKUP($B9,RawData,BI$4,FALSE)*1",0,0,0,"VLOOKUP($B9,RawData,BM$4,FALSE)*3.6","VLOOKUP($B9,RawData,BN$4,FALSE)*1",0]
[{"$f":"STOCKCHA","v":"Stock changes"},"STOCKCHA","NAVERAGE",2,0,0,0,0,0,0,0,0,0,0,0,0,0,0,0,0,0,0,4800,0,0,0,0,0,0,0,0,0,0,0,0,-645,0,0,0,0,0,0,0,0,0,0,0,0,0,0,0,0,0,0,0,{"$f":"VLOOKUP($B10,RawData,BD$4,FALSE)*VLOOKUP(BD$3,ConversionFactors,2,FALSE)/1000","v":0},0,0,0,0,0,0,0,0,{"$f":"VLOOKUP($B10,RawData,BM$4,FALSE)*3.6","v":0},{"$f":"VLOOKUP($B10,RawData,BN$4,FALSE)*1","v":0},0,4155,null,null,null,null,null,null,null,null,null,null,"STOCKCHA","VLOOKUP($B10,RawData,E$4,FALSE)*VLOOKUP(E$3,ConversionFactors,$D10,FALSE)/1000","VLOOKUP($B10,RawData,F$4,FALSE)*VLOOKUP(F$3,ConversionFactors,$D10,FALSE)/1000","VLOOKUP($B10,RawData,G$4,FALSE)*VLOOKUP(G$3,ConversionFactors,$D10,FALSE)/1000","VLOOKUP($B10,RawData,H$4,FALSE)*VLOOKUP(H$3,ConversionFactors,$D10,FALSE)/1000","VLOOKUP($B10,RawData,I$4,FALSE)*VLOOKUP(I$3,ConversionFactors,$D10,FALSE)/1000","VLOOKUP($B10,RawData,J$4,FALSE)*VLOOKUP(J$3,ConversionFactors,$D10,FALSE)/1000","VLOOKUP($B10,RawData,K$4,FALSE)*VLOOKUP(K$3,ConversionFactors,$D10,FALSE)/1000","VLOOKUP($B10,RawData,L$4,FALSE)*VLOOKUP(L$3,ConversionFactors,$D10,FALSE)/1000","VLOOKUP($B10,RawData,M$4,FALSE)*VLOOKUP(M$3,ConversionFactors,$D10,FALSE)/1000","VLOOKUP($B10,RawData,N$4,FALSE)*VLOOKUP(N$3,ConversionFactors,$D10,FALSE)/1000","(VLOOKUP($B10,RawData,O$4,FALSE)*VLOOKUP(O$3,ConversionFactors,2,FALSE))*1","(VLOOKUP($B10,RawData,P$4,FALSE)*VLOOKUP(P$3,ConversionFactors,2,FALSE))*1","(VLOOKUP($B10,RawData,Q$4,FALSE)*VLOOKUP(Q$3,ConversionFactors,2,FALSE))*1","(VLOOKUP($B10,RawData,R$4,FALSE)*VLOOKUP(R$3,ConversionFactors,2,FALSE))*1",0,"VLOOKUP($B10,RawData,T$4,FALSE)*VLOOKUP(T$3,ConversionFactors,$D10,FALSE)/1000","VLOOKUP($B10,RawData,U$4,FALSE)*VLOOKUP(U$3,ConversionFactors,$D10,FALSE)/1000","VLOOKUP($B10,RawData,V$4,FALSE)*VLOOKUP(V$3,ConversionFactors,$D10,FALSE)/1000","VLOOKUP($B10,RawData,W$4,FALSE)*VLOOKUP(W$3,ConversionFactors,2,FALSE)/1000","VLOOKUP($B10,RawData,X$4,FALSE)*VLOOKUP(X$3,ConversionFactors,2,FALSE)/1000","VLOOKUP($B10,RawData,Y$4,FALSE)*VLOOKUP(Y$3,ConversionFactors,2,FALSE)/1000","VLOOKUP($B10,RawData,Z$4,FALSE)*VLOOKUP(Z$3,ConversionFactors,2,FALSE)/1000","VLOOKUP($B10,RawData,AA$4,FALSE)*VLOOKUP(AA$3,ConversionFactors,2,FALSE)/1000","VLOOKUP($B10,RawData,AB$4,FALSE)*VLOOKUP(AB$3,ConversionFactors,2,FALSE)/1000","VLOOKUP($B10,RawData,AC$4,FALSE)*VLOOKUP(AC$3,ConversionFactors,2,FALSE)/1000","VLOOKUP($B10,RawData,AD$4,FALSE)*VLOOKUP(AD$3,ConversionFactors,2,FALSE)/1000","VLOOKUP($B10,RawData,AE$4,FALSE)*VLOOKUP(AE$3,ConversionFactors,2,FALSE)/1000","VLOOKUP($B10,RawData,AF$4,FALSE)*VLOOKUP(AF$3,ConversionFactors,2,FALSE)/1000","VLOOKUP($B10,RawData,AG$4,FALSE)*VLOOKUP(AG$3,ConversionFactors,2,FALSE)/1000","VLOOKUP($B10,RawData,AH$4,FALSE)*VLOOKUP(AH$3,ConversionFactors,2,FALSE)/1000","VLOOKUP($B10,RawData,AI$4,FALSE)*VLOOKUP(AI$3,ConversionFactors,2,FALSE)/1000","VLOOKUP($B10,RawData,AJ$4,FALSE)*VLOOKUP(AJ$3,ConversionFactors,2,FALSE)/1000","VLOOKUP($B10,RawData,AK$4,FALSE)*VLOOKUP(AK$3,ConversionFactors,2,FALSE)/1000","VLOOKUP($B10,RawData,AL$4,FALSE)*VLOOKUP(AL$3,ConversionFactors,2,FALSE)/1000","VLOOKUP($B10,RawData,AM$4,FALSE)*VLOOKUP(AM$3,ConversionFactors,2,FALSE)/1000","VLOOKUP($B10,RawData,AN$4,FALSE)*VLOOKUP(AN$3,ConversionFactors,2,FALSE)/1000","VLOOKUP($B10,RawData,AO$4,FALSE)*VLOOKUP(AO$3,ConversionFactors,2,FALSE)/1000","VLOOKUP($B10,RawData,AP$4,FALSE)*VLOOKUP(AP$3,ConversionFactors,2,FALSE)/1000","VLOOKUP($B10,RawData,AQ$4,FALSE)*VLOOKUP(AQ$3,ConversionFactors,2,FALSE)/1000","VLOOKUP($B10,RawData,AR$4,FALSE)*VLOOKUP(AR$3,ConversionFactors,2,FALSE)/1000","VLOOKUP($B10,RawData,AS$4,FALSE)*VLOOKUP(AS$3,ConversionFactors,2,FALSE)*1","VLOOKUP($B10,RawData,AT$4,FALSE)*1","VLOOKUP($B10,RawData,AU$4,FALSE)*1","VLOOKUP($B10,RawData,AV$4,FALSE)*1","VLOOKUP($B10,RawData,AW$4,FALSE)*1","VLOOKUP($B10,RawData,AX$4,FALSE)*1","VLOOKUP($B10,RawData,AY$4,FALSE)*VLOOKUP(AY$3,ConversionFactors,2,FALSE)/1000","VLOOKUP($B10,RawData,AZ$4,FALSE)*VLOOKUP(AZ$3,ConversionFactors,2,FALSE)/1000","VLOOKUP($B10,RawData,BA$4,FALSE)*VLOOKUP(BA$3,ConversionFactors,2,FALSE)/1000","VLOOKUP($B10,RawData,BB$4,FALSE)*VLOOKUP(BB$3,ConversionFactors,2,FALSE)/1000","VLOOKUP($B10,RawData,BC$4,FALSE)*1","VLOOKUP($B10,RawData,BD$4,FALSE)*VLOOKUP(BD$3,ConversionFactors,2,FALSE)/1000",0,0,0,0,0,0,0,0,"VLOOKUP($B10,RawData,BM$4,FALSE)*3.6","VLOOKUP($B10,RawData,BN$4,FALSE)*1",0]
[{"$f":"TPES","v":"Total energy supply (TES)"},"DOMSUP",null,null,{"$f":"SUM(E5:E10)","v":0},0,0,0,0,0,0,0,0,0,0,0,0,0,0,{"$f":"SUM(T5:T10)","v":0},0,0,34456.53,0,0,0,0,0,0,0,0,0,0,0,0,122335,0,0,0,0,0,0,0,0,0,0,0,0,62.5,0,0,0,55.2,0,0,0,0,2160,0,68.400000000000006,0,0,108,0,82.8,0,0,159328.43,{"$f":"IFERROR(SUM(AU11,AW11:BD11,BF11:BK11)/BP11,\"..\")","v":1.5402775261138266E-2},null,null,null,null,null,null,null,null,null,"DOMSUP","SUM(E5:E10)","SUM(F5:F10)","SUM(G5:G10)","SUM(H5:H10)","SUM(I5:I10)","SUM(J5:J10)","SUM(K5:K10)","SUM(L5:L10)","SUM(M5:M10)","SUM(N5:N10)","SUM(O5:O10)","SUM(P5:P10)","SUM(Q5:Q10)","SUM(R5:R10)",0,"SUM(T5:T10)","SUM(U5:U10)","SUM(V5:V10)","SUM(W5:W10)","SUM(X5:X10)","SUM(Y5:Y10)","SUM(Z5:Z10)","SUM(AA5:AA10)","SUM(AB5:AB10)","SUM(AC5:AC10)","SUM(AD5:AD10)","SUM(AE5:AE10)","SUM(AF5:AF10)","SUM(AG5:AG10)","SUM(AH5:AH10)","SUM(AI5:AI10)","SUM(AJ5:AJ10)","SUM(AK5:AK10)","SUM(AL5:AL10)","SUM(AM5:AM10)","SUM(AN5:AN10)","SUM(AO5:AO10)","SUM(AP5:AP10)","SUM(AQ5:AQ10)","SUM(AR5:AR10)","SUM(AS5:AS10)","SUM(AT5:AT10)","SUM(AU5:AU10)","SUM(AV5:AV10)","SUM(AW5:AW10)","SUM(AX5:AX10)","SUM(AY5:AY10)","SUM(AZ5:AZ10)","SUM(BA5:BA10)","SUM(BB5:BB10)","SUM(BC5:BC10)","SUM(BD5:BD10)","SUM(BE5:BE10)","SUM(BF5:BF10)","SUM(BG5:BG10)","SUM(BH5:BH10)","SUM(BI5:BI10)","SUM(BJ5:BJ10)","SUM(BK5:BK10)","SUM(BL5:BL10)","SUM(BM5:BM10)","SUM(BN5:BN10)",0]
[{"$f":"TRANSFER","v":"Transfers"},"TRANSFER","NOTHER",{"$f":"MATCH(C12,CFHeadings,0)","v":16},{"$f":"VLOOKUP($B12,RawData,E$4,FALSE)*VLOOKUP(E$3,ConversionFactors,$D12,FALSE)/1000","v":0},0,0,0,0,0,0,0,0,0,{"$f":"(VLOOKUP($B12,RawData,O$4,FALSE)*VLOOKUP(O$3,ConversionFactors,2,FALSE))*1","v":0},{"$f":"(VLOOKUP($B12,RawData,P$4,FALSE)*VLOOKUP(P$3,ConversionFactors,2,FALSE))*1","v":0},{"$f":"(VLOOKUP($B12,RawData,Q$4,FALSE)*VLOOKUP(Q$3,ConversionFactors,2,FALSE))*1","v":0},{"$f":"(VLOOKUP($B12,RawData,R$4,FALSE)*VLOOKUP(R$3,ConversionFactors,2,FALSE))*1","v":0},0,{"$f":"VLOOKUP($B12,RawData,T$4,FALSE)*VLOOKUP(T$3,ConversionFactors,$D12,FALSE)/1000","v":0},{"$f":"VLOOKUP($B12,RawData,U$4,FALSE)*VLOOKUP(U$3,ConversionFactors,$D12,FALSE)/1000","v":0},{"$f":"VLOOKUP($B12,RawData,V$4,FALSE)*VLOOKUP(V$3,ConversionFactors,$D12,FALSE)/1000","v":0},{"$f":"VLOOKUP($B12,RawData,W$4,FALSE)*VLOOKUP(W$3,ConversionFactors,2,FALSE)/1000","v":0},0,0,0,0,0,0,0,0,0,0,0,0,0,0,0,0,0,0,0,0,0,{"$f":"VLOOKUP($B12,RawData,AS$4,FALSE)*VLOOKUP(AS$3,ConversionFactors,2,FALSE)*1","v":0},{"$f":"VLOOKUP($B12,RawData,AT$4,FALSE)*1","v":0},{"$f":"VLOOKUP($B12,RawData,AU$4,FALSE)*1","v":0},{"$f":"VLOOKUP($B12,RawData,AV$4,FALSE)*1","v":0},{"$f":"VLOOKUP($B12,RawData,AW$4,FALSE)*1","v":0},{"$f":"VLOOKUP($B12,RawData,AX$4,FALSE)*1","v":0},{"$f":"VLOOKUP($B12,RawData,AY$4,FALSE)*VLOOKUP(AY$3,ConversionFactors,2,FALSE)/1000","v":0},{"$f":"VLOOKUP($B12,RawData,AZ$4,FALSE)*VLOOKUP(AZ$3,ConversionFactors,2,FALSE)/1000","v":0},{"$f":"VLOOKUP($B12,RawData,BA$4,FALSE)*VLOOKUP(BA$3,ConversionFactors,2,FALSE)/1000","v":0},{"$f":"VLOOKUP($B12,RawData,BB$4,FALSE)*VLOOKUP(BB$3,ConversionFactors,2,FALSE)/1000","v":0},{"$f":"VLOOKUP($B12,RawData,BC$4,FALSE)*1","v":0},{"$f":"VLOOKUP($B12,RawData,BD$4,FALSE)*VLOOKUP(BD$3,ConversionFactors,2,FALSE)/1000","v":0},0,0,0,0,0,0,0,0,{"$f":"VLOOKUP($B12,RawData,BM$4,FALSE)*3.6","v":0},{"$f":"VLOOKUP($B12,RawData,BN$4,FALSE)*1","v":0},0,0,null,null,null,null,null,null,null,null,null,null,"TRANSFER","VLOOKUP($B12,RawData,E$4,FALSE)*VLOOKUP(E$3,ConversionFactors,$D12,FALSE)/1000","VLOOKUP($B12,RawData,F$4,FALSE)*VLOOKUP(F$3,ConversionFactors,$D12,FALSE)/1000","VLOOKUP($B12,RawData,G$4,FALSE)*VLOOKUP(G$3,ConversionFactors,$D12,FALSE)/1000","VLOOKUP($B12,RawData,H$4,FALSE)*VLOOKUP(H$3,ConversionFactors,$D12,FALSE)/1000","VLOOKUP($B12,RawData,I$4,FALSE)*VLOOKUP(I$3,ConversionFactors,$D12,FALSE)/1000","VLOOKUP($B12,RawData,J$4,FALSE)*VLOOKUP(J$3,ConversionFactors,$D12,FALSE)/1000","VLOOKUP($B12,RawData,K$4,FALSE)*VLOOKUP(K$3,ConversionFactors,$D12,FALSE)/1000","VLOOKUP($B12,RawData,L$4,FALSE)*VLOOKUP(L$3,ConversionFactors,$D12,FALSE)/1000","VLOOKUP($B12,RawData,M$4,FALSE)*VLOOKUP(M$3,ConversionFactors,$D12,FALSE)/1000","VLOOKUP($B12,RawData,N$4,FALSE)*VLOOKUP(N$3,ConversionFactors,$D12,FALSE)/1000","(VLOOKUP($B12,RawData,O$4,FALSE)*VLOOKUP(O$3,ConversionFactors,2,FALSE))*1","(VLOOKUP($B12,RawData,P$4,FALSE)*VLOOKUP(P$3,ConversionFactors,2,FALSE))*1","(VLOOKUP($B12,RawData,Q$4,FALSE)*VLOOKUP(Q$3,ConversionFactors,2,FALSE))*1","(VLOOKUP($B12,RawData,R$4,FALSE)*VLOOKUP(R$3,ConversionFactors,2,FALSE))*1",0,"VLOOKUP($B12,RawData,T$4,FALSE)*VLOOKUP(T$3,ConversionFactors,$D12,FALSE)/1000","VLOOKUP($B12,RawData,U$4,FALSE)*VLOOKUP(U$3,ConversionFactors,$D12,FALSE)/1000","VLOOKUP($B12,RawData,V$4,FALSE)*VLOOKUP(V$3,ConversionFactors,$D12,FALSE)/1000","VLOOKUP($B12,RawData,W$4,FALSE)*VLOOKUP(W$3,ConversionFactors,2,FALSE)/1000","VLOOKUP($B12,RawData,X$4,FALSE)*VLOOKUP(X$3,ConversionFactors,2,FALSE)/1000","VLOOKUP($B12,RawData,Y$4,FALSE)*VLOOKUP(Y$3,ConversionFactors,2,FALSE)/1000","VLOOKUP($B12,RawData,Z$4,FALSE)*VLOOKUP(Z$3,ConversionFactors,2,FALSE)/1000","VLOOKUP($B12,RawData,AA$4,FALSE)*VLOOKUP(AA$3,ConversionFactors,2,FALSE)/1000","VLOOKUP($B12,RawData,AB$4,FALSE)*VLOOKUP(AB$3,ConversionFactors,2,FALSE)/1000","VLOOKUP($B12,RawData,AC$4,FALSE)*VLOOKUP(AC$3,ConversionFactors,2,FALSE)/1000","VLOOKUP($B12,RawData,AD$4,FALSE)*VLOOKUP(AD$3,ConversionFactors,2,FALSE)/1000","VLOOKUP($B12,RawData,AE$4,FALSE)*VLOOKUP(AE$3,ConversionFactors,2,FALSE)/1000","VLOOKUP($B12,RawData,AF$4,FALSE)*VLOOKUP(AF$3,ConversionFactors,2,FALSE)/1000","VLOOKUP($B12,RawData,AG$4,FALSE)*VLOOKUP(AG$3,ConversionFactors,2,FALSE)/1000","VLOOKUP($B12,RawData,AH$4,FALSE)*VLOOKUP(AH$3,ConversionFactors,2,FALSE)/1000","VLOOKUP($B12,RawData,AI$4,FALSE)*VLOOKUP(AI$3,ConversionFactors,2,FALSE)/1000","VLOOKUP($B12,RawData,AJ$4,FALSE)*VLOOKUP(AJ$3,ConversionFactors,2,FALSE)/1000","VLOOKUP($B12,RawData,AK$4,FALSE)*VLOOKUP(AK$3,ConversionFactors,2,FALSE)/1000","VLOOKUP($B12,RawData,AL$4,FALSE)*VLOOKUP(AL$3,ConversionFactors,2,FALSE)/1000","VLOOKUP($B12,RawData,AM$4,FALSE)*VLOOKUP(AM$3,ConversionFactors,2,FALSE)/1000","VLOOKUP($B12,RawData,AN$4,FALSE)*VLOOKUP(AN$3,ConversionFactors,2,FALSE)/1000","VLOOKUP($B12,RawData,AO$4,FALSE)*VLOOKUP(AO$3,ConversionFactors,2,FALSE)/1000","VLOOKUP($B12,RawData,AP$4,FALSE)*VLOOKUP(AP$3,ConversionFactors,2,FALSE)/1000","VLOOKUP($B12,RawData,AQ$4,FALSE)*VLOOKUP(AQ$3,ConversionFactors,2,FALSE)/1000","VLOOKUP($B12,RawData,AR$4,FALSE)*VLOOKUP(AR$3,ConversionFactors,2,FALSE)/1000","VLOOKUP($B12,RawData,AS$4,FALSE)*VLOOKUP(AS$3,ConversionFactors,2,FALSE)*1","VLOOKUP($B12,RawData,AT$4,FALSE)*1","VLOOKUP($B12,RawData,AU$4,FALSE)*1","VLOOKUP($B12,RawData,AV$4,FALSE)*1","VLOOKUP($B12,RawData,AW$4,FALSE)*1","VLOOKUP($B12,RawData,AX$4,FALSE)*1","VLOOKUP($B12,RawData,AY$4,FALSE)*VLOOKUP(AY$3,ConversionFactors,2,FALSE)/1000","VLOOKUP($B12,RawData,AZ$4,FALSE)*VLOOKUP(AZ$3,ConversionFactors,2,FALSE)/1000","VLOOKUP($B12,RawData,BA$4,FALSE)*VLOOKUP(BA$3,ConversionFactors,2,FALSE)/1000","VLOOKUP($B12,RawData,BB$4,FALSE)*VLOOKUP(BB$3,ConversionFactors,2,FALSE)/1000","VLOOKUP($B12,RawData,BC$4,FALSE)*1","VLOOKUP($B12,RawData,BD$4,FALSE)*VLOOKUP(BD$3,ConversionFactors,2,FALSE)/1000",0,0,0,0,0,0,0,0,"VLOOKUP($B12,RawData,BM$4,FALSE)*3.6","VLOOKUP($B12,RawData,BN$4,FALSE)*1",0]
[{"$f":"STATDIFF","v":"Statistical differences"},"STATDIFF",null,null,{"$f":"E55-SUM(E11,E12,E14,E36,E54)","v":0},0,0,0,0,0,0,0,0,0,0,0,0,0,0,{"$f":"T55-SUM(T11,T12,T14,T36,T54)","v":0},0,0,-13856.529999999999,0,0,0,0,0,0,0,0,0,0,0,0,-4730,0,0,0,0,0,0,0,0,0,0,0,0,0,0,0,0,0,0,0,0,0,0,0,0,0,0,0,0,0,0,0,-18586.53,null,null,null,null,null,null,null,null,null,null,"STATDIFF","E55-SUM(E11,E12,E14,E36,E54)","F55-SUM(F11,F12,F14,F36,F54)","G55-SUM(G11,G12,G14,G36,G54)","H55-SUM(H11,H12,H14,H36,H54)","I55-SUM(I11,I12,I14,I36,I54)","J55-SUM(J11,J12,J14,J36,J54)","K55-SUM(K11,K12,K14,K36,K54)","L55-SUM(L11,L12,L14,L36,L54)","M55-SUM(M11,M12,M14,M36,M54)","N55-SUM(N11,N12,N14,N36,N54)","O55-SUM(O11,O12,O14,O36,O54)","P55-SUM(P11,P12,P14,P36,P54)","Q55-SUM(Q11,Q12,Q14,Q36,Q54)","R55-SUM(R11,R12,R14,R36,R54)",0,"T55-SUM(T11,T12,T14,T36,T54)","U55-SUM(U11,U12,U14,U36,U54)","V55-SUM(V11,V12,V14,V36,V54)","W55-SUM(W11,W12,W14,W36,W54)","X55-SUM(X11,X12,X14,X36,X54)","Y55-SUM(Y11,Y12,Y14,Y36,Y54)","Z55-SUM(Z11,Z12,Z14,Z36,Z54)","AA55-SUM(AA11,AA12,AA14,AA36,AA54)","AB55-SUM(AB11,AB12,AB14,AB36,AB54)","AC55-SUM(AC11,AC12,AC14,AC36,AC54)","AD55-SUM(AD11,AD12,AD14,AD36,AD54)","AE55-SUM(AE11,AE12,AE14,AE36,AE54)","AF55-SUM(AF11,AF12,AF14,AF36,AF54)","AG55-SUM(AG11,AG12,AG14,AG36,AG54)","AH55-SUM(AH11,AH12,AH14,AH36,AH54)","AI55-SUM(AI11,AI12,AI14,AI36,AI54)","AJ55-SUM(AJ11,AJ12,AJ14,AJ36,AJ54)","AK55-SUM(AK11,AK12,AK14,AK36,AK54)","AL55-SUM(AL11,AL12,AL14,AL36,AL54)","AM55-SUM(AM11,AM12,AM14,AM36,AM54)","AN55-SUM(AN11,AN12,AN14,AN36,AN54)","AO55-SUM(AO11,AO12,AO14,AO36,AO54)","AP55-SUM(AP11,AP12,AP14,AP36,AP54)","AQ55-SUM(AQ11,AQ12,AQ14,AQ36,AQ54)","AR55-SUM(AR11,AR12,AR14,AR36,AR54)","AS55-SUM(AS11,AS12,AS14,AS36,AS54)","AT55-SUM(AT11,AT12,AT14,AT36,AT54)","AU55-SUM(AU11,AU12,AU14,AU36,AU54)","AV55-SUM(AV11,AV12,AV14,AV36,AV54)","AW55-SUM(AW11,AW12,AW14,AW36,AW54)","AX55-SUM(AX11,AX12,AX14,AX36,AX54)","AY55-SUM(AY11,AY12,AY14,AY36,AY54)","AZ55-SUM(AZ11,AZ12,AZ14,AZ36,AZ54)","BA55-SUM(BA11,BA12,BA14,BA36,BA54)","BB55-SUM(BB11,BB12,BB14,BB36,BB54)","BC55-SUM(BC11,BC12,BC14,BC36,BC54)","BD55-SUM(BD11,BD12,BD14,BD36,BD54)","BE55-SUM(BE11,BE12,BE14,BE36,BE54)","BF55-SUM(BF11,BF12,BF14,BF36,BF54)","BG55-SUM(BG11,BG12,BG14,BG36,BG54)","BH55-SUM(BH11,BH12,BH14,BH36,BH54)","BI55-SUM(BI11,BI12,BI14,BI36,BI54)","BJ55-SUM(BJ11,BJ12,BJ14,BJ36,BJ54)","BK55-SUM(BK11,BK12,BK14,BK36,BK54)","BL55-SUM(BL11,BL12,BL14,BL36,BL54)","BM55-SUM(BM11,BM12,BM14,BM36,BM54)","BN55-SUM(BN11,BN12,BN14,BN36,BN54)",0]
[{"$f":"TOTTRANF","v":"Transformation processes"},"TOTTRANF",null,null,{"$f":"SUM(E15:E35)","v":0},0,0,0,0,0,0,0,0,0,0,0,0,0,0,{"$f":"SUM(T15:T35)","v":0},0,0,-20600,0,0,0,0,0,0,0,0,0,0,0,0,-94600,0,0,0,0,0,0,0,0,0,0,0,0,0,0,0,0,0,0,0,0,0,-2160,0,-68.400000000000006,0,0,-108,0,37796.400000000001,0,0,-79740,null,null,null,null,null,null,null,null,null,null,"TOTTRANF","SUM(E15:E35)","SUM(F15:F35)","SUM(G15:G35)","SUM(H15:H35)","SUM(I15:I35)","SUM(J15:J35)","SUM(K15:K35)","SUM(L15:L35)","SUM(M15:M35)","SUM(N15:N35)","SUM(O15:O35)","SUM(P15:P35)","SUM(Q15:Q35)","SUM(R15:R35)",0,"SUM(T15:T35)","SUM(U15:U35)","SUM(V15:V35)","SUM(W15:W35)","SUM(X15:X35)","SUM(Y15:Y35)","SUM(Z15:Z35)","SUM(AA15:AA35)","SUM(AB15:AB35)","SUM(AC15:AC35)","SUM(AD15:AD35)","SUM(AE15:AE35)","SUM(AF15:AF35)","SUM(AG15:AG35)","SUM(AH15:AH35)","SUM(AI15:AI35)","SUM(AJ15:AJ35)","SUM(AK15:AK35)","SUM(AL15:AL35)","SUM(AM15:AM35)","SUM(AN15:AN35)","SUM(AO15:AO35)","SUM(AP15:AP35)","SUM(AQ15:AQ35)","SUM(AR15:AR35)","SUM(AS15:AS35)","SUM(AT15:AT35)","SUM(AU15:AU35)","SUM(AV15:AV35)","SUM(AW15:AW35)","SUM(AX15:AX35)","SUM(AY15:AY35)","SUM(AZ15:AZ35)","SUM(BA15:BA35)","SUM(BB15:BB35)","SUM(BC15:BC35)","SUM(BD15:BD35)","SUM(BE15:BE35)","SUM(BF15:BF35)","SUM(BG15:BG35)","SUM(BH15:BH35)","SUM(BI15:BI35)","SUM(BJ15:BJ35)","SUM(BK15:BK35)","SUM(BL15:BL35)","SUM(BM15:BM35)","SUM(BN15:BN35)",0]
[{"$f":"MAINELEC","v":"Main activity electricity plants"},"MAINELEC","NMAIN",{"$f":"MATCH(C15,CFHeadings,0)","v":9},{"$f":"-VLOOKUP($B15,RawData,E$4,FALSE)*VLOOKUP(E$3,ConversionFactors,$D15,FALSE)/1000","v":0},0,0,0,0,0,0,0,0,0,{"$f":"(-VLOOKUP($B15,RawData,O$4,FALSE)*VLOOKUP(O$3,ConversionFactors,2,FALSE))*1","v":0},0,0,0,0,{"$f":"-VLOOKUP($B15,RawData,T$4,FALSE)*VLOOKUP(T$3,ConversionFactors,$D15,FALSE)/1000","v":0},0,0,{"$f":"-VLOOKUP($B15,RawData,W$4,FALSE)*VLOOKUP(W$3,ConversionFactors,2,FALSE)/1000","v":0},0,0,0,0,0,0,0,0,0,{"$f":"-VLOOKUP($B15,RawData,AG$4,FALSE)*VLOOKUP(AG$3,ConversionFactors,2,FALSE)/1000","v":0},0,0,-98900,0,0,0,0,0,0,0,0,{"$f":"-VLOOKUP($B15,RawData,AS$4,FALSE)*VLOOKUP(AS$3,ConversionFactors,2,FALSE)*1","v":0},{"$f":"-VLOOKUP($B15,RawData,AT$4,FALSE)*1","v":0},0,0,0,0,{"$f":"-VLOOKUP($B15,RawData,AY$4,FALSE)*VLOOKUP(AY$3,ConversionFactors,2,FALSE)/1000","v":0},0,0,0,{"$f":"-VLOOKUP($B15,RawData,BC$4,FALSE)*1","v":0},{"$f":"-VLOOKUP($B15,RawData,BD$4,FALSE)*VLOOKUP(BD$3,ConversionFactors,2,FALSE)/1000","v":0},{"$f":"-VLOOKUP(\"ELMAINE\",RawData,BE$4,FALSE)*3.6/0.33","v":0},{"$f":"-(VLOOKUP(\"ELMAINE\",RawData,BF$4,FALSE)-VLOOKUP(\"MHYDPUMP\",RawData,BF$4,FALSE))*3.6","v":-2160},{"$f":"-VLOOKUP($B15,RawData,BG$4,FALSE)*1","v":0},{"$f":"-VLOOKUP(\"ELMAINE\",RawData,BH$4,FALSE)*3.6","v":-68.400000000000006},{"$f":"-VLOOKUP($B15,RawData,BI$4,FALSE)*1","v":0},{"$f":"-VLOOKUP(\"ELMAINE\",RawData,BJ$4,FALSE)*3.6","v":0},{"$f":"-VLOOKUP(\"ELMAINE\",RawData,BK$4,FALSE)*3.6","v":-108},{"$f":"-VLOOKUP(\"ELMAINE\",RawData,BL$4,FALSE)*3.6","v":0},{"$f":"(VLOOKUP(\"ELMAINE\",RawData,BM$4,FALSE)-VLOOKUP(\"MHYDPUMP\",RawData,BF$4,FALSE)-VLOOKUP(\"ELMAINE\",RawData,MATCH(\"CHEMHEAT\",RawDataHeadings,0),FALSE))*3.6","v":33656.400000000001},{"$f":"-VLOOKUP($B15,RawData,BN$4,FALSE)*1","v":0},0,-67580,null,null,null,null,null,null,null,null,null,null,"MAINELEC","-VLOOKUP($B15,RawData,E$4,FALSE)*VLOOKUP(E$3,ConversionFactors,$D15,FALSE)/1000","-VLOOKUP($B15,RawData,F$4,FALSE)*VLOOKUP(F$3,ConversionFactors,$D15,FALSE)/1000","-VLOOKUP($B15,RawData,G$4,FALSE)*VLOOKUP(G$3,ConversionFactors,$D15,FALSE)/1000","-VLOOKUP($B15,RawData,H$4,FALSE)*VLOOKUP(H$3,ConversionFactors,$D15,FALSE)/1000","-VLOOKUP($B15,RawData,I$4,FALSE)*VLOOKUP(I$3,ConversionFactors,$D15,FALSE)/1000","-VLOOKUP($B15,RawData,J$4,FALSE)*VLOOKUP(J$3,ConversionFactors,$D15,FALSE)/1000","-VLOOKUP($B15,RawData,K$4,FALSE)*VLOOKUP(K$3,ConversionFactors,$D15,FALSE)/1000","-VLOOKUP($B15,RawData,L$4,FALSE)*VLOOKUP(L$3,ConversionFactors,$D15,FALSE)/1000","-VLOOKUP($B15,RawData,M$4,FALSE)*VLOOKUP(M$3,ConversionFactors,$D15,FALSE)/1000","-VLOOKUP($B15,RawData,N$4,FALSE)*VLOOKUP(N$3,ConversionFactors,$D15,FALSE)/1000","(-VLOOKUP($B15,RawData,O$4,FALSE)*VLOOKUP(O$3,ConversionFactors,2,FALSE))*1","(-VLOOKUP($B15,RawData,P$4,FALSE)*VLOOKUP(P$3,ConversionFactors,2,FALSE))*1","(-VLOOKUP($B15,RawData,Q$4,FALSE)*VLOOKUP(Q$3,ConversionFactors,2,FALSE))*1","(-VLOOKUP($B15,RawData,R$4,FALSE)*VLOOKUP(R$3,ConversionFactors,2,FALSE))*1",0,"-VLOOKUP($B15,RawData,T$4,FALSE)*VLOOKUP(T$3,ConversionFactors,$D15,FALSE)/1000","-VLOOKUP($B15,RawData,U$4,FALSE)*VLOOKUP(U$3,ConversionFactors,$D15,FALSE)/1000","-VLOOKUP($B15,RawData,V$4,FALSE)*VLOOKUP(V$3,ConversionFactors,$D15,FALSE)/1000","-VLOOKUP($B15,RawData,W$4,FALSE)*VLOOKUP(W$3,ConversionFactors,2,FALSE)/1000","-VLOOKUP($B15,RawData,X$4,FALSE)*VLOOKUP(X$3,ConversionFactors,2,FALSE)/1000","-VLOOKUP($B15,RawData,Y$4,FALSE)*VLOOKUP(Y$3,ConversionFactors,2,FALSE)/1000","-VLOOKUP($B15,RawData,Z$4,FALSE)*VLOOKUP(Z$3,ConversionFactors,2,FALSE)/1000","-VLOOKUP($B15,RawData,AA$4,FALSE)*VLOOKUP(AA$3,ConversionFactors,2,FALSE)/1000","-VLOOKUP($B15,RawData,AB$4,FALSE)*VLOOKUP(AB$3,ConversionFactors,2,FALSE)/1000","-VLOOKUP($B15,RawData,AC$4,FALSE)*VLOOKUP(AC$3,ConversionFactors,2,FALSE)/1000","-VLOOKUP($B15,RawData,AD$4,FALSE)*VLOOKUP(AD$3,ConversionFactors,2,FALSE)/1000","-VLOOKUP($B15,RawData,AE$4,FALSE)*VLOOKUP(AE$3,ConversionFactors,2,FALSE)/1000","-VLOOKUP($B15,RawData,AF$4,FALSE)*VLOOKUP(AF$3,ConversionFactors,2,FALSE)/1000","-VLOOKUP($B15,RawData,AG$4,FALSE)*VLOOKUP(AG$3,ConversionFactors,2,FALSE)/1000","-VLOOKUP($B15,RawData,AH$4,FALSE)*VLOOKUP(AH$3,ConversionFactors,2,FALSE)/1000","-VLOOKUP($B15,RawData,AI$4,FALSE)*VLOOKUP(AI$3,ConversionFactors,2,FALSE)/1000","-VLOOKUP($B15,RawData,AJ$4,FALSE)*VLOOKUP(AJ$3,ConversionFactors,2,FALSE)/1000","-VLOOKUP($B15,RawData,AK$4,FALSE)*VLOOKUP(AK$3,ConversionFactors,2,FALSE)/1000","-VLOOKUP($B15,RawData,AL$4,FALSE)*VLOOKUP(AL$3,ConversionFactors,2,FALSE)/1000","-VLOOKUP($B15,RawData,AM$4,FALSE)*VLOOKUP(AM$3,ConversionFactors,2,FALSE)/1000","-VLOOKUP($B15,RawData,AN$4,FALSE)*VLOOKUP(AN$3,ConversionFactors,2,FALSE)/1000","-VLOOKUP($B15,RawData,AO$4,FALSE)*VLOOKUP(AO$3,ConversionFactors,2,FALSE)/1000","-VLOOKUP($B15,RawData,AP$4,FALSE)*VLOOKUP(AP$3,ConversionFactors,2,FALSE)/1000","-VLOOKUP($B15,RawData,AQ$4,FALSE)*VLOOKUP(AQ$3,ConversionFactors,2,FALSE)/1000","-VLOOKUP($B15,RawData,AR$4,FALSE)*VLOOKUP(AR$3,ConversionFactors,2,FALSE)/1000","-VLOOKUP($B15,RawData,AS$4,FALSE)*VLOOKUP(AS$3,ConversionFactors,2,FALSE)*1","-VLOOKUP($B15,RawData,AT$4,FALSE)*1","-VLOOKUP($B15,RawData,AU$4,FALSE)*1","-VLOOKUP($B15,RawData,AV$4,FALSE)*1","-VLOOKUP($B15,RawData,AW$4,FALSE)*1","-VLOOKUP($B15,RawData,AX$4,FALSE)*1","-VLOOKUP($B15,RawData,AY$4,FALSE)*VLOOKUP(AY$3,ConversionFactors,2,FALSE)/1000","-VLOOKUP($B15,RawData,AZ$4,FALSE)*VLOOKUP(AZ$3,ConversionFactors,2,FALSE)/1000","-VLOOKUP($B15,RawData,BA$4,FALSE)*VLOOKUP(BA$3,ConversionFactors,2,FALSE)/1000","-VLOOKUP($B15,RawData,BB$4,FALSE)*VLOOKUP(BB$3,ConversionFactors,2,FALSE)/1000","-VLOOKUP($B15,RawData,BC$4,FALSE)*1","-VLOOKUP($B15,RawData,BD$4,FALSE)*VLOOKUP(BD$3,ConversionFactors,2,FALSE)/1000","-VLOOKUP(\"ELMAINE\",RawData,BE$4,FALSE)*3.6/0.33","-(VLOOKUP(\"ELMAINE\",RawData,BF$4,FALSE)-VLOOKUP(\"MHYDPUMP\",RawData,BF$4,FALSE))*3.6","-VLOOKUP($B15,RawData,BG$4,FALSE)*1","-VLOOKUP(\"ELMAINE\",RawData,BH$4,FALSE)*3.6","-VLOOKUP($B15,RawData,BI$4,FALSE)*1","-VLOOKUP(\"ELMAINE\",RawData,BJ$4,FALSE)*3.6","-VLOOKUP(\"ELMAINE\",RawData,BK$4,FALSE)*3.6","-VLOOKUP(\"ELMAINE\",RawData,BL$4,FALSE)*3.6","(VLOOKUP(\"ELMAINE\",RawData,BM$4,FALSE)-VLOOKUP(\"MHYDPUMP\",RawData,BF$4,FALSE)-VLOOKUP(\"ELMAINE\",RawData,MATCH(\"CHEMHEAT\",RawDataHeadings,0),FALSE))*3.6","-VLOOKUP($B15,RawData,BN$4,FALSE)*1",0]
[{"$f":"AUTOELEC","v":"Autoproducer electricity plants"},"AUTOELEC","NAUTOELEC",10,0,0,0,0,0,0,0,0,0,0,0,0,0,0,0,0,0,0,0,0,0,0,0,0,0,0,0,0,0,0,0,-17200,0,0,0,0,0,0,0,0,0,0,0,0,0,0,0,0,0,0,0,0,{"$f":"-VLOOKUP(\"ELAUTOE\",RawData,BE$4,FALSE)*3.6/0.33","v":0},{"$f":"-(VLOOKUP(\"ELAUTOE\",RawData,BF$4,FALSE)-VLOOKUP(\"AHYDPUMP\",RawData,BF$4,FALSE))*3.6","v":0},0,{"$f":"-VLOOKUP(\"ELAUTOE\",RawData,BH$4,FALSE)*3.6","v":0},0,{"$f":"-VLOOKUP(\"ELAUTOE\",RawData,BJ$4,FALSE)*3.6","v":0},{"$f":"-VLOOKUP(\"ELAUTOE\",RawData,BK$4,FALSE)*3.6","v":0},{"$f":"-VLOOKUP(\"ELAUTOE\",RawData,BL$4,FALSE)*3.6","v":0},{"$f":"(VLOOKUP(\"ELAUTOE\",RawData,BM$4,FALSE)-VLOOKUP(\"AHYDPUMP\",RawData,BF$4,FALSE)-VLOOKUP(\"ELAUTOE\",RawData,MATCH(\"CHEMHEAT\",RawDataHeadings,0),FALSE))*3.6","v":4140},{"$f":"-VLOOKUP($B16,RawData,BN$4,FALSE)*1","v":0},0,-13060,null,null,null,null,null,null,null,null,null,null,"AUTOELEC","-VLOOKUP($B16,RawData,E$4,FALSE)*VLOOKUP(E$3,ConversionFactors,$D16,FALSE)/1000","-VLOOKUP($B16,RawData,F$4,FALSE)*VLOOKUP(F$3,ConversionFactors,$D16,FALSE)/1000","-VLOOKUP($B16,RawData,G$4,FALSE)*VLOOKUP(G$3,ConversionFactors,$D16,FALSE)/1000","-VLOOKUP($B16,RawData,H$4,FALSE)*VLOOKUP(H$3,ConversionFactors,$D16,FALSE)/1000","-VLOOKUP($B16,RawData,I$4,FALSE)*VLOOKUP(I$3,ConversionFactors,$D16,FALSE)/1000","-VLOOKUP($B16,RawData,J$4,FALSE)*VLOOKUP(J$3,ConversionFactors,$D16,FALSE)/1000","-VLOOKUP($B16,RawData,K$4,FALSE)*VLOOKUP(K$3,ConversionFactors,$D16,FALSE)/1000","-VLOOKUP($B16,RawData,L$4,FALSE)*VLOOKUP(L$3,ConversionFactors,$D16,FALSE)/1000","-VLOOKUP($B16,RawData,M$4,FALSE)*VLOOKUP(M$3,ConversionFactors,$D16,FALSE)/1000","-VLOOKUP($B16,RawData,N$4,FALSE)*VLOOKUP(N$3,ConversionFactors,$D16,FALSE)/1000","(-VLOOKUP($B16,RawData,O$4,FALSE)*VLOOKUP(O$3,ConversionFactors,2,FALSE))*1","(-VLOOKUP($B16,RawData,P$4,FALSE)*VLOOKUP(P$3,ConversionFactors,2,FALSE))*1","(-VLOOKUP($B16,RawData,Q$4,FALSE)*VLOOKUP(Q$3,ConversionFactors,2,FALSE))*1","(-VLOOKUP($B16,RawData,R$4,FALSE)*VLOOKUP(R$3,ConversionFactors,2,FALSE))*1",0,"-VLOOKUP($B16,RawData,T$4,FALSE)*VLOOKUP(T$3,ConversionFactors,$D16,FALSE)/1000","-VLOOKUP($B16,RawData,U$4,FALSE)*VLOOKUP(U$3,ConversionFactors,$D16,FALSE)/1000","-VLOOKUP($B16,RawData,V$4,FALSE)*VLOOKUP(V$3,ConversionFactors,$D16,FALSE)/1000","-VLOOKUP($B16,RawData,W$4,FALSE)*VLOOKUP(W$3,ConversionFactors,2,FALSE)/1000","-VLOOKUP($B16,RawData,X$4,FALSE)*VLOOKUP(X$3,ConversionFactors,2,FALSE)/1000","-VLOOKUP($B16,RawData,Y$4,FALSE)*VLOOKUP(Y$3,ConversionFactors,2,FALSE)/1000","-VLOOKUP($B16,RawData,Z$4,FALSE)*VLOOKUP(Z$3,ConversionFactors,2,FALSE)/1000","-VLOOKUP($B16,RawData,AA$4,FALSE)*VLOOKUP(AA$3,ConversionFactors,2,FALSE)/1000","-VLOOKUP($B16,RawData,AB$4,FALSE)*VLOOKUP(AB$3,ConversionFactors,2,FALSE)/1000","-VLOOKUP($B16,RawData,AC$4,FALSE)*VLOOKUP(AC$3,ConversionFactors,2,FALSE)/1000","-VLOOKUP($B16,RawData,AD$4,FALSE)*VLOOKUP(AD$3,ConversionFactors,2,FALSE)/1000","-VLOOKUP($B16,RawData,AE$4,FALSE)*VLOOKUP(AE$3,ConversionFactors,2,FALSE)/1000","-VLOOKUP($B16,RawData,AF$4,FALSE)*VLOOKUP(AF$3,ConversionFactors,2,FALSE)/1000","-VLOOKUP($B16,RawData,AG$4,FALSE)*VLOOKUP(AG$3,ConversionFactors,2,FALSE)/1000","-VLOOKUP($B16,RawData,AH$4,FALSE)*VLOOKUP(AH$3,ConversionFactors,2,FALSE)/1000","-VLOOKUP($B16,RawData,AI$4,FALSE)*VLOOKUP(AI$3,ConversionFactors,2,FALSE)/1000","-VLOOKUP($B16,RawData,AJ$4,FALSE)*VLOOKUP(AJ$3,ConversionFactors,2,FALSE)/1000","-VLOOKUP($B16,RawData,AK$4,FALSE)*VLOOKUP(AK$3,ConversionFactors,2,FALSE)/1000","-VLOOKUP($B16,RawData,AL$4,FALSE)*VLOOKUP(AL$3,ConversionFactors,2,FALSE)/1000","-VLOOKUP($B16,RawData,AM$4,FALSE)*VLOOKUP(AM$3,ConversionFactors,2,FALSE)/1000","-VLOOKUP($B16,RawData,AN$4,FALSE)*VLOOKUP(AN$3,ConversionFactors,2,FALSE)/1000","-VLOOKUP($B16,RawData,AO$4,FALSE)*VLOOKUP(AO$3,ConversionFactors,2,FALSE)/1000","-VLOOKUP($B16,RawData,AP$4,FALSE)*VLOOKUP(AP$3,ConversionFactors,2,FALSE)/1000","-VLOOKUP($B16,RawData,AQ$4,FALSE)*VLOOKUP(AQ$3,ConversionFactors,2,FALSE)/1000","-VLOOKUP($B16,RawData,AR$4,FALSE)*VLOOKUP(AR$3,ConversionFactors,2,FALSE)/1000","-VLOOKUP($B16,RawData,AS$4,FALSE)*VLOOKUP(AS$3,ConversionFactors,2,FALSE)*1","-VLOOKUP($B16,RawData,AT$4,FALSE)*1","-VLOOKUP($B16,RawData,AU$4,FALSE)*1","-VLOOKUP($B16,RawData,AV$4,FALSE)*1","-VLOOKUP($B16,RawData,AW$4,FALSE)*1","-VLOOKUP($B16,RawData,AX$4,FALSE)*1","-VLOOKUP($B16,RawData,AY$4,FALSE)*VLOOKUP(AY$3,ConversionFactors,2,FALSE)/1000","-VLOOKUP($B16,RawData,AZ$4,FALSE)*VLOOKUP(AZ$3,ConversionFactors,2,FALSE)/1000","-VLOOKUP($B16,RawData,BA$4,FALSE)*VLOOKUP(BA$3,ConversionFactors,2,FALSE)/1000","-VLOOKUP($B16,RawData,BB$4,FALSE)*VLOOKUP(BB$3,ConversionFactors,2,FALSE)/1000","-VLOOKUP($B16,RawData,BC$4,FALSE)*1","-VLOOKUP($B16,RawData,BD$4,FALSE)*VLOOKUP(BD$3,ConversionFactors,2,FALSE)/1000","-VLOOKUP(\"ELAUTOE\",RawData,BE$4,FALSE)*3.6/0.33","-(VLOOKUP(\"ELAUTOE\",RawData,BF$4,FALSE)-VLOOKUP(\"AHYDPUMP\",RawData,BF$4,FALSE))*3.6","-VLOOKUP($B16,RawData,BG$4,FALSE)*1","-VLOOKUP(\"ELAUTOE\",RawData,BH$4,FALSE)*3.6","-VLOOKUP($B16,RawData,BI$4,FALSE)*1","-VLOOKUP(\"ELAUTOE\",RawData,BJ$4,FALSE)*3.6","-VLOOKUP(\"ELAUTOE\",RawData,BK$4,FALSE)*3.6","-VLOOKUP(\"ELAUTOE\",RawData,BL$4,FALSE)*3.6","(VLOOKUP(\"ELAUTOE\",RawData,BM$4,FALSE)-VLOOKUP(\"AHYDPUMP\",RawData,BF$4,FALSE)-VLOOKUP(\"ELAUTOE\",RawData,MATCH(\"CHEMHEAT\",RawDataHeadings,0),FALSE))*3.6","-VLOOKUP($B16,RawData,BN$4,FALSE)*1",0]
[{"$f":"MAINCHP","v":"Main activity producer CHP plants"},"MAINCHP","NMAINCHP",11,0,0,0,0,0,0,0,0,0,0,0,0,0,0,0,0,0,0,0,0,0,0,0,0,0,0,0,0,0,0,0,0,0,0,0,0,0,0,0,0,0,0,0,0,0,0,0,0,0,0,0,0,{"$f":"-VLOOKUP(\"ELMAINC\",RawData,BE$4,FALSE)*3.6/0.33-VLOOKUP(\"HEMAINC\",RawData,BE$4,FALSE)*1","v":0},{"$f":"-VLOOKUP(\"ELMAINC\",RawData,BF$4,FALSE)*3.6-VLOOKUP(\"HEMAINC\",RawData,BF$4,FALSE)*1","v":0},0,{"$f":"-VLOOKUP(\"ELMAINC\",RawData,BH$4,FALSE)*3.6-VLOOKUP(\"HEMAINC\",RawData,BH$4,FALSE)*1","v":0},0,{"$f":"-VLOOKUP(\"ELMAINC\",RawData,BJ$4,FALSE)*3.6-VLOOKUP(\"HEMAINC\",RawData,BJ$4,FALSE)*3.6","v":0},{"$f":"-VLOOKUP(\"ELMAINC\",RawData,BK$4,FALSE)*3.6-VLOOKUP(\"HEMAINC\",RawData,BK$4,FALSE)*1","v":0},{"$f":"-VLOOKUP(\"ELMAINC\",RawData,BL$4,FALSE)*3.6-VLOOKUP(\"HEMAINC\",RawData,BL$4,FALSE)*1","v":0},{"$f":"(VLOOKUP(\"ELMAINC\",RawData,BM$4,FALSE)-VLOOKUP(\"ELMAINC\",RawData,MATCH(\"CHEMHEAT\",RawDataHeadings,0),FALSE))*3.6","v":0},{"$f":"(VLOOKUP(\"HEMAINC\",RawData,BN$4,FALSE)-SUM(VLOOKUP(\"HEMAINC\",RawData,MATCH(\"HEATPUMP\",RawDataHeadings,0),FALSE),VLOOKUP(\"HEMAINC\",RawData,MATCH(\"BOILER\",RawDataHeadings,0),FALSE),VLOOKUP(\"HEMAINC\",RawData,MATCH(\"CHEMHEAT\",RawDataHeadings,0),FALSE)))*1","v":0},0,0,null,null,null,null,null,null,null,null,null,null,"MAINCHP","-VLOOKUP($B17,RawData,E$4,FALSE)*VLOOKUP(E$3,ConversionFactors,$D17,FALSE)/1000","-VLOOKUP($B17,RawData,F$4,FALSE)*VLOOKUP(F$3,ConversionFactors,$D17,FALSE)/1000","-VLOOKUP($B17,RawData,G$4,FALSE)*VLOOKUP(G$3,ConversionFactors,$D17,FALSE)/1000","-VLOOKUP($B17,RawData,H$4,FALSE)*VLOOKUP(H$3,ConversionFactors,$D17,FALSE)/1000","-VLOOKUP($B17,RawData,I$4,FALSE)*VLOOKUP(I$3,ConversionFactors,$D17,FALSE)/1000","-VLOOKUP($B17,RawData,J$4,FALSE)*VLOOKUP(J$3,ConversionFactors,$D17,FALSE)/1000","-VLOOKUP($B17,RawData,K$4,FALSE)*VLOOKUP(K$3,ConversionFactors,$D17,FALSE)/1000","-VLOOKUP($B17,RawData,L$4,FALSE)*VLOOKUP(L$3,ConversionFactors,$D17,FALSE)/1000","-VLOOKUP($B17,RawData,M$4,FALSE)*VLOOKUP(M$3,ConversionFactors,$D17,FALSE)/1000","-VLOOKUP($B17,RawData,N$4,FALSE)*VLOOKUP(N$3,ConversionFactors,$D17,FALSE)/1000","(-VLOOKUP($B17,RawData,O$4,FALSE)*VLOOKUP(O$3,ConversionFactors,2,FALSE))*1","(-VLOOKUP($B17,RawData,P$4,FALSE)*VLOOKUP(P$3,ConversionFactors,2,FALSE))*1","(-VLOOKUP($B17,RawData,Q$4,FALSE)*VLOOKUP(Q$3,ConversionFactors,2,FALSE))*1","(-VLOOKUP($B17,RawData,R$4,FALSE)*VLOOKUP(R$3,ConversionFactors,2,FALSE))*1",0,"-VLOOKUP($B17,RawData,T$4,FALSE)*VLOOKUP(T$3,ConversionFactors,$D17,FALSE)/1000","-VLOOKUP($B17,RawData,U$4,FALSE)*VLOOKUP(U$3,ConversionFactors,$D17,FALSE)/1000","-VLOOKUP($B17,RawData,V$4,FALSE)*VLOOKUP(V$3,ConversionFactors,$D17,FALSE)/1000","-VLOOKUP($B17,RawData,W$4,FALSE)*VLOOKUP(W$3,ConversionFactors,2,FALSE)/1000","-VLOOKUP($B17,RawData,X$4,FALSE)*VLOOKUP(X$3,ConversionFactors,2,FALSE)/1000","-VLOOKUP($B17,RawData,Y$4,FALSE)*VLOOKUP(Y$3,ConversionFactors,2,FALSE)/1000","-VLOOKUP($B17,RawData,Z$4,FALSE)*VLOOKUP(Z$3,ConversionFactors,2,FALSE)/1000","-VLOOKUP($B17,RawData,AA$4,FALSE)*VLOOKUP(AA$3,ConversionFactors,2,FALSE)/1000","-VLOOKUP($B17,RawData,AB$4,FALSE)*VLOOKUP(AB$3,ConversionFactors,2,FALSE)/1000","-VLOOKUP($B17,RawData,AC$4,FALSE)*VLOOKUP(AC$3,ConversionFactors,2,FALSE)/1000","-VLOOKUP($B17,RawData,AD$4,FALSE)*VLOOKUP(AD$3,ConversionFactors,2,FALSE)/1000","-VLOOKUP($B17,RawData,AE$4,FALSE)*VLOOKUP(AE$3,ConversionFactors,2,FALSE)/1000","-VLOOKUP($B17,RawData,AF$4,FALSE)*VLOOKUP(AF$3,ConversionFactors,2,FALSE)/1000","-VLOOKUP($B17,RawData,AG$4,FALSE)*VLOOKUP(AG$3,ConversionFactors,2,FALSE)/1000","-VLOOKUP($B17,RawData,AH$4,FALSE)*VLOOKUP(AH$3,ConversionFactors,2,FALSE)/1000","-VLOOKUP($B17,RawData,AI$4,FALSE)*VLOOKUP(AI$3,ConversionFactors,2,FALSE)/1000","-VLOOKUP($B17,RawData,AJ$4,FALSE)*VLOOKUP(AJ$3,ConversionFactors,2,FALSE)/1000","-VLOOKUP($B17,RawData,AK$4,FALSE)*VLOOKUP(AK$3,ConversionFactors,2,FALSE)/1000","-VLOOKUP($B17,RawData,AL$4,FALSE)*VLOOKUP(AL$3,ConversionFactors,2,FALSE)/1000","-VLOOKUP($B17,RawData,AM$4,FALSE)*VLOOKUP(AM$3,ConversionFactors,2,FALSE)/1000","-VLOOKUP($B17,RawData,AN$4,FALSE)*VLOOKUP(AN$3,ConversionFactors,2,FALSE)/1000","-VLOOKUP($B17,RawData,AO$4,FALSE)*VLOOKUP(AO$3,ConversionFactors,2,FALSE)/1000","-VLOOKUP($B17,RawData,AP$4,FALSE)*VLOOKUP(AP$3,ConversionFactors,2,FALSE)/1000","-VLOOKUP($B17,RawData,AQ$4,FALSE)*VLOOKUP(AQ$3,ConversionFactors,2,FALSE)/1000","-VLOOKUP($B17,RawData,AR$4,FALSE)*VLOOKUP(AR$3,ConversionFactors,2,FALSE)/1000","-VLOOKUP($B17,RawData,AS$4,FALSE)*VLOOKUP(AS$3,ConversionFactors,2,FALSE)*1","-VLOOKUP($B17,RawData,AT$4,FALSE)*1","-VLOOKUP($B17,RawData,AU$4,FALSE)*1","-VLOOKUP($B17,RawData,AV$4,FALSE)*1","-VLOOKUP($B17,RawData,AW$4,FALSE)*1","-VLOOKUP($B17,RawData,AX$4,FALSE)*1","-VLOOKUP($B17,RawData,AY$4,FALSE)*VLOOKUP(AY$3,ConversionFactors,2,FALSE)/1000","-VLOOKUP($B17,RawData,AZ$4,FALSE)*VLOOKUP(AZ$3,ConversionFactors,2,FALSE)/1000","-VLOOKUP($B17,RawData,BA$4,FALSE)*VLOOKUP(BA$3,ConversionFactors,2,FALSE)/1000","-VLOOKUP($B17,RawData,BB$4,FALSE)*VLOOKUP(BB$3,ConversionFactors,2,FALSE)/1000","-VLOOKUP($B17,RawData,BC$4,FALSE)*1","-VLOOKUP($B17,RawData,BD$4,FALSE)*VLOOKUP(BD$3,ConversionFactors,2,FALSE)/1000","-VLOOKUP(\"ELMAINC\",RawData,BE$4,FALSE)*3.6/0.33-VLOOKUP(\"HEMAINC\",RawData,BE$4,FALSE)*1","-VLOOKUP(\"ELMAINC\",RawData,BF$4,FALSE)*3.6-VLOOKUP(\"HEMAINC\",RawData,BF$4,FALSE)*1","-VLOOKUP($B17,RawData,BG$4,FALSE)*1","-VLOOKUP(\"ELMAINC\",RawData,BH$4,FALSE)*3.6-VLOOKUP(\"HEMAINC\",RawData,BH$4,FALSE)*1","-VLOOKUP($B17,RawData,BI$4,FALSE)*1","-VLOOKUP(\"ELMAINC\",RawData,BJ$4,FALSE)*3.6-VLOOKUP(\"HEMAINC\",RawData,BJ$4,FALSE)*1","-VLOOKUP(\"ELMAINC\",RawData,BK$4,FALSE)*3.6-VLOOKUP(\"HEMAINC\",RawData,BK$4,FALSE)*1","-VLOOKUP(\"ELMAINC\",RawData,BL$4,FALSE)*3.6-VLOOKUP(\"HEMAINC\",RawData,BL$4,FALSE)*1","(VLOOKUP(\"ELMAINC\",RawData,BM$4,FALSE)-VLOOKUP(\"ELMAINC\",RawData,MATCH(\"CHEMHEAT\",RawDataHeadings,0),FALSE))*3.6","(VLOOKUP(\"HEMAINC\",RawData,BN$4,FALSE)-SUM(VLOOKUP(\"HEMAINC\",RawData,MATCH(\"HEATPUMP\",RawDataHeadings,0),FALSE),VLOOKUP(\"HEMAINC\",RawData,MATCH(\"BOILER\",RawDataHeadings,0),FALSE),VLOOKUP(\"HEMAINC\",RawData,MATCH(\"CHEMHEAT\",RawDataHeadings,0),FALSE)))*1",0]
[{"$f":"AUTOCHP","v":"Autoproducer CHP plants"},"AUTOCHP","NAUTOCHP",12,0,0,0,0,0,0,0,0,0,0,0,0,0,0,0,0,0,0,0,0,0,0,0,0,0,0,0,0,0,0,0,0,0,0,0,0,0,0,0,0,0,0,0,0,0,0,0,0,0,0,0,0,{"$f":"-VLOOKUP(\"ELAUTOC\",RawData,BE$4,FALSE)*3.6/0.33-VLOOKUP(\"HEAUTOC\",RawData,BE$4,FALSE)*1","v":0},{"$f":"-VLOOKUP(\"ELAUTOC\",RawData,BF$4,FALSE)*3.6-VLOOKUP(\"HEAUTOC\",RawData,BF$4,FALSE)*1","v":0},0,{"$f":"-VLOOKUP(\"ELAUTOC\",RawData,BH$4,FALSE)*3.6-VLOOKUP(\"HEAUTOC\",RawData,BH$4,FALSE)*1","v":0},0,{"$f":"-VLOOKUP(\"ELAUTOC\",RawData,BJ$4,FALSE)*3.6-VLOOKUP(\"HEAUTOC\",RawData,BJ$4,FALSE)*1","v":0},{"$f":"-VLOOKUP(\"ELAUTOC\",RawData,BK$4,FALSE)*3.6-VLOOKUP(\"HEAUTOC\",RawData,BK$4,FALSE)*1","v":0},{"$f":"-VLOOKUP(\"ELAUTOC\",RawData,BL$4,FALSE)*3.6-VLOOKUP(\"HEAUTOC\",RawData,BL$4,FALSE)*1","v":0},{"$f":"(VLOOKUP(\"ELAUTOC\",RawData,BM$4,FALSE)-VLOOKUP(\"ELAUTOC\",RawData,MATCH(\"CHEMHEAT\",RawDataHeadings,0),FALSE))*3.6","v":0},{"$f":"(VLOOKUP(\"HEAUTOC\",RawData,BN$4,FALSE)-SUM(VLOOKUP(\"HEAUTOC\",RawData,MATCH(\"HEATPUMP\",RawDataHeadings,0),FALSE),VLOOKUP(\"HEAUTOC\",RawData,MATCH(\"BOILER\",RawDataHeadings,0),FALSE),VLOOKUP(\"HEAUTOC\",RawData,MATCH(\"CHEMHEAT\",RawDataHeadings,0),FALSE)))*1","v":0},0,0,null,null,null,null,null,null,null,null,null,null,"AUTOCHP","-VLOOKUP($B18,RawData,E$4,FALSE)*VLOOKUP(E$3,ConversionFactors,$D18,FALSE)/1000","-VLOOKUP($B18,RawData,F$4,FALSE)*VLOOKUP(F$3,ConversionFactors,$D18,FALSE)/1000","-VLOOKUP($B18,RawData,G$4,FALSE)*VLOOKUP(G$3,ConversionFactors,$D18,FALSE)/1000","-VLOOKUP($B18,RawData,H$4,FALSE)*VLOOKUP(H$3,ConversionFactors,$D18,FALSE)/1000","-VLOOKUP($B18,RawData,I$4,FALSE)*VLOOKUP(I$3,ConversionFactors,$D18,FALSE)/1000","-VLOOKUP($B18,RawData,J$4,FALSE)*VLOOKUP(J$3,ConversionFactors,$D18,FALSE)/1000","-VLOOKUP($B18,RawData,K$4,FALSE)*VLOOKUP(K$3,ConversionFactors,$D18,FALSE)/1000","-VLOOKUP($B18,RawData,L$4,FALSE)*VLOOKUP(L$3,ConversionFactors,$D18,FALSE)/1000","-VLOOKUP($B18,RawData,M$4,FALSE)*VLOOKUP(M$3,ConversionFactors,$D18,FALSE)/1000","-VLOOKUP($B18,RawData,N$4,FALSE)*VLOOKUP(N$3,ConversionFactors,$D18,FALSE)/1000","(-VLOOKUP($B18,RawData,O$4,FALSE)*VLOOKUP(O$3,ConversionFactors,2,FALSE))*1","(-VLOOKUP($B18,RawData,P$4,FALSE)*VLOOKUP(P$3,ConversionFactors,2,FALSE))*1","(-VLOOKUP($B18,RawData,Q$4,FALSE)*VLOOKUP(Q$3,ConversionFactors,2,FALSE))*1","(-VLOOKUP($B18,RawData,R$4,FALSE)*VLOOKUP(R$3,ConversionFactors,2,FALSE))*1",0,"-VLOOKUP($B18,RawData,T$4,FALSE)*VLOOKUP(T$3,ConversionFactors,$D18,FALSE)/1000","-VLOOKUP($B18,RawData,U$4,FALSE)*VLOOKUP(U$3,ConversionFactors,$D18,FALSE)/1000","-VLOOKUP($B18,RawData,V$4,FALSE)*VLOOKUP(V$3,ConversionFactors,$D18,FALSE)/1000","-VLOOKUP($B18,RawData,W$4,FALSE)*VLOOKUP(W$3,ConversionFactors,2,FALSE)/1000","-VLOOKUP($B18,RawData,X$4,FALSE)*VLOOKUP(X$3,ConversionFactors,2,FALSE)/1000","-VLOOKUP($B18,RawData,Y$4,FALSE)*VLOOKUP(Y$3,ConversionFactors,2,FALSE)/1000","-VLOOKUP($B18,RawData,Z$4,FALSE)*VLOOKUP(Z$3,ConversionFactors,2,FALSE)/1000","-VLOOKUP($B18,RawData,AA$4,FALSE)*VLOOKUP(AA$3,ConversionFactors,2,FALSE)/1000","-VLOOKUP($B18,RawData,AB$4,FALSE)*VLOOKUP(AB$3,ConversionFactors,2,FALSE)/1000","-VLOOKUP($B18,RawData,AC$4,FALSE)*VLOOKUP(AC$3,ConversionFactors,2,FALSE)/1000","-VLOOKUP($B18,RawData,AD$4,FALSE)*VLOOKUP(AD$3,ConversionFactors,2,FALSE)/1000","-VLOOKUP($B18,RawData,AE$4,FALSE)*VLOOKUP(AE$3,ConversionFactors,2,FALSE)/1000","-VLOOKUP($B18,RawData,AF$4,FALSE)*VLOOKUP(AF$3,ConversionFactors,2,FALSE)/1000","-VLOOKUP($B18,RawData,AG$4,FALSE)*VLOOKUP(AG$3,ConversionFactors,2,FALSE)/1000","-VLOOKUP($B18,RawData,AH$4,FALSE)*VLOOKUP(AH$3,ConversionFactors,2,FALSE)/1000","-VLOOKUP($B18,RawData,AI$4,FALSE)*VLOOKUP(AI$3,ConversionFactors,2,FALSE)/1000","-VLOOKUP($B18,RawData,AJ$4,FALSE)*VLOOKUP(AJ$3,ConversionFactors,2,FALSE)/1000","-VLOOKUP($B18,RawData,AK$4,FALSE)*VLOOKUP(AK$3,ConversionFactors,2,FALSE)/1000","-VLOOKUP($B18,RawData,AL$4,FALSE)*VLOOKUP(AL$3,ConversionFactors,2,FALSE)/1000","-VLOOKUP($B18,RawData,AM$4,FALSE)*VLOOKUP(AM$3,ConversionFactors,2,FALSE)/1000","-VLOOKUP($B18,RawData,AN$4,FALSE)*VLOOKUP(AN$3,ConversionFactors,2,FALSE)/1000","-VLOOKUP($B18,RawData,AO$4,FALSE)*VLOOKUP(AO$3,ConversionFactors,2,FALSE)/1000","-VLOOKUP($B18,RawData,AP$4,FALSE)*VLOOKUP(AP$3,ConversionFactors,2,FALSE)/1000","-VLOOKUP($B18,RawData,AQ$4,FALSE)*VLOOKUP(AQ$3,ConversionFactors,2,FALSE)/1000","-VLOOKUP($B18,RawData,AR$4,FALSE)*VLOOKUP(AR$3,ConversionFactors,2,FALSE)/1000","-VLOOKUP($B18,RawData,AS$4,FALSE)*VLOOKUP(AS$3,ConversionFactors,2,FALSE)*1","-VLOOKUP($B18,RawData,AT$4,FALSE)*1","-VLOOKUP($B18,RawData,AU$4,FALSE)*1","-VLOOKUP($B18,RawData,AV$4,FALSE)*1","-VLOOKUP($B18,RawData,AW$4,FALSE)*1","-VLOOKUP($B18,RawData,AX$4,FALSE)*1","-VLOOKUP($B18,RawData,AY$4,FALSE)*VLOOKUP(AY$3,ConversionFactors,2,FALSE)/1000","-VLOOKUP($B18,RawData,AZ$4,FALSE)*VLOOKUP(AZ$3,ConversionFactors,2,FALSE)/1000","-VLOOKUP($B18,RawData,BA$4,FALSE)*VLOOKUP(BA$3,ConversionFactors,2,FALSE)/1000","-VLOOKUP($B18,RawData,BB$4,FALSE)*VLOOKUP(BB$3,ConversionFactors,2,FALSE)/1000","-VLOOKUP($B18,RawData,BC$4,FALSE)*1","-VLOOKUP($B18,RawData,BD$4,FALSE)*VLOOKUP(BD$3,ConversionFactors,2,FALSE)/1000","-VLOOKUP(\"ELAUTOC\",RawData,BE$4,FALSE)*3.6/0.33-VLOOKUP(\"HEAUTOC\",RawData,BE$4,FALSE)*1","-VLOOKUP(\"ELAUTOC\",RawData,BF$4,FALSE)*3.6-VLOOKUP(\"HEAUTOC\",RawData,BF$4,FALSE)*1","-VLOOKUP($B18,RawData,BG$4,FALSE)*1","-VLOOKUP(\"ELAUTOC\",RawData,BH$4,FALSE)*3.6-VLOOKUP(\"HEAUTOC\",RawData,BH$4,FALSE)*1","-VLOOKUP($B18,RawData,BI$4,FALSE)*1","-VLOOKUP(\"ELAUTOC\",RawData,BJ$4,FALSE)*3.6-VLOOKUP(\"HEAUTOC\",RawData,BJ$4,FALSE)*1","-VLOOKUP(\"ELAUTOC\",RawData,BK$4,FALSE)*3.6-VLOOKUP(\"HEAUTOC\",RawData,BK$4,FALSE)*1","-VLOOKUP(\"ELAUTOC\",RawData,BL$4,FALSE)*3.6-VLOOKUP(\"HEAUTOC\",RawData,BL$4,FALSE)*1","(VLOOKUP(\"ELAUTOC\",RawData,BM$4,FALSE)-VLOOKUP(\"ELAUTOC\",RawData,MATCH(\"CHEMHEAT\",RawDataHeadings,0),FALSE))*3.6","(VLOOKUP(\"HEAUTOC\",RawData,BN$4,FALSE)-SUM(VLOOKUP(\"HEAUTOC\",RawData,MATCH(\"HEATPUMP\",RawDataHeadings,0),FALSE),VLOOKUP(\"HEAUTOC\",RawData,MATCH(\"BOILER\",RawDataHeadings,0),FALSE),VLOOKUP(\"HEAUTOC\",RawData,MATCH(\"CHEMHEAT\",RawDataHeadings,0),FALSE)))*1",0]
[{"$f":"MAINHEAT","v":"Main activity producer heat plants"},"MAINHEAT","NMAINHEAT",13,0,0,0,0,0,0,0,0,0,0,0,0,0,0,0,0,0,0,0,0,0,0,0,0,0,0,0,0,0,0,0,0,0,0,0,0,0,0,0,0,0,0,0,0,0,0,0,0,0,0,0,0,{"$f":"-VLOOKUP(\"HEMAINH\",RawData,BE$4,FALSE)*1","v":0},{"$f":"-VLOOKUP(\"HEMAINH\",RawData,BF$4,FALSE)*1","v":0},0,{"$f":"-VLOOKUP(\"HEMAINH\",RawData,BH$4,FALSE)*1","v":0},0,{"$f":"-VLOOKUP(\"HEMAINH\",RawData,BJ$4,FALSE)*1","v":0},{"$f":"-VLOOKUP(\"HEMAINH\",RawData,BK$4,FALSE)*1","v":0},{"$f":"-VLOOKUP(\"HEMAINH\",RawData,BL$4,FALSE)*1","v":0},{"$f":"-VLOOKUP($B19,RawData,BM$4,FALSE)*3.6","v":0},{"$f":"(VLOOKUP(\"HEMAINH\",RawData,BN$4,FALSE)-SUM(VLOOKUP(\"HEMAINH\",RawData,MATCH(\"HEATPUMP\",RawDataHeadings,0),FALSE),VLOOKUP(\"HEMAINH\",RawData,MATCH(\"BOILER\",RawDataHeadings,0),FALSE),VLOOKUP(\"HEMAINH\",RawData,MATCH(\"CHEMHEAT\",RawDataHeadings,0),FALSE)))*1","v":0},0,0,null,null,null,null,null,null,null,null,null,null,"MAINHEAT","-VLOOKUP($B19,RawData,E$4,FALSE)*VLOOKUP(E$3,ConversionFactors,$D19,FALSE)/1000","-VLOOKUP($B19,RawData,F$4,FALSE)*VLOOKUP(F$3,ConversionFactors,$D19,FALSE)/1000","-VLOOKUP($B19,RawData,G$4,FALSE)*VLOOKUP(G$3,ConversionFactors,$D19,FALSE)/1000","-VLOOKUP($B19,RawData,H$4,FALSE)*VLOOKUP(H$3,ConversionFactors,$D19,FALSE)/1000","-VLOOKUP($B19,RawData,I$4,FALSE)*VLOOKUP(I$3,ConversionFactors,$D19,FALSE)/1000","-VLOOKUP($B19,RawData,J$4,FALSE)*VLOOKUP(J$3,ConversionFactors,$D19,FALSE)/1000","-VLOOKUP($B19,RawData,K$4,FALSE)*VLOOKUP(K$3,ConversionFactors,$D19,FALSE)/1000","-VLOOKUP($B19,RawData,L$4,FALSE)*VLOOKUP(L$3,ConversionFactors,$D19,FALSE)/1000","-VLOOKUP($B19,RawData,M$4,FALSE)*VLOOKUP(M$3,ConversionFactors,$D19,FALSE)/1000","-VLOOKUP($B19,RawData,N$4,FALSE)*VLOOKUP(N$3,ConversionFactors,$D19,FALSE)/1000","(-VLOOKUP($B19,RawData,O$4,FALSE)*VLOOKUP(O$3,ConversionFactors,2,FALSE))*1","(-VLOOKUP($B19,RawData,P$4,FALSE)*VLOOKUP(P$3,ConversionFactors,2,FALSE))*1","(-VLOOKUP($B19,RawData,Q$4,FALSE)*VLOOKUP(Q$3,ConversionFactors,2,FALSE))*1","(-VLOOKUP($B19,RawData,R$4,FALSE)*VLOOKUP(R$3,ConversionFactors,2,FALSE))*1",0,"-VLOOKUP($B19,RawData,T$4,FALSE)*VLOOKUP(T$3,ConversionFactors,$D19,FALSE)/1000","-VLOOKUP($B19,RawData,U$4,FALSE)*VLOOKUP(U$3,ConversionFactors,$D19,FALSE)/1000","-VLOOKUP($B19,RawData,V$4,FALSE)*VLOOKUP(V$3,ConversionFactors,$D19,FALSE)/1000","-VLOOKUP($B19,RawData,W$4,FALSE)*VLOOKUP(W$3,ConversionFactors,2,FALSE)/1000","-VLOOKUP($B19,RawData,X$4,FALSE)*VLOOKUP(X$3,ConversionFactors,2,FALSE)/1000","-VLOOKUP($B19,RawData,Y$4,FALSE)*VLOOKUP(Y$3,ConversionFactors,2,FALSE)/1000","-VLOOKUP($B19,RawData,Z$4,FALSE)*VLOOKUP(Z$3,ConversionFactors,2,FALSE)/1000","-VLOOKUP($B19,RawData,AA$4,FALSE)*VLOOKUP(AA$3,ConversionFactors,2,FALSE)/1000","-VLOOKUP($B19,RawData,AB$4,FALSE)*VLOOKUP(AB$3,ConversionFactors,2,FALSE)/1000","-VLOOKUP($B19,RawData,AC$4,FALSE)*VLOOKUP(AC$3,ConversionFactors,2,FALSE)/1000","-VLOOKUP($B19,RawData,AD$4,FALSE)*VLOOKUP(AD$3,ConversionFactors,2,FALSE)/1000","-VLOOKUP($B19,RawData,AE$4,FALSE)*VLOOKUP(AE$3,ConversionFactors,2,FALSE)/1000","-VLOOKUP($B19,RawData,AF$4,FALSE)*VLOOKUP(AF$3,ConversionFactors,2,FALSE)/1000","-VLOOKUP($B19,RawData,AG$4,FALSE)*VLOOKUP(AG$3,ConversionFactors,2,FALSE)/1000","-VLOOKUP($B19,RawData,AH$4,FALSE)*VLOOKUP(AH$3,ConversionFactors,2,FALSE)/1000","-VLOOKUP($B19,RawData,AI$4,FALSE)*VLOOKUP(AI$3,ConversionFactors,2,FALSE)/1000","-VLOOKUP($B19,RawData,AJ$4,FALSE)*VLOOKUP(AJ$3,ConversionFactors,2,FALSE)/1000","-VLOOKUP($B19,RawData,AK$4,FALSE)*VLOOKUP(AK$3,ConversionFactors,2,FALSE)/1000","-VLOOKUP($B19,RawData,AL$4,FALSE)*VLOOKUP(AL$3,ConversionFactors,2,FALSE)/1000","-VLOOKUP($B19,RawData,AM$4,FALSE)*VLOOKUP(AM$3,ConversionFactors,2,FALSE)/1000","-VLOOKUP($B19,RawData,AN$4,FALSE)*VLOOKUP(AN$3,ConversionFactors,2,FALSE)/1000","-VLOOKUP($B19,RawData,AO$4,FALSE)*VLOOKUP(AO$3,ConversionFactors,2,FALSE)/1000","-VLOOKUP($B19,RawData,AP$4,FALSE)*VLOOKUP(AP$3,ConversionFactors,2,FALSE)/1000","-VLOOKUP($B19,RawData,AQ$4,FALSE)*VLOOKUP(AQ$3,ConversionFactors,2,FALSE)/1000","-VLOOKUP($B19,RawData,AR$4,FALSE)*VLOOKUP(AR$3,ConversionFactors,2,FALSE)/1000","-VLOOKUP($B19,RawData,AS$4,FALSE)*VLOOKUP(AS$3,ConversionFactors,2,FALSE)*1","-VLOOKUP($B19,RawData,AT$4,FALSE)*1","-VLOOKUP($B19,RawData,AU$4,FALSE)*1","-VLOOKUP($B19,RawData,AV$4,FALSE)*1","-VLOOKUP($B19,RawData,AW$4,FALSE)*1","-VLOOKUP($B19,RawData,AX$4,FALSE)*1","-VLOOKUP($B19,RawData,AY$4,FALSE)*VLOOKUP(AY$3,ConversionFactors,2,FALSE)/1000","-VLOOKUP($B19,RawData,AZ$4,FALSE)*VLOOKUP(AZ$3,ConversionFactors,2,FALSE)/1000","-VLOOKUP($B19,RawData,BA$4,FALSE)*VLOOKUP(BA$3,ConversionFactors,2,FALSE)/1000","-VLOOKUP($B19,RawData,BB$4,FALSE)*VLOOKUP(BB$3,ConversionFactors,2,FALSE)/1000","-VLOOKUP($B19,RawData,BC$4,FALSE)*1","-VLOOKUP($B19,RawData,BD$4,FALSE)*VLOOKUP(BD$3,ConversionFactors,2,FALSE)/1000","-VLOOKUP(\"HEMAINH\",RawData,BE$4,FALSE)*1","-VLOOKUP(\"HEMAINH\",RawData,BF$4,FALSE)*1","-VLOOKUP($B19,RawData,BG$4,FALSE)*1","-VLOOKUP(\"HEMAINH\",RawData,BH$4,FALSE)*1","-VLOOKUP($B19,RawData,BI$4,FALSE)*1","-VLOOKUP(\"HEMAINH\",RawData,BJ$4,FALSE)*1","-VLOOKUP(\"HEMAINH\",RawData,BK$4,FALSE)*1","-VLOOKUP(\"HEMAINH\",RawData,BL$4,FALSE)*1","-VLOOKUP($B19,RawData,BM$4,FALSE)*3.6","(VLOOKUP(\"HEMAINH\",RawData,BN$4,FALSE)-SUM(VLOOKUP(\"HEMAINH\",RawData,MATCH(\"HEATPUMP\",RawDataHeadings,0),FALSE),VLOOKUP(\"HEMAINH\",RawData,MATCH(\"BOILER\",RawDataHeadings,0),FALSE),VLOOKUP(\"HEMAINH\",RawData,MATCH(\"CHEMHEAT\",RawDataHeadings,0),FALSE)))*1",0]
[{"$f":"AUTOHEAT","v":"Autoproducer heat plants"},"AUTOHEAT","NAUTOHEAT",14,0,0,0,0,0,0,0,0,0,0,0,0,0,0,0,0,0,0,0,0,0,0,0,0,0,0,0,0,0,0,0,0,0,0,0,0,0,0,0,0,0,0,0,0,0,0,0,0,0,0,0,0,{"$f":"-VLOOKUP(\"HEAUTOH\",RawData,BE$4,FALSE)*1","v":0},{"$f":"-VLOOKUP(\"HEAUTOH\",RawData,BF$4,FALSE)*1","v":0},0,{"$f":"-VLOOKUP(\"HEAUTOH\",RawData,BH$4,FALSE)*1","v":0},0,{"$f":"-VLOOKUP(\"HEAUTOH\",RawData,BJ$4,FALSE)*1","v":0},{"$f":"-VLOOKUP(\"HEAUTOH\",RawData,BK$4,FALSE)*1","v":0},{"$f":"-VLOOKUP(\"HEAUTOH\",RawData,BL$4,FALSE)*1","v":0},{"$f":"-VLOOKUP($B20,RawData,BM$4,FALSE)*3.6","v":0},{"$f":"(VLOOKUP(\"HEAUTOH\",RawData,BN$4,FALSE)-SUM(VLOOKUP(\"HEAUTOH\",RawData,MATCH(\"HEATPUMP\",RawDataHeadings,0),FALSE),VLOOKUP(\"HEAUTOH\",RawData,MATCH(\"BOILER\",RawDataHeadings,0),FALSE),VLOOKUP(\"HEAUTOH\",RawData,MATCH(\"CHEMHEAT\",RawDataHeadings,0),FALSE)))*1","v":0},0,0,null,null,null,null,null,null,null,null,null,null,"AUTOHEAT","-VLOOKUP($B20,RawData,E$4,FALSE)*VLOOKUP(E$3,ConversionFactors,$D20,FALSE)/1000","-VLOOKUP($B20,RawData,F$4,FALSE)*VLOOKUP(F$3,ConversionFactors,$D20,FALSE)/1000","-VLOOKUP($B20,RawData,G$4,FALSE)*VLOOKUP(G$3,ConversionFactors,$D20,FALSE)/1000","-VLOOKUP($B20,RawData,H$4,FALSE)*VLOOKUP(H$3,ConversionFactors,$D20,FALSE)/1000","-VLOOKUP($B20,RawData,I$4,FALSE)*VLOOKUP(I$3,ConversionFactors,$D20,FALSE)/1000","-VLOOKUP($B20,RawData,J$4,FALSE)*VLOOKUP(J$3,ConversionFactors,$D20,FALSE)/1000","-VLOOKUP($B20,RawData,K$4,FALSE)*VLOOKUP(K$3,ConversionFactors,$D20,FALSE)/1000","-VLOOKUP($B20,RawData,L$4,FALSE)*VLOOKUP(L$3,ConversionFactors,$D20,FALSE)/1000","-VLOOKUP($B20,RawData,M$4,FALSE)*VLOOKUP(M$3,ConversionFactors,$D20,FALSE)/1000","-VLOOKUP($B20,RawData,N$4,FALSE)*VLOOKUP(N$3,ConversionFactors,$D20,FALSE)/1000","(-VLOOKUP($B20,RawData,O$4,FALSE)*VLOOKUP(O$3,ConversionFactors,2,FALSE))*1","(-VLOOKUP($B20,RawData,P$4,FALSE)*VLOOKUP(P$3,ConversionFactors,2,FALSE))*1","(-VLOOKUP($B20,RawData,Q$4,FALSE)*VLOOKUP(Q$3,ConversionFactors,2,FALSE))*1","(-VLOOKUP($B20,RawData,R$4,FALSE)*VLOOKUP(R$3,ConversionFactors,2,FALSE))*1",0,"-VLOOKUP($B20,RawData,T$4,FALSE)*VLOOKUP(T$3,ConversionFactors,$D20,FALSE)/1000","-VLOOKUP($B20,RawData,U$4,FALSE)*VLOOKUP(U$3,ConversionFactors,$D20,FALSE)/1000","-VLOOKUP($B20,RawData,V$4,FALSE)*VLOOKUP(V$3,ConversionFactors,$D20,FALSE)/1000","-VLOOKUP($B20,RawData,W$4,FALSE)*VLOOKUP(W$3,ConversionFactors,2,FALSE)/1000","-VLOOKUP($B20,RawData,X$4,FALSE)*VLOOKUP(X$3,ConversionFactors,2,FALSE)/1000","-VLOOKUP($B20,RawData,Y$4,FALSE)*VLOOKUP(Y$3,ConversionFactors,2,FALSE)/1000","-VLOOKUP($B20,RawData,Z$4,FALSE)*VLOOKUP(Z$3,ConversionFactors,2,FALSE)/1000","-VLOOKUP($B20,RawData,AA$4,FALSE)*VLOOKUP(AA$3,ConversionFactors,2,FALSE)/1000","-VLOOKUP($B20,RawData,AB$4,FALSE)*VLOOKUP(AB$3,ConversionFactors,2,FALSE)/1000","-VLOOKUP($B20,RawData,AC$4,FALSE)*VLOOKUP(AC$3,ConversionFactors,2,FALSE)/1000","-VLOOKUP($B20,RawData,AD$4,FALSE)*VLOOKUP(AD$3,ConversionFactors,2,FALSE)/1000","-VLOOKUP($B20,RawData,AE$4,FALSE)*VLOOKUP(AE$3,ConversionFactors,2,FALSE)/1000","-VLOOKUP($B20,RawData,AF$4,FALSE)*VLOOKUP(AF$3,ConversionFactors,2,FALSE)/1000","-VLOOKUP($B20,RawData,AG$4,FALSE)*VLOOKUP(AG$3,ConversionFactors,2,FALSE)/1000","-VLOOKUP($B20,RawData,AH$4,FALSE)*VLOOKUP(AH$3,ConversionFactors,2,FALSE)/1000","-VLOOKUP($B20,RawData,AI$4,FALSE)*VLOOKUP(AI$3,ConversionFactors,2,FALSE)/1000","-VLOOKUP($B20,RawData,AJ$4,FALSE)*VLOOKUP(AJ$3,ConversionFactors,2,FALSE)/1000","-VLOOKUP($B20,RawData,AK$4,FALSE)*VLOOKUP(AK$3,ConversionFactors,2,FALSE)/1000","-VLOOKUP($B20,RawData,AL$4,FALSE)*VLOOKUP(AL$3,ConversionFactors,2,FALSE)/1000","-VLOOKUP($B20,RawData,AM$4,FALSE)*VLOOKUP(AM$3,ConversionFactors,2,FALSE)/1000","-VLOOKUP($B20,RawData,AN$4,FALSE)*VLOOKUP(AN$3,ConversionFactors,2,FALSE)/1000","-VLOOKUP($B20,RawData,AO$4,FALSE)*VLOOKUP(AO$3,ConversionFactors,2,FALSE)/1000","-VLOOKUP($B20,RawData,AP$4,FALSE)*VLOOKUP(AP$3,ConversionFactors,2,FALSE)/1000","-VLOOKUP($B20,RawData,AQ$4,FALSE)*VLOOKUP(AQ$3,ConversionFactors,2,FALSE)/1000","-VLOOKUP($B20,RawData,AR$4,FALSE)*VLOOKUP(AR$3,ConversionFactors,2,FALSE)/1000","-VLOOKUP($B20,RawData,AS$4,FALSE)*VLOOKUP(AS$3,ConversionFactors,2,FALSE)*1","-VLOOKUP($B20,RawData,AT$4,FALSE)*1","-VLOOKUP($B20,RawData,AU$4,FALSE)*1","-VLOOKUP($B20,RawData,AV$4,FALSE)*1","-VLOOKUP($B20,RawData,AW$4,FALSE)*1","-VLOOKUP($B20,RawData,AX$4,FALSE)*1","-VLOOKUP($B20,RawData,AY$4,FALSE)*VLOOKUP(AY$3,ConversionFactors,2,FALSE)/1000","-VLOOKUP($B20,RawData,AZ$4,FALSE)*VLOOKUP(AZ$3,ConversionFactors,2,FALSE)/1000","-VLOOKUP($B20,RawData,BA$4,FALSE)*VLOOKUP(BA$3,ConversionFactors,2,FALSE)/1000","-VLOOKUP($B20,RawData,BB$4,FALSE)*VLOOKUP(BB$3,ConversionFactors,2,FALSE)/1000","-VLOOKUP($B20,RawData,BC$4,FALSE)*1","-VLOOKUP($B20,RawData,BD$4,FALSE)*VLOOKUP(BD$3,ConversionFactors,2,FALSE)/1000","-VLOOKUP(\"HEAUTOH\",RawData,BE$4,FALSE)*1","-VLOOKUP(\"HEAUTOH\",RawData,BF$4,FALSE)*1","-VLOOKUP($B20,RawData,BG$4,FALSE)*1","-VLOOKUP(\"HEAUTOH\",RawData,BH$4,FALSE)*1","-VLOOKUP($B20,RawData,BI$4,FALSE)*1","-VLOOKUP(\"HEAUTOH\",RawData,BJ$4,FALSE)*1","-VLOOKUP(\"HEAUTOH\",RawData,BK$4,FALSE)*1","-VLOOKUP(\"HEAUTOH\",RawData,BL$4,FALSE)*1","-VLOOKUP($B20,RawData,BM$4,FALSE)*3.6","(VLOOKUP(\"HEAUTOH\",RawData,BN$4,FALSE)-SUM(VLOOKUP(\"HEAUTOH\",RawData,MATCH(\"HEATPUMP\",RawDataHeadings,0),FALSE),VLOOKUP(\"HEAUTOH\",RawData,MATCH(\"BOILER\",RawDataHeadings,0),FALSE),VLOOKUP(\"HEAUTOH\",RawData,MATCH(\"CHEMHEAT\",RawDataHeadings,0),FALSE)))*1",0]
[{"$f":"THEAT","v":"Heat pumps"},"THEAT","NOTHER",16,0,0,0,0,0,0,0,0,0,0,0,0,0,0,0,0,0,0,0,0,0,0,0,0,0,0,0,0,0,0,0,0,0,0,0,0,0,0,0,0,0,0,0,0,0,0,0,0,0,0,0,0,0,0,0,0,0,0,0,0,{"$f":"-VLOOKUP($B21,RawData,BM$4,FALSE)*3.6","v":0},{"$f":"VLOOKUP($B21,RawData,MATCH(\"ELECTR\",RawDataHeadings,0),FALSE)*3.6","v":0},0,0,null,null,null,null,null,null,null,null,null,null,"THEAT","-VLOOKUP($B21,RawData,E$4,FALSE)*VLOOKUP(E$3,ConversionFactors,$D21,FALSE)/1000","-VLOOKUP($B21,RawData,F$4,FALSE)*VLOOKUP(F$3,ConversionFactors,$D21,FALSE)/1000","-VLOOKUP($B21,RawData,G$4,FALSE)*VLOOKUP(G$3,ConversionFactors,$D21,FALSE)/1000","-VLOOKUP($B21,RawData,H$4,FALSE)*VLOOKUP(H$3,ConversionFactors,$D21,FALSE)/1000","-VLOOKUP($B21,RawData,I$4,FALSE)*VLOOKUP(I$3,ConversionFactors,$D21,FALSE)/1000","-VLOOKUP($B21,RawData,J$4,FALSE)*VLOOKUP(J$3,ConversionFactors,$D21,FALSE)/1000","-VLOOKUP($B21,RawData,K$4,FALSE)*VLOOKUP(K$3,ConversionFactors,$D21,FALSE)/1000","-VLOOKUP($B21,RawData,L$4,FALSE)*VLOOKUP(L$3,ConversionFactors,$D21,FALSE)/1000","-VLOOKUP($B21,RawData,M$4,FALSE)*VLOOKUP(M$3,ConversionFactors,$D21,FALSE)/1000","-VLOOKUP($B21,RawData,N$4,FALSE)*VLOOKUP(N$3,ConversionFactors,$D21,FALSE)/1000","(-VLOOKUP($B21,RawData,O$4,FALSE)*VLOOKUP(O$3,ConversionFactors,2,FALSE))*1","(-VLOOKUP($B21,RawData,P$4,FALSE)*VLOOKUP(P$3,ConversionFactors,2,FALSE))*1","(-VLOOKUP($B21,RawData,Q$4,FALSE)*VLOOKUP(Q$3,ConversionFactors,2,FALSE))*1","(-VLOOKUP($B21,RawData,R$4,FALSE)*VLOOKUP(R$3,ConversionFactors,2,FALSE))*1",0,"-VLOOKUP($B21,RawData,T$4,FALSE)*VLOOKUP(T$3,ConversionFactors,$D21,FALSE)/1000","-VLOOKUP($B21,RawData,U$4,FALSE)*VLOOKUP(U$3,ConversionFactors,$D21,FALSE)/1000","-VLOOKUP($B21,RawData,V$4,FALSE)*VLOOKUP(V$3,ConversionFactors,$D21,FALSE)/1000","-VLOOKUP($B21,RawData,W$4,FALSE)*VLOOKUP(W$3,ConversionFactors,2,FALSE)/1000","-VLOOKUP($B21,RawData,X$4,FALSE)*VLOOKUP(X$3,ConversionFactors,2,FALSE)/1000","-VLOOKUP($B21,RawData,Y$4,FALSE)*VLOOKUP(Y$3,ConversionFactors,2,FALSE)/1000","-VLOOKUP($B21,RawData,Z$4,FALSE)*VLOOKUP(Z$3,ConversionFactors,2,FALSE)/1000","-VLOOKUP($B21,RawData,AA$4,FALSE)*VLOOKUP(AA$3,ConversionFactors,2,FALSE)/1000","-VLOOKUP($B21,RawData,AB$4,FALSE)*VLOOKUP(AB$3,ConversionFactors,2,FALSE)/1000","-VLOOKUP($B21,RawData,AC$4,FALSE)*VLOOKUP(AC$3,ConversionFactors,2,FALSE)/1000","-VLOOKUP($B21,RawData,AD$4,FALSE)*VLOOKUP(AD$3,ConversionFactors,2,FALSE)/1000","-VLOOKUP($B21,RawData,AE$4,FALSE)*VLOOKUP(AE$3,ConversionFactors,2,FALSE)/1000","-VLOOKUP($B21,RawData,AF$4,FALSE)*VLOOKUP(AF$3,ConversionFactors,2,FALSE)/1000","-VLOOKUP($B21,RawData,AG$4,FALSE)*VLOOKUP(AG$3,ConversionFactors,2,FALSE)/1000","-VLOOKUP($B21,RawData,AH$4,FALSE)*VLOOKUP(AH$3,ConversionFactors,2,FALSE)/1000","-VLOOKUP($B21,RawData,AI$4,FALSE)*VLOOKUP(AI$3,ConversionFactors,2,FALSE)/1000","-VLOOKUP($B21,RawData,AJ$4,FALSE)*VLOOKUP(AJ$3,ConversionFactors,2,FALSE)/1000","-VLOOKUP($B21,RawData,AK$4,FALSE)*VLOOKUP(AK$3,ConversionFactors,2,FALSE)/1000","-VLOOKUP($B21,RawData,AL$4,FALSE)*VLOOKUP(AL$3,ConversionFactors,2,FALSE)/1000","-VLOOKUP($B21,RawData,AM$4,FALSE)*VLOOKUP(AM$3,ConversionFactors,2,FALSE)/1000","-VLOOKUP($B21,RawData,AN$4,FALSE)*VLOOKUP(AN$3,ConversionFactors,2,FALSE)/1000","-VLOOKUP($B21,RawData,AO$4,FALSE)*VLOOKUP(AO$3,ConversionFactors,2,FALSE)/1000","-VLOOKUP($B21,RawData,AP$4,FALSE)*VLOOKUP(AP$3,ConversionFactors,2,FALSE)/1000","-VLOOKUP($B21,RawData,AQ$4,FALSE)*VLOOKUP(AQ$3,ConversionFactors,2,FALSE)/1000","-VLOOKUP($B21,RawData,AR$4,FALSE)*VLOOKUP(AR$3,ConversionFactors,2,FALSE)/1000","-VLOOKUP($B21,RawData,AS$4,FALSE)*VLOOKUP(AS$3,ConversionFactors,2,FALSE)*1","-VLOOKUP($B21,RawData,AT$4,FALSE)*1","-VLOOKUP($B21,RawData,AU$4,FALSE)*1","-VLOOKUP($B21,RawData,AV$4,FALSE)*1","-VLOOKUP($B21,RawData,AW$4,FALSE)*1","-VLOOKUP($B21,RawData,AX$4,FALSE)*1","-VLOOKUP($B21,RawData,AY$4,FALSE)*VLOOKUP(AY$3,ConversionFactors,2,FALSE)/1000","-VLOOKUP($B21,RawData,AZ$4,FALSE)*VLOOKUP(AZ$3,ConversionFactors,2,FALSE)/1000","-VLOOKUP($B21,RawData,BA$4,FALSE)*VLOOKUP(BA$3,ConversionFactors,2,FALSE)/1000","-VLOOKUP($B21,RawData,BB$4,FALSE)*VLOOKUP(BB$3,ConversionFactors,2,FALSE)/1000","-VLOOKUP($B21,RawData,BC$4,FALSE)*1","-VLOOKUP($B21,RawData,BD$4,FALSE)*VLOOKUP(BD$3,ConversionFactors,2,FALSE)/1000",0,0,"-VLOOKUP($B21,RawData,BG$4,FALSE)*1",0,"-VLOOKUP($B21,RawData,BI$4,FALSE)*1",0,0,0,"-VLOOKUP($B21,RawData,BM$4,FALSE)*3.6","VLOOKUP($B21,RawData,MATCH(\"ELECTR\",RawDataHeadings,0),FALSE)*3.6",0]
[{"$f":"TBOILER","v":"Electric boilers"},"TBOILER","NOTHER",16,0,0,0,0,0,0,0,0,0,0,0,0,0,0,0,0,0,0,0,0,0,0,0,0,0,0,0,0,0,0,0,0,0,0,0,0,0,0,0,0,0,0,0,0,0,0,0,0,0,0,0,0,0,0,0,0,0,0,0,0,{"$f":"-VLOOKUP($B22,RawData,BM$4,FALSE)*3.6","v":0},{"$f":"VLOOKUP(\"HEATOUT\",RawData,MATCH(\"BOILER\",RawDataHeadings,0),FALSE)*1","v":0},0,0,null,null,null,null,null,null,null,null,null,null,"TBOILER","-VLOOKUP($B22,RawData,E$4,FALSE)*VLOOKUP(E$3,ConversionFactors,$D22,FALSE)/1000","-VLOOKUP($B22,RawData,F$4,FALSE)*VLOOKUP(F$3,ConversionFactors,$D22,FALSE)/1000","-VLOOKUP($B22,RawData,G$4,FALSE)*VLOOKUP(G$3,ConversionFactors,$D22,FALSE)/1000","-VLOOKUP($B22,RawData,H$4,FALSE)*VLOOKUP(H$3,ConversionFactors,$D22,FALSE)/1000","-VLOOKUP($B22,RawData,I$4,FALSE)*VLOOKUP(I$3,ConversionFactors,$D22,FALSE)/1000","-VLOOKUP($B22,RawData,J$4,FALSE)*VLOOKUP(J$3,ConversionFactors,$D22,FALSE)/1000","-VLOOKUP($B22,RawData,K$4,FALSE)*VLOOKUP(K$3,ConversionFactors,$D22,FALSE)/1000","-VLOOKUP($B22,RawData,L$4,FALSE)*VLOOKUP(L$3,ConversionFactors,$D22,FALSE)/1000","-VLOOKUP($B22,RawData,M$4,FALSE)*VLOOKUP(M$3,ConversionFactors,$D22,FALSE)/1000","-VLOOKUP($B22,RawData,N$4,FALSE)*VLOOKUP(N$3,ConversionFactors,$D22,FALSE)/1000","(-VLOOKUP($B22,RawData,O$4,FALSE)*VLOOKUP(O$3,ConversionFactors,2,FALSE))*1","(-VLOOKUP($B22,RawData,P$4,FALSE)*VLOOKUP(P$3,ConversionFactors,2,FALSE))*1","(-VLOOKUP($B22,RawData,Q$4,FALSE)*VLOOKUP(Q$3,ConversionFactors,2,FALSE))*1","(-VLOOKUP($B22,RawData,R$4,FALSE)*VLOOKUP(R$3,ConversionFactors,2,FALSE))*1",0,"-VLOOKUP($B22,RawData,T$4,FALSE)*VLOOKUP(T$3,ConversionFactors,$D22,FALSE)/1000","-VLOOKUP($B22,RawData,U$4,FALSE)*VLOOKUP(U$3,ConversionFactors,$D22,FALSE)/1000","-VLOOKUP($B22,RawData,V$4,FALSE)*VLOOKUP(V$3,ConversionFactors,$D22,FALSE)/1000","-VLOOKUP($B22,RawData,W$4,FALSE)*VLOOKUP(W$3,ConversionFactors,2,FALSE)/1000","-VLOOKUP($B22,RawData,X$4,FALSE)*VLOOKUP(X$3,ConversionFactors,2,FALSE)/1000","-VLOOKUP($B22,RawData,Y$4,FALSE)*VLOOKUP(Y$3,ConversionFactors,2,FALSE)/1000","-VLOOKUP($B22,RawData,Z$4,FALSE)*VLOOKUP(Z$3,ConversionFactors,2,FALSE)/1000","-VLOOKUP($B22,RawData,AA$4,FALSE)*VLOOKUP(AA$3,ConversionFactors,2,FALSE)/1000","-VLOOKUP($B22,RawData,AB$4,FALSE)*VLOOKUP(AB$3,ConversionFactors,2,FALSE)/1000","-VLOOKUP($B22,RawData,AC$4,FALSE)*VLOOKUP(AC$3,ConversionFactors,2,FALSE)/1000","-VLOOKUP($B22,RawData,AD$4,FALSE)*VLOOKUP(AD$3,ConversionFactors,2,FALSE)/1000","-VLOOKUP($B22,RawData,AE$4,FALSE)*VLOOKUP(AE$3,ConversionFactors,2,FALSE)/1000","-VLOOKUP($B22,RawData,AF$4,FALSE)*VLOOKUP(AF$3,ConversionFactors,2,FALSE)/1000","-VLOOKUP($B22,RawData,AG$4,FALSE)*VLOOKUP(AG$3,ConversionFactors,2,FALSE)/1000","-VLOOKUP($B22,RawData,AH$4,FALSE)*VLOOKUP(AH$3,ConversionFactors,2,FALSE)/1000","-VLOOKUP($B22,RawData,AI$4,FALSE)*VLOOKUP(AI$3,ConversionFactors,2,FALSE)/1000","-VLOOKUP($B22,RawData,AJ$4,FALSE)*VLOOKUP(AJ$3,ConversionFactors,2,FALSE)/1000","-VLOOKUP($B22,RawData,AK$4,FALSE)*VLOOKUP(AK$3,ConversionFactors,2,FALSE)/1000","-VLOOKUP($B22,RawData,AL$4,FALSE)*VLOOKUP(AL$3,ConversionFactors,2,FALSE)/1000","-VLOOKUP($B22,RawData,AM$4,FALSE)*VLOOKUP(AM$3,ConversionFactors,2,FALSE)/1000","-VLOOKUP($B22,RawData,AN$4,FALSE)*VLOOKUP(AN$3,ConversionFactors,2,FALSE)/1000","-VLOOKUP($B22,RawData,AO$4,FALSE)*VLOOKUP(AO$3,ConversionFactors,2,FALSE)/1000","-VLOOKUP($B22,RawData,AP$4,FALSE)*VLOOKUP(AP$3,ConversionFactors,2,FALSE)/1000","-VLOOKUP($B22,RawData,AQ$4,FALSE)*VLOOKUP(AQ$3,ConversionFactors,2,FALSE)/1000","-VLOOKUP($B22,RawData,AR$4,FALSE)*VLOOKUP(AR$3,ConversionFactors,2,FALSE)/1000","-VLOOKUP($B22,RawData,AS$4,FALSE)*VLOOKUP(AS$3,ConversionFactors,2,FALSE)*1","-VLOOKUP($B22,RawData,AT$4,FALSE)*1","-VLOOKUP($B22,RawData,AU$4,FALSE)*1","-VLOOKUP($B22,RawData,AV$4,FALSE)*1","-VLOOKUP($B22,RawData,AW$4,FALSE)*1","-VLOOKUP($B22,RawData,AX$4,FALSE)*1","-VLOOKUP($B22,RawData,AY$4,FALSE)*VLOOKUP(AY$3,ConversionFactors,2,FALSE)/1000","-VLOOKUP($B22,RawData,AZ$4,FALSE)*VLOOKUP(AZ$3,ConversionFactors,2,FALSE)/1000","-VLOOKUP($B22,RawData,BA$4,FALSE)*VLOOKUP(BA$3,ConversionFactors,2,FALSE)/1000","-VLOOKUP($B22,RawData,BB$4,FALSE)*VLOOKUP(BB$3,ConversionFactors,2,FALSE)/1000","-VLOOKUP($B22,RawData,BC$4,FALSE)*1","-VLOOKUP($B22,RawData,BD$4,FALSE)*VLOOKUP(BD$3,ConversionFactors,2,FALSE)/1000",0,0,"-VLOOKUP($B22,RawData,BG$4,FALSE)*1",0,"-VLOOKUP($B22,RawData,BI$4,FALSE)*1",0,0,0,"-VLOOKUP($B22,RawData,BM$4,FALSE)*3.6","VLOOKUP(\"HEATOUT\",RawData,MATCH(\"BOILER\",RawDataHeadings,0),FALSE)*1",0]
[{"$f":"TELE","v":"Chemical heat for electricity production"},"TELE","NOTHER",16,0,0,0,0,0,0,0,0,0,0,0,0,0,0,0,0,0,0,0,0,0,0,0,0,0,0,0,0,0,0,0,0,0,0,0,0,0,0,0,0,0,0,0,0,0,0,0,0,0,0,0,0,0,0,0,0,0,0,0,0,{"$f":"VLOOKUP(\"ELOUTPUT\",RawData,MATCH(\"CHEMHEAT\",RawDataHeadings,0),FALSE)*3.6","v":0},{"$f":"-VLOOKUP($B23,RawData,BN$4,FALSE)*1","v":0},0,0,null,null,null,null,null,null,null,null,null,null,"TELE","-VLOOKUP($B23,RawData,E$4,FALSE)*VLOOKUP(E$3,ConversionFactors,$D23,FALSE)/1000","-VLOOKUP($B23,RawData,F$4,FALSE)*VLOOKUP(F$3,ConversionFactors,$D23,FALSE)/1000","-VLOOKUP($B23,RawData,G$4,FALSE)*VLOOKUP(G$3,ConversionFactors,$D23,FALSE)/1000","-VLOOKUP($B23,RawData,H$4,FALSE)*VLOOKUP(H$3,ConversionFactors,$D23,FALSE)/1000","-VLOOKUP($B23,RawData,I$4,FALSE)*VLOOKUP(I$3,ConversionFactors,$D23,FALSE)/1000","-VLOOKUP($B23,RawData,J$4,FALSE)*VLOOKUP(J$3,ConversionFactors,$D23,FALSE)/1000","-VLOOKUP($B23,RawData,K$4,FALSE)*VLOOKUP(K$3,ConversionFactors,$D23,FALSE)/1000","-VLOOKUP($B23,RawData,L$4,FALSE)*VLOOKUP(L$3,ConversionFactors,$D23,FALSE)/1000","-VLOOKUP($B23,RawData,M$4,FALSE)*VLOOKUP(M$3,ConversionFactors,$D23,FALSE)/1000","-VLOOKUP($B23,RawData,N$4,FALSE)*VLOOKUP(N$3,ConversionFactors,$D23,FALSE)/1000","(-VLOOKUP($B23,RawData,O$4,FALSE)*VLOOKUP(O$3,ConversionFactors,2,FALSE))*1","(-VLOOKUP($B23,RawData,P$4,FALSE)*VLOOKUP(P$3,ConversionFactors,2,FALSE))*1","(-VLOOKUP($B23,RawData,Q$4,FALSE)*VLOOKUP(Q$3,ConversionFactors,2,FALSE))*1","(-VLOOKUP($B23,RawData,R$4,FALSE)*VLOOKUP(R$3,ConversionFactors,2,FALSE))*1",0,"-VLOOKUP($B23,RawData,T$4,FALSE)*VLOOKUP(T$3,ConversionFactors,$D23,FALSE)/1000","-VLOOKUP($B23,RawData,U$4,FALSE)*VLOOKUP(U$3,ConversionFactors,$D23,FALSE)/1000","-VLOOKUP($B23,RawData,V$4,FALSE)*VLOOKUP(V$3,ConversionFactors,$D23,FALSE)/1000","-VLOOKUP($B23,RawData,W$4,FALSE)*VLOOKUP(W$3,ConversionFactors,2,FALSE)/1000","-VLOOKUP($B23,RawData,X$4,FALSE)*VLOOKUP(X$3,ConversionFactors,2,FALSE)/1000","-VLOOKUP($B23,RawData,Y$4,FALSE)*VLOOKUP(Y$3,ConversionFactors,2,FALSE)/1000","-VLOOKUP($B23,RawData,Z$4,FALSE)*VLOOKUP(Z$3,ConversionFactors,2,FALSE)/1000","-VLOOKUP($B23,RawData,AA$4,FALSE)*VLOOKUP(AA$3,ConversionFactors,2,FALSE)/1000","-VLOOKUP($B23,RawData,AB$4,FALSE)*VLOOKUP(AB$3,ConversionFactors,2,FALSE)/1000","-VLOOKUP($B23,RawData,AC$4,FALSE)*VLOOKUP(AC$3,ConversionFactors,2,FALSE)/1000","-VLOOKUP($B23,RawData,AD$4,FALSE)*VLOOKUP(AD$3,ConversionFactors,2,FALSE)/1000","-VLOOKUP($B23,RawData,AE$4,FALSE)*VLOOKUP(AE$3,ConversionFactors,2,FALSE)/1000","-VLOOKUP($B23,RawData,AF$4,FALSE)*VLOOKUP(AF$3,ConversionFactors,2,FALSE)/1000","-VLOOKUP($B23,RawData,AG$4,FALSE)*VLOOKUP(AG$3,ConversionFactors,2,FALSE)/1000","-VLOOKUP($B23,RawData,AH$4,FALSE)*VLOOKUP(AH$3,ConversionFactors,2,FALSE)/1000","-VLOOKUP($B23,RawData,AI$4,FALSE)*VLOOKUP(AI$3,ConversionFactors,2,FALSE)/1000","-VLOOKUP($B23,RawData,AJ$4,FALSE)*VLOOKUP(AJ$3,ConversionFactors,2,FALSE)/1000","-VLOOKUP($B23,RawData,AK$4,FALSE)*VLOOKUP(AK$3,ConversionFactors,2,FALSE)/1000","-VLOOKUP($B23,RawData,AL$4,FALSE)*VLOOKUP(AL$3,ConversionFactors,2,FALSE)/1000","-VLOOKUP($B23,RawData,AM$4,FALSE)*VLOOKUP(AM$3,ConversionFactors,2,FALSE)/1000","-VLOOKUP($B23,RawData,AN$4,FALSE)*VLOOKUP(AN$3,ConversionFactors,2,FALSE)/1000","-VLOOKUP($B23,RawData,AO$4,FALSE)*VLOOKUP(AO$3,ConversionFactors,2,FALSE)/1000","-VLOOKUP($B23,RawData,AP$4,FALSE)*VLOOKUP(AP$3,ConversionFactors,2,FALSE)/1000","-VLOOKUP($B23,RawData,AQ$4,FALSE)*VLOOKUP(AQ$3,ConversionFactors,2,FALSE)/1000","-VLOOKUP($B23,RawData,AR$4,FALSE)*VLOOKUP(AR$3,ConversionFactors,2,FALSE)/1000","-VLOOKUP($B23,RawData,AS$4,FALSE)*VLOOKUP(AS$3,ConversionFactors,2,FALSE)*1","-VLOOKUP($B23,RawData,AT$4,FALSE)*1","-VLOOKUP($B23,RawData,AU$4,FALSE)*1","-VLOOKUP($B23,RawData,AV$4,FALSE)*1","-VLOOKUP($B23,RawData,AW$4,FALSE)*1","-VLOOKUP($B23,RawData,AX$4,FALSE)*1","-VLOOKUP($B23,RawData,AY$4,FALSE)*VLOOKUP(AY$3,ConversionFactors,2,FALSE)/1000","-VLOOKUP($B23,RawData,AZ$4,FALSE)*VLOOKUP(AZ$3,ConversionFactors,2,FALSE)/1000","-VLOOKUP($B23,RawData,BA$4,FALSE)*VLOOKUP(BA$3,ConversionFactors,2,FALSE)/1000","-VLOOKUP($B23,RawData,BB$4,FALSE)*VLOOKUP(BB$3,ConversionFactors,2,FALSE)/1000","-VLOOKUP($B23,RawData,BC$4,FALSE)*1","-VLOOKUP($B23,RawData,BD$4,FALSE)*VLOOKUP(BD$3,ConversionFactors,2,FALSE)/1000",0,0,"-VLOOKUP($B23,RawData,BG$4,FALSE)*1",0,"-VLOOKUP($B23,RawData,BI$4,FALSE)*1",0,0,0,"VLOOKUP(\"ELOUTPUT\",RawData,MATCH(\"CHEMHEAT\",RawDataHeadings,0),FALSE)*3.6","-VLOOKUP($B23,RawData,BN$4,FALSE)*1",0]
[{"$f":"TPATFUEL","v":"Patent fuel plants"},"TPATFUEL","NOTHER",16,{"$f":"-VLOOKUP($B24,RawData,E$4,FALSE)*VLOOKUP(E$3,ConversionFactors,$D24,FALSE)/1000","v":0},0,0,0,0,{"$f":"(VLOOKUP($B5,RawData,J$4,FALSE)*VLOOKUP(J$3,ConversionFactors,D$5,FALSE)+SUM(VLOOKUP(\"OSNATGAS\",RawData,J$4,FALSE),VLOOKUP(\"OSOIL\",RawData,J$4,FALSE),VLOOKUP(\"OSRENEW\",RawData,J$4,FALSE),VLOOKUP(\"OSNONSPEC\",RawData,J$4,FALSE))*VLOOKUP(J$3,ConversionFactors,MATCH(\"NOTHER\",CFHeadings,0),FALSE)-VLOOKUP($B24,RawData,J$4,FALSE)*VLOOKUP(J$3,ConversionFactors,$D24,FALSE))/1000","v":0},{"$f":"-VLOOKUP($B24,RawData,K$4,FALSE)*VLOOKUP(K$3,ConversionFactors,$D24,FALSE)/1000","v":0},{"$f":"-VLOOKUP($B24,RawData,L$4,FALSE)*VLOOKUP(L$3,ConversionFactors,$D24,FALSE)/1000","v":0},{"$f":"-VLOOKUP($B24,RawData,M$4,FALSE)*VLOOKUP(M$3,ConversionFactors,$D24,FALSE)/1000","v":0},{"$f":"-VLOOKUP($B24,RawData,N$4,FALSE)*VLOOKUP(N$3,ConversionFactors,$D24,FALSE)/1000","v":0},0,0,0,0,0,0,0,0,0,0,0,0,0,0,0,0,0,0,0,0,0,0,0,0,0,0,0,0,0,0,0,0,0,0,0,0,0,0,0,0,0,0,0,0,0,0,0,0,0,0,{"$f":"-VLOOKUP($B24,RawData,BM$4,FALSE)*3.6","v":0},0,0,0,null,null,null,null,null,null,null,null,null,null,"TPATFUEL","-VLOOKUP($B24,RawData,E$4,FALSE)*VLOOKUP(E$3,ConversionFactors,$D24,FALSE)/1000","-VLOOKUP($B24,RawData,F$4,FALSE)*VLOOKUP(F$3,ConversionFactors,$D24,FALSE)/1000","-VLOOKUP($B24,RawData,G$4,FALSE)*VLOOKUP(G$3,ConversionFactors,$D24,FALSE)/1000","-VLOOKUP($B24,RawData,H$4,FALSE)*VLOOKUP(H$3,ConversionFactors,$D24,FALSE)/1000","-VLOOKUP($B24,RawData,I$4,FALSE)*VLOOKUP(I$3,ConversionFactors,$D24,FALSE)/1000","(VLOOKUP($B5,RawData,J$4,FALSE)*VLOOKUP(J$3,ConversionFactors,D$5,FALSE)+SUM(VLOOKUP(\"OSNATGAS\",RawData,J$4,FALSE),VLOOKUP(\"OSOIL\",RawData,J$4,FALSE),VLOOKUP(\"OSRENEW\",RawData,J$4,FALSE),VLOOKUP(\"OSNONSPEC\",RawData,J$4,FALSE))*VLOOKUP(J$3,ConversionFactors,MATCH(\"NOTHER\",CFHeadings,0),FALSE)-VLOOKUP($B24,RawData,J$4,FALSE)*VLOOKUP(J$3,ConversionFactors,$D24,FALSE))/1000","-VLOOKUP($B24,RawData,K$4,FALSE)*VLOOKUP(K$3,ConversionFactors,$D24,FALSE)/1000","-VLOOKUP($B24,RawData,L$4,FALSE)*VLOOKUP(L$3,ConversionFactors,$D24,FALSE)/1000","-VLOOKUP($B24,RawData,M$4,FALSE)*VLOOKUP(M$3,ConversionFactors,$D24,FALSE)/1000","-VLOOKUP($B24,RawData,N$4,FALSE)*VLOOKUP(N$3,ConversionFactors,$D24,FALSE)/1000","(-VLOOKUP($B24,RawData,O$4,FALSE)*VLOOKUP(O$3,ConversionFactors,2,FALSE))*1","(-VLOOKUP($B24,RawData,P$4,FALSE)*VLOOKUP(P$3,ConversionFactors,2,FALSE))*1","(-VLOOKUP($B24,RawData,Q$4,FALSE)*VLOOKUP(Q$3,ConversionFactors,2,FALSE))*1","(-VLOOKUP($B24,RawData,R$4,FALSE)*VLOOKUP(R$3,ConversionFactors,2,FALSE))*1",0,"-VLOOKUP($B24,RawData,T$4,FALSE)*VLOOKUP(T$3,ConversionFactors,$D24,FALSE)/1000","-VLOOKUP($B24,RawData,U$4,FALSE)*VLOOKUP(U$3,ConversionFactors,$D24,FALSE)/1000","-VLOOKUP($B24,RawData,V$4,FALSE)*VLOOKUP(V$3,ConversionFactors,$D24,FALSE)/1000","-VLOOKUP($B24,RawData,W$4,FALSE)*VLOOKUP(W$3,ConversionFactors,2,FALSE)/1000","-VLOOKUP($B24,RawData,X$4,FALSE)*VLOOKUP(X$3,ConversionFactors,2,FALSE)/1000","-VLOOKUP($B24,RawData,Y$4,FALSE)*VLOOKUP(Y$3,ConversionFactors,2,FALSE)/1000","-VLOOKUP($B24,RawData,Z$4,FALSE)*VLOOKUP(Z$3,ConversionFactors,2,FALSE)/1000","-VLOOKUP($B24,RawData,AA$4,FALSE)*VLOOKUP(AA$3,ConversionFactors,2,FALSE)/1000","-VLOOKUP($B24,RawData,AB$4,FALSE)*VLOOKUP(AB$3,ConversionFactors,2,FALSE)/1000","-VLOOKUP($B24,RawData,AC$4,FALSE)*VLOOKUP(AC$3,ConversionFactors,2,FALSE)/1000","-VLOOKUP($B24,RawData,AD$4,FALSE)*VLOOKUP(AD$3,ConversionFactors,2,FALSE)/1000","-VLOOKUP($B24,RawData,AE$4,FALSE)*VLOOKUP(AE$3,ConversionFactors,2,FALSE)/1000","-VLOOKUP($B24,RawData,AF$4,FALSE)*VLOOKUP(AF$3,ConversionFactors,2,FALSE)/1000","-VLOOKUP($B24,RawData,AG$4,FALSE)*VLOOKUP(AG$3,ConversionFactors,2,FALSE)/1000","-VLOOKUP($B24,RawData,AH$4,FALSE)*VLOOKUP(AH$3,ConversionFactors,2,FALSE)/1000","-VLOOKUP($B24,RawData,AI$4,FALSE)*VLOOKUP(AI$3,ConversionFactors,2,FALSE)/1000","-VLOOKUP($B24,RawData,AJ$4,FALSE)*VLOOKUP(AJ$3,ConversionFactors,2,FALSE)/1000","-VLOOKUP($B24,RawData,AK$4,FALSE)*VLOOKUP(AK$3,ConversionFactors,2,FALSE)/1000","-VLOOKUP($B24,RawData,AL$4,FALSE)*VLOOKUP(AL$3,ConversionFactors,2,FALSE)/1000","-VLOOKUP($B24,RawData,AM$4,FALSE)*VLOOKUP(AM$3,ConversionFactors,2,FALSE)/1000","-VLOOKUP($B24,RawData,AN$4,FALSE)*VLOOKUP(AN$3,ConversionFactors,2,FALSE)/1000","-VLOOKUP($B24,RawData,AO$4,FALSE)*VLOOKUP(AO$3,ConversionFactors,2,FALSE)/1000","-VLOOKUP($B24,RawData,AP$4,FALSE)*VLOOKUP(AP$3,ConversionFactors,2,FALSE)/1000","-VLOOKUP($B24,RawData,AQ$4,FALSE)*VLOOKUP(AQ$3,ConversionFactors,2,FALSE)/1000","-VLOOKUP($B24,RawData,AR$4,FALSE)*VLOOKUP(AR$3,ConversionFactors,2,FALSE)/1000","-VLOOKUP($B24,RawData,AS$4,FALSE)*VLOOKUP(AS$3,ConversionFactors,2,FALSE)*1","-VLOOKUP($B24,RawData,AT$4,FALSE)*1","-VLOOKUP($B24,RawData,AU$4,FALSE)*1","-VLOOKUP($B24,RawData,AV$4,FALSE)*1","-VLOOKUP($B24,RawData,AW$4,FALSE)*1","-VLOOKUP($B24,RawData,AX$4,FALSE)*1","-VLOOKUP($B24,RawData,AY$4,FALSE)*VLOOKUP(AY$3,ConversionFactors,2,FALSE)/1000","-VLOOKUP($B24,RawData,AZ$4,FALSE)*VLOOKUP(AZ$3,ConversionFactors,2,FALSE)/1000","-VLOOKUP($B24,RawData,BA$4,FALSE)*VLOOKUP(BA$3,ConversionFactors,2,FALSE)/1000","-VLOOKUP($B24,RawData,BB$4,FALSE)*VLOOKUP(BB$3,ConversionFactors,2,FALSE)/1000","-VLOOKUP($B24,RawData,BC$4,FALSE)*1","-VLOOKUP($B24,RawData,BD$4,FALSE)*VLOOKUP(BD$3,ConversionFactors,2,FALSE)/1000",0,0,"-VLOOKUP($B24,RawData,BG$4,FALSE)*1",0,"-VLOOKUP($B24,RawData,BI$4,FALSE)*1",0,0,0,"-VLOOKUP($B24,RawData,BM$4,FALSE)*3.6","-VLOOKUP($B24,RawData,BN$4,FALSE)*1",0]
[{"$f":"TCOKEOVS","v":"Coke ovens"},"TCOKEOVS","NCOKEOVS",7,0,0,0,0,0,{"$f":"-VLOOKUP($B25,RawData,J$4,FALSE)*VLOOKUP(J$3,ConversionFactors,$D25,FALSE)/1000","v":0},{"$f":"(VLOOKUP($B5,RawData,K$4,FALSE)*VLOOKUP(K$3,ConversionFactors,D$5,FALSE)+SUM(VLOOKUP(\"OSNATGAS\",RawData,K$4,FALSE),VLOOKUP(\"OSOIL\",RawData,K$4,FALSE),VLOOKUP(\"OSRENEW\",RawData,K$4,FALSE))*VLOOKUP(K$3,ConversionFactors,MATCH(\"NOTHER\",CFHeadings,0),FALSE)-VLOOKUP($B25,RawData,K$4,FALSE)*VLOOKUP(K$3,ConversionFactors,$D25,FALSE))/1000","v":0},{"$f":"-VLOOKUP($B25,RawData,L$4,FALSE)*VLOOKUP(L$3,ConversionFactors,$D25,FALSE)/1000","v":0},{"$f":"(VLOOKUP($B5,RawData,M$4,FALSE)*VLOOKUP(M$3,ConversionFactors,D$5,FALSE)+SUM(VLOOKUP(\"OSNATGAS\",RawData,M$4,FALSE),VLOOKUP(\"OSOIL\",RawData,M$4,FALSE),VLOOKUP(\"OSRENEW\",RawData,M$4,FALSE),VLOOKUP(\"OSNONSPEC\",RawData,M$4,FALSE))*VLOOKUP(M$3,ConversionFactors,MATCH(\"NOTHER\",CFHeadings,0),FALSE)-VLOOKUP($B25,RawData,M$4,FALSE)*VLOOKUP(M$3,ConversionFactors,$D25,FALSE))/1000","v":0},{"$f":"-VLOOKUP($B25,RawData,N$4,FALSE)*VLOOKUP(N$3,ConversionFactors,$D25,FALSE)/1000","v":0},{"$f":"(-VLOOKUP($B25,RawData,O$4,FALSE)*VLOOKUP(O$3,ConversionFactors,2,FALSE))*1","v":0},{"$f":"(SUM(VLOOKUP($B5,RawData,P$4,FALSE),VLOOKUP(\"OSNATGAS\",RawData,P$4,FALSE),VLOOKUP(\"OSOIL\",RawData,P$4,FALSE),VLOOKUP(\"OSRENEW\",RawData,P$4,FALSE),VLOOKUP(\"OSNONSPEC\",RawData,P$4,FALSE),-VLOOKUP($B25,RawData,P$4,FALSE))*VLOOKUP(P$3,ConversionFactors,2,FALSE))*1","v":0},{"$f":"(-VLOOKUP($B25,RawData,Q$4,FALSE)*VLOOKUP(Q$3,ConversionFactors,2,FALSE))*1","v":0},{"$f":"(-VLOOKUP($B25,RawData,R$4,FALSE)*VLOOKUP(R$3,ConversionFactors,2,FALSE))*1","v":0},0,0,0,0,0,0,0,0,0,0,0,0,0,0,0,0,0,0,0,0,0,0,0,0,0,0,0,{"$f":"-VLOOKUP($B25,RawData,AT$4,FALSE)*1","v":0},0,0,0,0,0,0,0,0,0,0,0,0,0,0,0,0,0,0,0,0,0,0,null,null,null,null,null,null,null,null,null,null,"TCOKEOVS","-VLOOKUP($B25,RawData,E$4,FALSE)*VLOOKUP(E$3,ConversionFactors,$D25,FALSE)/1000","-VLOOKUP($B25,RawData,F$4,FALSE)*VLOOKUP(F$3,ConversionFactors,$D25,FALSE)/1000","-VLOOKUP($B25,RawData,G$4,FALSE)*VLOOKUP(G$3,ConversionFactors,$D25,FALSE)/1000","-VLOOKUP($B25,RawData,H$4,FALSE)*VLOOKUP(H$3,ConversionFactors,$D25,FALSE)/1000","-VLOOKUP($B25,RawData,I$4,FALSE)*VLOOKUP(I$3,ConversionFactors,$D25,FALSE)/1000","-VLOOKUP($B25,RawData,J$4,FALSE)*VLOOKUP(J$3,ConversionFactors,$D25,FALSE)/1000","(VLOOKUP($B5,RawData,K$4,FALSE)*VLOOKUP(K$3,ConversionFactors,D$5,FALSE)+SUM(VLOOKUP(\"OSNATGAS\",RawData,K$4,FALSE),VLOOKUP(\"OSOIL\",RawData,K$4,FALSE),VLOOKUP(\"OSRENEW\",RawData,K$4,FALSE))*VLOOKUP(K$3,ConversionFactors,MATCH(\"NOTHER\",CFHeadings,0),FALSE)-VLOOKUP($B25,RawData,K$4,FALSE)*VLOOKUP(K$3,ConversionFactors,$D25,FALSE))/1000","-VLOOKUP($B25,RawData,L$4,FALSE)*VLOOKUP(L$3,ConversionFactors,$D25,FALSE)/1000","(VLOOKUP($B5,RawData,M$4,FALSE)*VLOOKUP(M$3,ConversionFactors,D$5,FALSE)+SUM(VLOOKUP(\"OSNATGAS\",RawData,M$4,FALSE),VLOOKUP(\"OSOIL\",RawData,M$4,FALSE),VLOOKUP(\"OSRENEW\",RawData,M$4,FALSE),VLOOKUP(\"OSNONSPEC\",RawData,M$4,FALSE))*VLOOKUP(M$3,ConversionFactors,MATCH(\"NOTHER\",CFHeadings,0),FALSE)-VLOOKUP($B25,RawData,M$4,FALSE)*VLOOKUP(M$3,ConversionFactors,$D25,FALSE))/1000","-VLOOKUP($B25,RawData,N$4,FALSE)*VLOOKUP(N$3,ConversionFactors,$D25,FALSE)/1000","(-VLOOKUP($B25,RawData,O$4,FALSE)*VLOOKUP(O$3,ConversionFactors,2,FALSE))*1","(SUM(VLOOKUP($B5,RawData,P$4,FALSE),VLOOKUP(\"OSNATGAS\",RawData,P$4,FALSE),VLOOKUP(\"OSOIL\",RawData,P$4,FALSE),VLOOKUP(\"OSRENEW\",RawData,P$4,FALSE),VLOOKUP(\"OSNONSPEC\",RawData,P$4,FALSE),-VLOOKUP($B25,RawData,P$4,FALSE))*VLOOKUP(P$3,ConversionFactors,2,FALSE))*1","(-VLOOKUP($B25,RawData,Q$4,FALSE)*VLOOKUP(Q$3,ConversionFactors,2,FALSE))*1","(-VLOOKUP($B25,RawData,R$4,FALSE)*VLOOKUP(R$3,ConversionFactors,2,FALSE))*1",0,"-VLOOKUP($B25,RawData,T$4,FALSE)*VLOOKUP(T$3,ConversionFactors,$D25,FALSE)/1000","-VLOOKUP($B25,RawData,U$4,FALSE)*VLOOKUP(U$3,ConversionFactors,$D25,FALSE)/1000","-VLOOKUP($B25,RawData,V$4,FALSE)*VLOOKUP(V$3,ConversionFactors,$D25,FALSE)/1000","-VLOOKUP($B25,RawData,W$4,FALSE)*VLOOKUP(W$3,ConversionFactors,2,FALSE)/1000","-VLOOKUP($B25,RawData,X$4,FALSE)*VLOOKUP(X$3,ConversionFactors,2,FALSE)/1000","-VLOOKUP($B25,RawData,Y$4,FALSE)*VLOOKUP(Y$3,ConversionFactors,2,FALSE)/1000","-VLOOKUP($B25,RawData,Z$4,FALSE)*VLOOKUP(Z$3,ConversionFactors,2,FALSE)/1000","-VLOOKUP($B25,RawData,AA$4,FALSE)*VLOOKUP(AA$3,ConversionFactors,2,FALSE)/1000","-VLOOKUP($B25,RawData,AB$4,FALSE)*VLOOKUP(AB$3,ConversionFactors,2,FALSE)/1000","-VLOOKUP($B25,RawData,AC$4,FALSE)*VLOOKUP(AC$3,ConversionFactors,2,FALSE)/1000","-VLOOKUP($B25,RawData,AD$4,FALSE)*VLOOKUP(AD$3,ConversionFactors,2,FALSE)/1000","-VLOOKUP($B25,RawData,AE$4,FALSE)*VLOOKUP(AE$3,ConversionFactors,2,FALSE)/1000","-VLOOKUP($B25,RawData,AF$4,FALSE)*VLOOKUP(AF$3,ConversionFactors,2,FALSE)/1000","-VLOOKUP($B25,RawData,AG$4,FALSE)*VLOOKUP(AG$3,ConversionFactors,2,FALSE)/1000","-VLOOKUP($B25,RawData,AH$4,FALSE)*VLOOKUP(AH$3,ConversionFactors,2,FALSE)/1000","-VLOOKUP($B25,RawData,AI$4,FALSE)*VLOOKUP(AI$3,ConversionFactors,2,FALSE)/1000","-VLOOKUP($B25,RawData,AJ$4,FALSE)*VLOOKUP(AJ$3,ConversionFactors,2,FALSE)/1000","-VLOOKUP($B25,RawData,AK$4,FALSE)*VLOOKUP(AK$3,ConversionFactors,2,FALSE)/1000","-VLOOKUP($B25,RawData,AL$4,FALSE)*VLOOKUP(AL$3,ConversionFactors,2,FALSE)/1000","-VLOOKUP($B25,RawData,AM$4,FALSE)*VLOOKUP(AM$3,ConversionFactors,2,FALSE)/1000","-VLOOKUP($B25,RawData,AN$4,FALSE)*VLOOKUP(AN$3,ConversionFactors,2,FALSE)/1000","-VLOOKUP($B25,RawData,AO$4,FALSE)*VLOOKUP(AO$3,ConversionFactors,2,FALSE)/1000","-VLOOKUP($B25,RawData,AP$4,FALSE)*VLOOKUP(AP$3,ConversionFactors,2,FALSE)/1000","-VLOOKUP($B25,RawData,AQ$4,FALSE)*VLOOKUP(AQ$3,ConversionFactors,2,FALSE)/1000","-VLOOKUP($B25,RawData,AR$4,FALSE)*VLOOKUP(AR$3,ConversionFactors,2,FALSE)/1000","-VLOOKUP($B25,RawData,AS$4,FALSE)*VLOOKUP(AS$3,ConversionFactors,2,FALSE)*1","-VLOOKUP($B25,RawData,AT$4,FALSE)*1","-VLOOKUP($B25,RawData,AU$4,FALSE)*1","-VLOOKUP($B25,RawData,AV$4,FALSE)*1","-VLOOKUP($B25,RawData,AW$4,FALSE)*1","-VLOOKUP($B25,RawData,AX$4,FALSE)*1","-VLOOKUP($B25,RawData,AY$4,FALSE)*VLOOKUP(AY$3,ConversionFactors,2,FALSE)/1000","-VLOOKUP($B25,RawData,AZ$4,FALSE)*VLOOKUP(AZ$3,ConversionFactors,2,FALSE)/1000","-VLOOKUP($B25,RawData,BA$4,FALSE)*VLOOKUP(BA$3,ConversionFactors,2,FALSE)/1000","-VLOOKUP($B25,RawData,BB$4,FALSE)*VLOOKUP(BB$3,ConversionFactors,2,FALSE)/1000","-VLOOKUP($B25,RawData,BC$4,FALSE)*1","-VLOOKUP($B25,RawData,BD$4,FALSE)*VLOOKUP(BD$3,ConversionFactors,2,FALSE)/1000",0,0,"-VLOOKUP($B25,RawData,BG$4,FALSE)*1",0,"-VLOOKUP($B25,RawData,BI$4,FALSE)*1",0,0,0,"-VLOOKUP($B25,RawData,BM$4,FALSE)*3.6","-VLOOKUP($B25,RawData,BN$4,FALSE)*1",0]
[{"$f":"TGASWKS","v":"Gas works"},"TGASWKS","NOTHER",16,0,0,0,0,0,0,{"$f":"-VLOOKUP($B26,RawData,K$4,FALSE)*VLOOKUP(K$3,ConversionFactors,$D26,FALSE)/1000","v":0},{"$f":"(VLOOKUP($B5,RawData,L$4,FALSE)*VLOOKUP(L$3,ConversionFactors,D$5,FALSE)+SUM(VLOOKUP(\"OSNATGAS\",RawData,L$4,FALSE),VLOOKUP(\"OSOIL\",RawData,L$4,FALSE),VLOOKUP(\"OSRENEW\",RawData,L$4,FALSE),VLOOKUP(\"OSNONSPEC\",RawData,L$4,FALSE))*VLOOKUP(L$3,ConversionFactors,MATCH(\"NOTHER\",CFHeadings,0),FALSE)-VLOOKUP($B26,RawData,L$4,FALSE)*VLOOKUP(L$3,ConversionFactors,$D26,FALSE))/1000","v":0},{"$f":"-VLOOKUP($B26,RawData,M$4,FALSE)*VLOOKUP(M$3,ConversionFactors,$D26,FALSE)/1000","v":0},{"$f":"-VLOOKUP($B26,RawData,N$4,FALSE)*VLOOKUP(N$3,ConversionFactors,$D26,FALSE)/1000","v":0},{"$f":"(SUM(VLOOKUP($B5,RawData,O$4,FALSE),VLOOKUP(\"OSCOAL\",RawData,O$4,FALSE),VLOOKUP(\"OSNATGAS\",RawData,O$4,FALSE),VLOOKUP(\"OSOIL\",RawData,O$4,FALSE),VLOOKUP(\"OSRENEW\",RawData,O$4,FALSE),VLOOKUP(\"OSNONSPEC\",RawData,O$4,FALSE)-VLOOKUP($B26,RawData,O$4,FALSE))*VLOOKUP(O$3,ConversionFactors,2,FALSE))*1","v":0},{"$f":"(-VLOOKUP($B26,RawData,P$4,FALSE)*VLOOKUP(P$3,ConversionFactors,2,FALSE))*1","v":0},{"$f":"(-VLOOKUP($B26,RawData,Q$4,FALSE)*VLOOKUP(Q$3,ConversionFactors,2,FALSE))*1","v":0},{"$f":"(-VLOOKUP($B26,RawData,R$4,FALSE)*VLOOKUP(R$3,ConversionFactors,2,FALSE))*1","v":0},0,0,0,0,0,0,0,0,0,0,0,0,0,0,0,0,0,0,0,0,0,0,0,0,0,0,0,0,0,0,0,0,0,0,0,0,0,0,0,0,0,0,0,0,0,0,0,0,0,0,null,null,null,null,null,null,null,null,null,null,"TGASWKS","-VLOOKUP($B26,RawData,E$4,FALSE)*VLOOKUP(E$3,ConversionFactors,$D26,FALSE)/1000","-VLOOKUP($B26,RawData,F$4,FALSE)*VLOOKUP(F$3,ConversionFactors,$D26,FALSE)/1000","-VLOOKUP($B26,RawData,G$4,FALSE)*VLOOKUP(G$3,ConversionFactors,$D26,FALSE)/1000","-VLOOKUP($B26,RawData,H$4,FALSE)*VLOOKUP(H$3,ConversionFactors,$D26,FALSE)/1000","-VLOOKUP($B26,RawData,I$4,FALSE)*VLOOKUP(I$3,ConversionFactors,$D26,FALSE)/1000","-VLOOKUP($B26,RawData,J$4,FALSE)*VLOOKUP(J$3,ConversionFactors,$D26,FALSE)/1000","-VLOOKUP($B26,RawData,K$4,FALSE)*VLOOKUP(K$3,ConversionFactors,$D26,FALSE)/1000","(VLOOKUP($B5,RawData,L$4,FALSE)*VLOOKUP(L$3,ConversionFactors,D$5,FALSE)+SUM(VLOOKUP(\"OSNATGAS\",RawData,L$4,FALSE),VLOOKUP(\"OSOIL\",RawData,L$4,FALSE),VLOOKUP(\"OSRENEW\",RawData,L$4,FALSE),VLOOKUP(\"OSNONSPEC\",RawData,L$4,FALSE))*VLOOKUP(L$3,ConversionFactors,MATCH(\"NOTHER\",CFHeadings,0),FALSE)-VLOOKUP($B26,RawData,L$4,FALSE)*VLOOKUP(L$3,ConversionFactors,$D26,FALSE))/1000","-VLOOKUP($B26,RawData,M$4,FALSE)*VLOOKUP(M$3,ConversionFactors,$D26,FALSE)/1000","-VLOOKUP($B26,RawData,N$4,FALSE)*VLOOKUP(N$3,ConversionFactors,$D26,FALSE)/1000","(SUM(VLOOKUP($B5,RawData,O$4,FALSE),VLOOKUP(\"OSCOAL\",RawData,O$4,FALSE),VLOOKUP(\"OSNATGAS\",RawData,O$4,FALSE),VLOOKUP(\"OSOIL\",RawData,O$4,FALSE),VLOOKUP(\"OSRENEW\",RawData,O$4,FALSE),VLOOKUP(\"OSNONSPEC\",RawData,O$4,FALSE)-VLOOKUP($B26,RawData,O$4,FALSE))*VLOOKUP(O$3,ConversionFactors,2,FALSE))*1","(-VLOOKUP($B26,RawData,P$4,FALSE)*VLOOKUP(P$3,ConversionFactors,2,FALSE))*1","(-VLOOKUP($B26,RawData,Q$4,FALSE)*VLOOKUP(Q$3,ConversionFactors,2,FALSE))*1","(-VLOOKUP($B26,RawData,R$4,FALSE)*VLOOKUP(R$3,ConversionFactors,2,FALSE))*1",0,"-VLOOKUP($B26,RawData,T$4,FALSE)*VLOOKUP(T$3,ConversionFactors,$D26,FALSE)/1000","-VLOOKUP($B26,RawData,U$4,FALSE)*VLOOKUP(U$3,ConversionFactors,$D26,FALSE)/1000","-VLOOKUP($B26,RawData,V$4,FALSE)*VLOOKUP(V$3,ConversionFactors,$D26,FALSE)/1000","-VLOOKUP($B26,RawData,W$4,FALSE)*VLOOKUP(W$3,ConversionFactors,2,FALSE)/1000","-VLOOKUP($B26,RawData,X$4,FALSE)*VLOOKUP(X$3,ConversionFactors,2,FALSE)/1000","-VLOOKUP($B26,RawData,Y$4,FALSE)*VLOOKUP(Y$3,ConversionFactors,2,FALSE)/1000","-VLOOKUP($B26,RawData,Z$4,FALSE)*VLOOKUP(Z$3,ConversionFactors,2,FALSE)/1000","-VLOOKUP($B26,RawData,AA$4,FALSE)*VLOOKUP(AA$3,ConversionFactors,2,FALSE)/1000","-VLOOKUP($B26,RawData,AB$4,FALSE)*VLOOKUP(AB$3,ConversionFactors,2,FALSE)/1000","-VLOOKUP($B26,RawData,AC$4,FALSE)*VLOOKUP(AC$3,ConversionFactors,2,FALSE)/1000","-VLOOKUP($B26,RawData,AD$4,FALSE)*VLOOKUP(AD$3,ConversionFactors,2,FALSE)/1000","-VLOOKUP($B26,RawData,AE$4,FALSE)*VLOOKUP(AE$3,ConversionFactors,2,FALSE)/1000","-VLOOKUP($B26,RawData,AF$4,FALSE)*VLOOKUP(AF$3,ConversionFactors,2,FALSE)/1000","-VLOOKUP($B26,RawData,AG$4,FALSE)*VLOOKUP(AG$3,ConversionFactors,2,FALSE)/1000","-VLOOKUP($B26,RawData,AH$4,FALSE)*VLOOKUP(AH$3,ConversionFactors,2,FALSE)/1000","-VLOOKUP($B26,RawData,AI$4,FALSE)*VLOOKUP(AI$3,ConversionFactors,2,FALSE)/1000","-VLOOKUP($B26,RawData,AJ$4,FALSE)*VLOOKUP(AJ$3,ConversionFactors,2,FALSE)/1000","-VLOOKUP($B26,RawData,AK$4,FALSE)*VLOOKUP(AK$3,ConversionFactors,2,FALSE)/1000","-VLOOKUP($B26,RawData,AL$4,FALSE)*VLOOKUP(AL$3,ConversionFactors,2,FALSE)/1000","-VLOOKUP($B26,RawData,AM$4,FALSE)*VLOOKUP(AM$3,ConversionFactors,2,FALSE)/1000","-VLOOKUP($B26,RawData,AN$4,FALSE)*VLOOKUP(AN$3,ConversionFactors,2,FALSE)/1000","-VLOOKUP($B26,RawData,AO$4,FALSE)*VLOOKUP(AO$3,ConversionFactors,2,FALSE)/1000","-VLOOKUP($B26,RawData,AP$4,FALSE)*VLOOKUP(AP$3,ConversionFactors,2,FALSE)/1000","-VLOOKUP($B26,RawData,AQ$4,FALSE)*VLOOKUP(AQ$3,ConversionFactors,2,FALSE)/1000","-VLOOKUP($B26,RawData,AR$4,FALSE)*VLOOKUP(AR$3,ConversionFactors,2,FALSE)/1000","-VLOOKUP($B26,RawData,AS$4,FALSE)*VLOOKUP(AS$3,ConversionFactors,2,FALSE)*1","-VLOOKUP($B26,RawData,AT$4,FALSE)*1","-VLOOKUP($B26,RawData,AU$4,FALSE)*1","-VLOOKUP($B26,RawData,AV$4,FALSE)*1","-VLOOKUP($B26,RawData,AW$4,FALSE)*1","-VLOOKUP($B26,RawData,AX$4,FALSE)*1","-VLOOKUP($B26,RawData,AY$4,FALSE)*VLOOKUP(AY$3,ConversionFactors,2,FALSE)/1000","-VLOOKUP($B26,RawData,AZ$4,FALSE)*VLOOKUP(AZ$3,ConversionFactors,2,FALSE)/1000","-VLOOKUP($B26,RawData,BA$4,FALSE)*VLOOKUP(BA$3,ConversionFactors,2,FALSE)/1000","-VLOOKUP($B26,RawData,BB$4,FALSE)*VLOOKUP(BB$3,ConversionFactors,2,FALSE)/1000","-VLOOKUP($B26,RawData,BC$4,FALSE)*1","-VLOOKUP($B26,RawData,BD$4,FALSE)*VLOOKUP(BD$3,ConversionFactors,2,FALSE)/1000",0,0,"-VLOOKUP($B26,RawData,BG$4,FALSE)*1",0,"-VLOOKUP($B26,RawData,BI$4,FALSE)*1",0,0,0,"-VLOOKUP($B26,RawData,BM$4,FALSE)*3.6","-VLOOKUP($B26,RawData,BN$4,FALSE)*1",0]
[{"$f":"TBLASTFUR","v":"Blast furnaces"},"TBLASTFUR","NBLAST",8,0,0,0,0,0,0,0,{"$f":"-VLOOKUP($B27,RawData,L$4,FALSE)*VLOOKUP(L$3,ConversionFactors,$D27,FALSE)/1000","v":0},0,{"$f":"-VLOOKUP($B27,RawData,N$4,FALSE)*VLOOKUP(N$3,ConversionFactors,$D27,FALSE)/1000","v":0},{"$f":"(-VLOOKUP($B27,RawData,O$4,FALSE)*VLOOKUP(O$3,ConversionFactors,2,FALSE))*1","v":0},0,{"$f":"(SUM(VLOOKUP($B5,RawData,Q$4,FALSE),VLOOKUP(\"OSNATGAS\",RawData,Q$4,FALSE),VLOOKUP(\"OSOIL\",RawData,Q$4,FALSE),VLOOKUP(\"OSRENEW\",RawData,Q$4,FALSE),VLOOKUP(\"OSNONSPEC\",RawData,Q$4,FALSE),-VLOOKUP($B27,RawData,Q$4,FALSE))*VLOOKUP(Q$3,ConversionFactors,2,FALSE))*1","v":0},{"$f":"SUM(VLOOKUP($B5,RawData,R$4,FALSE),VLOOKUP(\"OSNATGAS\",RawData,R$4,FALSE),VLOOKUP(\"OSOIL\",RawData,R$4,FALSE),VLOOKUP(\"OSRENEW\",RawData,R$4,FALSE),VLOOKUP(\"OSNONSPEC\",RawData,R$4,FALSE),-VLOOKUP($B27,RawData,R$4,FALSE))*VLOOKUP(R$3,ConversionFactors,2,FALSE)*1","v":0},0,0,0,0,0,0,0,0,0,0,0,0,0,0,0,0,0,0,0,0,0,0,0,0,0,0,0,0,0,0,0,0,0,0,0,0,0,0,0,0,0,0,0,0,0,0,0,0,0,0,null,null,null,null,null,null,null,null,null,null,"TBLASTFUR","-VLOOKUP($B27,RawData,E$4,FALSE)*VLOOKUP(E$3,ConversionFactors,$D27,FALSE)/1000","-VLOOKUP($B27,RawData,F$4,FALSE)*VLOOKUP(F$3,ConversionFactors,$D27,FALSE)/1000","-VLOOKUP($B27,RawData,G$4,FALSE)*VLOOKUP(G$3,ConversionFactors,$D27,FALSE)/1000","-VLOOKUP($B27,RawData,H$4,FALSE)*VLOOKUP(H$3,ConversionFactors,$D27,FALSE)/1000","-VLOOKUP($B27,RawData,I$4,FALSE)*VLOOKUP(I$3,ConversionFactors,$D27,FALSE)/1000","-VLOOKUP($B27,RawData,J$4,FALSE)*VLOOKUP(J$3,ConversionFactors,$D27,FALSE)/1000","-VLOOKUP($B27,RawData,K$4,FALSE)*VLOOKUP(K$3,ConversionFactors,$D27,FALSE)/1000","-VLOOKUP($B27,RawData,L$4,FALSE)*VLOOKUP(L$3,ConversionFactors,$D27,FALSE)/1000","-VLOOKUP($B27,RawData,M$4,FALSE)*VLOOKUP(M$3,ConversionFactors,$D27,FALSE)/1000","-VLOOKUP($B27,RawData,N$4,FALSE)*VLOOKUP(N$3,ConversionFactors,$D27,FALSE)/1000","(-VLOOKUP($B27,RawData,O$4,FALSE)*VLOOKUP(O$3,ConversionFactors,2,FALSE))*1","(-VLOOKUP($B27,RawData,P$4,FALSE)*VLOOKUP(P$3,ConversionFactors,2,FALSE))*1","(SUM(VLOOKUP($B5,RawData,Q$4,FALSE),VLOOKUP(\"OSNATGAS\",RawData,Q$4,FALSE),VLOOKUP(\"OSOIL\",RawData,Q$4,FALSE),VLOOKUP(\"OSRENEW\",RawData,Q$4,FALSE),VLOOKUP(\"OSNONSPEC\",RawData,Q$4,FALSE),-VLOOKUP($B27,RawData,Q$4,FALSE))*VLOOKUP(Q$3,ConversionFactors,2,FALSE))*1","(SUM(VLOOKUP($B5,RawData,R$4,FALSE),VLOOKUP(\"OSNATGAS\",RawData,R$4,FALSE),VLOOKUP(\"OSOIL\",RawData,R$4,FALSE),VLOOKUP(\"OSRENEW\",RawData,R$4,FALSE),VLOOKUP(\"OSNONSPEC\",RawData,R$4,FALSE),-VLOOKUP($B27,RawData,R$4,FALSE))*VLOOKUP(R$3,ConversionFactors,2,FALSE))*1",0,"-VLOOKUP($B27,RawData,T$4,FALSE)*VLOOKUP(T$3,ConversionFactors,$D27,FALSE)/1000","-VLOOKUP($B27,RawData,U$4,FALSE)*VLOOKUP(U$3,ConversionFactors,$D27,FALSE)/1000","-VLOOKUP($B27,RawData,V$4,FALSE)*VLOOKUP(V$3,ConversionFactors,$D27,FALSE)/1000","-VLOOKUP($B27,RawData,W$4,FALSE)*VLOOKUP(W$3,ConversionFactors,2,FALSE)/1000","-VLOOKUP($B27,RawData,X$4,FALSE)*VLOOKUP(X$3,ConversionFactors,2,FALSE)/1000","-VLOOKUP($B27,RawData,Y$4,FALSE)*VLOOKUP(Y$3,ConversionFactors,2,FALSE)/1000","-VLOOKUP($B27,RawData,Z$4,FALSE)*VLOOKUP(Z$3,ConversionFactors,2,FALSE)/1000","-VLOOKUP($B27,RawData,AA$4,FALSE)*VLOOKUP(AA$3,ConversionFactors,2,FALSE)/1000","-VLOOKUP($B27,RawData,AB$4,FALSE)*VLOOKUP(AB$3,ConversionFactors,2,FALSE)/1000","-VLOOKUP($B27,RawData,AC$4,FALSE)*VLOOKUP(AC$3,ConversionFactors,2,FALSE)/1000","-VLOOKUP($B27,RawData,AD$4,FALSE)*VLOOKUP(AD$3,ConversionFactors,2,FALSE)/1000","-VLOOKUP($B27,RawData,AE$4,FALSE)*VLOOKUP(AE$3,ConversionFactors,2,FALSE)/1000","-VLOOKUP($B27,RawData,AF$4,FALSE)*VLOOKUP(AF$3,ConversionFactors,2,FALSE)/1000","-VLOOKUP($B27,RawData,AG$4,FALSE)*VLOOKUP(AG$3,ConversionFactors,2,FALSE)/1000","-VLOOKUP($B27,RawData,AH$4,FALSE)*VLOOKUP(AH$3,ConversionFactors,2,FALSE)/1000","-VLOOKUP($B27,RawData,AI$4,FALSE)*VLOOKUP(AI$3,ConversionFactors,2,FALSE)/1000","-VLOOKUP($B27,RawData,AJ$4,FALSE)*VLOOKUP(AJ$3,ConversionFactors,2,FALSE)/1000","-VLOOKUP($B27,RawData,AK$4,FALSE)*VLOOKUP(AK$3,ConversionFactors,2,FALSE)/1000","-VLOOKUP($B27,RawData,AL$4,FALSE)*VLOOKUP(AL$3,ConversionFactors,2,FALSE)/1000","-VLOOKUP($B27,RawData,AM$4,FALSE)*VLOOKUP(AM$3,ConversionFactors,2,FALSE)/1000","-VLOOKUP($B27,RawData,AN$4,FALSE)*VLOOKUP(AN$3,ConversionFactors,2,FALSE)/1000","-VLOOKUP($B27,RawData,AO$4,FALSE)*VLOOKUP(AO$3,ConversionFactors,2,FALSE)/1000","-VLOOKUP($B27,RawData,AP$4,FALSE)*VLOOKUP(AP$3,ConversionFactors,2,FALSE)/1000","-VLOOKUP($B27,RawData,AQ$4,FALSE)*VLOOKUP(AQ$3,ConversionFactors,2,FALSE)/1000","-VLOOKUP($B27,RawData,AR$4,FALSE)*VLOOKUP(AR$3,ConversionFactors,2,FALSE)/1000","-VLOOKUP($B27,RawData,AS$4,FALSE)*VLOOKUP(AS$3,ConversionFactors,2,FALSE)*1","-VLOOKUP($B27,RawData,AT$4,FALSE)*1","-VLOOKUP($B27,RawData,AU$4,FALSE)*1","-VLOOKUP($B27,RawData,AV$4,FALSE)*1","-VLOOKUP($B27,RawData,AW$4,FALSE)*1","-VLOOKUP($B27,RawData,AX$4,FALSE)*1","-VLOOKUP($B27,RawData,AY$4,FALSE)*VLOOKUP(AY$3,ConversionFactors,2,FALSE)/1000","-VLOOKUP($B27,RawData,AZ$4,FALSE)*VLOOKUP(AZ$3,ConversionFactors,2,FALSE)/1000","-VLOOKUP($B27,RawData,BA$4,FALSE)*VLOOKUP(BA$3,ConversionFactors,2,FALSE)/1000","-VLOOKUP($B27,RawData,BB$4,FALSE)*VLOOKUP(BB$3,ConversionFactors,2,FALSE)/1000","-VLOOKUP($B27,RawData,BC$4,FALSE)*1","-VLOOKUP($B27,RawData,BD$4,FALSE)*VLOOKUP(BD$3,ConversionFactors,2,FALSE)/1000",0,0,"-VLOOKUP($B27,RawData,BG$4,FALSE)*1",0,"-VLOOKUP($B27,RawData,BI$4,FALSE)*1",0,0,0,"-VLOOKUP($B27,RawData,BM$4,FALSE)*3.6","-VLOOKUP($B27,RawData,BN$4,FALSE)*1",0]
[{"$f":"TPETCHEM","v":"Petrochemical plants"},"TPETCHEM","NOTHER",16,0,0,0,0,0,0,0,0,0,{"$f":"-VLOOKUP($B28,RawData,N$4,FALSE)*VLOOKUP(N$3,ConversionFactors,$D28,FALSE)/1000","v":0},0,0,{"$f":"(-VLOOKUP($B28,RawData,Q$4,FALSE)*VLOOKUP(Q$3,ConversionFactors,2,FALSE))*1","v":0},0,0,0,0,0,{"$f":"-VLOOKUP($B28,RawData,W$4,FALSE)*VLOOKUP(W$3,ConversionFactors,2,FALSE)/1000","v":0},0,{"$f":"VLOOKUP(\"OSOIL\",RawData,Y$4,FALSE)*VLOOKUP(Y$3,ConversionFactors,2,FALSE)/1000","v":0},{"$f":"-VLOOKUP($B28,RawData,Z$4,FALSE)*VLOOKUP(Z$3,ConversionFactors,2,FALSE)/1000","v":0},0,0,0,0,0,0,0,0,0,{"$f":"-VLOOKUP($B28,RawData,AJ$4,FALSE)*VLOOKUP(AJ$3,ConversionFactors,2,FALSE)/1000","v":0},0,0,0,0,0,0,0,0,0,0,0,0,0,0,0,0,0,0,0,0,0,0,0,0,0,0,0,0,0,0,0,0,null,null,null,null,null,null,null,null,null,null,"TPETCHEM","-VLOOKUP($B28,RawData,E$4,FALSE)*VLOOKUP(E$3,ConversionFactors,$D28,FALSE)/1000","-VLOOKUP($B28,RawData,F$4,FALSE)*VLOOKUP(F$3,ConversionFactors,$D28,FALSE)/1000","-VLOOKUP($B28,RawData,G$4,FALSE)*VLOOKUP(G$3,ConversionFactors,$D28,FALSE)/1000","-VLOOKUP($B28,RawData,H$4,FALSE)*VLOOKUP(H$3,ConversionFactors,$D28,FALSE)/1000","-VLOOKUP($B28,RawData,I$4,FALSE)*VLOOKUP(I$3,ConversionFactors,$D28,FALSE)/1000","-VLOOKUP($B28,RawData,J$4,FALSE)*VLOOKUP(J$3,ConversionFactors,$D28,FALSE)/1000","-VLOOKUP($B28,RawData,K$4,FALSE)*VLOOKUP(K$3,ConversionFactors,$D28,FALSE)/1000","-VLOOKUP($B28,RawData,L$4,FALSE)*VLOOKUP(L$3,ConversionFactors,$D28,FALSE)/1000","-VLOOKUP($B28,RawData,M$4,FALSE)*VLOOKUP(M$3,ConversionFactors,$D28,FALSE)/1000","-VLOOKUP($B28,RawData,N$4,FALSE)*VLOOKUP(N$3,ConversionFactors,$D28,FALSE)/1000","(-VLOOKUP($B28,RawData,O$4,FALSE)*VLOOKUP(O$3,ConversionFactors,2,FALSE))*1","(-VLOOKUP($B28,RawData,P$4,FALSE)*VLOOKUP(P$3,ConversionFactors,2,FALSE))*1","(-VLOOKUP($B28,RawData,Q$4,FALSE)*VLOOKUP(Q$3,ConversionFactors,2,FALSE))*1","(-VLOOKUP($B28,RawData,R$4,FALSE)*VLOOKUP(R$3,ConversionFactors,2,FALSE))*1",0,"-VLOOKUP($B28,RawData,T$4,FALSE)*VLOOKUP(T$3,ConversionFactors,$D28,FALSE)/1000","-VLOOKUP($B28,RawData,U$4,FALSE)*VLOOKUP(U$3,ConversionFactors,$D28,FALSE)/1000","-VLOOKUP($B28,RawData,V$4,FALSE)*VLOOKUP(V$3,ConversionFactors,$D28,FALSE)/1000","-VLOOKUP($B28,RawData,W$4,FALSE)*VLOOKUP(W$3,ConversionFactors,2,FALSE)/1000","-VLOOKUP($B28,RawData,X$4,FALSE)*VLOOKUP(X$3,ConversionFactors,2,FALSE)/1000","VLOOKUP(\"OSOIL\",RawData,Y$4,FALSE)*VLOOKUP(Y$3,ConversionFactors,2,FALSE)/1000","-VLOOKUP($B28,RawData,Z$4,FALSE)*VLOOKUP(Z$3,ConversionFactors,2,FALSE)/1000","-VLOOKUP($B28,RawData,AA$4,FALSE)*VLOOKUP(AA$3,ConversionFactors,2,FALSE)/1000","-VLOOKUP($B28,RawData,AB$4,FALSE)*VLOOKUP(AB$3,ConversionFactors,2,FALSE)/1000","-VLOOKUP($B28,RawData,AC$4,FALSE)*VLOOKUP(AC$3,ConversionFactors,2,FALSE)/1000","-VLOOKUP($B28,RawData,AD$4,FALSE)*VLOOKUP(AD$3,ConversionFactors,2,FALSE)/1000","-VLOOKUP($B28,RawData,AE$4,FALSE)*VLOOKUP(AE$3,ConversionFactors,2,FALSE)/1000","-VLOOKUP($B28,RawData,AF$4,FALSE)*VLOOKUP(AF$3,ConversionFactors,2,FALSE)/1000","-VLOOKUP($B28,RawData,AG$4,FALSE)*VLOOKUP(AG$3,ConversionFactors,2,FALSE)/1000","-VLOOKUP($B28,RawData,AH$4,FALSE)*VLOOKUP(AH$3,ConversionFactors,2,FALSE)/1000","-VLOOKUP($B28,RawData,AI$4,FALSE)*VLOOKUP(AI$3,ConversionFactors,2,FALSE)/1000","-VLOOKUP($B28,RawData,AJ$4,FALSE)*VLOOKUP(AJ$3,ConversionFactors,2,FALSE)/1000","-VLOOKUP($B28,RawData,AK$4,FALSE)*VLOOKUP(AK$3,ConversionFactors,2,FALSE)/1000","-VLOOKUP($B28,RawData,AL$4,FALSE)*VLOOKUP(AL$3,ConversionFactors,2,FALSE)/1000","-VLOOKUP($B28,RawData,AM$4,FALSE)*VLOOKUP(AM$3,ConversionFactors,2,FALSE)/1000","-VLOOKUP($B28,RawData,AN$4,FALSE)*VLOOKUP(AN$3,ConversionFactors,2,FALSE)/1000","-VLOOKUP($B28,RawData,AO$4,FALSE)*VLOOKUP(AO$3,ConversionFactors,2,FALSE)/1000","-VLOOKUP($B28,RawData,AP$4,FALSE)*VLOOKUP(AP$3,ConversionFactors,2,FALSE)/1000","-VLOOKUP($B28,RawData,AQ$4,FALSE)*VLOOKUP(AQ$3,ConversionFactors,2,FALSE)/1000","-VLOOKUP($B28,RawData,AR$4,FALSE)*VLOOKUP(AR$3,ConversionFactors,2,FALSE)/1000","-VLOOKUP($B28,RawData,AS$4,FALSE)*VLOOKUP(AS$3,ConversionFactors,2,FALSE)*1","-VLOOKUP($B28,RawData,AT$4,FALSE)*1","-VLOOKUP($B28,RawData,AU$4,FALSE)*1","-VLOOKUP($B28,RawData,AV$4,FALSE)*1","-VLOOKUP($B28,RawData,AW$4,FALSE)*1","-VLOOKUP($B28,RawData,AX$4,FALSE)*1","-VLOOKUP($B28,RawData,AY$4,FALSE)*VLOOKUP(AY$3,ConversionFactors,2,FALSE)/1000","-VLOOKUP($B28,RawData,AZ$4,FALSE)*VLOOKUP(AZ$3,ConversionFactors,2,FALSE)/1000","-VLOOKUP($B28,RawData,BA$4,FALSE)*VLOOKUP(BA$3,ConversionFactors,2,FALSE)/1000","-VLOOKUP($B28,RawData,BB$4,FALSE)*VLOOKUP(BB$3,ConversionFactors,2,FALSE)/1000","-VLOOKUP($B28,RawData,BC$4,FALSE)*1","-VLOOKUP($B28,RawData,BD$4,FALSE)*VLOOKUP(BD$3,ConversionFactors,2,FALSE)/1000",0,0,"-VLOOKUP($B28,RawData,BG$4,FALSE)*1",0,"-VLOOKUP($B28,RawData,BI$4,FALSE)*1",0,0,0,"-VLOOKUP($B28,RawData,BM$4,FALSE)*3.6","-VLOOKUP($B28,RawData,BN$4,FALSE)*1",0]
[{"$f":"TBKB","v":"BKB / peat briquette plants"},"TBKB","NOTHER",16,0,0,0,0,0,0,0,0,0,{"$f":"(VLOOKUP($B5,RawData,N$4,FALSE)*VLOOKUP(N$3,ConversionFactors,D$5,FALSE)+SUM(VLOOKUP(\"OSNATGAS\",RawData,N$4,FALSE),VLOOKUP(\"OSOIL\",RawData,N$4,FALSE),VLOOKUP(\"OSRENEW\",RawData,N$4,FALSE),VLOOKUP(\"OSNONSPEC\",RawData,N$4,FALSE))*VLOOKUP(N$3,ConversionFactors,MATCH(\"NOTHER\",CFHeadings,0),FALSE)-VLOOKUP($B29,RawData,N$4,FALSE)*VLOOKUP(N$3,ConversionFactors,$D29,FALSE))/1000","v":0},0,0,0,0,0,{"$f":"-VLOOKUP($B29,RawData,T$4,FALSE)*VLOOKUP(T$3,ConversionFactors,$D29,FALSE)/1000","v":0},{"$f":"(VLOOKUP($B5,RawData,U$4,FALSE)*VLOOKUP(U$3,ConversionFactors,D$5,FALSE)+SUM(VLOOKUP(\"OSNATGAS\",RawData,U$4,FALSE),VLOOKUP(\"OSOIL\",RawData,U$4,FALSE),VLOOKUP(\"OSRENEW\",RawData,U$4,FALSE),VLOOKUP(\"OSNONSPEC\",RawData,U$4,FALSE))*VLOOKUP(U$3,ConversionFactors,MATCH(\"NOTHER\",CFHeadings,0),FALSE)-VLOOKUP($B29,RawData,U$4,FALSE)*VLOOKUP(U$3,ConversionFactors,$D29,FALSE))/1000","v":0},{"$f":"-VLOOKUP($B29,RawData,V$4,FALSE)*VLOOKUP(V$3,ConversionFactors,$D29,FALSE)/1000","v":0},0,0,{"$f":"-VLOOKUP($B29,RawData,Y$4,FALSE)*VLOOKUP(Y$3,ConversionFactors,2,FALSE)/1000","v":0},0,0,0,0,0,0,0,0,0,0,0,0,0,0,0,0,0,0,0,0,0,0,0,0,0,0,0,0,0,0,0,0,0,0,0,0,0,0,0,0,0,0,0,null,null,null,null,null,null,null,null,null,null,"TBKB","-VLOOKUP($B29,RawData,E$4,FALSE)*VLOOKUP(E$3,ConversionFactors,$D29,FALSE)/1000","-VLOOKUP($B29,RawData,F$4,FALSE)*VLOOKUP(F$3,ConversionFactors,$D29,FALSE)/1000","-VLOOKUP($B29,RawData,G$4,FALSE)*VLOOKUP(G$3,ConversionFactors,$D29,FALSE)/1000","-VLOOKUP($B29,RawData,H$4,FALSE)*VLOOKUP(H$3,ConversionFactors,$D29,FALSE)/1000","-VLOOKUP($B29,RawData,I$4,FALSE)*VLOOKUP(I$3,ConversionFactors,$D29,FALSE)/1000","-VLOOKUP($B29,RawData,J$4,FALSE)*VLOOKUP(J$3,ConversionFactors,$D29,FALSE)/1000","-VLOOKUP($B29,RawData,K$4,FALSE)*VLOOKUP(K$3,ConversionFactors,$D29,FALSE)/1000","-VLOOKUP($B29,RawData,L$4,FALSE)*VLOOKUP(L$3,ConversionFactors,$D29,FALSE)/1000","-VLOOKUP($B29,RawData,M$4,FALSE)*VLOOKUP(M$3,ConversionFactors,$D29,FALSE)/1000","(VLOOKUP($B5,RawData,N$4,FALSE)*VLOOKUP(N$3,ConversionFactors,D$5,FALSE)+SUM(VLOOKUP(\"OSNATGAS\",RawData,N$4,FALSE),VLOOKUP(\"OSOIL\",RawData,N$4,FALSE),VLOOKUP(\"OSRENEW\",RawData,N$4,FALSE),VLOOKUP(\"OSNONSPEC\",RawData,N$4,FALSE))*VLOOKUP(N$3,ConversionFactors,MATCH(\"NOTHER\",CFHeadings,0),FALSE)-VLOOKUP($B29,RawData,N$4,FALSE)*VLOOKUP(N$3,ConversionFactors,$D29,FALSE))/1000","(-VLOOKUP($B29,RawData,O$4,FALSE)*VLOOKUP(O$3,ConversionFactors,2,FALSE))*1","(-VLOOKUP($B29,RawData,P$4,FALSE)*VLOOKUP(P$3,ConversionFactors,2,FALSE))*1","(-VLOOKUP($B29,RawData,Q$4,FALSE)*VLOOKUP(Q$3,ConversionFactors,2,FALSE))*1","(-VLOOKUP($B29,RawData,R$4,FALSE)*VLOOKUP(R$3,ConversionFactors,2,FALSE))*1",0,"-VLOOKUP($B29,RawData,T$4,FALSE)*VLOOKUP(T$3,ConversionFactors,$D29,FALSE)/1000","(VLOOKUP($B5,RawData,U$4,FALSE)*VLOOKUP(U$3,ConversionFactors,D$5,FALSE)+SUM(VLOOKUP(\"OSNATGAS\",RawData,U$4,FALSE),VLOOKUP(\"OSOIL\",RawData,U$4,FALSE),VLOOKUP(\"OSRENEW\",RawData,U$4,FALSE),VLOOKUP(\"OSNONSPEC\",RawData,U$4,FALSE))*VLOOKUP(U$3,ConversionFactors,MATCH(\"NOTHER\",CFHeadings,0),FALSE)-VLOOKUP($B29,RawData,U$4,FALSE)*VLOOKUP(U$3,ConversionFactors,$D29,FALSE))/1000","-VLOOKUP($B29,RawData,V$4,FALSE)*VLOOKUP(V$3,ConversionFactors,$D29,FALSE)/1000","-VLOOKUP($B29,RawData,W$4,FALSE)*VLOOKUP(W$3,ConversionFactors,2,FALSE)/1000","-VLOOKUP($B29,RawData,X$4,FALSE)*VLOOKUP(X$3,ConversionFactors,2,FALSE)/1000","-VLOOKUP($B29,RawData,Y$4,FALSE)*VLOOKUP(Y$3,ConversionFactors,2,FALSE)/1000","-VLOOKUP($B29,RawData,Z$4,FALSE)*VLOOKUP(Z$3,ConversionFactors,2,FALSE)/1000","-VLOOKUP($B29,RawData,AA$4,FALSE)*VLOOKUP(AA$3,ConversionFactors,2,FALSE)/1000","-VLOOKUP($B29,RawData,AB$4,FALSE)*VLOOKUP(AB$3,ConversionFactors,2,FALSE)/1000","-VLOOKUP($B29,RawData,AC$4,FALSE)*VLOOKUP(AC$3,ConversionFactors,2,FALSE)/1000","-VLOOKUP($B29,RawData,AD$4,FALSE)*VLOOKUP(AD$3,ConversionFactors,2,FALSE)/1000","-VLOOKUP($B29,RawData,AE$4,FALSE)*VLOOKUP(AE$3,ConversionFactors,2,FALSE)/1000","-VLOOKUP($B29,RawData,AF$4,FALSE)*VLOOKUP(AF$3,ConversionFactors,2,FALSE)/1000","-VLOOKUP($B29,RawData,AG$4,FALSE)*VLOOKUP(AG$3,ConversionFactors,2,FALSE)/1000","-VLOOKUP($B29,RawData,AH$4,FALSE)*VLOOKUP(AH$3,ConversionFactors,2,FALSE)/1000","-VLOOKUP($B29,RawData,AI$4,FALSE)*VLOOKUP(AI$3,ConversionFactors,2,FALSE)/1000","-VLOOKUP($B29,RawData,AJ$4,FALSE)*VLOOKUP(AJ$3,ConversionFactors,2,FALSE)/1000","-VLOOKUP($B29,RawData,AK$4,FALSE)*VLOOKUP(AK$3,ConversionFactors,2,FALSE)/1000","-VLOOKUP($B29,RawData,AL$4,FALSE)*VLOOKUP(AL$3,ConversionFactors,2,FALSE)/1000","-VLOOKUP($B29,RawData,AM$4,FALSE)*VLOOKUP(AM$3,ConversionFactors,2,FALSE)/1000","-VLOOKUP($B29,RawData,AN$4,FALSE)*VLOOKUP(AN$3,ConversionFactors,2,FALSE)/1000","-VLOOKUP($B29,RawData,AO$4,FALSE)*VLOOKUP(AO$3,ConversionFactors,2,FALSE)/1000","-VLOOKUP($B29,RawData,AP$4,FALSE)*VLOOKUP(AP$3,ConversionFactors,2,FALSE)/1000","-VLOOKUP($B29,RawData,AQ$4,FALSE)*VLOOKUP(AQ$3,ConversionFactors,2,FALSE)/1000","-VLOOKUP($B29,RawData,AR$4,FALSE)*VLOOKUP(AR$3,ConversionFactors,2,FALSE)/1000","-VLOOKUP($B29,RawData,AS$4,FALSE)*VLOOKUP(AS$3,ConversionFactors,2,FALSE)*1","-VLOOKUP($B29,RawData,AT$4,FALSE)*1","-VLOOKUP($B29,RawData,AU$4,FALSE)*1","-VLOOKUP($B29,RawData,AV$4,FALSE)*1","-VLOOKUP($B29,RawData,AW$4,FALSE)*1","-VLOOKUP($B29,RawData,AX$4,FALSE)*1","-VLOOKUP($B29,RawData,AY$4,FALSE)*VLOOKUP(AY$3,ConversionFactors,2,FALSE)/1000","-VLOOKUP($B29,RawData,AZ$4,FALSE)*VLOOKUP(AZ$3,ConversionFactors,2,FALSE)/1000","-VLOOKUP($B29,RawData,BA$4,FALSE)*VLOOKUP(BA$3,ConversionFactors,2,FALSE)/1000","-VLOOKUP($B29,RawData,BB$4,FALSE)*VLOOKUP(BB$3,ConversionFactors,2,FALSE)/1000","-VLOOKUP($B29,RawData,BC$4,FALSE)*1","-VLOOKUP($B29,RawData,BD$4,FALSE)*VLOOKUP(BD$3,ConversionFactors,2,FALSE)/1000",0,0,"-VLOOKUP($B29,RawData,BG$4,FALSE)*1",0,"-VLOOKUP($B29,RawData,BI$4,FALSE)*1",0,0,0,"-VLOOKUP($B29,RawData,BM$4,FALSE)*3.6","-VLOOKUP($B29,RawData,BN$4,FALSE)*1",0]
[{"$f":"TREFINER","v":"Oil refineries"},"TREFINER","NOTHER",16,0,0,0,0,0,0,0,0,0,{"$f":"-VLOOKUP($B30,RawData,N$4,FALSE)*VLOOKUP(N$3,ConversionFactors,$D30,FALSE)/1000","v":0},0,0,0,0,0,0,{"$f":"-VLOOKUP($B30,RawData,U$4,FALSE)*VLOOKUP(U$3,ConversionFactors,$D30,FALSE)/1000","v":0},0,-20600,0,0,{"$f":"-VLOOKUP($B30,RawData,Z$4,FALSE)*VLOOKUP(Z$3,ConversionFactors,2,FALSE)/1000","v":0},{"$f":"-VLOOKUP($B30,RawData,AA$4,FALSE)*VLOOKUP(AA$3,ConversionFactors,2,FALSE)/1000","v":0},{"$f":"(VLOOKUP($B5,RawData,AB$4,FALSE)-VLOOKUP($B30,RawData,AB$4,FALSE))*VLOOKUP(AB$3,ConversionFactors,2,FALSE)/1000","v":0},0,0,0,0,0,0,0,21500,0,0,0,0,0,0,0,0,0,0,0,0,0,0,0,0,0,0,0,0,0,0,0,0,0,0,0,0,0,0,0,900,null,null,null,null,null,null,null,null,null,null,"TREFINER","-VLOOKUP($B30,RawData,E$4,FALSE)*VLOOKUP(E$3,ConversionFactors,$D30,FALSE)/1000","-VLOOKUP($B30,RawData,F$4,FALSE)*VLOOKUP(F$3,ConversionFactors,$D30,FALSE)/1000","-VLOOKUP($B30,RawData,G$4,FALSE)*VLOOKUP(G$3,ConversionFactors,$D30,FALSE)/1000","-VLOOKUP($B30,RawData,H$4,FALSE)*VLOOKUP(H$3,ConversionFactors,$D30,FALSE)/1000","-VLOOKUP($B30,RawData,I$4,FALSE)*VLOOKUP(I$3,ConversionFactors,$D30,FALSE)/1000","-VLOOKUP($B30,RawData,J$4,FALSE)*VLOOKUP(J$3,ConversionFactors,$D30,FALSE)/1000","-VLOOKUP($B30,RawData,K$4,FALSE)*VLOOKUP(K$3,ConversionFactors,$D30,FALSE)/1000","-VLOOKUP($B30,RawData,L$4,FALSE)*VLOOKUP(L$3,ConversionFactors,$D30,FALSE)/1000","-VLOOKUP($B30,RawData,M$4,FALSE)*VLOOKUP(M$3,ConversionFactors,$D30,FALSE)/1000","-VLOOKUP($B30,RawData,N$4,FALSE)*VLOOKUP(N$3,ConversionFactors,$D30,FALSE)/1000","(-VLOOKUP($B30,RawData,O$4,FALSE)*VLOOKUP(O$3,ConversionFactors,2,FALSE))*1","(-VLOOKUP($B30,RawData,P$4,FALSE)*VLOOKUP(P$3,ConversionFactors,2,FALSE))*1","(-VLOOKUP($B30,RawData,Q$4,FALSE)*VLOOKUP(Q$3,ConversionFactors,2,FALSE))*1","(-VLOOKUP($B30,RawData,R$4,FALSE)*VLOOKUP(R$3,ConversionFactors,2,FALSE))*1",0,"-VLOOKUP($B30,RawData,T$4,FALSE)*VLOOKUP(T$3,ConversionFactors,$D30,FALSE)/1000","-VLOOKUP($B30,RawData,U$4,FALSE)*VLOOKUP(U$3,ConversionFactors,$D30,FALSE)/1000","-VLOOKUP($B30,RawData,V$4,FALSE)*VLOOKUP(V$3,ConversionFactors,$D30,FALSE)/1000","-VLOOKUP($B30,RawData,W$4,FALSE)*VLOOKUP(W$3,ConversionFactors,2,FALSE)/1000","-VLOOKUP($B30,RawData,X$4,FALSE)*VLOOKUP(X$3,ConversionFactors,2,FALSE)/1000","-VLOOKUP($B30,RawData,Y$4,FALSE)*VLOOKUP(Y$3,ConversionFactors,2,FALSE)/1000","-VLOOKUP($B30,RawData,Z$4,FALSE)*VLOOKUP(Z$3,ConversionFactors,2,FALSE)/1000","-VLOOKUP($B30,RawData,AA$4,FALSE)*VLOOKUP(AA$3,ConversionFactors,2,FALSE)/1000","(VLOOKUP($B5,RawData,AB$4,FALSE)-VLOOKUP($B30,RawData,AB$4,FALSE))*VLOOKUP(AB$3,ConversionFactors,2,FALSE)/1000","(VLOOKUP($B5,RawData,AC$4,FALSE)-VLOOKUP($B30,RawData,AC$4,FALSE))*VLOOKUP(AC$3,ConversionFactors,2,FALSE)/1000","(VLOOKUP($B5,RawData,AD$4,FALSE)-VLOOKUP($B30,RawData,AD$4,FALSE))*VLOOKUP(AD$3,ConversionFactors,2,FALSE)/1000","(VLOOKUP($B5,RawData,AE$4,FALSE)-VLOOKUP($B30,RawData,AE$4,FALSE))*VLOOKUP(AE$3,ConversionFactors,2,FALSE)/1000","(VLOOKUP($B5,RawData,AF$4,FALSE)-VLOOKUP($B30,RawData,AF$4,FALSE))*VLOOKUP(AF$3,ConversionFactors,2,FALSE)/1000","(VLOOKUP($B5,RawData,AG$4,FALSE)-VLOOKUP($B30,RawData,AG$4,FALSE))*VLOOKUP(AG$3,ConversionFactors,2,FALSE)/1000","(VLOOKUP($B5,RawData,AH$4,FALSE)-VLOOKUP($B30,RawData,AH$4,FALSE))*VLOOKUP(AH$3,ConversionFactors,2,FALSE)/1000","(VLOOKUP($B5,RawData,AI$4,FALSE)-VLOOKUP($B30,RawData,AI$4,FALSE))*VLOOKUP(AI$3,ConversionFactors,2,FALSE)/1000","(VLOOKUP($B5,RawData,AJ$4,FALSE)-VLOOKUP($B30,RawData,AJ$4,FALSE))*VLOOKUP(AJ$3,ConversionFactors,2,FALSE)/1000","(VLOOKUP($B5,RawData,AK$4,FALSE)-VLOOKUP($B30,RawData,AK$4,FALSE))*VLOOKUP(AK$3,ConversionFactors,2,FALSE)/1000","(VLOOKUP($B5,RawData,AL$4,FALSE)-VLOOKUP($B30,RawData,AL$4,FALSE))*VLOOKUP(AL$3,ConversionFactors,2,FALSE)/1000","(VLOOKUP($B5,RawData,AM$4,FALSE)-VLOOKUP($B30,RawData,AM$4,FALSE))*VLOOKUP(AM$3,ConversionFactors,2,FALSE)/1000","(VLOOKUP($B5,RawData,AN$4,FALSE)-VLOOKUP($B30,RawData,AN$4,FALSE))*VLOOKUP(AN$3,ConversionFactors,2,FALSE)/1000","(VLOOKUP($B5,RawData,AO$4,FALSE)-VLOOKUP($B30,RawData,AO$4,FALSE))*VLOOKUP(AO$3,ConversionFactors,2,FALSE)/1000","(VLOOKUP($B5,RawData,AP$4,FALSE)-VLOOKUP($B30,RawData,AP$4,FALSE))*VLOOKUP(AP$3,ConversionFactors,2,FALSE)/1000","(VLOOKUP($B5,RawData,AQ$4,FALSE)-VLOOKUP($B30,RawData,AQ$4,FALSE))*VLOOKUP(AQ$3,ConversionFactors,2,FALSE)/1000","(VLOOKUP($B5,RawData,AR$4,FALSE)-VLOOKUP($B30,RawData,AR$4,FALSE))*VLOOKUP(AR$3,ConversionFactors,2,FALSE)/1000","-VLOOKUP($B30,RawData,AS$4,FALSE)*VLOOKUP(AS$3,ConversionFactors,2,FALSE)*1","-VLOOKUP($B30,RawData,AT$4,FALSE)*1","-VLOOKUP($B30,RawData,AU$4,FALSE)*1","-VLOOKUP($B30,RawData,AV$4,FALSE)*1","-VLOOKUP($B30,RawData,AW$4,FALSE)*1","-VLOOKUP($B30,RawData,AX$4,FALSE)*1","-VLOOKUP($B30,RawData,AY$4,FALSE)*VLOOKUP(AY$3,ConversionFactors,2,FALSE)/1000","-VLOOKUP($B30,RawData,AZ$4,FALSE)*VLOOKUP(AZ$3,ConversionFactors,2,FALSE)/1000","-VLOOKUP($B30,RawData,BA$4,FALSE)*VLOOKUP(BA$3,ConversionFactors,2,FALSE)/1000","-VLOOKUP($B30,RawData,BB$4,FALSE)*VLOOKUP(BB$3,ConversionFactors,2,FALSE)/1000","-VLOOKUP($B30,RawData,BC$4,FALSE)*1","-VLOOKUP($B30,RawData,BD$4,FALSE)*VLOOKUP(BD$3,ConversionFactors,2,FALSE)/1000",0,0,"-VLOOKUP($B30,RawData,BG$4,FALSE)*1",0,"-VLOOKUP($B30,RawData,BI$4,FALSE)*1",0,0,0,"-VLOOKUP($B30,RawData,BM$4,FALSE)*3.6","-VLOOKUP($B30,RawData,BN$4,FALSE)*1",0]
[{"$f":"TCOALLIQ","v":"Coal liquefaction plants"},"TCOALLIQ","NOTHER",16,0,0,0,0,0,0,0,0,0,0,0,0,0,0,0,0,0,0,0,0,0,{"$f":"-VLOOKUP($B31,RawData,Z$4,FALSE)*VLOOKUP(Z$3,ConversionFactors,2,FALSE)/1000","v":0},{"$f":"(VLOOKUP(\"OSCOAL\",RawData,AA$4,FALSE)-VLOOKUP($B31,RawData,AA$4,FALSE))*VLOOKUP(AA$3,ConversionFactors,2,FALSE)/1000","v":0},{"$f":"-VLOOKUP($B31,RawData,AB$4,FALSE)*VLOOKUP(AB$3,ConversionFactors,2,FALSE)/1000","v":0},0,0,0,0,0,0,0,0,0,{"$f":"-VLOOKUP($B31,RawData,AL$4,FALSE)*VLOOKUP(AL$3,ConversionFactors,2,FALSE)/1000","v":0},0,0,0,0,0,0,0,0,0,0,0,0,0,0,0,0,0,0,0,0,0,0,0,0,0,0,0,0,0,0,null,null,null,null,null,null,null,null,null,null,"TCOALLIQ","-VLOOKUP($B31,RawData,E$4,FALSE)*VLOOKUP(E$3,ConversionFactors,$D31,FALSE)/1000","-VLOOKUP($B31,RawData,F$4,FALSE)*VLOOKUP(F$3,ConversionFactors,$D31,FALSE)/1000","-VLOOKUP($B31,RawData,G$4,FALSE)*VLOOKUP(G$3,ConversionFactors,$D31,FALSE)/1000","-VLOOKUP($B31,RawData,H$4,FALSE)*VLOOKUP(H$3,ConversionFactors,$D31,FALSE)/1000","-VLOOKUP($B31,RawData,I$4,FALSE)*VLOOKUP(I$3,ConversionFactors,$D31,FALSE)/1000","-VLOOKUP($B31,RawData,J$4,FALSE)*VLOOKUP(J$3,ConversionFactors,$D31,FALSE)/1000","-VLOOKUP($B31,RawData,K$4,FALSE)*VLOOKUP(K$3,ConversionFactors,$D31,FALSE)/1000","-VLOOKUP($B31,RawData,L$4,FALSE)*VLOOKUP(L$3,ConversionFactors,$D31,FALSE)/1000","-VLOOKUP($B31,RawData,M$4,FALSE)*VLOOKUP(M$3,ConversionFactors,$D31,FALSE)/1000","-VLOOKUP($B31,RawData,N$4,FALSE)*VLOOKUP(N$3,ConversionFactors,$D31,FALSE)/1000","(-VLOOKUP($B31,RawData,O$4,FALSE)*VLOOKUP(O$3,ConversionFactors,2,FALSE))*1","(-VLOOKUP($B31,RawData,P$4,FALSE)*VLOOKUP(P$3,ConversionFactors,2,FALSE))*1","(-VLOOKUP($B31,RawData,Q$4,FALSE)*VLOOKUP(Q$3,ConversionFactors,2,FALSE))*1","(-VLOOKUP($B31,RawData,R$4,FALSE)*VLOOKUP(R$3,ConversionFactors,2,FALSE))*1",0,"-VLOOKUP($B31,RawData,T$4,FALSE)*VLOOKUP(T$3,ConversionFactors,$D31,FALSE)/1000","-VLOOKUP($B31,RawData,U$4,FALSE)*VLOOKUP(U$3,ConversionFactors,$D31,FALSE)/1000","-VLOOKUP($B31,RawData,V$4,FALSE)*VLOOKUP(V$3,ConversionFactors,$D31,FALSE)/1000","-VLOOKUP($B31,RawData,W$4,FALSE)*VLOOKUP(W$3,ConversionFactors,2,FALSE)/1000","-VLOOKUP($B31,RawData,X$4,FALSE)*VLOOKUP(X$3,ConversionFactors,2,FALSE)/1000","-VLOOKUP($B31,RawData,Y$4,FALSE)*VLOOKUP(Y$3,ConversionFactors,2,FALSE)/1000","-VLOOKUP($B31,RawData,Z$4,FALSE)*VLOOKUP(Z$3,ConversionFactors,2,FALSE)/1000","(VLOOKUP(\"OSCOAL\",RawData,AA$4,FALSE)-VLOOKUP($B31,RawData,AA$4,FALSE))*VLOOKUP(AA$3,ConversionFactors,2,FALSE)/1000","-VLOOKUP($B31,RawData,AB$4,FALSE)*VLOOKUP(AB$3,ConversionFactors,2,FALSE)/1000","-VLOOKUP($B31,RawData,AC$4,FALSE)*VLOOKUP(AC$3,ConversionFactors,2,FALSE)/1000","-VLOOKUP($B31,RawData,AD$4,FALSE)*VLOOKUP(AD$3,ConversionFactors,2,FALSE)/1000","-VLOOKUP($B31,RawData,AE$4,FALSE)*VLOOKUP(AE$3,ConversionFactors,2,FALSE)/1000","-VLOOKUP($B31,RawData,AF$4,FALSE)*VLOOKUP(AF$3,ConversionFactors,2,FALSE)/1000","-VLOOKUP($B31,RawData,AG$4,FALSE)*VLOOKUP(AG$3,ConversionFactors,2,FALSE)/1000","-VLOOKUP($B31,RawData,AH$4,FALSE)*VLOOKUP(AH$3,ConversionFactors,2,FALSE)/1000","-VLOOKUP($B31,RawData,AI$4,FALSE)*VLOOKUP(AI$3,ConversionFactors,2,FALSE)/1000","-VLOOKUP($B31,RawData,AJ$4,FALSE)*VLOOKUP(AJ$3,ConversionFactors,2,FALSE)/1000","-VLOOKUP($B31,RawData,AK$4,FALSE)*VLOOKUP(AK$3,ConversionFactors,2,FALSE)/1000","-VLOOKUP($B31,RawData,AL$4,FALSE)*VLOOKUP(AL$3,ConversionFactors,2,FALSE)/1000","-VLOOKUP($B31,RawData,AM$4,FALSE)*VLOOKUP(AM$3,ConversionFactors,2,FALSE)/1000","-VLOOKUP($B31,RawData,AN$4,FALSE)*VLOOKUP(AN$3,ConversionFactors,2,FALSE)/1000","-VLOOKUP($B31,RawData,AO$4,FALSE)*VLOOKUP(AO$3,ConversionFactors,2,FALSE)/1000","-VLOOKUP($B31,RawData,AP$4,FALSE)*VLOOKUP(AP$3,ConversionFactors,2,FALSE)/1000","-VLOOKUP($B31,RawData,AQ$4,FALSE)*VLOOKUP(AQ$3,ConversionFactors,2,FALSE)/1000","-VLOOKUP($B31,RawData,AR$4,FALSE)*VLOOKUP(AR$3,ConversionFactors,2,FALSE)/1000","-VLOOKUP($B31,RawData,AS$4,FALSE)*VLOOKUP(AS$3,ConversionFactors,2,FALSE)*1","-VLOOKUP($B31,RawData,AT$4,FALSE)*1","-VLOOKUP($B31,RawData,AU$4,FALSE)*1","-VLOOKUP($B31,RawData,AV$4,FALSE)*1","-VLOOKUP($B31,RawData,AW$4,FALSE)*1","-VLOOKUP($B31,RawData,AX$4,FALSE)*1","-VLOOKUP($B31,RawData,AY$4,FALSE)*VLOOKUP(AY$3,ConversionFactors,2,FALSE)/1000","-VLOOKUP($B31,RawData,AZ$4,FALSE)*VLOOKUP(AZ$3,ConversionFactors,2,FALSE)/1000","-VLOOKUP($B31,RawData,BA$4,FALSE)*VLOOKUP(BA$3,ConversionFactors,2,FALSE)/1000","-VLOOKUP($B31,RawData,BB$4,FALSE)*VLOOKUP(BB$3,ConversionFactors,2,FALSE)/1000","-VLOOKUP($B31,RawData,BC$4,FALSE)*1","-VLOOKUP($B31,RawData,BD$4,FALSE)*VLOOKUP(BD$3,ConversionFactors,2,FALSE)/1000",0,0,"-VLOOKUP($B31,RawData,BG$4,FALSE)*1",0,"-VLOOKUP($B31,RawData,BI$4,FALSE)*1",0,0,0,"-VLOOKUP($B31,RawData,BM$4,FALSE)*3.6","-VLOOKUP($B31,RawData,BN$4,FALSE)*1",0]
[{"$f":"TGTL","v":"Gas-to-liquids (GTL) plants"},"TGTL","NOTHER",16,0,0,0,0,0,0,0,0,0,0,0,0,0,0,0,0,0,0,0,0,0,{"$f":"-VLOOKUP($B32,RawData,Z$4,FALSE)*VLOOKUP(Z$3,ConversionFactors,2,FALSE)/1000","v":0},{"$f":"(VLOOKUP(\"OSNATGAS\",RawData,AA$4,FALSE)-VLOOKUP($B32,RawData,AA$4,FALSE))*VLOOKUP(AA$3,ConversionFactors,2,FALSE)/1000","v":0},0,0,0,0,0,0,0,0,0,0,0,0,0,0,0,0,0,0,0,0,0,0,0,0,0,0,0,0,0,0,0,0,0,0,0,0,0,0,0,0,0,null,null,null,null,null,null,null,null,null,null,"TGTL","-VLOOKUP($B32,RawData,E$4,FALSE)*VLOOKUP(E$3,ConversionFactors,$D32,FALSE)/1000","-VLOOKUP($B32,RawData,F$4,FALSE)*VLOOKUP(F$3,ConversionFactors,$D32,FALSE)/1000","-VLOOKUP($B32,RawData,G$4,FALSE)*VLOOKUP(G$3,ConversionFactors,$D32,FALSE)/1000","-VLOOKUP($B32,RawData,H$4,FALSE)*VLOOKUP(H$3,ConversionFactors,$D32,FALSE)/1000","-VLOOKUP($B32,RawData,I$4,FALSE)*VLOOKUP(I$3,ConversionFactors,$D32,FALSE)/1000","-VLOOKUP($B32,RawData,J$4,FALSE)*VLOOKUP(J$3,ConversionFactors,$D32,FALSE)/1000","-VLOOKUP($B32,RawData,K$4,FALSE)*VLOOKUP(K$3,ConversionFactors,$D32,FALSE)/1000","-VLOOKUP($B32,RawData,L$4,FALSE)*VLOOKUP(L$3,ConversionFactors,$D32,FALSE)/1000","-VLOOKUP($B32,RawData,M$4,FALSE)*VLOOKUP(M$3,ConversionFactors,$D32,FALSE)/1000","-VLOOKUP($B32,RawData,N$4,FALSE)*VLOOKUP(N$3,ConversionFactors,$D32,FALSE)/1000","(-VLOOKUP($B32,RawData,O$4,FALSE)*VLOOKUP(O$3,ConversionFactors,2,FALSE))*1","(-VLOOKUP($B32,RawData,P$4,FALSE)*VLOOKUP(P$3,ConversionFactors,2,FALSE))*1","(-VLOOKUP($B32,RawData,Q$4,FALSE)*VLOOKUP(Q$3,ConversionFactors,2,FALSE))*1","(-VLOOKUP($B32,RawData,R$4,FALSE)*VLOOKUP(R$3,ConversionFactors,2,FALSE))*1",0,"-VLOOKUP($B32,RawData,T$4,FALSE)*VLOOKUP(T$3,ConversionFactors,$D32,FALSE)/1000","-VLOOKUP($B32,RawData,U$4,FALSE)*VLOOKUP(U$3,ConversionFactors,$D32,FALSE)/1000","-VLOOKUP($B32,RawData,V$4,FALSE)*VLOOKUP(V$3,ConversionFactors,$D32,FALSE)/1000","-VLOOKUP($B32,RawData,W$4,FALSE)*VLOOKUP(W$3,ConversionFactors,2,FALSE)/1000","-VLOOKUP($B32,RawData,X$4,FALSE)*VLOOKUP(X$3,ConversionFactors,2,FALSE)/1000","-VLOOKUP($B32,RawData,Y$4,FALSE)*VLOOKUP(Y$3,ConversionFactors,2,FALSE)/1000","-VLOOKUP($B32,RawData,Z$4,FALSE)*VLOOKUP(Z$3,ConversionFactors,2,FALSE)/1000","(VLOOKUP(\"OSNATGAS\",RawData,AA$4,FALSE)-VLOOKUP($B32,RawData,AA$4,FALSE))*VLOOKUP(AA$3,ConversionFactors,2,FALSE)/1000","-VLOOKUP($B32,RawData,AB$4,FALSE)*VLOOKUP(AB$3,ConversionFactors,2,FALSE)/1000","-VLOOKUP($B32,RawData,AC$4,FALSE)*VLOOKUP(AC$3,ConversionFactors,2,FALSE)/1000","-VLOOKUP($B32,RawData,AD$4,FALSE)*VLOOKUP(AD$3,ConversionFactors,2,FALSE)/1000","-VLOOKUP($B32,RawData,AE$4,FALSE)*VLOOKUP(AE$3,ConversionFactors,2,FALSE)/1000","-VLOOKUP($B32,RawData,AF$4,FALSE)*VLOOKUP(AF$3,ConversionFactors,2,FALSE)/1000","-VLOOKUP($B32,RawData,AG$4,FALSE)*VLOOKUP(AG$3,ConversionFactors,2,FALSE)/1000","-VLOOKUP($B32,RawData,AH$4,FALSE)*VLOOKUP(AH$3,ConversionFactors,2,FALSE)/1000","-VLOOKUP($B32,RawData,AI$4,FALSE)*VLOOKUP(AI$3,ConversionFactors,2,FALSE)/1000","-VLOOKUP($B32,RawData,AJ$4,FALSE)*VLOOKUP(AJ$3,ConversionFactors,2,FALSE)/1000","-VLOOKUP($B32,RawData,AK$4,FALSE)*VLOOKUP(AK$3,ConversionFactors,2,FALSE)/1000","-VLOOKUP($B32,RawData,AL$4,FALSE)*VLOOKUP(AL$3,ConversionFactors,2,FALSE)/1000","-VLOOKUP($B32,RawData,AM$4,FALSE)*VLOOKUP(AM$3,ConversionFactors,2,FALSE)/1000","-VLOOKUP($B32,RawData,AN$4,FALSE)*VLOOKUP(AN$3,ConversionFactors,2,FALSE)/1000","-VLOOKUP($B32,RawData,AO$4,FALSE)*VLOOKUP(AO$3,ConversionFactors,2,FALSE)/1000","-VLOOKUP($B32,RawData,AP$4,FALSE)*VLOOKUP(AP$3,ConversionFactors,2,FALSE)/1000","-VLOOKUP($B32,RawData,AQ$4,FALSE)*VLOOKUP(AQ$3,ConversionFactors,2,FALSE)/1000","-VLOOKUP($B32,RawData,AR$4,FALSE)*VLOOKUP(AR$3,ConversionFactors,2,FALSE)/1000","-VLOOKUP($B32,RawData,AS$4,FALSE)*VLOOKUP(AS$3,ConversionFactors,2,FALSE)*1","-VLOOKUP($B32,RawData,AT$4,FALSE)*1","-VLOOKUP($B32,RawData,AU$4,FALSE)*1","-VLOOKUP($B32,RawData,AV$4,FALSE)*1","-VLOOKUP($B32,RawData,AW$4,FALSE)*1","-VLOOKUP($B32,RawData,AX$4,FALSE)*1","-VLOOKUP($B32,RawData,AY$4,FALSE)*VLOOKUP(AY$3,ConversionFactors,2,FALSE)/1000","-VLOOKUP($B32,RawData,AZ$4,FALSE)*VLOOKUP(AZ$3,ConversionFactors,2,FALSE)/1000","-VLOOKUP($B32,RawData,BA$4,FALSE)*VLOOKUP(BA$3,ConversionFactors,2,FALSE)/1000","-VLOOKUP($B32,RawData,BB$4,FALSE)*VLOOKUP(BB$3,ConversionFactors,2,FALSE)/1000","-VLOOKUP($B32,RawData,BC$4,FALSE)*1","-VLOOKUP($B32,RawData,BD$4,FALSE)*VLOOKUP(BD$3,ConversionFactors,2,FALSE)/1000",0,0,"-VLOOKUP($B32,RawData,BG$4,FALSE)*1",0,"-VLOOKUP($B32,RawData,BI$4,FALSE)*1",0,0,0,"-VLOOKUP($B32,RawData,BM$4,FALSE)*3.6","-VLOOKUP($B32,RawData,BN$4,FALSE)*1",0]
[{"$f":"TBLENDGAS","v":"For blended natural gas"},"TBLENDGAS","NOTHER",16,0,0,0,0,0,0,0,0,0,0,0,0,0,0,0,0,0,0,0,0,0,{"$f":"-VLOOKUP($B33,RawData,Z$4,FALSE)*VLOOKUP(Z$3,ConversionFactors,2,FALSE)/1000","v":0},{"$f":"-VLOOKUP($B33,RawData,AA$4,FALSE)*VLOOKUP(AA$3,ConversionFactors,2,FALSE)/1000","v":0},0,0,0,0,0,0,0,0,0,0,0,0,0,0,0,0,0,{"$f":"(SUM(VLOOKUP(\"OSCOAL\",RawData,AS$4,FALSE),VLOOKUP(\"OSNATGAS\",RawData,AS$4,FALSE),VLOOKUP(\"OSOIL\",RawData,AS$4,FALSE),VLOOKUP(\"OSRENEW\",RawData,AS$4,FALSE),VLOOKUP(\"OSNONSPEC\",RawData,AS$4,FALSE),-VLOOKUP($B33,RawData,AS$4,FALSE))*VLOOKUP(AS$3,ConversionFactors,2,FALSE))*1","v":0},0,0,0,0,0,0,0,0,0,0,0,0,0,0,0,0,0,0,0,0,0,0,0,null,null,null,null,null,null,null,null,null,null,"TBLENDGAS","-VLOOKUP($B33,RawData,E$4,FALSE)*VLOOKUP(E$3,ConversionFactors,$D33,FALSE)/1000","-VLOOKUP($B33,RawData,F$4,FALSE)*VLOOKUP(F$3,ConversionFactors,$D33,FALSE)/1000","-VLOOKUP($B33,RawData,G$4,FALSE)*VLOOKUP(G$3,ConversionFactors,$D33,FALSE)/1000","-VLOOKUP($B33,RawData,H$4,FALSE)*VLOOKUP(H$3,ConversionFactors,$D33,FALSE)/1000","-VLOOKUP($B33,RawData,I$4,FALSE)*VLOOKUP(I$3,ConversionFactors,$D33,FALSE)/1000","-VLOOKUP($B33,RawData,J$4,FALSE)*VLOOKUP(J$3,ConversionFactors,$D33,FALSE)/1000","-VLOOKUP($B33,RawData,K$4,FALSE)*VLOOKUP(K$3,ConversionFactors,$D33,FALSE)/1000","-VLOOKUP($B33,RawData,L$4,FALSE)*VLOOKUP(L$3,ConversionFactors,$D33,FALSE)/1000","-VLOOKUP($B33,RawData,M$4,FALSE)*VLOOKUP(M$3,ConversionFactors,$D33,FALSE)/1000","-VLOOKUP($B33,RawData,N$4,FALSE)*VLOOKUP(N$3,ConversionFactors,$D33,FALSE)/1000","(-VLOOKUP($B33,RawData,O$4,FALSE)*VLOOKUP(O$3,ConversionFactors,2,FALSE))*1","(-VLOOKUP($B33,RawData,P$4,FALSE)*VLOOKUP(P$3,ConversionFactors,2,FALSE))*1","(-VLOOKUP($B33,RawData,Q$4,FALSE)*VLOOKUP(Q$3,ConversionFactors,2,FALSE))*1","(-VLOOKUP($B33,RawData,R$4,FALSE)*VLOOKUP(R$3,ConversionFactors,2,FALSE))*1",0,"-VLOOKUP($B33,RawData,T$4,FALSE)*VLOOKUP(T$3,ConversionFactors,$D33,FALSE)/1000","-VLOOKUP($B33,RawData,U$4,FALSE)*VLOOKUP(U$3,ConversionFactors,$D33,FALSE)/1000","-VLOOKUP($B33,RawData,V$4,FALSE)*VLOOKUP(V$3,ConversionFactors,$D33,FALSE)/1000","-VLOOKUP($B33,RawData,W$4,FALSE)*VLOOKUP(W$3,ConversionFactors,2,FALSE)/1000","-VLOOKUP($B33,RawData,X$4,FALSE)*VLOOKUP(X$3,ConversionFactors,2,FALSE)/1000","-VLOOKUP($B33,RawData,Y$4,FALSE)*VLOOKUP(Y$3,ConversionFactors,2,FALSE)/1000","-VLOOKUP($B33,RawData,Z$4,FALSE)*VLOOKUP(Z$3,ConversionFactors,2,FALSE)/1000","-VLOOKUP($B33,RawData,AA$4,FALSE)*VLOOKUP(AA$3,ConversionFactors,2,FALSE)/1000","-VLOOKUP($B33,RawData,AB$4,FALSE)*VLOOKUP(AB$3,ConversionFactors,2,FALSE)/1000","-VLOOKUP($B33,RawData,AC$4,FALSE)*VLOOKUP(AC$3,ConversionFactors,2,FALSE)/1000","-VLOOKUP($B33,RawData,AD$4,FALSE)*VLOOKUP(AD$3,ConversionFactors,2,FALSE)/1000","-VLOOKUP($B33,RawData,AE$4,FALSE)*VLOOKUP(AE$3,ConversionFactors,2,FALSE)/1000","-VLOOKUP($B33,RawData,AF$4,FALSE)*VLOOKUP(AF$3,ConversionFactors,2,FALSE)/1000","-VLOOKUP($B33,RawData,AG$4,FALSE)*VLOOKUP(AG$3,ConversionFactors,2,FALSE)/1000","-VLOOKUP($B33,RawData,AH$4,FALSE)*VLOOKUP(AH$3,ConversionFactors,2,FALSE)/1000","-VLOOKUP($B33,RawData,AI$4,FALSE)*VLOOKUP(AI$3,ConversionFactors,2,FALSE)/1000","-VLOOKUP($B33,RawData,AJ$4,FALSE)*VLOOKUP(AJ$3,ConversionFactors,2,FALSE)/1000","-VLOOKUP($B33,RawData,AK$4,FALSE)*VLOOKUP(AK$3,ConversionFactors,2,FALSE)/1000","-VLOOKUP($B33,RawData,AL$4,FALSE)*VLOOKUP(AL$3,ConversionFactors,2,FALSE)/1000","-VLOOKUP($B33,RawData,AM$4,FALSE)*VLOOKUP(AM$3,ConversionFactors,2,FALSE)/1000","-VLOOKUP($B33,RawData,AN$4,FALSE)*VLOOKUP(AN$3,ConversionFactors,2,FALSE)/1000","-VLOOKUP($B33,RawData,AO$4,FALSE)*VLOOKUP(AO$3,ConversionFactors,2,FALSE)/1000","-VLOOKUP($B33,RawData,AP$4,FALSE)*VLOOKUP(AP$3,ConversionFactors,2,FALSE)/1000","-VLOOKUP($B33,RawData,AQ$4,FALSE)*VLOOKUP(AQ$3,ConversionFactors,2,FALSE)/1000","-VLOOKUP($B33,RawData,AR$4,FALSE)*VLOOKUP(AR$3,ConversionFactors,2,FALSE)/1000","(SUM(VLOOKUP(\"OSCOAL\",RawData,AS$4,FALSE),VLOOKUP(\"OSNATGAS\",RawData,AS$4,FALSE),VLOOKUP(\"OSOIL\",RawData,AS$4,FALSE),VLOOKUP(\"OSRENEW\",RawData,AS$4,FALSE),VLOOKUP(\"OSNONSPEC\",RawData,AS$4,FALSE),-VLOOKUP($B33,RawData,AS$4,FALSE))*VLOOKUP(AS$3,ConversionFactors,2,FALSE))*1","-VLOOKUP($B33,RawData,AT$4,FALSE)*1","-VLOOKUP($B33,RawData,AU$4,FALSE)*1","-VLOOKUP($B33,RawData,AV$4,FALSE)*1","-VLOOKUP($B33,RawData,AW$4,FALSE)*1","-VLOOKUP($B33,RawData,AX$4,FALSE)*1","-VLOOKUP($B33,RawData,AY$4,FALSE)*VLOOKUP(AY$3,ConversionFactors,2,FALSE)/1000","-VLOOKUP($B33,RawData,AZ$4,FALSE)*VLOOKUP(AZ$3,ConversionFactors,2,FALSE)/1000","-VLOOKUP($B33,RawData,BA$4,FALSE)*VLOOKUP(BA$3,ConversionFactors,2,FALSE)/1000","-VLOOKUP($B33,RawData,BB$4,FALSE)*VLOOKUP(BB$3,ConversionFactors,2,FALSE)/1000","-VLOOKUP($B33,RawData,BC$4,FALSE)*1","-VLOOKUP($B33,RawData,BD$4,FALSE)*VLOOKUP(BD$3,ConversionFactors,2,FALSE)/1000",0,0,"-VLOOKUP($B33,RawData,BG$4,FALSE)*1",0,"-VLOOKUP($B33,RawData,BI$4,FALSE)*1",0,0,0,"-VLOOKUP($B33,RawData,BM$4,FALSE)*3.6","-VLOOKUP($B33,RawData,BN$4,FALSE)*1",0]
[{"$f":"TCHARCOAL","v":"Charcoal production plants"},"TCHARCOAL","NOTHER",16,0,0,0,0,0,0,0,0,0,0,0,0,0,0,0,0,0,0,0,0,0,{"$f":"-VLOOKUP($B34,RawData,Z$4,FALSE)*VLOOKUP(Z$3,ConversionFactors,2,FALSE)/1000","v":0},{"$f":"-VLOOKUP($B34,RawData,AA$4,FALSE)*VLOOKUP(AA$3,ConversionFactors,2,FALSE)/1000","v":0},0,0,0,0,0,0,0,0,0,0,0,0,0,0,0,0,0,{"$f":"-VLOOKUP($B34,RawData,AS$4,FALSE)*VLOOKUP(AS$3,ConversionFactors,2,FALSE)*1","v":0},0,0,0,0,0,0,0,0,0,0,{"$f":"(VLOOKUP($B5,RawData,BD$4,FALSE)-VLOOKUP($B34,RawData,BD$4,FALSE))*VLOOKUP(BD$3,ConversionFactors,2,FALSE)/1000","v":0},0,0,0,0,0,0,0,0,0,0,0,0,null,null,null,null,null,null,null,null,null,null,"TCHARCOAL","-VLOOKUP($B34,RawData,E$4,FALSE)*VLOOKUP(E$3,ConversionFactors,$D34,FALSE)/1000","-VLOOKUP($B34,RawData,F$4,FALSE)*VLOOKUP(F$3,ConversionFactors,$D34,FALSE)/1000","-VLOOKUP($B34,RawData,G$4,FALSE)*VLOOKUP(G$3,ConversionFactors,$D34,FALSE)/1000","-VLOOKUP($B34,RawData,H$4,FALSE)*VLOOKUP(H$3,ConversionFactors,$D34,FALSE)/1000","-VLOOKUP($B34,RawData,I$4,FALSE)*VLOOKUP(I$3,ConversionFactors,$D34,FALSE)/1000","-VLOOKUP($B34,RawData,J$4,FALSE)*VLOOKUP(J$3,ConversionFactors,$D34,FALSE)/1000","-VLOOKUP($B34,RawData,K$4,FALSE)*VLOOKUP(K$3,ConversionFactors,$D34,FALSE)/1000","-VLOOKUP($B34,RawData,L$4,FALSE)*VLOOKUP(L$3,ConversionFactors,$D34,FALSE)/1000","-VLOOKUP($B34,RawData,M$4,FALSE)*VLOOKUP(M$3,ConversionFactors,$D34,FALSE)/1000","-VLOOKUP($B34,RawData,N$4,FALSE)*VLOOKUP(N$3,ConversionFactors,$D34,FALSE)/1000","(-VLOOKUP($B34,RawData,O$4,FALSE)*VLOOKUP(O$3,ConversionFactors,2,FALSE))*1","(-VLOOKUP($B34,RawData,P$4,FALSE)*VLOOKUP(P$3,ConversionFactors,2,FALSE))*1","(-VLOOKUP($B34,RawData,Q$4,FALSE)*VLOOKUP(Q$3,ConversionFactors,2,FALSE))*1","(-VLOOKUP($B34,RawData,R$4,FALSE)*VLOOKUP(R$3,ConversionFactors,2,FALSE))*1",0,"-VLOOKUP($B34,RawData,T$4,FALSE)*VLOOKUP(T$3,ConversionFactors,$D34,FALSE)/1000","-VLOOKUP($B34,RawData,U$4,FALSE)*VLOOKUP(U$3,ConversionFactors,$D34,FALSE)/1000","-VLOOKUP($B34,RawData,V$4,FALSE)*VLOOKUP(V$3,ConversionFactors,$D34,FALSE)/1000","-VLOOKUP($B34,RawData,W$4,FALSE)*VLOOKUP(W$3,ConversionFactors,2,FALSE)/1000","-VLOOKUP($B34,RawData,X$4,FALSE)*VLOOKUP(X$3,ConversionFactors,2,FALSE)/1000","-VLOOKUP($B34,RawData,Y$4,FALSE)*VLOOKUP(Y$3,ConversionFactors,2,FALSE)/1000","-VLOOKUP($B34,RawData,Z$4,FALSE)*VLOOKUP(Z$3,ConversionFactors,2,FALSE)/1000","-VLOOKUP($B34,RawData,AA$4,FALSE)*VLOOKUP(AA$3,ConversionFactors,2,FALSE)/1000","-VLOOKUP($B34,RawData,AB$4,FALSE)*VLOOKUP(AB$3,ConversionFactors,2,FALSE)/1000","-VLOOKUP($B34,RawData,AC$4,FALSE)*VLOOKUP(AC$3,ConversionFactors,2,FALSE)/1000","-VLOOKUP($B34,RawData,AD$4,FALSE)*VLOOKUP(AD$3,ConversionFactors,2,FALSE)/1000","-VLOOKUP($B34,RawData,AE$4,FALSE)*VLOOKUP(AE$3,ConversionFactors,2,FALSE)/1000","-VLOOKUP($B34,RawData,AF$4,FALSE)*VLOOKUP(AF$3,ConversionFactors,2,FALSE)/1000","-VLOOKUP($B34,RawData,AG$4,FALSE)*VLOOKUP(AG$3,ConversionFactors,2,FALSE)/1000","-VLOOKUP($B34,RawData,AH$4,FALSE)*VLOOKUP(AH$3,ConversionFactors,2,FALSE)/1000","-VLOOKUP($B34,RawData,AI$4,FALSE)*VLOOKUP(AI$3,ConversionFactors,2,FALSE)/1000","-VLOOKUP($B34,RawData,AJ$4,FALSE)*VLOOKUP(AJ$3,ConversionFactors,2,FALSE)/1000","-VLOOKUP($B34,RawData,AK$4,FALSE)*VLOOKUP(AK$3,ConversionFactors,2,FALSE)/1000","-VLOOKUP($B34,RawData,AL$4,FALSE)*VLOOKUP(AL$3,ConversionFactors,2,FALSE)/1000","-VLOOKUP($B34,RawData,AM$4,FALSE)*VLOOKUP(AM$3,ConversionFactors,2,FALSE)/1000","-VLOOKUP($B34,RawData,AN$4,FALSE)*VLOOKUP(AN$3,ConversionFactors,2,FALSE)/1000","-VLOOKUP($B34,RawData,AO$4,FALSE)*VLOOKUP(AO$3,ConversionFactors,2,FALSE)/1000","-VLOOKUP($B34,RawData,AP$4,FALSE)*VLOOKUP(AP$3,ConversionFactors,2,FALSE)/1000","-VLOOKUP($B34,RawData,AQ$4,FALSE)*VLOOKUP(AQ$3,ConversionFactors,2,FALSE)/1000","-VLOOKUP($B34,RawData,AR$4,FALSE)*VLOOKUP(AR$3,ConversionFactors,2,FALSE)/1000","-VLOOKUP($B34,RawData,AS$4,FALSE)*VLOOKUP(AS$3,ConversionFactors,2,FALSE)*1","-VLOOKUP($B34,RawData,AT$4,FALSE)*1","-VLOOKUP($B34,RawData,AU$4,FALSE)*1","-VLOOKUP($B34,RawData,AV$4,FALSE)*1","-VLOOKUP($B34,RawData,AW$4,FALSE)*1","-VLOOKUP($B34,RawData,AX$4,FALSE)*1","-VLOOKUP($B34,RawData,AY$4,FALSE)*VLOOKUP(AY$3,ConversionFactors,2,FALSE)/1000","-VLOOKUP($B34,RawData,AZ$4,FALSE)*VLOOKUP(AZ$3,ConversionFactors,2,FALSE)/1000","-VLOOKUP($B34,RawData,BA$4,FALSE)*VLOOKUP(BA$3,ConversionFactors,2,FALSE)/1000","-VLOOKUP($B34,RawData,BB$4,FALSE)*VLOOKUP(BB$3,ConversionFactors,2,FALSE)/1000","-VLOOKUP($B34,RawData,BC$4,FALSE)*1","(VLOOKUP($B5,RawData,BD$4,FALSE)-VLOOKUP($B34,RawData,BD$4,FALSE))*VLOOKUP(BD$3,ConversionFactors,2,FALSE)/1000",0,0,"-VLOOKUP($B34,RawData,BG$4,FALSE)*1",0,"-VLOOKUP($B34,RawData,BI$4,FALSE)*1",0,0,0,"-VLOOKUP($B34,RawData,BM$4,FALSE)*3.6","-VLOOKUP($B34,RawData,BN$4,FALSE)*1",0]
[{"$f":"TNONSPEC","v":"Non-specified (transformation)"},"TNONSPEC","NOTHER",16,0,0,0,0,0,0,{"$f":"SUM(VLOOKUP(\"OSNONSPEC\",RawData,K$4,FALSE),-VLOOKUP($B35,RawData,K$4,FALSE))*VLOOKUP(K$3,ConversionFactors,$D35,FALSE)/1000","v":0},0,0,0,0,0,{"$f":"(-VLOOKUP($B35,RawData,Q$4,FALSE)*VLOOKUP(Q$3,ConversionFactors,2,FALSE))*1","v":0},{"$f":"-VLOOKUP($B35,RawData,R$4,FALSE)*VLOOKUP(R$3,ConversionFactors,2,FALSE)*1","v":0},0,0,0,0,0,0,0,{"$f":"-VLOOKUP($B35,RawData,Z$4,FALSE)*VLOOKUP(Z$3,ConversionFactors,2,FALSE)/1000","v":0},{"$f":"(VLOOKUP(\"OSNONSPEC\",RawData,AA$4,FALSE)-VLOOKUP($B35,RawData,AA$4,FALSE))*VLOOKUP(AA$3,ConversionFactors,2,FALSE)/1000","v":0},0,0,0,0,0,0,0,0,0,0,0,0,0,0,0,0,0,{"$f":"-VLOOKUP($B35,RawData,AS$4,FALSE)*VLOOKUP(AS$3,ConversionFactors,2,FALSE)*1","v":0},0,0,0,0,0,0,0,0,0,0,{"$f":"-VLOOKUP($B35,RawData,BD$4,FALSE)*VLOOKUP(BD$3,ConversionFactors,2,FALSE)/1000","v":0},0,0,0,0,0,0,0,0,0,0,0,0,null,null,null,null,null,null,null,null,null,null,"TNONSPEC","-VLOOKUP($B35,RawData,E$4,FALSE)*VLOOKUP(E$3,ConversionFactors,$D35,FALSE)/1000","-VLOOKUP($B35,RawData,F$4,FALSE)*VLOOKUP(F$3,ConversionFactors,$D35,FALSE)/1000","-VLOOKUP($B35,RawData,G$4,FALSE)*VLOOKUP(G$3,ConversionFactors,$D35,FALSE)/1000","-VLOOKUP($B35,RawData,H$4,FALSE)*VLOOKUP(H$3,ConversionFactors,$D35,FALSE)/1000","-VLOOKUP($B35,RawData,I$4,FALSE)*VLOOKUP(I$3,ConversionFactors,$D35,FALSE)/1000","-VLOOKUP($B35,RawData,J$4,FALSE)*VLOOKUP(J$3,ConversionFactors,$D35,FALSE)/1000","SUM(VLOOKUP(\"OSNONSPEC\",RawData,K$4,FALSE),-VLOOKUP($B35,RawData,K$4,FALSE))*VLOOKUP(K$3,ConversionFactors,$D35,FALSE)/1000","-VLOOKUP($B35,RawData,L$4,FALSE)*VLOOKUP(L$3,ConversionFactors,$D35,FALSE)/1000","-VLOOKUP($B35,RawData,M$4,FALSE)*VLOOKUP(M$3,ConversionFactors,$D35,FALSE)/1000","-VLOOKUP($B35,RawData,N$4,FALSE)*VLOOKUP(N$3,ConversionFactors,$D35,FALSE)/1000","(-VLOOKUP($B35,RawData,O$4,FALSE)*VLOOKUP(O$3,ConversionFactors,2,FALSE))*1","(-VLOOKUP($B35,RawData,P$4,FALSE)*VLOOKUP(P$3,ConversionFactors,2,FALSE))*1","(-VLOOKUP($B35,RawData,Q$4,FALSE)*VLOOKUP(Q$3,ConversionFactors,2,FALSE))*1","(-VLOOKUP($B35,RawData,R$4,FALSE)*VLOOKUP(R$3,ConversionFactors,2,FALSE))*1",0,"-VLOOKUP($B35,RawData,T$4,FALSE)*VLOOKUP(T$3,ConversionFactors,$D35,FALSE)/1000","-VLOOKUP($B35,RawData,U$4,FALSE)*VLOOKUP(U$3,ConversionFactors,$D35,FALSE)/1000","-VLOOKUP($B35,RawData,V$4,FALSE)*VLOOKUP(V$3,ConversionFactors,$D35,FALSE)/1000","-VLOOKUP($B35,RawData,W$4,FALSE)*VLOOKUP(W$3,ConversionFactors,2,FALSE)/1000","-VLOOKUP($B35,RawData,X$4,FALSE)*VLOOKUP(X$3,ConversionFactors,2,FALSE)/1000","-VLOOKUP($B35,RawData,Y$4,FALSE)*VLOOKUP(Y$3,ConversionFactors,2,FALSE)/1000","-VLOOKUP($B35,RawData,Z$4,FALSE)*VLOOKUP(Z$3,ConversionFactors,2,FALSE)/1000","(VLOOKUP(\"OSNONSPEC\",RawData,AA$4,FALSE)-VLOOKUP($B35,RawData,AA$4,FALSE))*VLOOKUP(AA$3,ConversionFactors,2,FALSE)/1000","-VLOOKUP($B35,RawData,AB$4,FALSE)*VLOOKUP(AB$3,ConversionFactors,2,FALSE)/1000","-VLOOKUP($B35,RawData,AC$4,FALSE)*VLOOKUP(AC$3,ConversionFactors,2,FALSE)/1000","-VLOOKUP($B35,RawData,AD$4,FALSE)*VLOOKUP(AD$3,ConversionFactors,2,FALSE)/1000","-VLOOKUP($B35,RawData,AE$4,FALSE)*VLOOKUP(AE$3,ConversionFactors,2,FALSE)/1000","-VLOOKUP($B35,RawData,AF$4,FALSE)*VLOOKUP(AF$3,ConversionFactors,2,FALSE)/1000","-VLOOKUP($B35,RawData,AG$4,FALSE)*VLOOKUP(AG$3,ConversionFactors,2,FALSE)/1000","-VLOOKUP($B35,RawData,AH$4,FALSE)*VLOOKUP(AH$3,ConversionFactors,2,FALSE)/1000","-VLOOKUP($B35,RawData,AI$4,FALSE)*VLOOKUP(AI$3,ConversionFactors,2,FALSE)/1000","-VLOOKUP($B35,RawData,AJ$4,FALSE)*VLOOKUP(AJ$3,ConversionFactors,2,FALSE)/1000","-VLOOKUP($B35,RawData,AK$4,FALSE)*VLOOKUP(AK$3,ConversionFactors,2,FALSE)/1000","-VLOOKUP($B35,RawData,AL$4,FALSE)*VLOOKUP(AL$3,ConversionFactors,2,FALSE)/1000","-VLOOKUP($B35,RawData,AM$4,FALSE)*VLOOKUP(AM$3,ConversionFactors,2,FALSE)/1000","-VLOOKUP($B35,RawData,AN$4,FALSE)*VLOOKUP(AN$3,ConversionFactors,2,FALSE)/1000","-VLOOKUP($B35,RawData,AO$4,FALSE)*VLOOKUP(AO$3,ConversionFactors,2,FALSE)/1000","-VLOOKUP($B35,RawData,AP$4,FALSE)*VLOOKUP(AP$3,ConversionFactors,2,FALSE)/1000","-VLOOKUP($B35,RawData,AQ$4,FALSE)*VLOOKUP(AQ$3,ConversionFactors,2,FALSE)/1000","-VLOOKUP($B35,RawData,AR$4,FALSE)*VLOOKUP(AR$3,ConversionFactors,2,FALSE)/1000","-VLOOKUP($B35,RawData,AS$4,FALSE)*VLOOKUP(AS$3,ConversionFactors,2,FALSE)*1","-VLOOKUP($B35,RawData,AT$4,FALSE)*1","-VLOOKUP($B35,RawData,AU$4,FALSE)*1","-VLOOKUP($B35,RawData,AV$4,FALSE)*1","-VLOOKUP($B35,RawData,AW$4,FALSE)*1","-VLOOKUP($B35,RawData,AX$4,FALSE)*1","-VLOOKUP($B35,RawData,AY$4,FALSE)*VLOOKUP(AY$3,ConversionFactors,2,FALSE)/1000","-VLOOKUP($B35,RawData,AZ$4,FALSE)*VLOOKUP(AZ$3,ConversionFactors,2,FALSE)/1000","-VLOOKUP($B35,RawData,BA$4,FALSE)*VLOOKUP(BA$3,ConversionFactors,2,FALSE)/1000","-VLOOKUP($B35,RawData,BB$4,FALSE)*VLOOKUP(BB$3,ConversionFactors,2,FALSE)/1000","-VLOOKUP($B35,RawData,BC$4,FALSE)*1","-VLOOKUP($B35,RawData,BD$4,FALSE)*VLOOKUP(BD$3,ConversionFactors,2,FALSE)/1000",0,0,"-VLOOKUP($B35,RawData,BG$4,FALSE)*1",0,"-VLOOKUP($B35,RawData,BI$4,FALSE)*1",0,0,0,"-VLOOKUP($B35,RawData,BM$4,FALSE)*3.6","-VLOOKUP($B35,RawData,BN$4,FALSE)*1",0]
[{"$f":"TOTENGY","v":"Energy industry own use"},"TOTENGY",null,null,{"$f":"SUM(E37:E53)","v":0},0,0,0,0,0,0,0,0,0,0,0,0,0,0,{"$f":"SUM(T37:T53)","v":0},0,0,0,0,0,0,0,0,0,0,0,0,0,0,0,0,0,0,0,0,0,0,0,0,0,0,0,0,0,0,0,0,0,0,0,0,0,0,0,0,0,0,0,0,-1080,0,0,-1080,null,null,null,null,null,null,null,null,null,null,"TOTENGY","SUM(E37:E53)","SUM(F37:F53)","SUM(G37:G53)","SUM(H37:H53)","SUM(I37:I53)","SUM(J37:J53)","SUM(K37:K53)","SUM(L37:L53)","SUM(M37:M53)","SUM(N37:N53)","SUM(O37:O53)","SUM(P37:P53)","SUM(Q37:Q53)","SUM(R37:R53)",0,"SUM(T37:T53)","SUM(U37:U53)","SUM(V37:V53)","SUM(W37:W53)","SUM(X37:X53)","SUM(Y37:Y53)","SUM(Z37:Z53)","SUM(AA37:AA53)","SUM(AB37:AB53)","SUM(AC37:AC53)","SUM(AD37:AD53)","SUM(AE37:AE53)","SUM(AF37:AF53)","SUM(AG37:AG53)","SUM(AH37:AH53)","SUM(AI37:AI53)","SUM(AJ37:AJ53)","SUM(AK37:AK53)","SUM(AL37:AL53)","SUM(AM37:AM53)","SUM(AN37:AN53)","SUM(AO37:AO53)","SUM(AP37:AP53)","SUM(AQ37:AQ53)","SUM(AR37:AR53)","SUM(AS37:AS53)","SUM(AT37:AT53)","SUM(AU37:AU53)","SUM(AV37:AV53)","SUM(AW37:AW53)","SUM(AX37:AX53)","SUM(AY37:AY53)","SUM(AZ37:AZ53)","SUM(BA37:BA53)","SUM(BB37:BB53)","SUM(BC37:BC53)","SUM(BD37:BD53)","SUM(BE37:BE53)","SUM(BF37:BF53)","SUM(BG37:BG53)","SUM(BH37:BH53)","SUM(BI37:BI53)","SUM(BJ37:BJ53)","SUM(BK37:BK53)","SUM(BL37:BL53)","SUM(BM37:BM53)","SUM(BN37:BN53)",0]
[{"$f":"EMINES","v":"Coal mines"},"EMINES","NOTHER",{"$f":"MATCH(C37,CFHeadings,0)","v":16},{"$f":"-VLOOKUP($B37,RawData,E$4,FALSE)*VLOOKUP(E$3,ConversionFactors,$D37,FALSE)/1000","v":0},0,0,0,0,0,0,0,0,0,{"$f":"-VLOOKUP($B37,RawData,O$4,FALSE)*VLOOKUP(O$3,ConversionFactors,2,FALSE)*1","v":0},0,0,0,0,{"$f":"-VLOOKUP($B37,RawData,T$4,FALSE)*VLOOKUP(T$3,ConversionFactors,$D37,FALSE)/1000","v":0},0,0,{"$f":"-VLOOKUP($B37,RawData,W$4,FALSE)*VLOOKUP(W$3,ConversionFactors,2,FALSE)/1000","v":0},0,0,0,0,0,0,0,0,0,{"$f":"-VLOOKUP($B37,RawData,AG$4,FALSE)*VLOOKUP(AG$3,ConversionFactors,2,FALSE)/1000","v":0},0,0,0,0,0,0,0,0,0,0,0,{"$f":"-VLOOKUP($B37,RawData,AS$4,FALSE)*VLOOKUP(AS$3,ConversionFactors,2,FALSE)*1","v":0},{"$f":"-VLOOKUP($B37,RawData,AT$4,FALSE)*1","v":0},0,0,0,0,{"$f":"-VLOOKUP($B37,RawData,AY$4,FALSE)*VLOOKUP(AY$3,ConversionFactors,2,FALSE)/1000","v":0},0,0,0,{"$f":"-VLOOKUP($B37,RawData,BC$4,FALSE)*1","v":0},{"$f":"-VLOOKUP($B37,RawData,BD$4,FALSE)*VLOOKUP(BD$3,ConversionFactors,2,FALSE)/1000","v":0},0,0,{"$f":"-VLOOKUP($B37,RawData,BG$4,FALSE)*1","v":0},0,{"$f":"-VLOOKUP($B37,RawData,BI$4,FALSE)*1","v":0},0,0,0,{"$f":"-VLOOKUP($B37,RawData,BM$4,FALSE)*3.6","v":0},{"$f":"-VLOOKUP($B37,RawData,BN$4,FALSE)*1","v":0},0,0,null,null,null,null,null,null,null,null,null,null,"EMINES","-VLOOKUP($B37,RawData,E$4,FALSE)*VLOOKUP(E$3,ConversionFactors,$D37,FALSE)/1000","-VLOOKUP($B37,RawData,F$4,FALSE)*VLOOKUP(F$3,ConversionFactors,$D37,FALSE)/1000","-VLOOKUP($B37,RawData,G$4,FALSE)*VLOOKUP(G$3,ConversionFactors,$D37,FALSE)/1000","-VLOOKUP($B37,RawData,H$4,FALSE)*VLOOKUP(H$3,ConversionFactors,$D37,FALSE)/1000","-VLOOKUP($B37,RawData,I$4,FALSE)*VLOOKUP(I$3,ConversionFactors,$D37,FALSE)/1000","-VLOOKUP($B37,RawData,J$4,FALSE)*VLOOKUP(J$3,ConversionFactors,$D37,FALSE)/1000","-VLOOKUP($B37,RawData,K$4,FALSE)*VLOOKUP(K$3,ConversionFactors,$D37,FALSE)/1000","-VLOOKUP($B37,RawData,L$4,FALSE)*VLOOKUP(L$3,ConversionFactors,$D37,FALSE)/1000","-VLOOKUP($B37,RawData,M$4,FALSE)*VLOOKUP(M$3,ConversionFactors,$D37,FALSE)/1000","-VLOOKUP($B37,RawData,N$4,FALSE)*VLOOKUP(N$3,ConversionFactors,$D37,FALSE)/1000","-VLOOKUP($B37,RawData,O$4,FALSE)*VLOOKUP(O$3,ConversionFactors,2,FALSE)*1","-VLOOKUP($B37,RawData,P$4,FALSE)*VLOOKUP(P$3,ConversionFactors,2,FALSE)*1","-VLOOKUP($B37,RawData,Q$4,FALSE)*VLOOKUP(Q$3,ConversionFactors,2,FALSE)*1","-VLOOKUP($B37,RawData,R$4,FALSE)*VLOOKUP(R$3,ConversionFactors,2,FALSE)*1",0,"-VLOOKUP($B37,RawData,T$4,FALSE)*VLOOKUP(T$3,ConversionFactors,$D37,FALSE)/1000","-VLOOKUP($B37,RawData,U$4,FALSE)*VLOOKUP(U$3,ConversionFactors,$D37,FALSE)/1000","-VLOOKUP($B37,RawData,V$4,FALSE)*VLOOKUP(V$3,ConversionFactors,$D37,FALSE)/1000","-VLOOKUP($B37,RawData,W$4,FALSE)*VLOOKUP(W$3,ConversionFactors,2,FALSE)/1000","-VLOOKUP($B37,RawData,X$4,FALSE)*VLOOKUP(X$3,ConversionFactors,2,FALSE)/1000","-VLOOKUP($B37,RawData,Y$4,FALSE)*VLOOKUP(Y$3,ConversionFactors,2,FALSE)/1000","-VLOOKUP($B37,RawData,Z$4,FALSE)*VLOOKUP(Z$3,ConversionFactors,2,FALSE)/1000","-VLOOKUP($B37,RawData,AA$4,FALSE)*VLOOKUP(AA$3,ConversionFactors,2,FALSE)/1000","-VLOOKUP($B37,RawData,AB$4,FALSE)*VLOOKUP(AB$3,ConversionFactors,2,FALSE)/1000","-VLOOKUP($B37,RawData,AC$4,FALSE)*VLOOKUP(AC$3,ConversionFactors,2,FALSE)/1000","-VLOOKUP($B37,RawData,AD$4,FALSE)*VLOOKUP(AD$3,ConversionFactors,2,FALSE)/1000","-VLOOKUP($B37,RawData,AE$4,FALSE)*VLOOKUP(AE$3,ConversionFactors,2,FALSE)/1000","-VLOOKUP($B37,RawData,AF$4,FALSE)*VLOOKUP(AF$3,ConversionFactors,2,FALSE)/1000","-VLOOKUP($B37,RawData,AG$4,FALSE)*VLOOKUP(AG$3,ConversionFactors,2,FALSE)/1000","-VLOOKUP($B37,RawData,AH$4,FALSE)*VLOOKUP(AH$3,ConversionFactors,2,FALSE)/1000","-VLOOKUP($B37,RawData,AI$4,FALSE)*VLOOKUP(AI$3,ConversionFactors,2,FALSE)/1000","-VLOOKUP($B37,RawData,AJ$4,FALSE)*VLOOKUP(AJ$3,ConversionFactors,2,FALSE)/1000","-VLOOKUP($B37,RawData,AK$4,FALSE)*VLOOKUP(AK$3,ConversionFactors,2,FALSE)/1000","-VLOOKUP($B37,RawData,AL$4,FALSE)*VLOOKUP(AL$3,ConversionFactors,2,FALSE)/1000","-VLOOKUP($B37,RawData,AM$4,FALSE)*VLOOKUP(AM$3,ConversionFactors,2,FALSE)/1000","-VLOOKUP($B37,RawData,AN$4,FALSE)*VLOOKUP(AN$3,ConversionFactors,2,FALSE)/1000","-VLOOKUP($B37,RawData,AO$4,FALSE)*VLOOKUP(AO$3,ConversionFactors,2,FALSE)/1000","-VLOOKUP($B37,RawData,AP$4,FALSE)*VLOOKUP(AP$3,ConversionFactors,2,FALSE)/1000","-VLOOKUP($B37,RawData,AQ$4,FALSE)*VLOOKUP(AQ$3,ConversionFactors,2,FALSE)/1000","-VLOOKUP($B37,RawData,AR$4,FALSE)*VLOOKUP(AR$3,ConversionFactors,2,FALSE)/1000","-VLOOKUP($B37,RawData,AS$4,FALSE)*VLOOKUP(AS$3,ConversionFactors,2,FALSE)*1","-VLOOKUP($B37,RawData,AT$4,FALSE)*1","-VLOOKUP($B37,RawData,AU$4,FALSE)*1","-VLOOKUP($B37,RawData,AV$4,FALSE)*1","-VLOOKUP($B37,RawData,AW$4,FALSE)*1","-VLOOKUP($B37,RawData,AX$4,FALSE)*1","-VLOOKUP($B37,RawData,AY$4,FALSE)*VLOOKUP(AY$3,ConversionFactors,2,FALSE)/1000","-VLOOKUP($B37,RawData,AZ$4,FALSE)*VLOOKUP(AZ$3,ConversionFactors,2,FALSE)/1000","-VLOOKUP($B37,RawData,BA$4,FALSE)*VLOOKUP(BA$3,ConversionFactors,2,FALSE)/1000","-VLOOKUP($B37,RawData,BB$4,FALSE)*VLOOKUP(BB$3,ConversionFactors,2,FALSE)/1000","-VLOOKUP($B37,RawData,BC$4,FALSE)*1","-VLOOKUP($B37,RawData,BD$4,FALSE)*VLOOKUP(BD$3,ConversionFactors,2,FALSE)/1000",0,0,"-VLOOKUP($B37,RawData,BG$4,FALSE)*1",0,"-VLOOKUP($B37,RawData,BI$4,FALSE)*1",0,0,0,"-VLOOKUP($B37,RawData,BM$4,FALSE)*3.6","-VLOOKUP($B37,RawData,BN$4,FALSE)*1",0]
[{"$f":"EOILGASEX","v":"Oil and gas extraction"},"EOILGASEX","NOTHER",16,0,0,0,0,0,0,0,0,0,0,0,0,0,0,0,0,0,0,0,0,0,0,0,0,0,0,0,0,0,0,0,0,0,0,0,0,0,0,0,0,0,0,0,0,0,0,0,0,0,0,0,0,0,0,0,0,0,0,0,0,0,0,0,{"$f":"SUM(E38:BO38)","v":0},null,null,null,null,null,null,null,null,null,null,"EOILGASEX","-VLOOKUP($B38,RawData,E$4,FALSE)*VLOOKUP(E$3,ConversionFactors,$D38,FALSE)/1000","-VLOOKUP($B38,RawData,F$4,FALSE)*VLOOKUP(F$3,ConversionFactors,$D38,FALSE)/1000","-VLOOKUP($B38,RawData,G$4,FALSE)*VLOOKUP(G$3,ConversionFactors,$D38,FALSE)/1000","-VLOOKUP($B38,RawData,H$4,FALSE)*VLOOKUP(H$3,ConversionFactors,$D38,FALSE)/1000","-VLOOKUP($B38,RawData,I$4,FALSE)*VLOOKUP(I$3,ConversionFactors,$D38,FALSE)/1000","-VLOOKUP($B38,RawData,J$4,FALSE)*VLOOKUP(J$3,ConversionFactors,$D38,FALSE)/1000","-VLOOKUP($B38,RawData,K$4,FALSE)*VLOOKUP(K$3,ConversionFactors,$D38,FALSE)/1000","-VLOOKUP($B38,RawData,L$4,FALSE)*VLOOKUP(L$3,ConversionFactors,$D38,FALSE)/1000","-VLOOKUP($B38,RawData,M$4,FALSE)*VLOOKUP(M$3,ConversionFactors,$D38,FALSE)/1000","-VLOOKUP($B38,RawData,N$4,FALSE)*VLOOKUP(N$3,ConversionFactors,$D38,FALSE)/1000","-VLOOKUP($B38,RawData,O$4,FALSE)*VLOOKUP(O$3,ConversionFactors,2,FALSE)*1","-VLOOKUP($B38,RawData,P$4,FALSE)*VLOOKUP(P$3,ConversionFactors,2,FALSE)*1","-VLOOKUP($B38,RawData,Q$4,FALSE)*VLOOKUP(Q$3,ConversionFactors,2,FALSE)*1","-VLOOKUP($B38,RawData,R$4,FALSE)*VLOOKUP(R$3,ConversionFactors,2,FALSE)*1",0,"-VLOOKUP($B38,RawData,T$4,FALSE)*VLOOKUP(T$3,ConversionFactors,$D38,FALSE)/1000","-VLOOKUP($B38,RawData,U$4,FALSE)*VLOOKUP(U$3,ConversionFactors,$D38,FALSE)/1000","-VLOOKUP($B38,RawData,V$4,FALSE)*VLOOKUP(V$3,ConversionFactors,$D38,FALSE)/1000","-VLOOKUP($B38,RawData,W$4,FALSE)*VLOOKUP(W$3,ConversionFactors,2,FALSE)/1000","-VLOOKUP($B38,RawData,X$4,FALSE)*VLOOKUP(X$3,ConversionFactors,2,FALSE)/1000","-VLOOKUP($B38,RawData,Y$4,FALSE)*VLOOKUP(Y$3,ConversionFactors,2,FALSE)/1000","-VLOOKUP($B38,RawData,Z$4,FALSE)*VLOOKUP(Z$3,ConversionFactors,2,FALSE)/1000","-VLOOKUP($B38,RawData,AA$4,FALSE)*VLOOKUP(AA$3,ConversionFactors,2,FALSE)/1000","-VLOOKUP($B38,RawData,AB$4,FALSE)*VLOOKUP(AB$3,ConversionFactors,2,FALSE)/1000","-VLOOKUP($B38,RawData,AC$4,FALSE)*VLOOKUP(AC$3,ConversionFactors,2,FALSE)/1000","-VLOOKUP($B38,RawData,AD$4,FALSE)*VLOOKUP(AD$3,ConversionFactors,2,FALSE)/1000","-VLOOKUP($B38,RawData,AE$4,FALSE)*VLOOKUP(AE$3,ConversionFactors,2,FALSE)/1000","-VLOOKUP($B38,RawData,AF$4,FALSE)*VLOOKUP(AF$3,ConversionFactors,2,FALSE)/1000","-VLOOKUP($B38,RawData,AG$4,FALSE)*VLOOKUP(AG$3,ConversionFactors,2,FALSE)/1000","-VLOOKUP($B38,RawData,AH$4,FALSE)*VLOOKUP(AH$3,ConversionFactors,2,FALSE)/1000","-VLOOKUP($B38,RawData,AI$4,FALSE)*VLOOKUP(AI$3,ConversionFactors,2,FALSE)/1000","-VLOOKUP($B38,RawData,AJ$4,FALSE)*VLOOKUP(AJ$3,ConversionFactors,2,FALSE)/1000","-VLOOKUP($B38,RawData,AK$4,FALSE)*VLOOKUP(AK$3,ConversionFactors,2,FALSE)/1000","-VLOOKUP($B38,RawData,AL$4,FALSE)*VLOOKUP(AL$3,ConversionFactors,2,FALSE)/1000","-VLOOKUP($B38,RawData,AM$4,FALSE)*VLOOKUP(AM$3,ConversionFactors,2,FALSE)/1000","-VLOOKUP($B38,RawData,AN$4,FALSE)*VLOOKUP(AN$3,ConversionFactors,2,FALSE)/1000","-VLOOKUP($B38,RawData,AO$4,FALSE)*VLOOKUP(AO$3,ConversionFactors,2,FALSE)/1000","-VLOOKUP($B38,RawData,AP$4,FALSE)*VLOOKUP(AP$3,ConversionFactors,2,FALSE)/1000","-VLOOKUP($B38,RawData,AQ$4,FALSE)*VLOOKUP(AQ$3,ConversionFactors,2,FALSE)/1000","-VLOOKUP($B38,RawData,AR$4,FALSE)*VLOOKUP(AR$3,ConversionFactors,2,FALSE)/1000","-VLOOKUP($B38,RawData,AS$4,FALSE)*VLOOKUP(AS$3,ConversionFactors,2,FALSE)*1","-VLOOKUP($B38,RawData,AT$4,FALSE)*1","-VLOOKUP($B38,RawData,AU$4,FALSE)*1","-VLOOKUP($B38,RawData,AV$4,FALSE)*1","-VLOOKUP($B38,RawData,AW$4,FALSE)*1","-VLOOKUP($B38,RawData,AX$4,FALSE)*1","-VLOOKUP($B38,RawData,AY$4,FALSE)*VLOOKUP(AY$3,ConversionFactors,2,FALSE)/1000","-VLOOKUP($B38,RawData,AZ$4,FALSE)*VLOOKUP(AZ$3,ConversionFactors,2,FALSE)/1000","-VLOOKUP($B38,RawData,BA$4,FALSE)*VLOOKUP(BA$3,ConversionFactors,2,FALSE)/1000","-VLOOKUP($B38,RawData,BB$4,FALSE)*VLOOKUP(BB$3,ConversionFactors,2,FALSE)/1000","-VLOOKUP($B38,RawData,BC$4,FALSE)*1","-VLOOKUP($B38,RawData,BD$4,FALSE)*VLOOKUP(BD$3,ConversionFactors,2,FALSE)/1000",0,0,"-VLOOKUP($B38,RawData,BG$4,FALSE)*1",0,"-VLOOKUP($B38,RawData,BI$4,FALSE)*1",0,0,0,"-VLOOKUP($B38,RawData,BM$4,FALSE)*3.6","-VLOOKUP($B38,RawData,BN$4,FALSE)*1",0]
[{"$f":"EPATFUEL","v":"Patent fuel plants"},"EPATFUEL","NOTHER",16,0,0,0,0,0,0,0,0,0,0,0,0,0,0,0,0,0,0,0,0,0,0,0,0,0,0,0,0,0,0,0,0,0,0,0,0,0,0,0,0,0,0,0,0,0,0,0,0,0,0,0,0,0,0,0,0,0,0,0,0,0,0,0,0,null,null,null,null,null,null,null,null,null,null,"EPATFUEL","-VLOOKUP($B39,RawData,E$4,FALSE)*VLOOKUP(E$3,ConversionFactors,$D39,FALSE)/1000","-VLOOKUP($B39,RawData,F$4,FALSE)*VLOOKUP(F$3,ConversionFactors,$D39,FALSE)/1000","-VLOOKUP($B39,RawData,G$4,FALSE)*VLOOKUP(G$3,ConversionFactors,$D39,FALSE)/1000","-VLOOKUP($B39,RawData,H$4,FALSE)*VLOOKUP(H$3,ConversionFactors,$D39,FALSE)/1000","-VLOOKUP($B39,RawData,I$4,FALSE)*VLOOKUP(I$3,ConversionFactors,$D39,FALSE)/1000","-VLOOKUP($B39,RawData,J$4,FALSE)*VLOOKUP(J$3,ConversionFactors,$D39,FALSE)/1000","-VLOOKUP($B39,RawData,K$4,FALSE)*VLOOKUP(K$3,ConversionFactors,$D39,FALSE)/1000","-VLOOKUP($B39,RawData,L$4,FALSE)*VLOOKUP(L$3,ConversionFactors,$D39,FALSE)/1000","-VLOOKUP($B39,RawData,M$4,FALSE)*VLOOKUP(M$3,ConversionFactors,$D39,FALSE)/1000","-VLOOKUP($B39,RawData,N$4,FALSE)*VLOOKUP(N$3,ConversionFactors,$D39,FALSE)/1000","-VLOOKUP($B39,RawData,O$4,FALSE)*VLOOKUP(O$3,ConversionFactors,2,FALSE)*1","-VLOOKUP($B39,RawData,P$4,FALSE)*VLOOKUP(P$3,ConversionFactors,2,FALSE)*1","-VLOOKUP($B39,RawData,Q$4,FALSE)*VLOOKUP(Q$3,ConversionFactors,2,FALSE)*1","-VLOOKUP($B39,RawData,R$4,FALSE)*VLOOKUP(R$3,ConversionFactors,2,FALSE)*1",0,"-VLOOKUP($B39,RawData,T$4,FALSE)*VLOOKUP(T$3,ConversionFactors,$D39,FALSE)/1000","-VLOOKUP($B39,RawData,U$4,FALSE)*VLOOKUP(U$3,ConversionFactors,$D39,FALSE)/1000","-VLOOKUP($B39,RawData,V$4,FALSE)*VLOOKUP(V$3,ConversionFactors,$D39,FALSE)/1000","-VLOOKUP($B39,RawData,W$4,FALSE)*VLOOKUP(W$3,ConversionFactors,2,FALSE)/1000","-VLOOKUP($B39,RawData,X$4,FALSE)*VLOOKUP(X$3,ConversionFactors,2,FALSE)/1000","-VLOOKUP($B39,RawData,Y$4,FALSE)*VLOOKUP(Y$3,ConversionFactors,2,FALSE)/1000","-VLOOKUP($B39,RawData,Z$4,FALSE)*VLOOKUP(Z$3,ConversionFactors,2,FALSE)/1000","-VLOOKUP($B39,RawData,AA$4,FALSE)*VLOOKUP(AA$3,ConversionFactors,2,FALSE)/1000","-VLOOKUP($B39,RawData,AB$4,FALSE)*VLOOKUP(AB$3,ConversionFactors,2,FALSE)/1000","-VLOOKUP($B39,RawData,AC$4,FALSE)*VLOOKUP(AC$3,ConversionFactors,2,FALSE)/1000","-VLOOKUP($B39,RawData,AD$4,FALSE)*VLOOKUP(AD$3,ConversionFactors,2,FALSE)/1000","-VLOOKUP($B39,RawData,AE$4,FALSE)*VLOOKUP(AE$3,ConversionFactors,2,FALSE)/1000","-VLOOKUP($B39,RawData,AF$4,FALSE)*VLOOKUP(AF$3,ConversionFactors,2,FALSE)/1000","-VLOOKUP($B39,RawData,AG$4,FALSE)*VLOOKUP(AG$3,ConversionFactors,2,FALSE)/1000","-VLOOKUP($B39,RawData,AH$4,FALSE)*VLOOKUP(AH$3,ConversionFactors,2,FALSE)/1000","-VLOOKUP($B39,RawData,AI$4,FALSE)*VLOOKUP(AI$3,ConversionFactors,2,FALSE)/1000","-VLOOKUP($B39,RawData,AJ$4,FALSE)*VLOOKUP(AJ$3,ConversionFactors,2,FALSE)/1000","-VLOOKUP($B39,RawData,AK$4,FALSE)*VLOOKUP(AK$3,ConversionFactors,2,FALSE)/1000","-VLOOKUP($B39,RawData,AL$4,FALSE)*VLOOKUP(AL$3,ConversionFactors,2,FALSE)/1000","-VLOOKUP($B39,RawData,AM$4,FALSE)*VLOOKUP(AM$3,ConversionFactors,2,FALSE)/1000","-VLOOKUP($B39,RawData,AN$4,FALSE)*VLOOKUP(AN$3,ConversionFactors,2,FALSE)/1000","-VLOOKUP($B39,RawData,AO$4,FALSE)*VLOOKUP(AO$3,ConversionFactors,2,FALSE)/1000","-VLOOKUP($B39,RawData,AP$4,FALSE)*VLOOKUP(AP$3,ConversionFactors,2,FALSE)/1000","-VLOOKUP($B39,RawData,AQ$4,FALSE)*VLOOKUP(AQ$3,ConversionFactors,2,FALSE)/1000","-VLOOKUP($B39,RawData,AR$4,FALSE)*VLOOKUP(AR$3,ConversionFactors,2,FALSE)/1000","-VLOOKUP($B39,RawData,AS$4,FALSE)*VLOOKUP(AS$3,ConversionFactors,2,FALSE)*1","-VLOOKUP($B39,RawData,AT$4,FALSE)*1","-VLOOKUP($B39,RawData,AU$4,FALSE)*1","-VLOOKUP($B39,RawData,AV$4,FALSE)*1","-VLOOKUP($B39,RawData,AW$4,FALSE)*1","-VLOOKUP($B39,RawData,AX$4,FALSE)*1","-VLOOKUP($B39,RawData,AY$4,FALSE)*VLOOKUP(AY$3,ConversionFactors,2,FALSE)/1000","-VLOOKUP($B39,RawData,AZ$4,FALSE)*VLOOKUP(AZ$3,ConversionFactors,2,FALSE)/1000","-VLOOKUP($B39,RawData,BA$4,FALSE)*VLOOKUP(BA$3,ConversionFactors,2,FALSE)/1000","-VLOOKUP($B39,RawData,BB$4,FALSE)*VLOOKUP(BB$3,ConversionFactors,2,FALSE)/1000","-VLOOKUP($B39,RawData,BC$4,FALSE)*1","-VLOOKUP($B39,RawData,BD$4,FALSE)*VLOOKUP(BD$3,ConversionFactors,2,FALSE)/1000",0,0,"-VLOOKUP($B39,RawData,BG$4,FALSE)*1",0,"-VLOOKUP($B39,RawData,BI$4,FALSE)*1",0,0,0,"-VLOOKUP($B39,RawData,BM$4,FALSE)*3.6","-VLOOKUP($B39,RawData,BN$4,FALSE)*1",0]
[{"$f":"ECOKEOVS","v":"Coke ovens"},"ECOKEOVS","NCOKEOVS",7,0,0,0,0,0,0,0,0,0,0,0,0,0,0,0,0,0,0,0,0,0,0,0,0,0,0,0,0,0,0,0,0,0,0,0,0,0,0,0,0,0,0,0,0,0,0,0,0,0,0,0,0,0,0,0,0,0,0,0,0,0,0,0,0,null,null,null,null,null,null,null,null,null,null,"ECOKEOVS","-VLOOKUP($B40,RawData,E$4,FALSE)*VLOOKUP(E$3,ConversionFactors,$D40,FALSE)/1000","-VLOOKUP($B40,RawData,F$4,FALSE)*VLOOKUP(F$3,ConversionFactors,$D40,FALSE)/1000","-VLOOKUP($B40,RawData,G$4,FALSE)*VLOOKUP(G$3,ConversionFactors,$D40,FALSE)/1000","-VLOOKUP($B40,RawData,H$4,FALSE)*VLOOKUP(H$3,ConversionFactors,$D40,FALSE)/1000","-VLOOKUP($B40,RawData,I$4,FALSE)*VLOOKUP(I$3,ConversionFactors,$D40,FALSE)/1000","-VLOOKUP($B40,RawData,J$4,FALSE)*VLOOKUP(J$3,ConversionFactors,$D40,FALSE)/1000","-VLOOKUP($B40,RawData,K$4,FALSE)*VLOOKUP(K$3,ConversionFactors,$D40,FALSE)/1000","-VLOOKUP($B40,RawData,L$4,FALSE)*VLOOKUP(L$3,ConversionFactors,$D40,FALSE)/1000","-VLOOKUP($B40,RawData,M$4,FALSE)*VLOOKUP(M$3,ConversionFactors,$D40,FALSE)/1000","-VLOOKUP($B40,RawData,N$4,FALSE)*VLOOKUP(N$3,ConversionFactors,$D40,FALSE)/1000","-VLOOKUP($B40,RawData,O$4,FALSE)*VLOOKUP(O$3,ConversionFactors,2,FALSE)*1","-VLOOKUP($B40,RawData,P$4,FALSE)*VLOOKUP(P$3,ConversionFactors,2,FALSE)*1","-VLOOKUP($B40,RawData,Q$4,FALSE)*VLOOKUP(Q$3,ConversionFactors,2,FALSE)*1","-VLOOKUP($B40,RawData,R$4,FALSE)*VLOOKUP(R$3,ConversionFactors,2,FALSE)*1",0,"-VLOOKUP($B40,RawData,T$4,FALSE)*VLOOKUP(T$3,ConversionFactors,$D40,FALSE)/1000","-VLOOKUP($B40,RawData,U$4,FALSE)*VLOOKUP(U$3,ConversionFactors,$D40,FALSE)/1000","-VLOOKUP($B40,RawData,V$4,FALSE)*VLOOKUP(V$3,ConversionFactors,$D40,FALSE)/1000","-VLOOKUP($B40,RawData,W$4,FALSE)*VLOOKUP(W$3,ConversionFactors,2,FALSE)/1000","-VLOOKUP($B40,RawData,X$4,FALSE)*VLOOKUP(X$3,ConversionFactors,2,FALSE)/1000","-VLOOKUP($B40,RawData,Y$4,FALSE)*VLOOKUP(Y$3,ConversionFactors,2,FALSE)/1000","-VLOOKUP($B40,RawData,Z$4,FALSE)*VLOOKUP(Z$3,ConversionFactors,2,FALSE)/1000","-VLOOKUP($B40,RawData,AA$4,FALSE)*VLOOKUP(AA$3,ConversionFactors,2,FALSE)/1000","-VLOOKUP($B40,RawData,AB$4,FALSE)*VLOOKUP(AB$3,ConversionFactors,2,FALSE)/1000","-VLOOKUP($B40,RawData,AC$4,FALSE)*VLOOKUP(AC$3,ConversionFactors,2,FALSE)/1000","-VLOOKUP($B40,RawData,AD$4,FALSE)*VLOOKUP(AD$3,ConversionFactors,2,FALSE)/1000","-VLOOKUP($B40,RawData,AE$4,FALSE)*VLOOKUP(AE$3,ConversionFactors,2,FALSE)/1000","-VLOOKUP($B40,RawData,AF$4,FALSE)*VLOOKUP(AF$3,ConversionFactors,2,FALSE)/1000","-VLOOKUP($B40,RawData,AG$4,FALSE)*VLOOKUP(AG$3,ConversionFactors,2,FALSE)/1000","-VLOOKUP($B40,RawData,AH$4,FALSE)*VLOOKUP(AH$3,ConversionFactors,2,FALSE)/1000","-VLOOKUP($B40,RawData,AI$4,FALSE)*VLOOKUP(AI$3,ConversionFactors,2,FALSE)/1000","-VLOOKUP($B40,RawData,AJ$4,FALSE)*VLOOKUP(AJ$3,ConversionFactors,2,FALSE)/1000","-VLOOKUP($B40,RawData,AK$4,FALSE)*VLOOKUP(AK$3,ConversionFactors,2,FALSE)/1000","-VLOOKUP($B40,RawData,AL$4,FALSE)*VLOOKUP(AL$3,ConversionFactors,2,FALSE)/1000","-VLOOKUP($B40,RawData,AM$4,FALSE)*VLOOKUP(AM$3,ConversionFactors,2,FALSE)/1000","-VLOOKUP($B40,RawData,AN$4,FALSE)*VLOOKUP(AN$3,ConversionFactors,2,FALSE)/1000","-VLOOKUP($B40,RawData,AO$4,FALSE)*VLOOKUP(AO$3,ConversionFactors,2,FALSE)/1000","-VLOOKUP($B40,RawData,AP$4,FALSE)*VLOOKUP(AP$3,ConversionFactors,2,FALSE)/1000","-VLOOKUP($B40,RawData,AQ$4,FALSE)*VLOOKUP(AQ$3,ConversionFactors,2,FALSE)/1000","-VLOOKUP($B40,RawData,AR$4,FALSE)*VLOOKUP(AR$3,ConversionFactors,2,FALSE)/1000","-VLOOKUP($B40,RawData,AS$4,FALSE)*VLOOKUP(AS$3,ConversionFactors,2,FALSE)*1","-VLOOKUP($B40,RawData,AT$4,FALSE)*1","-VLOOKUP($B40,RawData,AU$4,FALSE)*1","-VLOOKUP($B40,RawData,AV$4,FALSE)*1","-VLOOKUP($B40,RawData,AW$4,FALSE)*1","-VLOOKUP($B40,RawData,AX$4,FALSE)*1","-VLOOKUP($B40,RawData,AY$4,FALSE)*VLOOKUP(AY$3,ConversionFactors,2,FALSE)/1000","-VLOOKUP($B40,RawData,AZ$4,FALSE)*VLOOKUP(AZ$3,ConversionFactors,2,FALSE)/1000","-VLOOKUP($B40,RawData,BA$4,FALSE)*VLOOKUP(BA$3,ConversionFactors,2,FALSE)/1000","-VLOOKUP($B40,RawData,BB$4,FALSE)*VLOOKUP(BB$3,ConversionFactors,2,FALSE)/1000","-VLOOKUP($B40,RawData,BC$4,FALSE)*1","-VLOOKUP($B40,RawData,BD$4,FALSE)*VLOOKUP(BD$3,ConversionFactors,2,FALSE)/1000",0,0,"-VLOOKUP($B40,RawData,BG$4,FALSE)*1",0,"-VLOOKUP($B40,RawData,BI$4,FALSE)*1",0,0,0,"-VLOOKUP($B40,RawData,BM$4,FALSE)*3.6","-VLOOKUP($B40,RawData,BN$4,FALSE)*1",0]
[{"$f":"EGASWKS","v":"Gas works"},"EGASWKS","NOTHER",16,0,0,0,0,0,0,0,0,0,0,0,0,0,0,0,0,0,0,0,0,0,0,0,0,0,0,0,0,0,0,0,0,0,0,0,0,0,0,0,0,0,0,0,0,0,0,0,0,0,0,0,0,0,0,0,0,0,0,0,0,0,0,0,0,null,null,null,null,null,null,null,null,null,null,"EGASWKS","-VLOOKUP($B41,RawData,E$4,FALSE)*VLOOKUP(E$3,ConversionFactors,$D41,FALSE)/1000","-VLOOKUP($B41,RawData,F$4,FALSE)*VLOOKUP(F$3,ConversionFactors,$D41,FALSE)/1000","-VLOOKUP($B41,RawData,G$4,FALSE)*VLOOKUP(G$3,ConversionFactors,$D41,FALSE)/1000","-VLOOKUP($B41,RawData,H$4,FALSE)*VLOOKUP(H$3,ConversionFactors,$D41,FALSE)/1000","-VLOOKUP($B41,RawData,I$4,FALSE)*VLOOKUP(I$3,ConversionFactors,$D41,FALSE)/1000","-VLOOKUP($B41,RawData,J$4,FALSE)*VLOOKUP(J$3,ConversionFactors,$D41,FALSE)/1000","-VLOOKUP($B41,RawData,K$4,FALSE)*VLOOKUP(K$3,ConversionFactors,$D41,FALSE)/1000","-VLOOKUP($B41,RawData,L$4,FALSE)*VLOOKUP(L$3,ConversionFactors,$D41,FALSE)/1000","-VLOOKUP($B41,RawData,M$4,FALSE)*VLOOKUP(M$3,ConversionFactors,$D41,FALSE)/1000","-VLOOKUP($B41,RawData,N$4,FALSE)*VLOOKUP(N$3,ConversionFactors,$D41,FALSE)/1000","-VLOOKUP($B41,RawData,O$4,FALSE)*VLOOKUP(O$3,ConversionFactors,2,FALSE)*1","-VLOOKUP($B41,RawData,P$4,FALSE)*VLOOKUP(P$3,ConversionFactors,2,FALSE)*1","-VLOOKUP($B41,RawData,Q$4,FALSE)*VLOOKUP(Q$3,ConversionFactors,2,FALSE)*1","-VLOOKUP($B41,RawData,R$4,FALSE)*VLOOKUP(R$3,ConversionFactors,2,FALSE)*1",0,"-VLOOKUP($B41,RawData,T$4,FALSE)*VLOOKUP(T$3,ConversionFactors,$D41,FALSE)/1000","-VLOOKUP($B41,RawData,U$4,FALSE)*VLOOKUP(U$3,ConversionFactors,$D41,FALSE)/1000","-VLOOKUP($B41,RawData,V$4,FALSE)*VLOOKUP(V$3,ConversionFactors,$D41,FALSE)/1000","-VLOOKUP($B41,RawData,W$4,FALSE)*VLOOKUP(W$3,ConversionFactors,2,FALSE)/1000","-VLOOKUP($B41,RawData,X$4,FALSE)*VLOOKUP(X$3,ConversionFactors,2,FALSE)/1000","-VLOOKUP($B41,RawData,Y$4,FALSE)*VLOOKUP(Y$3,ConversionFactors,2,FALSE)/1000","-VLOOKUP($B41,RawData,Z$4,FALSE)*VLOOKUP(Z$3,ConversionFactors,2,FALSE)/1000","-VLOOKUP($B41,RawData,AA$4,FALSE)*VLOOKUP(AA$3,ConversionFactors,2,FALSE)/1000","-VLOOKUP($B41,RawData,AB$4,FALSE)*VLOOKUP(AB$3,ConversionFactors,2,FALSE)/1000","-VLOOKUP($B41,RawData,AC$4,FALSE)*VLOOKUP(AC$3,ConversionFactors,2,FALSE)/1000","-VLOOKUP($B41,RawData,AD$4,FALSE)*VLOOKUP(AD$3,ConversionFactors,2,FALSE)/1000","-VLOOKUP($B41,RawData,AE$4,FALSE)*VLOOKUP(AE$3,ConversionFactors,2,FALSE)/1000","-VLOOKUP($B41,RawData,AF$4,FALSE)*VLOOKUP(AF$3,ConversionFactors,2,FALSE)/1000","-VLOOKUP($B41,RawData,AG$4,FALSE)*VLOOKUP(AG$3,ConversionFactors,2,FALSE)/1000","-VLOOKUP($B41,RawData,AH$4,FALSE)*VLOOKUP(AH$3,ConversionFactors,2,FALSE)/1000","-VLOOKUP($B41,RawData,AI$4,FALSE)*VLOOKUP(AI$3,ConversionFactors,2,FALSE)/1000","-VLOOKUP($B41,RawData,AJ$4,FALSE)*VLOOKUP(AJ$3,ConversionFactors,2,FALSE)/1000","-VLOOKUP($B41,RawData,AK$4,FALSE)*VLOOKUP(AK$3,ConversionFactors,2,FALSE)/1000","-VLOOKUP($B41,RawData,AL$4,FALSE)*VLOOKUP(AL$3,ConversionFactors,2,FALSE)/1000","-VLOOKUP($B41,RawData,AM$4,FALSE)*VLOOKUP(AM$3,ConversionFactors,2,FALSE)/1000","-VLOOKUP($B41,RawData,AN$4,FALSE)*VLOOKUP(AN$3,ConversionFactors,2,FALSE)/1000","-VLOOKUP($B41,RawData,AO$4,FALSE)*VLOOKUP(AO$3,ConversionFactors,2,FALSE)/1000","-VLOOKUP($B41,RawData,AP$4,FALSE)*VLOOKUP(AP$3,ConversionFactors,2,FALSE)/1000","-VLOOKUP($B41,RawData,AQ$4,FALSE)*VLOOKUP(AQ$3,ConversionFactors,2,FALSE)/1000","-VLOOKUP($B41,RawData,AR$4,FALSE)*VLOOKUP(AR$3,ConversionFactors,2,FALSE)/1000","-VLOOKUP($B41,RawData,AS$4,FALSE)*VLOOKUP(AS$3,ConversionFactors,2,FALSE)*1","-VLOOKUP($B41,RawData,AT$4,FALSE)*1","-VLOOKUP($B41,RawData,AU$4,FALSE)*1","-VLOOKUP($B41,RawData,AV$4,FALSE)*1","-VLOOKUP($B41,RawData,AW$4,FALSE)*1","-VLOOKUP($B41,RawData,AX$4,FALSE)*1","-VLOOKUP($B41,RawData,AY$4,FALSE)*VLOOKUP(AY$3,ConversionFactors,2,FALSE)/1000","-VLOOKUP($B41,RawData,AZ$4,FALSE)*VLOOKUP(AZ$3,ConversionFactors,2,FALSE)/1000","-VLOOKUP($B41,RawData,BA$4,FALSE)*VLOOKUP(BA$3,ConversionFactors,2,FALSE)/1000","-VLOOKUP($B41,RawData,BB$4,FALSE)*VLOOKUP(BB$3,ConversionFactors,2,FALSE)/1000","-VLOOKUP($B41,RawData,BC$4,FALSE)*1","-VLOOKUP($B41,RawData,BD$4,FALSE)*VLOOKUP(BD$3,ConversionFactors,2,FALSE)/1000",0,0,"-VLOOKUP($B41,RawData,BG$4,FALSE)*1",0,"-VLOOKUP($B41,RawData,BI$4,FALSE)*1",0,0,0,"-VLOOKUP($B41,RawData,BM$4,FALSE)*3.6","-VLOOKUP($B41,RawData,BN$4,FALSE)*1",0]
[{"$f":"EBIOGAS","v":"Gasification plants for biogases"},"EBIOGAS","NOTHER",16,0,0,0,0,0,0,0,0,0,0,0,0,0,0,0,0,0,0,0,0,0,0,0,0,0,0,0,0,0,0,0,0,0,0,0,0,0,0,0,0,0,0,0,0,0,0,0,0,0,0,0,0,0,0,0,0,0,0,0,0,0,0,0,0,null,null,null,null,null,null,null,null,null,null,"EBIOGAS","-VLOOKUP($B42,RawData,E$4,FALSE)*VLOOKUP(E$3,ConversionFactors,$D42,FALSE)/1000","-VLOOKUP($B42,RawData,F$4,FALSE)*VLOOKUP(F$3,ConversionFactors,$D42,FALSE)/1000","-VLOOKUP($B42,RawData,G$4,FALSE)*VLOOKUP(G$3,ConversionFactors,$D42,FALSE)/1000","-VLOOKUP($B42,RawData,H$4,FALSE)*VLOOKUP(H$3,ConversionFactors,$D42,FALSE)/1000","-VLOOKUP($B42,RawData,I$4,FALSE)*VLOOKUP(I$3,ConversionFactors,$D42,FALSE)/1000","-VLOOKUP($B42,RawData,J$4,FALSE)*VLOOKUP(J$3,ConversionFactors,$D42,FALSE)/1000","-VLOOKUP($B42,RawData,K$4,FALSE)*VLOOKUP(K$3,ConversionFactors,$D42,FALSE)/1000","-VLOOKUP($B42,RawData,L$4,FALSE)*VLOOKUP(L$3,ConversionFactors,$D42,FALSE)/1000","-VLOOKUP($B42,RawData,M$4,FALSE)*VLOOKUP(M$3,ConversionFactors,$D42,FALSE)/1000","-VLOOKUP($B42,RawData,N$4,FALSE)*VLOOKUP(N$3,ConversionFactors,$D42,FALSE)/1000","-VLOOKUP($B42,RawData,O$4,FALSE)*VLOOKUP(O$3,ConversionFactors,2,FALSE)*1","-VLOOKUP($B42,RawData,P$4,FALSE)*VLOOKUP(P$3,ConversionFactors,2,FALSE)*1","-VLOOKUP($B42,RawData,Q$4,FALSE)*VLOOKUP(Q$3,ConversionFactors,2,FALSE)*1","-VLOOKUP($B42,RawData,R$4,FALSE)*VLOOKUP(R$3,ConversionFactors,2,FALSE)*1",0,"-VLOOKUP($B42,RawData,T$4,FALSE)*VLOOKUP(T$3,ConversionFactors,$D42,FALSE)/1000","-VLOOKUP($B42,RawData,U$4,FALSE)*VLOOKUP(U$3,ConversionFactors,$D42,FALSE)/1000","-VLOOKUP($B42,RawData,V$4,FALSE)*VLOOKUP(V$3,ConversionFactors,$D42,FALSE)/1000","-VLOOKUP($B42,RawData,W$4,FALSE)*VLOOKUP(W$3,ConversionFactors,2,FALSE)/1000","-VLOOKUP($B42,RawData,X$4,FALSE)*VLOOKUP(X$3,ConversionFactors,2,FALSE)/1000","-VLOOKUP($B42,RawData,Y$4,FALSE)*VLOOKUP(Y$3,ConversionFactors,2,FALSE)/1000","-VLOOKUP($B42,RawData,Z$4,FALSE)*VLOOKUP(Z$3,ConversionFactors,2,FALSE)/1000","-VLOOKUP($B42,RawData,AA$4,FALSE)*VLOOKUP(AA$3,ConversionFactors,2,FALSE)/1000","-VLOOKUP($B42,RawData,AB$4,FALSE)*VLOOKUP(AB$3,ConversionFactors,2,FALSE)/1000","-VLOOKUP($B42,RawData,AC$4,FALSE)*VLOOKUP(AC$3,ConversionFactors,2,FALSE)/1000","-VLOOKUP($B42,RawData,AD$4,FALSE)*VLOOKUP(AD$3,ConversionFactors,2,FALSE)/1000","-VLOOKUP($B42,RawData,AE$4,FALSE)*VLOOKUP(AE$3,ConversionFactors,2,FALSE)/1000","-VLOOKUP($B42,RawData,AF$4,FALSE)*VLOOKUP(AF$3,ConversionFactors,2,FALSE)/1000","-VLOOKUP($B42,RawData,AG$4,FALSE)*VLOOKUP(AG$3,ConversionFactors,2,FALSE)/1000","-VLOOKUP($B42,RawData,AH$4,FALSE)*VLOOKUP(AH$3,ConversionFactors,2,FALSE)/1000","-VLOOKUP($B42,RawData,AI$4,FALSE)*VLOOKUP(AI$3,ConversionFactors,2,FALSE)/1000","-VLOOKUP($B42,RawData,AJ$4,FALSE)*VLOOKUP(AJ$3,ConversionFactors,2,FALSE)/1000","-VLOOKUP($B42,RawData,AK$4,FALSE)*VLOOKUP(AK$3,ConversionFactors,2,FALSE)/1000","-VLOOKUP($B42,RawData,AL$4,FALSE)*VLOOKUP(AL$3,ConversionFactors,2,FALSE)/1000","-VLOOKUP($B42,RawData,AM$4,FALSE)*VLOOKUP(AM$3,ConversionFactors,2,FALSE)/1000","-VLOOKUP($B42,RawData,AN$4,FALSE)*VLOOKUP(AN$3,ConversionFactors,2,FALSE)/1000","-VLOOKUP($B42,RawData,AO$4,FALSE)*VLOOKUP(AO$3,ConversionFactors,2,FALSE)/1000","-VLOOKUP($B42,RawData,AP$4,FALSE)*VLOOKUP(AP$3,ConversionFactors,2,FALSE)/1000","-VLOOKUP($B42,RawData,AQ$4,FALSE)*VLOOKUP(AQ$3,ConversionFactors,2,FALSE)/1000","-VLOOKUP($B42,RawData,AR$4,FALSE)*VLOOKUP(AR$3,ConversionFactors,2,FALSE)/1000","-VLOOKUP($B42,RawData,AS$4,FALSE)*VLOOKUP(AS$3,ConversionFactors,2,FALSE)*1","-VLOOKUP($B42,RawData,AT$4,FALSE)*1","-VLOOKUP($B42,RawData,AU$4,FALSE)*1","-VLOOKUP($B42,RawData,AV$4,FALSE)*1","-VLOOKUP($B42,RawData,AW$4,FALSE)*1","-VLOOKUP($B42,RawData,AX$4,FALSE)*1","-VLOOKUP($B42,RawData,AY$4,FALSE)*VLOOKUP(AY$3,ConversionFactors,2,FALSE)/1000","-VLOOKUP($B42,RawData,AZ$4,FALSE)*VLOOKUP(AZ$3,ConversionFactors,2,FALSE)/1000","-VLOOKUP($B42,RawData,BA$4,FALSE)*VLOOKUP(BA$3,ConversionFactors,2,FALSE)/1000","-VLOOKUP($B42,RawData,BB$4,FALSE)*VLOOKUP(BB$3,ConversionFactors,2,FALSE)/1000","-VLOOKUP($B42,RawData,BC$4,FALSE)*1","-VLOOKUP($B42,RawData,BD$4,FALSE)*VLOOKUP(BD$3,ConversionFactors,2,FALSE)/1000",0,0,"-VLOOKUP($B42,RawData,BG$4,FALSE)*1",0,"-VLOOKUP($B42,RawData,BI$4,FALSE)*1",0,0,0,"-VLOOKUP($B42,RawData,BM$4,FALSE)*3.6","-VLOOKUP($B42,RawData,BN$4,FALSE)*1",0]
[{"$f":"EBLASTFUR","v":"Blast furnaces"},"EBLASTFUR","NBLAST",8,0,0,0,0,0,0,0,0,0,0,0,0,0,0,0,0,0,0,0,0,0,0,0,0,0,0,0,0,0,0,0,0,0,0,0,0,0,0,0,0,0,0,0,0,0,0,0,0,0,0,0,0,0,0,0,0,0,0,0,0,0,0,0,0,null,null,null,null,null,null,null,null,null,null,"EBLASTFUR","-VLOOKUP($B43,RawData,E$4,FALSE)*VLOOKUP(E$3,ConversionFactors,$D43,FALSE)/1000","-VLOOKUP($B43,RawData,F$4,FALSE)*VLOOKUP(F$3,ConversionFactors,$D43,FALSE)/1000","-VLOOKUP($B43,RawData,G$4,FALSE)*VLOOKUP(G$3,ConversionFactors,$D43,FALSE)/1000","-VLOOKUP($B43,RawData,H$4,FALSE)*VLOOKUP(H$3,ConversionFactors,$D43,FALSE)/1000","-VLOOKUP($B43,RawData,I$4,FALSE)*VLOOKUP(I$3,ConversionFactors,$D43,FALSE)/1000","-VLOOKUP($B43,RawData,J$4,FALSE)*VLOOKUP(J$3,ConversionFactors,$D43,FALSE)/1000","-VLOOKUP($B43,RawData,K$4,FALSE)*VLOOKUP(K$3,ConversionFactors,$D43,FALSE)/1000","-VLOOKUP($B43,RawData,L$4,FALSE)*VLOOKUP(L$3,ConversionFactors,$D43,FALSE)/1000","-VLOOKUP($B43,RawData,M$4,FALSE)*VLOOKUP(M$3,ConversionFactors,$D43,FALSE)/1000","-VLOOKUP($B43,RawData,N$4,FALSE)*VLOOKUP(N$3,ConversionFactors,$D43,FALSE)/1000","-VLOOKUP($B43,RawData,O$4,FALSE)*VLOOKUP(O$3,ConversionFactors,2,FALSE)*1","-VLOOKUP($B43,RawData,P$4,FALSE)*VLOOKUP(P$3,ConversionFactors,2,FALSE)*1","-VLOOKUP($B43,RawData,Q$4,FALSE)*VLOOKUP(Q$3,ConversionFactors,2,FALSE)*1","-VLOOKUP($B43,RawData,R$4,FALSE)*VLOOKUP(R$3,ConversionFactors,2,FALSE)*1",0,"-VLOOKUP($B43,RawData,T$4,FALSE)*VLOOKUP(T$3,ConversionFactors,$D43,FALSE)/1000","-VLOOKUP($B43,RawData,U$4,FALSE)*VLOOKUP(U$3,ConversionFactors,$D43,FALSE)/1000","-VLOOKUP($B43,RawData,V$4,FALSE)*VLOOKUP(V$3,ConversionFactors,$D43,FALSE)/1000","-VLOOKUP($B43,RawData,W$4,FALSE)*VLOOKUP(W$3,ConversionFactors,2,FALSE)/1000","-VLOOKUP($B43,RawData,X$4,FALSE)*VLOOKUP(X$3,ConversionFactors,2,FALSE)/1000","-VLOOKUP($B43,RawData,Y$4,FALSE)*VLOOKUP(Y$3,ConversionFactors,2,FALSE)/1000","-VLOOKUP($B43,RawData,Z$4,FALSE)*VLOOKUP(Z$3,ConversionFactors,2,FALSE)/1000","-VLOOKUP($B43,RawData,AA$4,FALSE)*VLOOKUP(AA$3,ConversionFactors,2,FALSE)/1000","-VLOOKUP($B43,RawData,AB$4,FALSE)*VLOOKUP(AB$3,ConversionFactors,2,FALSE)/1000","-VLOOKUP($B43,RawData,AC$4,FALSE)*VLOOKUP(AC$3,ConversionFactors,2,FALSE)/1000","-VLOOKUP($B43,RawData,AD$4,FALSE)*VLOOKUP(AD$3,ConversionFactors,2,FALSE)/1000","-VLOOKUP($B43,RawData,AE$4,FALSE)*VLOOKUP(AE$3,ConversionFactors,2,FALSE)/1000","-VLOOKUP($B43,RawData,AF$4,FALSE)*VLOOKUP(AF$3,ConversionFactors,2,FALSE)/1000","-VLOOKUP($B43,RawData,AG$4,FALSE)*VLOOKUP(AG$3,ConversionFactors,2,FALSE)/1000","-VLOOKUP($B43,RawData,AH$4,FALSE)*VLOOKUP(AH$3,ConversionFactors,2,FALSE)/1000","-VLOOKUP($B43,RawData,AI$4,FALSE)*VLOOKUP(AI$3,ConversionFactors,2,FALSE)/1000","-VLOOKUP($B43,RawData,AJ$4,FALSE)*VLOOKUP(AJ$3,ConversionFactors,2,FALSE)/1000","-VLOOKUP($B43,RawData,AK$4,FALSE)*VLOOKUP(AK$3,ConversionFactors,2,FALSE)/1000","-VLOOKUP($B43,RawData,AL$4,FALSE)*VLOOKUP(AL$3,ConversionFactors,2,FALSE)/1000","-VLOOKUP($B43,RawData,AM$4,FALSE)*VLOOKUP(AM$3,ConversionFactors,2,FALSE)/1000","-VLOOKUP($B43,RawData,AN$4,FALSE)*VLOOKUP(AN$3,ConversionFactors,2,FALSE)/1000","-VLOOKUP($B43,RawData,AO$4,FALSE)*VLOOKUP(AO$3,ConversionFactors,2,FALSE)/1000","-VLOOKUP($B43,RawData,AP$4,FALSE)*VLOOKUP(AP$3,ConversionFactors,2,FALSE)/1000","-VLOOKUP($B43,RawData,AQ$4,FALSE)*VLOOKUP(AQ$3,ConversionFactors,2,FALSE)/1000","-VLOOKUP($B43,RawData,AR$4,FALSE)*VLOOKUP(AR$3,ConversionFactors,2,FALSE)/1000","-VLOOKUP($B43,RawData,AS$4,FALSE)*VLOOKUP(AS$3,ConversionFactors,2,FALSE)*1","-VLOOKUP($B43,RawData,AT$4,FALSE)*1","-VLOOKUP($B43,RawData,AU$4,FALSE)*1","-VLOOKUP($B43,RawData,AV$4,FALSE)*1","-VLOOKUP($B43,RawData,AW$4,FALSE)*1","-VLOOKUP($B43,RawData,AX$4,FALSE)*1","-VLOOKUP($B43,RawData,AY$4,FALSE)*VLOOKUP(AY$3,ConversionFactors,2,FALSE)/1000","-VLOOKUP($B43,RawData,AZ$4,FALSE)*VLOOKUP(AZ$3,ConversionFactors,2,FALSE)/1000","-VLOOKUP($B43,RawData,BA$4,FALSE)*VLOOKUP(BA$3,ConversionFactors,2,FALSE)/1000","-VLOOKUP($B43,RawData,BB$4,FALSE)*VLOOKUP(BB$3,ConversionFactors,2,FALSE)/1000","-VLOOKUP($B43,RawData,BC$4,FALSE)*1","-VLOOKUP($B43,RawData,BD$4,FALSE)*VLOOKUP(BD$3,ConversionFactors,2,FALSE)/1000",0,0,"-VLOOKUP($B43,RawData,BG$4,FALSE)*1",0,"-VLOOKUP($B43,RawData,BI$4,FALSE)*1",0,0,0,"-VLOOKUP($B43,RawData,BM$4,FALSE)*3.6","-VLOOKUP($B43,RawData,BN$4,FALSE)*1",0]
[{"$f":"EBKB","v":"BKB / peat briquette plants"},"EBKB","NOTHER",16,0,0,0,0,0,0,0,0,0,0,0,0,0,0,0,0,0,0,0,0,0,0,0,0,0,0,0,0,0,0,0,0,0,0,0,0,0,0,0,0,0,0,0,0,0,0,0,0,0,0,0,0,0,0,0,0,0,0,0,0,0,0,0,0,null,null,null,null,null,null,null,null,null,null,"EBKB","-VLOOKUP($B44,RawData,E$4,FALSE)*VLOOKUP(E$3,ConversionFactors,$D44,FALSE)/1000","-VLOOKUP($B44,RawData,F$4,FALSE)*VLOOKUP(F$3,ConversionFactors,$D44,FALSE)/1000","-VLOOKUP($B44,RawData,G$4,FALSE)*VLOOKUP(G$3,ConversionFactors,$D44,FALSE)/1000","-VLOOKUP($B44,RawData,H$4,FALSE)*VLOOKUP(H$3,ConversionFactors,$D44,FALSE)/1000","-VLOOKUP($B44,RawData,I$4,FALSE)*VLOOKUP(I$3,ConversionFactors,$D44,FALSE)/1000","-VLOOKUP($B44,RawData,J$4,FALSE)*VLOOKUP(J$3,ConversionFactors,$D44,FALSE)/1000","-VLOOKUP($B44,RawData,K$4,FALSE)*VLOOKUP(K$3,ConversionFactors,$D44,FALSE)/1000","-VLOOKUP($B44,RawData,L$4,FALSE)*VLOOKUP(L$3,ConversionFactors,$D44,FALSE)/1000","-VLOOKUP($B44,RawData,M$4,FALSE)*VLOOKUP(M$3,ConversionFactors,$D44,FALSE)/1000","-VLOOKUP($B44,RawData,N$4,FALSE)*VLOOKUP(N$3,ConversionFactors,$D44,FALSE)/1000","-VLOOKUP($B44,RawData,O$4,FALSE)*VLOOKUP(O$3,ConversionFactors,2,FALSE)*1","-VLOOKUP($B44,RawData,P$4,FALSE)*VLOOKUP(P$3,ConversionFactors,2,FALSE)*1","-VLOOKUP($B44,RawData,Q$4,FALSE)*VLOOKUP(Q$3,ConversionFactors,2,FALSE)*1","-VLOOKUP($B44,RawData,R$4,FALSE)*VLOOKUP(R$3,ConversionFactors,2,FALSE)*1",0,"-VLOOKUP($B44,RawData,T$4,FALSE)*VLOOKUP(T$3,ConversionFactors,$D44,FALSE)/1000","-VLOOKUP($B44,RawData,U$4,FALSE)*VLOOKUP(U$3,ConversionFactors,$D44,FALSE)/1000","-VLOOKUP($B44,RawData,V$4,FALSE)*VLOOKUP(V$3,ConversionFactors,$D44,FALSE)/1000","-VLOOKUP($B44,RawData,W$4,FALSE)*VLOOKUP(W$3,ConversionFactors,2,FALSE)/1000","-VLOOKUP($B44,RawData,X$4,FALSE)*VLOOKUP(X$3,ConversionFactors,2,FALSE)/1000","-VLOOKUP($B44,RawData,Y$4,FALSE)*VLOOKUP(Y$3,ConversionFactors,2,FALSE)/1000","-VLOOKUP($B44,RawData,Z$4,FALSE)*VLOOKUP(Z$3,ConversionFactors,2,FALSE)/1000","-VLOOKUP($B44,RawData,AA$4,FALSE)*VLOOKUP(AA$3,ConversionFactors,2,FALSE)/1000","-VLOOKUP($B44,RawData,AB$4,FALSE)*VLOOKUP(AB$3,ConversionFactors,2,FALSE)/1000","-VLOOKUP($B44,RawData,AC$4,FALSE)*VLOOKUP(AC$3,ConversionFactors,2,FALSE)/1000","-VLOOKUP($B44,RawData,AD$4,FALSE)*VLOOKUP(AD$3,ConversionFactors,2,FALSE)/1000","-VLOOKUP($B44,RawData,AE$4,FALSE)*VLOOKUP(AE$3,ConversionFactors,2,FALSE)/1000","-VLOOKUP($B44,RawData,AF$4,FALSE)*VLOOKUP(AF$3,ConversionFactors,2,FALSE)/1000","-VLOOKUP($B44,RawData,AG$4,FALSE)*VLOOKUP(AG$3,ConversionFactors,2,FALSE)/1000","-VLOOKUP($B44,RawData,AH$4,FALSE)*VLOOKUP(AH$3,ConversionFactors,2,FALSE)/1000","-VLOOKUP($B44,RawData,AI$4,FALSE)*VLOOKUP(AI$3,ConversionFactors,2,FALSE)/1000","-VLOOKUP($B44,RawData,AJ$4,FALSE)*VLOOKUP(AJ$3,ConversionFactors,2,FALSE)/1000","-VLOOKUP($B44,RawData,AK$4,FALSE)*VLOOKUP(AK$3,ConversionFactors,2,FALSE)/1000","-VLOOKUP($B44,RawData,AL$4,FALSE)*VLOOKUP(AL$3,ConversionFactors,2,FALSE)/1000","-VLOOKUP($B44,RawData,AM$4,FALSE)*VLOOKUP(AM$3,ConversionFactors,2,FALSE)/1000","-VLOOKUP($B44,RawData,AN$4,FALSE)*VLOOKUP(AN$3,ConversionFactors,2,FALSE)/1000","-VLOOKUP($B44,RawData,AO$4,FALSE)*VLOOKUP(AO$3,ConversionFactors,2,FALSE)/1000","-VLOOKUP($B44,RawData,AP$4,FALSE)*VLOOKUP(AP$3,ConversionFactors,2,FALSE)/1000","-VLOOKUP($B44,RawData,AQ$4,FALSE)*VLOOKUP(AQ$3,ConversionFactors,2,FALSE)/1000","-VLOOKUP($B44,RawData,AR$4,FALSE)*VLOOKUP(AR$3,ConversionFactors,2,FALSE)/1000","-VLOOKUP($B44,RawData,AS$4,FALSE)*VLOOKUP(AS$3,ConversionFactors,2,FALSE)*1","-VLOOKUP($B44,RawData,AT$4,FALSE)*1","-VLOOKUP($B44,RawData,AU$4,FALSE)*1","-VLOOKUP($B44,RawData,AV$4,FALSE)*1","-VLOOKUP($B44,RawData,AW$4,FALSE)*1","-VLOOKUP($B44,RawData,AX$4,FALSE)*1","-VLOOKUP($B44,RawData,AY$4,FALSE)*VLOOKUP(AY$3,ConversionFactors,2,FALSE)/1000","-VLOOKUP($B44,RawData,AZ$4,FALSE)*VLOOKUP(AZ$3,ConversionFactors,2,FALSE)/1000","-VLOOKUP($B44,RawData,BA$4,FALSE)*VLOOKUP(BA$3,ConversionFactors,2,FALSE)/1000","-VLOOKUP($B44,RawData,BB$4,FALSE)*VLOOKUP(BB$3,ConversionFactors,2,FALSE)/1000","-VLOOKUP($B44,RawData,BC$4,FALSE)*1","-VLOOKUP($B44,RawData,BD$4,FALSE)*VLOOKUP(BD$3,ConversionFactors,2,FALSE)/1000",0,0,"-VLOOKUP($B44,RawData,BG$4,FALSE)*1",0,"-VLOOKUP($B44,RawData,BI$4,FALSE)*1",0,0,0,"-VLOOKUP($B44,RawData,BM$4,FALSE)*3.6","-VLOOKUP($B44,RawData,BN$4,FALSE)*1",0]
[{"$f":"EREFINER","v":"Oil refineries"},"EREFINER","NOTHER",16,0,0,0,0,0,0,0,0,0,0,0,0,0,0,0,0,0,0,0,0,0,0,0,0,0,0,0,0,0,0,0,0,0,0,0,0,0,0,0,0,0,0,0,0,0,0,0,0,0,0,0,0,0,0,0,0,0,0,0,0,0,0,0,0,null,null,null,null,null,null,null,null,null,null,"EREFINER","-VLOOKUP($B45,RawData,E$4,FALSE)*VLOOKUP(E$3,ConversionFactors,$D45,FALSE)/1000","-VLOOKUP($B45,RawData,F$4,FALSE)*VLOOKUP(F$3,ConversionFactors,$D45,FALSE)/1000","-VLOOKUP($B45,RawData,G$4,FALSE)*VLOOKUP(G$3,ConversionFactors,$D45,FALSE)/1000","-VLOOKUP($B45,RawData,H$4,FALSE)*VLOOKUP(H$3,ConversionFactors,$D45,FALSE)/1000","-VLOOKUP($B45,RawData,I$4,FALSE)*VLOOKUP(I$3,ConversionFactors,$D45,FALSE)/1000","-VLOOKUP($B45,RawData,J$4,FALSE)*VLOOKUP(J$3,ConversionFactors,$D45,FALSE)/1000","-VLOOKUP($B45,RawData,K$4,FALSE)*VLOOKUP(K$3,ConversionFactors,$D45,FALSE)/1000","-VLOOKUP($B45,RawData,L$4,FALSE)*VLOOKUP(L$3,ConversionFactors,$D45,FALSE)/1000","-VLOOKUP($B45,RawData,M$4,FALSE)*VLOOKUP(M$3,ConversionFactors,$D45,FALSE)/1000","-VLOOKUP($B45,RawData,N$4,FALSE)*VLOOKUP(N$3,ConversionFactors,$D45,FALSE)/1000","-VLOOKUP($B45,RawData,O$4,FALSE)*VLOOKUP(O$3,ConversionFactors,2,FALSE)*1","-VLOOKUP($B45,RawData,P$4,FALSE)*VLOOKUP(P$3,ConversionFactors,2,FALSE)*1","-VLOOKUP($B45,RawData,Q$4,FALSE)*VLOOKUP(Q$3,ConversionFactors,2,FALSE)*1","-VLOOKUP($B45,RawData,R$4,FALSE)*VLOOKUP(R$3,ConversionFactors,2,FALSE)*1",0,"-VLOOKUP($B45,RawData,T$4,FALSE)*VLOOKUP(T$3,ConversionFactors,$D45,FALSE)/1000","-VLOOKUP($B45,RawData,U$4,FALSE)*VLOOKUP(U$3,ConversionFactors,$D45,FALSE)/1000","-VLOOKUP($B45,RawData,V$4,FALSE)*VLOOKUP(V$3,ConversionFactors,$D45,FALSE)/1000","-VLOOKUP($B45,RawData,W$4,FALSE)*VLOOKUP(W$3,ConversionFactors,2,FALSE)/1000","-VLOOKUP($B45,RawData,X$4,FALSE)*VLOOKUP(X$3,ConversionFactors,2,FALSE)/1000","-VLOOKUP($B45,RawData,Y$4,FALSE)*VLOOKUP(Y$3,ConversionFactors,2,FALSE)/1000","-VLOOKUP($B45,RawData,Z$4,FALSE)*VLOOKUP(Z$3,ConversionFactors,2,FALSE)/1000","-VLOOKUP($B45,RawData,AA$4,FALSE)*VLOOKUP(AA$3,ConversionFactors,2,FALSE)/1000","-VLOOKUP($B45,RawData,AB$4,FALSE)*VLOOKUP(AB$3,ConversionFactors,2,FALSE)/1000","-VLOOKUP($B45,RawData,AC$4,FALSE)*VLOOKUP(AC$3,ConversionFactors,2,FALSE)/1000","-VLOOKUP($B45,RawData,AD$4,FALSE)*VLOOKUP(AD$3,ConversionFactors,2,FALSE)/1000","-VLOOKUP($B45,RawData,AE$4,FALSE)*VLOOKUP(AE$3,ConversionFactors,2,FALSE)/1000","-VLOOKUP($B45,RawData,AF$4,FALSE)*VLOOKUP(AF$3,ConversionFactors,2,FALSE)/1000","-VLOOKUP($B45,RawData,AG$4,FALSE)*VLOOKUP(AG$3,ConversionFactors,2,FALSE)/1000","-VLOOKUP($B45,RawData,AH$4,FALSE)*VLOOKUP(AH$3,ConversionFactors,2,FALSE)/1000","-VLOOKUP($B45,RawData,AI$4,FALSE)*VLOOKUP(AI$3,ConversionFactors,2,FALSE)/1000","-VLOOKUP($B45,RawData,AJ$4,FALSE)*VLOOKUP(AJ$3,ConversionFactors,2,FALSE)/1000","-VLOOKUP($B45,RawData,AK$4,FALSE)*VLOOKUP(AK$3,ConversionFactors,2,FALSE)/1000","-VLOOKUP($B45,RawData,AL$4,FALSE)*VLOOKUP(AL$3,ConversionFactors,2,FALSE)/1000","-VLOOKUP($B45,RawData,AM$4,FALSE)*VLOOKUP(AM$3,ConversionFactors,2,FALSE)/1000","-VLOOKUP($B45,RawData,AN$4,FALSE)*VLOOKUP(AN$3,ConversionFactors,2,FALSE)/1000","-VLOOKUP($B45,RawData,AO$4,FALSE)*VLOOKUP(AO$3,ConversionFactors,2,FALSE)/1000","-VLOOKUP($B45,RawData,AP$4,FALSE)*VLOOKUP(AP$3,ConversionFactors,2,FALSE)/1000","-VLOOKUP($B45,RawData,AQ$4,FALSE)*VLOOKUP(AQ$3,ConversionFactors,2,FALSE)/1000","-VLOOKUP($B45,RawData,AR$4,FALSE)*VLOOKUP(AR$3,ConversionFactors,2,FALSE)/1000","-VLOOKUP($B45,RawData,AS$4,FALSE)*VLOOKUP(AS$3,ConversionFactors,2,FALSE)*1","-VLOOKUP($B45,RawData,AT$4,FALSE)*1","-VLOOKUP($B45,RawData,AU$4,FALSE)*1","-VLOOKUP($B45,RawData,AV$4,FALSE)*1","-VLOOKUP($B45,RawData,AW$4,FALSE)*1","-VLOOKUP($B45,RawData,AX$4,FALSE)*1","-VLOOKUP($B45,RawData,AY$4,FALSE)*VLOOKUP(AY$3,ConversionFactors,2,FALSE)/1000","-VLOOKUP($B45,RawData,AZ$4,FALSE)*VLOOKUP(AZ$3,ConversionFactors,2,FALSE)/1000","-VLOOKUP($B45,RawData,BA$4,FALSE)*VLOOKUP(BA$3,ConversionFactors,2,FALSE)/1000","-VLOOKUP($B45,RawData,BB$4,FALSE)*VLOOKUP(BB$3,ConversionFactors,2,FALSE)/1000","-VLOOKUP($B45,RawData,BC$4,FALSE)*1","-VLOOKUP($B45,RawData,BD$4,FALSE)*VLOOKUP(BD$3,ConversionFactors,2,FALSE)/1000",0,0,"-VLOOKUP($B45,RawData,BG$4,FALSE)*1",0,"-VLOOKUP($B45,RawData,BI$4,FALSE)*1",0,0,0,"-VLOOKUP($B45,RawData,BM$4,FALSE)*3.6","-VLOOKUP($B45,RawData,BN$4,FALSE)*1",0]
[{"$f":"ECOALLIQ","v":"Coal liquefaction plants"},"ECOALLIQ","NOTHER",16,0,0,0,0,0,0,0,0,0,0,0,0,0,0,0,0,0,0,0,0,0,0,0,0,0,0,0,0,0,0,0,0,0,0,0,0,0,0,0,0,0,0,0,0,0,0,0,0,0,0,0,0,0,0,0,0,0,0,0,0,0,0,0,0,null,null,null,null,null,null,null,null,null,null,"ECOALLIQ","-VLOOKUP($B46,RawData,E$4,FALSE)*VLOOKUP(E$3,ConversionFactors,$D46,FALSE)/1000","-VLOOKUP($B46,RawData,F$4,FALSE)*VLOOKUP(F$3,ConversionFactors,$D46,FALSE)/1000","-VLOOKUP($B46,RawData,G$4,FALSE)*VLOOKUP(G$3,ConversionFactors,$D46,FALSE)/1000","-VLOOKUP($B46,RawData,H$4,FALSE)*VLOOKUP(H$3,ConversionFactors,$D46,FALSE)/1000","-VLOOKUP($B46,RawData,I$4,FALSE)*VLOOKUP(I$3,ConversionFactors,$D46,FALSE)/1000","-VLOOKUP($B46,RawData,J$4,FALSE)*VLOOKUP(J$3,ConversionFactors,$D46,FALSE)/1000","-VLOOKUP($B46,RawData,K$4,FALSE)*VLOOKUP(K$3,ConversionFactors,$D46,FALSE)/1000","-VLOOKUP($B46,RawData,L$4,FALSE)*VLOOKUP(L$3,ConversionFactors,$D46,FALSE)/1000","-VLOOKUP($B46,RawData,M$4,FALSE)*VLOOKUP(M$3,ConversionFactors,$D46,FALSE)/1000","-VLOOKUP($B46,RawData,N$4,FALSE)*VLOOKUP(N$3,ConversionFactors,$D46,FALSE)/1000","-VLOOKUP($B46,RawData,O$4,FALSE)*VLOOKUP(O$3,ConversionFactors,2,FALSE)*1","-VLOOKUP($B46,RawData,P$4,FALSE)*VLOOKUP(P$3,ConversionFactors,2,FALSE)*1","-VLOOKUP($B46,RawData,Q$4,FALSE)*VLOOKUP(Q$3,ConversionFactors,2,FALSE)*1","-VLOOKUP($B46,RawData,R$4,FALSE)*VLOOKUP(R$3,ConversionFactors,2,FALSE)*1",0,"-VLOOKUP($B46,RawData,T$4,FALSE)*VLOOKUP(T$3,ConversionFactors,$D46,FALSE)/1000","-VLOOKUP($B46,RawData,U$4,FALSE)*VLOOKUP(U$3,ConversionFactors,$D46,FALSE)/1000","-VLOOKUP($B46,RawData,V$4,FALSE)*VLOOKUP(V$3,ConversionFactors,$D46,FALSE)/1000","-VLOOKUP($B46,RawData,W$4,FALSE)*VLOOKUP(W$3,ConversionFactors,2,FALSE)/1000","-VLOOKUP($B46,RawData,X$4,FALSE)*VLOOKUP(X$3,ConversionFactors,2,FALSE)/1000","-VLOOKUP($B46,RawData,Y$4,FALSE)*VLOOKUP(Y$3,ConversionFactors,2,FALSE)/1000","-VLOOKUP($B46,RawData,Z$4,FALSE)*VLOOKUP(Z$3,ConversionFactors,2,FALSE)/1000","-VLOOKUP($B46,RawData,AA$4,FALSE)*VLOOKUP(AA$3,ConversionFactors,2,FALSE)/1000","-VLOOKUP($B46,RawData,AB$4,FALSE)*VLOOKUP(AB$3,ConversionFactors,2,FALSE)/1000","-VLOOKUP($B46,RawData,AC$4,FALSE)*VLOOKUP(AC$3,ConversionFactors,2,FALSE)/1000","-VLOOKUP($B46,RawData,AD$4,FALSE)*VLOOKUP(AD$3,ConversionFactors,2,FALSE)/1000","-VLOOKUP($B46,RawData,AE$4,FALSE)*VLOOKUP(AE$3,ConversionFactors,2,FALSE)/1000","-VLOOKUP($B46,RawData,AF$4,FALSE)*VLOOKUP(AF$3,ConversionFactors,2,FALSE)/1000","-VLOOKUP($B46,RawData,AG$4,FALSE)*VLOOKUP(AG$3,ConversionFactors,2,FALSE)/1000","-VLOOKUP($B46,RawData,AH$4,FALSE)*VLOOKUP(AH$3,ConversionFactors,2,FALSE)/1000","-VLOOKUP($B46,RawData,AI$4,FALSE)*VLOOKUP(AI$3,ConversionFactors,2,FALSE)/1000","-VLOOKUP($B46,RawData,AJ$4,FALSE)*VLOOKUP(AJ$3,ConversionFactors,2,FALSE)/1000","-VLOOKUP($B46,RawData,AK$4,FALSE)*VLOOKUP(AK$3,ConversionFactors,2,FALSE)/1000","-VLOOKUP($B46,RawData,AL$4,FALSE)*VLOOKUP(AL$3,ConversionFactors,2,FALSE)/1000","-VLOOKUP($B46,RawData,AM$4,FALSE)*VLOOKUP(AM$3,ConversionFactors,2,FALSE)/1000","-VLOOKUP($B46,RawData,AN$4,FALSE)*VLOOKUP(AN$3,ConversionFactors,2,FALSE)/1000","-VLOOKUP($B46,RawData,AO$4,FALSE)*VLOOKUP(AO$3,ConversionFactors,2,FALSE)/1000","-VLOOKUP($B46,RawData,AP$4,FALSE)*VLOOKUP(AP$3,ConversionFactors,2,FALSE)/1000","-VLOOKUP($B46,RawData,AQ$4,FALSE)*VLOOKUP(AQ$3,ConversionFactors,2,FALSE)/1000","-VLOOKUP($B46,RawData,AR$4,FALSE)*VLOOKUP(AR$3,ConversionFactors,2,FALSE)/1000","-VLOOKUP($B46,RawData,AS$4,FALSE)*VLOOKUP(AS$3,ConversionFactors,2,FALSE)*1","-VLOOKUP($B46,RawData,AT$4,FALSE)*1","-VLOOKUP($B46,RawData,AU$4,FALSE)*1","-VLOOKUP($B46,RawData,AV$4,FALSE)*1","-VLOOKUP($B46,RawData,AW$4,FALSE)*1","-VLOOKUP($B46,RawData,AX$4,FALSE)*1","-VLOOKUP($B46,RawData,AY$4,FALSE)*VLOOKUP(AY$3,ConversionFactors,2,FALSE)/1000","-VLOOKUP($B46,RawData,AZ$4,FALSE)*VLOOKUP(AZ$3,ConversionFactors,2,FALSE)/1000","-VLOOKUP($B46,RawData,BA$4,FALSE)*VLOOKUP(BA$3,ConversionFactors,2,FALSE)/1000","-VLOOKUP($B46,RawData,BB$4,FALSE)*VLOOKUP(BB$3,ConversionFactors,2,FALSE)/1000","-VLOOKUP($B46,RawData,BC$4,FALSE)*1","-VLOOKUP($B46,RawData,BD$4,FALSE)*VLOOKUP(BD$3,ConversionFactors,2,FALSE)/1000",0,0,"-VLOOKUP($B46,RawData,BG$4,FALSE)*1",0,"-VLOOKUP($B46,RawData,BI$4,FALSE)*1",0,0,0,"-VLOOKUP($B46,RawData,BM$4,FALSE)*3.6","-VLOOKUP($B46,RawData,BN$4,FALSE)*1",0]
[{"$f":"ELNG","v":"Liquefaction (LNG) / regasification plants"},"ELNG","NOTHER",16,{"$f":"-VLOOKUP($B47,RawData,E$4,FALSE)*VLOOKUP(E$3,ConversionFactors,$D47,FALSE)/1000","v":0},0,0,0,0,0,0,0,0,0,0,0,0,0,0,0,0,0,{"$f":"-VLOOKUP($B47,RawData,W$4,FALSE)*VLOOKUP(W$3,ConversionFactors,2,FALSE)/1000","v":0},0,0,0,0,0,0,0,0,0,{"$f":"-VLOOKUP($B47,RawData,AG$4,FALSE)*VLOOKUP(AG$3,ConversionFactors,2,FALSE)/1000","v":0},0,0,0,0,0,0,0,0,0,0,0,0,{"$f":"-VLOOKUP($B47,RawData,AT$4,FALSE)*1","v":0},0,0,0,0,0,0,0,0,0,0,0,0,0,0,0,0,0,0,0,0,0,0,null,null,null,null,null,null,null,null,null,null,"ELNG","-VLOOKUP($B47,RawData,E$4,FALSE)*VLOOKUP(E$3,ConversionFactors,$D47,FALSE)/1000","-VLOOKUP($B47,RawData,F$4,FALSE)*VLOOKUP(F$3,ConversionFactors,$D47,FALSE)/1000","-VLOOKUP($B47,RawData,G$4,FALSE)*VLOOKUP(G$3,ConversionFactors,$D47,FALSE)/1000","-VLOOKUP($B47,RawData,H$4,FALSE)*VLOOKUP(H$3,ConversionFactors,$D47,FALSE)/1000","-VLOOKUP($B47,RawData,I$4,FALSE)*VLOOKUP(I$3,ConversionFactors,$D47,FALSE)/1000","-VLOOKUP($B47,RawData,J$4,FALSE)*VLOOKUP(J$3,ConversionFactors,$D47,FALSE)/1000","-VLOOKUP($B47,RawData,K$4,FALSE)*VLOOKUP(K$3,ConversionFactors,$D47,FALSE)/1000","-VLOOKUP($B47,RawData,L$4,FALSE)*VLOOKUP(L$3,ConversionFactors,$D47,FALSE)/1000","-VLOOKUP($B47,RawData,M$4,FALSE)*VLOOKUP(M$3,ConversionFactors,$D47,FALSE)/1000","-VLOOKUP($B47,RawData,N$4,FALSE)*VLOOKUP(N$3,ConversionFactors,$D47,FALSE)/1000","-VLOOKUP($B47,RawData,O$4,FALSE)*VLOOKUP(O$3,ConversionFactors,2,FALSE)*1","-VLOOKUP($B47,RawData,P$4,FALSE)*VLOOKUP(P$3,ConversionFactors,2,FALSE)*1","-VLOOKUP($B47,RawData,Q$4,FALSE)*VLOOKUP(Q$3,ConversionFactors,2,FALSE)*1","-VLOOKUP($B47,RawData,R$4,FALSE)*VLOOKUP(R$3,ConversionFactors,2,FALSE)*1",0,"-VLOOKUP($B47,RawData,T$4,FALSE)*VLOOKUP(T$3,ConversionFactors,$D47,FALSE)/1000","-VLOOKUP($B47,RawData,U$4,FALSE)*VLOOKUP(U$3,ConversionFactors,$D47,FALSE)/1000","-VLOOKUP($B47,RawData,V$4,FALSE)*VLOOKUP(V$3,ConversionFactors,$D47,FALSE)/1000","-VLOOKUP($B47,RawData,W$4,FALSE)*VLOOKUP(W$3,ConversionFactors,2,FALSE)/1000","-VLOOKUP($B47,RawData,X$4,FALSE)*VLOOKUP(X$3,ConversionFactors,2,FALSE)/1000","-VLOOKUP($B47,RawData,Y$4,FALSE)*VLOOKUP(Y$3,ConversionFactors,2,FALSE)/1000","-VLOOKUP($B47,RawData,Z$4,FALSE)*VLOOKUP(Z$3,ConversionFactors,2,FALSE)/1000","-VLOOKUP($B47,RawData,AA$4,FALSE)*VLOOKUP(AA$3,ConversionFactors,2,FALSE)/1000","-VLOOKUP($B47,RawData,AB$4,FALSE)*VLOOKUP(AB$3,ConversionFactors,2,FALSE)/1000","-VLOOKUP($B47,RawData,AC$4,FALSE)*VLOOKUP(AC$3,ConversionFactors,2,FALSE)/1000","-VLOOKUP($B47,RawData,AD$4,FALSE)*VLOOKUP(AD$3,ConversionFactors,2,FALSE)/1000","-VLOOKUP($B47,RawData,AE$4,FALSE)*VLOOKUP(AE$3,ConversionFactors,2,FALSE)/1000","-VLOOKUP($B47,RawData,AF$4,FALSE)*VLOOKUP(AF$3,ConversionFactors,2,FALSE)/1000","-VLOOKUP($B47,RawData,AG$4,FALSE)*VLOOKUP(AG$3,ConversionFactors,2,FALSE)/1000","-VLOOKUP($B47,RawData,AH$4,FALSE)*VLOOKUP(AH$3,ConversionFactors,2,FALSE)/1000","-VLOOKUP($B47,RawData,AI$4,FALSE)*VLOOKUP(AI$3,ConversionFactors,2,FALSE)/1000","-VLOOKUP($B47,RawData,AJ$4,FALSE)*VLOOKUP(AJ$3,ConversionFactors,2,FALSE)/1000","-VLOOKUP($B47,RawData,AK$4,FALSE)*VLOOKUP(AK$3,ConversionFactors,2,FALSE)/1000","-VLOOKUP($B47,RawData,AL$4,FALSE)*VLOOKUP(AL$3,ConversionFactors,2,FALSE)/1000","-VLOOKUP($B47,RawData,AM$4,FALSE)*VLOOKUP(AM$3,ConversionFactors,2,FALSE)/1000","-VLOOKUP($B47,RawData,AN$4,FALSE)*VLOOKUP(AN$3,ConversionFactors,2,FALSE)/1000","-VLOOKUP($B47,RawData,AO$4,FALSE)*VLOOKUP(AO$3,ConversionFactors,2,FALSE)/1000","-VLOOKUP($B47,RawData,AP$4,FALSE)*VLOOKUP(AP$3,ConversionFactors,2,FALSE)/1000","-VLOOKUP($B47,RawData,AQ$4,FALSE)*VLOOKUP(AQ$3,ConversionFactors,2,FALSE)/1000","-VLOOKUP($B47,RawData,AR$4,FALSE)*VLOOKUP(AR$3,ConversionFactors,2,FALSE)/1000","-VLOOKUP($B47,RawData,AS$4,FALSE)*VLOOKUP(AS$3,ConversionFactors,2,FALSE)*1","-VLOOKUP($B47,RawData,AT$4,FALSE)*1","-VLOOKUP($B47,RawData,AU$4,FALSE)*1","-VLOOKUP($B47,RawData,AV$4,FALSE)*1","-VLOOKUP($B47,RawData,AW$4,FALSE)*1","-VLOOKUP($B47,RawData,AX$4,FALSE)*1","-VLOOKUP($B47,RawData,AY$4,FALSE)*VLOOKUP(AY$3,ConversionFactors,2,FALSE)/1000","-VLOOKUP($B47,RawData,AZ$4,FALSE)*VLOOKUP(AZ$3,ConversionFactors,2,FALSE)/1000","-VLOOKUP($B47,RawData,BA$4,FALSE)*VLOOKUP(BA$3,ConversionFactors,2,FALSE)/1000","-VLOOKUP($B47,RawData,BB$4,FALSE)*VLOOKUP(BB$3,ConversionFactors,2,FALSE)/1000","-VLOOKUP($B47,RawData,BC$4,FALSE)*1","-VLOOKUP($B47,RawData,BD$4,FALSE)*VLOOKUP(BD$3,ConversionFactors,2,FALSE)/1000",0,0,"-VLOOKUP($B47,RawData,BG$4,FALSE)*1",0,"-VLOOKUP($B47,RawData,BI$4,FALSE)*1",0,0,0,"-VLOOKUP($B47,RawData,BM$4,FALSE)*3.6","-VLOOKUP($B47,RawData,BN$4,FALSE)*1",0]
[{"$f":"EGTL","v":"Gas-to-liquids (GTL) plants"},"EGTL","NOTHER",16,0,0,0,0,0,0,0,0,0,0,0,0,0,0,0,0,0,0,0,0,0,0,0,0,0,0,0,0,0,0,0,0,0,0,0,0,0,0,0,0,0,0,0,0,0,0,0,0,0,0,0,0,0,0,0,0,0,0,0,0,0,0,0,0,null,null,null,null,null,null,null,null,null,null,"EGTL","-VLOOKUP($B48,RawData,E$4,FALSE)*VLOOKUP(E$3,ConversionFactors,$D48,FALSE)/1000","-VLOOKUP($B48,RawData,F$4,FALSE)*VLOOKUP(F$3,ConversionFactors,$D48,FALSE)/1000","-VLOOKUP($B48,RawData,G$4,FALSE)*VLOOKUP(G$3,ConversionFactors,$D48,FALSE)/1000","-VLOOKUP($B48,RawData,H$4,FALSE)*VLOOKUP(H$3,ConversionFactors,$D48,FALSE)/1000","-VLOOKUP($B48,RawData,I$4,FALSE)*VLOOKUP(I$3,ConversionFactors,$D48,FALSE)/1000","-VLOOKUP($B48,RawData,J$4,FALSE)*VLOOKUP(J$3,ConversionFactors,$D48,FALSE)/1000","-VLOOKUP($B48,RawData,K$4,FALSE)*VLOOKUP(K$3,ConversionFactors,$D48,FALSE)/1000","-VLOOKUP($B48,RawData,L$4,FALSE)*VLOOKUP(L$3,ConversionFactors,$D48,FALSE)/1000","-VLOOKUP($B48,RawData,M$4,FALSE)*VLOOKUP(M$3,ConversionFactors,$D48,FALSE)/1000","-VLOOKUP($B48,RawData,N$4,FALSE)*VLOOKUP(N$3,ConversionFactors,$D48,FALSE)/1000","-VLOOKUP($B48,RawData,O$4,FALSE)*VLOOKUP(O$3,ConversionFactors,2,FALSE)*1","-VLOOKUP($B48,RawData,P$4,FALSE)*VLOOKUP(P$3,ConversionFactors,2,FALSE)*1","-VLOOKUP($B48,RawData,Q$4,FALSE)*VLOOKUP(Q$3,ConversionFactors,2,FALSE)*1","-VLOOKUP($B48,RawData,R$4,FALSE)*VLOOKUP(R$3,ConversionFactors,2,FALSE)*1",0,"-VLOOKUP($B48,RawData,T$4,FALSE)*VLOOKUP(T$3,ConversionFactors,$D48,FALSE)/1000","-VLOOKUP($B48,RawData,U$4,FALSE)*VLOOKUP(U$3,ConversionFactors,$D48,FALSE)/1000","-VLOOKUP($B48,RawData,V$4,FALSE)*VLOOKUP(V$3,ConversionFactors,$D48,FALSE)/1000","-VLOOKUP($B48,RawData,W$4,FALSE)*VLOOKUP(W$3,ConversionFactors,2,FALSE)/1000","-VLOOKUP($B48,RawData,X$4,FALSE)*VLOOKUP(X$3,ConversionFactors,2,FALSE)/1000","-VLOOKUP($B48,RawData,Y$4,FALSE)*VLOOKUP(Y$3,ConversionFactors,2,FALSE)/1000","-VLOOKUP($B48,RawData,Z$4,FALSE)*VLOOKUP(Z$3,ConversionFactors,2,FALSE)/1000","-VLOOKUP($B48,RawData,AA$4,FALSE)*VLOOKUP(AA$3,ConversionFactors,2,FALSE)/1000","-VLOOKUP($B48,RawData,AB$4,FALSE)*VLOOKUP(AB$3,ConversionFactors,2,FALSE)/1000","-VLOOKUP($B48,RawData,AC$4,FALSE)*VLOOKUP(AC$3,ConversionFactors,2,FALSE)/1000","-VLOOKUP($B48,RawData,AD$4,FALSE)*VLOOKUP(AD$3,ConversionFactors,2,FALSE)/1000","-VLOOKUP($B48,RawData,AE$4,FALSE)*VLOOKUP(AE$3,ConversionFactors,2,FALSE)/1000","-VLOOKUP($B48,RawData,AF$4,FALSE)*VLOOKUP(AF$3,ConversionFactors,2,FALSE)/1000","-VLOOKUP($B48,RawData,AG$4,FALSE)*VLOOKUP(AG$3,ConversionFactors,2,FALSE)/1000","-VLOOKUP($B48,RawData,AH$4,FALSE)*VLOOKUP(AH$3,ConversionFactors,2,FALSE)/1000","-VLOOKUP($B48,RawData,AI$4,FALSE)*VLOOKUP(AI$3,ConversionFactors,2,FALSE)/1000","-VLOOKUP($B48,RawData,AJ$4,FALSE)*VLOOKUP(AJ$3,ConversionFactors,2,FALSE)/1000","-VLOOKUP($B48,RawData,AK$4,FALSE)*VLOOKUP(AK$3,ConversionFactors,2,FALSE)/1000","-VLOOKUP($B48,RawData,AL$4,FALSE)*VLOOKUP(AL$3,ConversionFactors,2,FALSE)/1000","-VLOOKUP($B48,RawData,AM$4,FALSE)*VLOOKUP(AM$3,ConversionFactors,2,FALSE)/1000","-VLOOKUP($B48,RawData,AN$4,FALSE)*VLOOKUP(AN$3,ConversionFactors,2,FALSE)/1000","-VLOOKUP($B48,RawData,AO$4,FALSE)*VLOOKUP(AO$3,ConversionFactors,2,FALSE)/1000","-VLOOKUP($B48,RawData,AP$4,FALSE)*VLOOKUP(AP$3,ConversionFactors,2,FALSE)/1000","-VLOOKUP($B48,RawData,AQ$4,FALSE)*VLOOKUP(AQ$3,ConversionFactors,2,FALSE)/1000","-VLOOKUP($B48,RawData,AR$4,FALSE)*VLOOKUP(AR$3,ConversionFactors,2,FALSE)/1000","-VLOOKUP($B48,RawData,AS$4,FALSE)*VLOOKUP(AS$3,ConversionFactors,2,FALSE)*1","-VLOOKUP($B48,RawData,AT$4,FALSE)*1","-VLOOKUP($B48,RawData,AU$4,FALSE)*1","-VLOOKUP($B48,RawData,AV$4,FALSE)*1","-VLOOKUP($B48,RawData,AW$4,FALSE)*1","-VLOOKUP($B48,RawData,AX$4,FALSE)*1","-VLOOKUP($B48,RawData,AY$4,FALSE)*VLOOKUP(AY$3,ConversionFactors,2,FALSE)/1000","-VLOOKUP($B48,RawData,AZ$4,FALSE)*VLOOKUP(AZ$3,ConversionFactors,2,FALSE)/1000","-VLOOKUP($B48,RawData,BA$4,FALSE)*VLOOKUP(BA$3,ConversionFactors,2,FALSE)/1000","-VLOOKUP($B48,RawData,BB$4,FALSE)*VLOOKUP(BB$3,ConversionFactors,2,FALSE)/1000","-VLOOKUP($B48,RawData,BC$4,FALSE)*1","-VLOOKUP($B48,RawData,BD$4,FALSE)*VLOOKUP(BD$3,ConversionFactors,2,FALSE)/1000",0,0,"-VLOOKUP($B48,RawData,BG$4,FALSE)*1",0,"-VLOOKUP($B48,RawData,BI$4,FALSE)*1",0,0,0,"-VLOOKUP($B48,RawData,BM$4,FALSE)*3.6","-VLOOKUP($B48,RawData,BN$4,FALSE)*1",0]
[{"$f":"EPOWERPLT","v":"Own use in electricity, CHP and heat plants"},"EPOWERPLT","NMAIN",9,0,0,0,0,0,0,0,0,0,0,0,0,0,0,0,0,0,0,0,0,0,0,0,0,0,0,0,0,0,0,0,0,0,0,0,0,0,0,0,0,0,0,0,0,0,0,0,0,0,0,0,0,0,0,0,0,0,0,0,0,-1080,0,0,-1080,null,null,null,null,null,null,null,null,null,null,"EPOWERPLT","-VLOOKUP($B49,RawData,E$4,FALSE)*VLOOKUP(E$3,ConversionFactors,$D49,FALSE)/1000","-VLOOKUP($B49,RawData,F$4,FALSE)*VLOOKUP(F$3,ConversionFactors,$D49,FALSE)/1000","-VLOOKUP($B49,RawData,G$4,FALSE)*VLOOKUP(G$3,ConversionFactors,$D49,FALSE)/1000","-VLOOKUP($B49,RawData,H$4,FALSE)*VLOOKUP(H$3,ConversionFactors,$D49,FALSE)/1000","-VLOOKUP($B49,RawData,I$4,FALSE)*VLOOKUP(I$3,ConversionFactors,$D49,FALSE)/1000","-VLOOKUP($B49,RawData,J$4,FALSE)*VLOOKUP(J$3,ConversionFactors,$D49,FALSE)/1000","-VLOOKUP($B49,RawData,K$4,FALSE)*VLOOKUP(K$3,ConversionFactors,$D49,FALSE)/1000","-VLOOKUP($B49,RawData,L$4,FALSE)*VLOOKUP(L$3,ConversionFactors,$D49,FALSE)/1000","-VLOOKUP($B49,RawData,M$4,FALSE)*VLOOKUP(M$3,ConversionFactors,$D49,FALSE)/1000","-VLOOKUP($B49,RawData,N$4,FALSE)*VLOOKUP(N$3,ConversionFactors,$D49,FALSE)/1000","-VLOOKUP($B49,RawData,O$4,FALSE)*VLOOKUP(O$3,ConversionFactors,2,FALSE)*1","-VLOOKUP($B49,RawData,P$4,FALSE)*VLOOKUP(P$3,ConversionFactors,2,FALSE)*1","-VLOOKUP($B49,RawData,Q$4,FALSE)*VLOOKUP(Q$3,ConversionFactors,2,FALSE)*1","-VLOOKUP($B49,RawData,R$4,FALSE)*VLOOKUP(R$3,ConversionFactors,2,FALSE)*1",0,"-VLOOKUP($B49,RawData,T$4,FALSE)*VLOOKUP(T$3,ConversionFactors,$D49,FALSE)/1000","-VLOOKUP($B49,RawData,U$4,FALSE)*VLOOKUP(U$3,ConversionFactors,$D49,FALSE)/1000","-VLOOKUP($B49,RawData,V$4,FALSE)*VLOOKUP(V$3,ConversionFactors,$D49,FALSE)/1000","-VLOOKUP($B49,RawData,W$4,FALSE)*VLOOKUP(W$3,ConversionFactors,2,FALSE)/1000","-VLOOKUP($B49,RawData,X$4,FALSE)*VLOOKUP(X$3,ConversionFactors,2,FALSE)/1000","-VLOOKUP($B49,RawData,Y$4,FALSE)*VLOOKUP(Y$3,ConversionFactors,2,FALSE)/1000","-VLOOKUP($B49,RawData,Z$4,FALSE)*VLOOKUP(Z$3,ConversionFactors,2,FALSE)/1000","-VLOOKUP($B49,RawData,AA$4,FALSE)*VLOOKUP(AA$3,ConversionFactors,2,FALSE)/1000","-VLOOKUP($B49,RawData,AB$4,FALSE)*VLOOKUP(AB$3,ConversionFactors,2,FALSE)/1000","-VLOOKUP($B49,RawData,AC$4,FALSE)*VLOOKUP(AC$3,ConversionFactors,2,FALSE)/1000","-VLOOKUP($B49,RawData,AD$4,FALSE)*VLOOKUP(AD$3,ConversionFactors,2,FALSE)/1000","-VLOOKUP($B49,RawData,AE$4,FALSE)*VLOOKUP(AE$3,ConversionFactors,2,FALSE)/1000","-VLOOKUP($B49,RawData,AF$4,FALSE)*VLOOKUP(AF$3,ConversionFactors,2,FALSE)/1000","-VLOOKUP($B49,RawData,AG$4,FALSE)*VLOOKUP(AG$3,ConversionFactors,2,FALSE)/1000","-VLOOKUP($B49,RawData,AH$4,FALSE)*VLOOKUP(AH$3,ConversionFactors,2,FALSE)/1000","-VLOOKUP($B49,RawData,AI$4,FALSE)*VLOOKUP(AI$3,ConversionFactors,2,FALSE)/1000","-VLOOKUP($B49,RawData,AJ$4,FALSE)*VLOOKUP(AJ$3,ConversionFactors,2,FALSE)/1000","-VLOOKUP($B49,RawData,AK$4,FALSE)*VLOOKUP(AK$3,ConversionFactors,2,FALSE)/1000","-VLOOKUP($B49,RawData,AL$4,FALSE)*VLOOKUP(AL$3,ConversionFactors,2,FALSE)/1000","-VLOOKUP($B49,RawData,AM$4,FALSE)*VLOOKUP(AM$3,ConversionFactors,2,FALSE)/1000","-VLOOKUP($B49,RawData,AN$4,FALSE)*VLOOKUP(AN$3,ConversionFactors,2,FALSE)/1000","-VLOOKUP($B49,RawData,AO$4,FALSE)*VLOOKUP(AO$3,ConversionFactors,2,FALSE)/1000","-VLOOKUP($B49,RawData,AP$4,FALSE)*VLOOKUP(AP$3,ConversionFactors,2,FALSE)/1000","-VLOOKUP($B49,RawData,AQ$4,FALSE)*VLOOKUP(AQ$3,ConversionFactors,2,FALSE)/1000","-VLOOKUP($B49,RawData,AR$4,FALSE)*VLOOKUP(AR$3,ConversionFactors,2,FALSE)/1000","-VLOOKUP($B49,RawData,AS$4,FALSE)*VLOOKUP(AS$3,ConversionFactors,2,FALSE)*1","-VLOOKUP($B49,RawData,AT$4,FALSE)*1","-VLOOKUP($B49,RawData,AU$4,FALSE)*1","-VLOOKUP($B49,RawData,AV$4,FALSE)*1","-VLOOKUP($B49,RawData,AW$4,FALSE)*1","-VLOOKUP($B49,RawData,AX$4,FALSE)*1","-VLOOKUP($B49,RawData,AY$4,FALSE)*VLOOKUP(AY$3,ConversionFactors,2,FALSE)/1000","-VLOOKUP($B49,RawData,AZ$4,FALSE)*VLOOKUP(AZ$3,ConversionFactors,2,FALSE)/1000","-VLOOKUP($B49,RawData,BA$4,FALSE)*VLOOKUP(BA$3,ConversionFactors,2,FALSE)/1000","-VLOOKUP($B49,RawData,BB$4,FALSE)*VLOOKUP(BB$3,ConversionFactors,2,FALSE)/1000","-VLOOKUP($B49,RawData,BC$4,FALSE)*1","-VLOOKUP($B49,RawData,BD$4,FALSE)*VLOOKUP(BD$3,ConversionFactors,2,FALSE)/1000",0,0,"-VLOOKUP($B49,RawData,BG$4,FALSE)*1",0,"-VLOOKUP($B49,RawData,BI$4,FALSE)*1",0,0,0,"-VLOOKUP($B49,RawData,BM$4,FALSE)*3.6","-VLOOKUP($B49,RawData,BN$4,FALSE)*1",0]
[{"$f":"EPUMPST","v":"Used for pumped storage"},"EPUMPST","NOTHER",16,0,0,0,0,0,0,0,0,0,0,0,0,0,0,0,0,0,0,0,0,0,0,0,0,0,0,0,0,0,0,0,0,0,0,0,0,0,0,0,0,0,0,0,0,0,0,0,0,0,0,0,0,0,0,0,0,0,0,0,0,{"$f":"-(VLOOKUP($B50,RawData,BM$4,FALSE)-VLOOKUP(\"MHYDPUMP\",RawData,BF$4,FALSE)-VLOOKUP(\"AHYDPUMP\",RawData,BF$4,FALSE))*3.6","v":0},0,0,0,null,null,null,null,null,null,null,null,null,null,"EPUMPST","-VLOOKUP($B50,RawData,E$4,FALSE)*VLOOKUP(E$3,ConversionFactors,$D50,FALSE)/1000","-VLOOKUP($B50,RawData,F$4,FALSE)*VLOOKUP(F$3,ConversionFactors,$D50,FALSE)/1000","-VLOOKUP($B50,RawData,G$4,FALSE)*VLOOKUP(G$3,ConversionFactors,$D50,FALSE)/1000","-VLOOKUP($B50,RawData,H$4,FALSE)*VLOOKUP(H$3,ConversionFactors,$D50,FALSE)/1000","-VLOOKUP($B50,RawData,I$4,FALSE)*VLOOKUP(I$3,ConversionFactors,$D50,FALSE)/1000","-VLOOKUP($B50,RawData,J$4,FALSE)*VLOOKUP(J$3,ConversionFactors,$D50,FALSE)/1000","-VLOOKUP($B50,RawData,K$4,FALSE)*VLOOKUP(K$3,ConversionFactors,$D50,FALSE)/1000","-VLOOKUP($B50,RawData,L$4,FALSE)*VLOOKUP(L$3,ConversionFactors,$D50,FALSE)/1000","-VLOOKUP($B50,RawData,M$4,FALSE)*VLOOKUP(M$3,ConversionFactors,$D50,FALSE)/1000","-VLOOKUP($B50,RawData,N$4,FALSE)*VLOOKUP(N$3,ConversionFactors,$D50,FALSE)/1000","-VLOOKUP($B50,RawData,O$4,FALSE)*VLOOKUP(O$3,ConversionFactors,2,FALSE)*1","-VLOOKUP($B50,RawData,P$4,FALSE)*VLOOKUP(P$3,ConversionFactors,2,FALSE)*1","-VLOOKUP($B50,RawData,Q$4,FALSE)*VLOOKUP(Q$3,ConversionFactors,2,FALSE)*1","-VLOOKUP($B50,RawData,R$4,FALSE)*VLOOKUP(R$3,ConversionFactors,2,FALSE)*1",0,"-VLOOKUP($B50,RawData,T$4,FALSE)*VLOOKUP(T$3,ConversionFactors,$D50,FALSE)/1000","-VLOOKUP($B50,RawData,U$4,FALSE)*VLOOKUP(U$3,ConversionFactors,$D50,FALSE)/1000","-VLOOKUP($B50,RawData,V$4,FALSE)*VLOOKUP(V$3,ConversionFactors,$D50,FALSE)/1000","-VLOOKUP($B50,RawData,W$4,FALSE)*VLOOKUP(W$3,ConversionFactors,2,FALSE)/1000","-VLOOKUP($B50,RawData,X$4,FALSE)*VLOOKUP(X$3,ConversionFactors,2,FALSE)/1000","-VLOOKUP($B50,RawData,Y$4,FALSE)*VLOOKUP(Y$3,ConversionFactors,2,FALSE)/1000","-VLOOKUP($B50,RawData,Z$4,FALSE)*VLOOKUP(Z$3,ConversionFactors,2,FALSE)/1000","-VLOOKUP($B50,RawData,AA$4,FALSE)*VLOOKUP(AA$3,ConversionFactors,2,FALSE)/1000","-VLOOKUP($B50,RawData,AB$4,FALSE)*VLOOKUP(AB$3,ConversionFactors,2,FALSE)/1000","-VLOOKUP($B50,RawData,AC$4,FALSE)*VLOOKUP(AC$3,ConversionFactors,2,FALSE)/1000","-VLOOKUP($B50,RawData,AD$4,FALSE)*VLOOKUP(AD$3,ConversionFactors,2,FALSE)/1000","-VLOOKUP($B50,RawData,AE$4,FALSE)*VLOOKUP(AE$3,ConversionFactors,2,FALSE)/1000","-VLOOKUP($B50,RawData,AF$4,FALSE)*VLOOKUP(AF$3,ConversionFactors,2,FALSE)/1000","-VLOOKUP($B50,RawData,AG$4,FALSE)*VLOOKUP(AG$3,ConversionFactors,2,FALSE)/1000","-VLOOKUP($B50,RawData,AH$4,FALSE)*VLOOKUP(AH$3,ConversionFactors,2,FALSE)/1000","-VLOOKUP($B50,RawData,AI$4,FALSE)*VLOOKUP(AI$3,ConversionFactors,2,FALSE)/1000","-VLOOKUP($B50,RawData,AJ$4,FALSE)*VLOOKUP(AJ$3,ConversionFactors,2,FALSE)/1000","-VLOOKUP($B50,RawData,AK$4,FALSE)*VLOOKUP(AK$3,ConversionFactors,2,FALSE)/1000","-VLOOKUP($B50,RawData,AL$4,FALSE)*VLOOKUP(AL$3,ConversionFactors,2,FALSE)/1000","-VLOOKUP($B50,RawData,AM$4,FALSE)*VLOOKUP(AM$3,ConversionFactors,2,FALSE)/1000","-VLOOKUP($B50,RawData,AN$4,FALSE)*VLOOKUP(AN$3,ConversionFactors,2,FALSE)/1000","-VLOOKUP($B50,RawData,AO$4,FALSE)*VLOOKUP(AO$3,ConversionFactors,2,FALSE)/1000","-VLOOKUP($B50,RawData,AP$4,FALSE)*VLOOKUP(AP$3,ConversionFactors,2,FALSE)/1000","-VLOOKUP($B50,RawData,AQ$4,FALSE)*VLOOKUP(AQ$3,ConversionFactors,2,FALSE)/1000","-VLOOKUP($B50,RawData,AR$4,FALSE)*VLOOKUP(AR$3,ConversionFactors,2,FALSE)/1000","-VLOOKUP($B50,RawData,AS$4,FALSE)*VLOOKUP(AS$3,ConversionFactors,2,FALSE)*1","-VLOOKUP($B50,RawData,AT$4,FALSE)*1","-VLOOKUP($B50,RawData,AU$4,FALSE)*1","-VLOOKUP($B50,RawData,AV$4,FALSE)*1","-VLOOKUP($B50,RawData,AW$4,FALSE)*1","-VLOOKUP($B50,RawData,AX$4,FALSE)*1","-VLOOKUP($B50,RawData,AY$4,FALSE)*VLOOKUP(AY$3,ConversionFactors,2,FALSE)/1000","-VLOOKUP($B50,RawData,AZ$4,FALSE)*VLOOKUP(AZ$3,ConversionFactors,2,FALSE)/1000","-VLOOKUP($B50,RawData,BA$4,FALSE)*VLOOKUP(BA$3,ConversionFactors,2,FALSE)/1000","-VLOOKUP($B50,RawData,BB$4,FALSE)*VLOOKUP(BB$3,ConversionFactors,2,FALSE)/1000","-VLOOKUP($B50,RawData,BC$4,FALSE)*1","-VLOOKUP($B50,RawData,BD$4,FALSE)*VLOOKUP(BD$3,ConversionFactors,2,FALSE)/1000",0,0,"-VLOOKUP($B50,RawData,BG$4,FALSE)*1",0,"-VLOOKUP($B50,RawData,BI$4,FALSE)*1",0,0,0,"-(VLOOKUP($B50,RawData,BM$4,FALSE)-VLOOKUP(\"MHYDPUMP\",RawData,BF$4,FALSE)-VLOOKUP(\"AHYDPUMP\",RawData,BF$4,FALSE))*3.6","-VLOOKUP($B50,RawData,BN$4,FALSE)*1",0]
[{"$f":"ENUC","v":"Nuclear industry"},"ENUC","NOTHER",16,0,0,0,0,0,0,0,0,0,0,0,0,0,0,0,0,0,0,0,0,0,0,0,0,0,0,0,0,0,0,0,0,0,0,0,0,0,0,0,0,0,0,0,0,0,0,0,0,0,0,0,0,0,0,0,0,0,0,0,0,{"$f":"-VLOOKUP($B51,RawData,BM$4,FALSE)*3.6","v":0},0,0,0,null,null,null,null,null,null,null,null,null,null,"ENUC","-VLOOKUP($B51,RawData,E$4,FALSE)*VLOOKUP(E$3,ConversionFactors,$D51,FALSE)/1000","-VLOOKUP($B51,RawData,F$4,FALSE)*VLOOKUP(F$3,ConversionFactors,$D51,FALSE)/1000","-VLOOKUP($B51,RawData,G$4,FALSE)*VLOOKUP(G$3,ConversionFactors,$D51,FALSE)/1000","-VLOOKUP($B51,RawData,H$4,FALSE)*VLOOKUP(H$3,ConversionFactors,$D51,FALSE)/1000","-VLOOKUP($B51,RawData,I$4,FALSE)*VLOOKUP(I$3,ConversionFactors,$D51,FALSE)/1000","-VLOOKUP($B51,RawData,J$4,FALSE)*VLOOKUP(J$3,ConversionFactors,$D51,FALSE)/1000","-VLOOKUP($B51,RawData,K$4,FALSE)*VLOOKUP(K$3,ConversionFactors,$D51,FALSE)/1000","-VLOOKUP($B51,RawData,L$4,FALSE)*VLOOKUP(L$3,ConversionFactors,$D51,FALSE)/1000","-VLOOKUP($B51,RawData,M$4,FALSE)*VLOOKUP(M$3,ConversionFactors,$D51,FALSE)/1000","-VLOOKUP($B51,RawData,N$4,FALSE)*VLOOKUP(N$3,ConversionFactors,$D51,FALSE)/1000","-VLOOKUP($B51,RawData,O$4,FALSE)*VLOOKUP(O$3,ConversionFactors,2,FALSE)*1","-VLOOKUP($B51,RawData,P$4,FALSE)*VLOOKUP(P$3,ConversionFactors,2,FALSE)*1","-VLOOKUP($B51,RawData,Q$4,FALSE)*VLOOKUP(Q$3,ConversionFactors,2,FALSE)*1","-VLOOKUP($B51,RawData,R$4,FALSE)*VLOOKUP(R$3,ConversionFactors,2,FALSE)*1",0,"-VLOOKUP($B51,RawData,T$4,FALSE)*VLOOKUP(T$3,ConversionFactors,$D51,FALSE)/1000","-VLOOKUP($B51,RawData,U$4,FALSE)*VLOOKUP(U$3,ConversionFactors,$D51,FALSE)/1000","-VLOOKUP($B51,RawData,V$4,FALSE)*VLOOKUP(V$3,ConversionFactors,$D51,FALSE)/1000","-VLOOKUP($B51,RawData,W$4,FALSE)*VLOOKUP(W$3,ConversionFactors,2,FALSE)/1000","-VLOOKUP($B51,RawData,X$4,FALSE)*VLOOKUP(X$3,ConversionFactors,2,FALSE)/1000","-VLOOKUP($B51,RawData,Y$4,FALSE)*VLOOKUP(Y$3,ConversionFactors,2,FALSE)/1000","-VLOOKUP($B51,RawData,Z$4,FALSE)*VLOOKUP(Z$3,ConversionFactors,2,FALSE)/1000","-VLOOKUP($B51,RawData,AA$4,FALSE)*VLOOKUP(AA$3,ConversionFactors,2,FALSE)/1000","-VLOOKUP($B51,RawData,AB$4,FALSE)*VLOOKUP(AB$3,ConversionFactors,2,FALSE)/1000","-VLOOKUP($B51,RawData,AC$4,FALSE)*VLOOKUP(AC$3,ConversionFactors,2,FALSE)/1000","-VLOOKUP($B51,RawData,AD$4,FALSE)*VLOOKUP(AD$3,ConversionFactors,2,FALSE)/1000","-VLOOKUP($B51,RawData,AE$4,FALSE)*VLOOKUP(AE$3,ConversionFactors,2,FALSE)/1000","-VLOOKUP($B51,RawData,AF$4,FALSE)*VLOOKUP(AF$3,ConversionFactors,2,FALSE)/1000","-VLOOKUP($B51,RawData,AG$4,FALSE)*VLOOKUP(AG$3,ConversionFactors,2,FALSE)/1000","-VLOOKUP($B51,RawData,AH$4,FALSE)*VLOOKUP(AH$3,ConversionFactors,2,FALSE)/1000","-VLOOKUP($B51,RawData,AI$4,FALSE)*VLOOKUP(AI$3,ConversionFactors,2,FALSE)/1000","-VLOOKUP($B51,RawData,AJ$4,FALSE)*VLOOKUP(AJ$3,ConversionFactors,2,FALSE)/1000","-VLOOKUP($B51,RawData,AK$4,FALSE)*VLOOKUP(AK$3,ConversionFactors,2,FALSE)/1000","-VLOOKUP($B51,RawData,AL$4,FALSE)*VLOOKUP(AL$3,ConversionFactors,2,FALSE)/1000","-VLOOKUP($B51,RawData,AM$4,FALSE)*VLOOKUP(AM$3,ConversionFactors,2,FALSE)/1000","-VLOOKUP($B51,RawData,AN$4,FALSE)*VLOOKUP(AN$3,ConversionFactors,2,FALSE)/1000","-VLOOKUP($B51,RawData,AO$4,FALSE)*VLOOKUP(AO$3,ConversionFactors,2,FALSE)/1000","-VLOOKUP($B51,RawData,AP$4,FALSE)*VLOOKUP(AP$3,ConversionFactors,2,FALSE)/1000","-VLOOKUP($B51,RawData,AQ$4,FALSE)*VLOOKUP(AQ$3,ConversionFactors,2,FALSE)/1000","-VLOOKUP($B51,RawData,AR$4,FALSE)*VLOOKUP(AR$3,ConversionFactors,2,FALSE)/1000","-VLOOKUP($B51,RawData,AS$4,FALSE)*VLOOKUP(AS$3,ConversionFactors,2,FALSE)*1","-VLOOKUP($B51,RawData,AT$4,FALSE)*1","-VLOOKUP($B51,RawData,AU$4,FALSE)*1","-VLOOKUP($B51,RawData,AV$4,FALSE)*1","-VLOOKUP($B51,RawData,AW$4,FALSE)*1","-VLOOKUP($B51,RawData,AX$4,FALSE)*1","-VLOOKUP($B51,RawData,AY$4,FALSE)*VLOOKUP(AY$3,ConversionFactors,2,FALSE)/1000","-VLOOKUP($B51,RawData,AZ$4,FALSE)*VLOOKUP(AZ$3,ConversionFactors,2,FALSE)/1000","-VLOOKUP($B51,RawData,BA$4,FALSE)*VLOOKUP(BA$3,ConversionFactors,2,FALSE)/1000","-VLOOKUP($B51,RawData,BB$4,FALSE)*VLOOKUP(BB$3,ConversionFactors,2,FALSE)/1000","-VLOOKUP($B51,RawData,BC$4,FALSE)*1","-VLOOKUP($B51,RawData,BD$4,FALSE)*VLOOKUP(BD$3,ConversionFactors,2,FALSE)/1000",0,0,"-VLOOKUP($B51,RawData,BG$4,FALSE)*1",0,"-VLOOKUP($B51,RawData,BI$4,FALSE)*1",0,0,0,"-VLOOKUP($B51,RawData,BM$4,FALSE)*3.6","-VLOOKUP($B51,RawData,BN$4,FALSE)*1",0]
[{"$f":"ECHARCOAL","v":"Charcoal production plants"},"ECHARCOAL","NOTHER",16,0,0,0,0,0,0,0,0,0,0,0,0,0,0,0,0,0,0,0,0,0,0,0,0,0,0,0,0,0,0,0,0,0,0,0,0,0,0,0,0,0,0,0,0,0,0,0,0,0,0,0,0,0,0,0,0,0,0,0,0,{"$f":"-VLOOKUP($B52,RawData,BM$4,FALSE)*3.6","v":0},0,0,0,null,null,null,null,null,null,null,null,null,null,"ECHARCOAL","-VLOOKUP($B52,RawData,E$4,FALSE)*VLOOKUP(E$3,ConversionFactors,$D52,FALSE)/1000","-VLOOKUP($B52,RawData,F$4,FALSE)*VLOOKUP(F$3,ConversionFactors,$D52,FALSE)/1000","-VLOOKUP($B52,RawData,G$4,FALSE)*VLOOKUP(G$3,ConversionFactors,$D52,FALSE)/1000","-VLOOKUP($B52,RawData,H$4,FALSE)*VLOOKUP(H$3,ConversionFactors,$D52,FALSE)/1000","-VLOOKUP($B52,RawData,I$4,FALSE)*VLOOKUP(I$3,ConversionFactors,$D52,FALSE)/1000","-VLOOKUP($B52,RawData,J$4,FALSE)*VLOOKUP(J$3,ConversionFactors,$D52,FALSE)/1000","-VLOOKUP($B52,RawData,K$4,FALSE)*VLOOKUP(K$3,ConversionFactors,$D52,FALSE)/1000","-VLOOKUP($B52,RawData,L$4,FALSE)*VLOOKUP(L$3,ConversionFactors,$D52,FALSE)/1000","-VLOOKUP($B52,RawData,M$4,FALSE)*VLOOKUP(M$3,ConversionFactors,$D52,FALSE)/1000","-VLOOKUP($B52,RawData,N$4,FALSE)*VLOOKUP(N$3,ConversionFactors,$D52,FALSE)/1000","-VLOOKUP($B52,RawData,O$4,FALSE)*VLOOKUP(O$3,ConversionFactors,2,FALSE)*1","-VLOOKUP($B52,RawData,P$4,FALSE)*VLOOKUP(P$3,ConversionFactors,2,FALSE)*1","-VLOOKUP($B52,RawData,Q$4,FALSE)*VLOOKUP(Q$3,ConversionFactors,2,FALSE)*1","-VLOOKUP($B52,RawData,R$4,FALSE)*VLOOKUP(R$3,ConversionFactors,2,FALSE)*1",0,"-VLOOKUP($B52,RawData,T$4,FALSE)*VLOOKUP(T$3,ConversionFactors,$D52,FALSE)/1000","-VLOOKUP($B52,RawData,U$4,FALSE)*VLOOKUP(U$3,ConversionFactors,$D52,FALSE)/1000","-VLOOKUP($B52,RawData,V$4,FALSE)*VLOOKUP(V$3,ConversionFactors,$D52,FALSE)/1000","-VLOOKUP($B52,RawData,W$4,FALSE)*VLOOKUP(W$3,ConversionFactors,2,FALSE)/1000","-VLOOKUP($B52,RawData,X$4,FALSE)*VLOOKUP(X$3,ConversionFactors,2,FALSE)/1000","-VLOOKUP($B52,RawData,Y$4,FALSE)*VLOOKUP(Y$3,ConversionFactors,2,FALSE)/1000","-VLOOKUP($B52,RawData,Z$4,FALSE)*VLOOKUP(Z$3,ConversionFactors,2,FALSE)/1000","-VLOOKUP($B52,RawData,AA$4,FALSE)*VLOOKUP(AA$3,ConversionFactors,2,FALSE)/1000","-VLOOKUP($B52,RawData,AB$4,FALSE)*VLOOKUP(AB$3,ConversionFactors,2,FALSE)/1000","-VLOOKUP($B52,RawData,AC$4,FALSE)*VLOOKUP(AC$3,ConversionFactors,2,FALSE)/1000","-VLOOKUP($B52,RawData,AD$4,FALSE)*VLOOKUP(AD$3,ConversionFactors,2,FALSE)/1000","-VLOOKUP($B52,RawData,AE$4,FALSE)*VLOOKUP(AE$3,ConversionFactors,2,FALSE)/1000","-VLOOKUP($B52,RawData,AF$4,FALSE)*VLOOKUP(AF$3,ConversionFactors,2,FALSE)/1000","-VLOOKUP($B52,RawData,AG$4,FALSE)*VLOOKUP(AG$3,ConversionFactors,2,FALSE)/1000","-VLOOKUP($B52,RawData,AH$4,FALSE)*VLOOKUP(AH$3,ConversionFactors,2,FALSE)/1000","-VLOOKUP($B52,RawData,AI$4,FALSE)*VLOOKUP(AI$3,ConversionFactors,2,FALSE)/1000","-VLOOKUP($B52,RawData,AJ$4,FALSE)*VLOOKUP(AJ$3,ConversionFactors,2,FALSE)/1000","-VLOOKUP($B52,RawData,AK$4,FALSE)*VLOOKUP(AK$3,ConversionFactors,2,FALSE)/1000","-VLOOKUP($B52,RawData,AL$4,FALSE)*VLOOKUP(AL$3,ConversionFactors,2,FALSE)/1000","-VLOOKUP($B52,RawData,AM$4,FALSE)*VLOOKUP(AM$3,ConversionFactors,2,FALSE)/1000","-VLOOKUP($B52,RawData,AN$4,FALSE)*VLOOKUP(AN$3,ConversionFactors,2,FALSE)/1000","-VLOOKUP($B52,RawData,AO$4,FALSE)*VLOOKUP(AO$3,ConversionFactors,2,FALSE)/1000","-VLOOKUP($B52,RawData,AP$4,FALSE)*VLOOKUP(AP$3,ConversionFactors,2,FALSE)/1000","-VLOOKUP($B52,RawData,AQ$4,FALSE)*VLOOKUP(AQ$3,ConversionFactors,2,FALSE)/1000","-VLOOKUP($B52,RawData,AR$4,FALSE)*VLOOKUP(AR$3,ConversionFactors,2,FALSE)/1000","-VLOOKUP($B52,RawData,AS$4,FALSE)*VLOOKUP(AS$3,ConversionFactors,2,FALSE)*1","-VLOOKUP($B52,RawData,AT$4,FALSE)*1","-VLOOKUP($B52,RawData,AU$4,FALSE)*1","-VLOOKUP($B52,RawData,AV$4,FALSE)*1","-VLOOKUP($B52,RawData,AW$4,FALSE)*1","-VLOOKUP($B52,RawData,AX$4,FALSE)*1","-VLOOKUP($B52,RawData,AY$4,FALSE)*VLOOKUP(AY$3,ConversionFactors,2,FALSE)/1000","-VLOOKUP($B52,RawData,AZ$4,FALSE)*VLOOKUP(AZ$3,ConversionFactors,2,FALSE)/1000","-VLOOKUP($B52,RawData,BA$4,FALSE)*VLOOKUP(BA$3,ConversionFactors,2,FALSE)/1000","-VLOOKUP($B52,RawData,BB$4,FALSE)*VLOOKUP(BB$3,ConversionFactors,2,FALSE)/1000","-VLOOKUP($B52,RawData,BC$4,FALSE)*1","-VLOOKUP($B52,RawData,BD$4,FALSE)*VLOOKUP(BD$3,ConversionFactors,2,FALSE)/1000",0,0,"-VLOOKUP($B52,RawData,BG$4,FALSE)*1",0,"-VLOOKUP($B52,RawData,BI$4,FALSE)*1",0,0,0,"-VLOOKUP($B52,RawData,BM$4,FALSE)*3.6","-VLOOKUP($B52,RawData,BN$4,FALSE)*1",0]
[{"$f":"ENONSPEC","v":"Non-specified (Energy)"},"ENONSPEC","NOTHER",16,0,0,0,0,0,0,0,0,0,0,0,0,0,0,0,0,0,0,0,0,0,0,0,0,0,0,0,0,0,0,0,0,0,0,0,0,0,0,0,0,0,0,0,0,0,0,0,0,0,0,0,0,0,0,0,0,0,0,0,0,{"$f":"-VLOOKUP($B53,RawData,BM$4,FALSE)*3.6","v":0},0,0,0,null,null,null,null,null,null,null,null,null,null,"ENONSPEC","-VLOOKUP($B53,RawData,E$4,FALSE)*VLOOKUP(E$3,ConversionFactors,$D53,FALSE)/1000","-VLOOKUP($B53,RawData,F$4,FALSE)*VLOOKUP(F$3,ConversionFactors,$D53,FALSE)/1000","-VLOOKUP($B53,RawData,G$4,FALSE)*VLOOKUP(G$3,ConversionFactors,$D53,FALSE)/1000","-VLOOKUP($B53,RawData,H$4,FALSE)*VLOOKUP(H$3,ConversionFactors,$D53,FALSE)/1000","-VLOOKUP($B53,RawData,I$4,FALSE)*VLOOKUP(I$3,ConversionFactors,$D53,FALSE)/1000","-VLOOKUP($B53,RawData,J$4,FALSE)*VLOOKUP(J$3,ConversionFactors,$D53,FALSE)/1000","-VLOOKUP($B53,RawData,K$4,FALSE)*VLOOKUP(K$3,ConversionFactors,$D53,FALSE)/1000","-VLOOKUP($B53,RawData,L$4,FALSE)*VLOOKUP(L$3,ConversionFactors,$D53,FALSE)/1000","-VLOOKUP($B53,RawData,M$4,FALSE)*VLOOKUP(M$3,ConversionFactors,$D53,FALSE)/1000","-VLOOKUP($B53,RawData,N$4,FALSE)*VLOOKUP(N$3,ConversionFactors,$D53,FALSE)/1000","-VLOOKUP($B53,RawData,O$4,FALSE)*VLOOKUP(O$3,ConversionFactors,2,FALSE)*1","-VLOOKUP($B53,RawData,P$4,FALSE)*VLOOKUP(P$3,ConversionFactors,2,FALSE)*1","-VLOOKUP($B53,RawData,Q$4,FALSE)*VLOOKUP(Q$3,ConversionFactors,2,FALSE)*1","-VLOOKUP($B53,RawData,R$4,FALSE)*VLOOKUP(R$3,ConversionFactors,2,FALSE)*1",0,"-VLOOKUP($B53,RawData,T$4,FALSE)*VLOOKUP(T$3,ConversionFactors,$D53,FALSE)/1000","-VLOOKUP($B53,RawData,U$4,FALSE)*VLOOKUP(U$3,ConversionFactors,$D53,FALSE)/1000","-VLOOKUP($B53,RawData,V$4,FALSE)*VLOOKUP(V$3,ConversionFactors,$D53,FALSE)/1000","-VLOOKUP($B53,RawData,W$4,FALSE)*VLOOKUP(W$3,ConversionFactors,2,FALSE)/1000","-VLOOKUP($B53,RawData,X$4,FALSE)*VLOOKUP(X$3,ConversionFactors,2,FALSE)/1000","-VLOOKUP($B53,RawData,Y$4,FALSE)*VLOOKUP(Y$3,ConversionFactors,2,FALSE)/1000","-VLOOKUP($B53,RawData,Z$4,FALSE)*VLOOKUP(Z$3,ConversionFactors,2,FALSE)/1000","-VLOOKUP($B53,RawData,AA$4,FALSE)*VLOOKUP(AA$3,ConversionFactors,2,FALSE)/1000","-VLOOKUP($B53,RawData,AB$4,FALSE)*VLOOKUP(AB$3,ConversionFactors,2,FALSE)/1000","-VLOOKUP($B53,RawData,AC$4,FALSE)*VLOOKUP(AC$3,ConversionFactors,2,FALSE)/1000","-VLOOKUP($B53,RawData,AD$4,FALSE)*VLOOKUP(AD$3,ConversionFactors,2,FALSE)/1000","-VLOOKUP($B53,RawData,AE$4,FALSE)*VLOOKUP(AE$3,ConversionFactors,2,FALSE)/1000","-VLOOKUP($B53,RawData,AF$4,FALSE)*VLOOKUP(AF$3,ConversionFactors,2,FALSE)/1000","-VLOOKUP($B53,RawData,AG$4,FALSE)*VLOOKUP(AG$3,ConversionFactors,2,FALSE)/1000","-VLOOKUP($B53,RawData,AH$4,FALSE)*VLOOKUP(AH$3,ConversionFactors,2,FALSE)/1000","-VLOOKUP($B53,RawData,AI$4,FALSE)*VLOOKUP(AI$3,ConversionFactors,2,FALSE)/1000","-VLOOKUP($B53,RawData,AJ$4,FALSE)*VLOOKUP(AJ$3,ConversionFactors,2,FALSE)/1000","-VLOOKUP($B53,RawData,AK$4,FALSE)*VLOOKUP(AK$3,ConversionFactors,2,FALSE)/1000","-VLOOKUP($B53,RawData,AL$4,FALSE)*VLOOKUP(AL$3,ConversionFactors,2,FALSE)/1000","-VLOOKUP($B53,RawData,AM$4,FALSE)*VLOOKUP(AM$3,ConversionFactors,2,FALSE)/1000","-VLOOKUP($B53,RawData,AN$4,FALSE)*VLOOKUP(AN$3,ConversionFactors,2,FALSE)/1000","-VLOOKUP($B53,RawData,AO$4,FALSE)*VLOOKUP(AO$3,ConversionFactors,2,FALSE)/1000","-VLOOKUP($B53,RawData,AP$4,FALSE)*VLOOKUP(AP$3,ConversionFactors,2,FALSE)/1000","-VLOOKUP($B53,RawData,AQ$4,FALSE)*VLOOKUP(AQ$3,ConversionFactors,2,FALSE)/1000","-VLOOKUP($B53,RawData,AR$4,FALSE)*VLOOKUP(AR$3,ConversionFactors,2,FALSE)/1000","-VLOOKUP($B53,RawData,AS$4,FALSE)*VLOOKUP(AS$3,ConversionFactors,2,FALSE)*1","-VLOOKUP($B53,RawData,AT$4,FALSE)*1","-VLOOKUP($B53,RawData,AU$4,FALSE)*1","-VLOOKUP($B53,RawData,AV$4,FALSE)*1","-VLOOKUP($B53,RawData,AW$4,FALSE)*1","-VLOOKUP($B53,RawData,AX$4,FALSE)*1","-VLOOKUP($B53,RawData,AY$4,FALSE)*VLOOKUP(AY$3,ConversionFactors,2,FALSE)/1000","-VLOOKUP($B53,RawData,AZ$4,FALSE)*VLOOKUP(AZ$3,ConversionFactors,2,FALSE)/1000","-VLOOKUP($B53,RawData,BA$4,FALSE)*VLOOKUP(BA$3,ConversionFactors,2,FALSE)/1000","-VLOOKUP($B53,RawData,BB$4,FALSE)*VLOOKUP(BB$3,ConversionFactors,2,FALSE)/1000","-VLOOKUP($B53,RawData,BC$4,FALSE)*1","-VLOOKUP($B53,RawData,BD$4,FALSE)*VLOOKUP(BD$3,ConversionFactors,2,FALSE)/1000",0,0,"-VLOOKUP($B53,RawData,BG$4,FALSE)*1",0,"-VLOOKUP($B53,RawData,BI$4,FALSE)*1",0,0,0,"-VLOOKUP($B53,RawData,BM$4,FALSE)*3.6","-VLOOKUP($B53,RawData,BN$4,FALSE)*1",0]
[{"$f":"DISTLOSS","v":"Losses"},"DISTLOSS","NOTHER",16,0,0,0,0,0,0,0,0,0,0,{"$f":"(-VLOOKUP($B54,RawData,O$4,FALSE)*VLOOKUP(O$3,ConversionFactors,2,FALSE))*1","v":0},{"$f":"(-VLOOKUP($B54,RawData,P$4,FALSE)*VLOOKUP(P$3,ConversionFactors,2,FALSE))*1","v":0},{"$f":"(-VLOOKUP($B54,RawData,Q$4,FALSE)*VLOOKUP(Q$3,ConversionFactors,2,FALSE))*1","v":0},{"$f":"(-VLOOKUP($B54,RawData,R$4,FALSE)*VLOOKUP(R$3,ConversionFactors,2,FALSE))*1","v":0},0,0,0,0,0,0,0,0,0,0,0,0,0,0,0,0,0,0,0,0,0,0,0,0,0,0,0,0,0,0,0,0,0,0,0,0,0,0,0,0,0,0,0,0,0,0,{"$f":"-VLOOKUP($B54,RawData,BM$4,FALSE)*3.6","v":-4161.6000000000004},0,0,-4161.6000000000004,null,null,null,null,null,null,null,null,null,null,"DISTLOSS","-VLOOKUP($B54,RawData,E$4,FALSE)*VLOOKUP(E$3,ConversionFactors,$D54,FALSE)/1000","-VLOOKUP($B54,RawData,F$4,FALSE)*VLOOKUP(F$3,ConversionFactors,$D54,FALSE)/1000","-VLOOKUP($B54,RawData,G$4,FALSE)*VLOOKUP(G$3,ConversionFactors,$D54,FALSE)/1000","-VLOOKUP($B54,RawData,H$4,FALSE)*VLOOKUP(H$3,ConversionFactors,$D54,FALSE)/1000","-VLOOKUP($B54,RawData,I$4,FALSE)*VLOOKUP(I$3,ConversionFactors,$D54,FALSE)/1000","-VLOOKUP($B54,RawData,J$4,FALSE)*VLOOKUP(J$3,ConversionFactors,$D54,FALSE)/1000","-VLOOKUP($B54,RawData,K$4,FALSE)*VLOOKUP(K$3,ConversionFactors,$D54,FALSE)/1000","-VLOOKUP($B54,RawData,L$4,FALSE)*VLOOKUP(L$3,ConversionFactors,$D54,FALSE)/1000","-VLOOKUP($B54,RawData,M$4,FALSE)*VLOOKUP(M$3,ConversionFactors,$D54,FALSE)/1000","-VLOOKUP($B54,RawData,N$4,FALSE)*VLOOKUP(N$3,ConversionFactors,$D54,FALSE)/1000","(-VLOOKUP($B54,RawData,O$4,FALSE)*VLOOKUP(O$3,ConversionFactors,2,FALSE))*1","(-VLOOKUP($B54,RawData,P$4,FALSE)*VLOOKUP(P$3,ConversionFactors,2,FALSE))*1","(-VLOOKUP($B54,RawData,Q$4,FALSE)*VLOOKUP(Q$3,ConversionFactors,2,FALSE))*1","(-VLOOKUP($B54,RawData,R$4,FALSE)*VLOOKUP(R$3,ConversionFactors,2,FALSE))*1",0,"-VLOOKUP($B54,RawData,T$4,FALSE)*VLOOKUP(T$3,ConversionFactors,$D54,FALSE)/1000","-VLOOKUP($B54,RawData,U$4,FALSE)*VLOOKUP(U$3,ConversionFactors,$D54,FALSE)/1000","-VLOOKUP($B54,RawData,V$4,FALSE)*VLOOKUP(V$3,ConversionFactors,$D54,FALSE)/1000","-VLOOKUP($B54,RawData,W$4,FALSE)*VLOOKUP(W$3,ConversionFactors,2,FALSE)/1000","-VLOOKUP($B54,RawData,X$4,FALSE)*VLOOKUP(X$3,ConversionFactors,2,FALSE)/1000","-VLOOKUP($B54,RawData,Y$4,FALSE)*VLOOKUP(Y$3,ConversionFactors,2,FALSE)/1000","-VLOOKUP($B54,RawData,Z$4,FALSE)*VLOOKUP(Z$3,ConversionFactors,2,FALSE)/1000","-VLOOKUP($B54,RawData,AA$4,FALSE)*VLOOKUP(AA$3,ConversionFactors,2,FALSE)/1000","-VLOOKUP($B54,RawData,AB$4,FALSE)*VLOOKUP(AB$3,ConversionFactors,2,FALSE)/1000","-VLOOKUP($B54,RawData,AC$4,FALSE)*VLOOKUP(AC$3,ConversionFactors,2,FALSE)/1000","-VLOOKUP($B54,RawData,AD$4,FALSE)*VLOOKUP(AD$3,ConversionFactors,2,FALSE)/1000","-VLOOKUP($B54,RawData,AE$4,FALSE)*VLOOKUP(AE$3,ConversionFactors,2,FALSE)/1000","-VLOOKUP($B54,RawData,AF$4,FALSE)*VLOOKUP(AF$3,ConversionFactors,2,FALSE)/1000","-VLOOKUP($B54,RawData,AG$4,FALSE)*VLOOKUP(AG$3,ConversionFactors,2,FALSE)/1000","-VLOOKUP($B54,RawData,AH$4,FALSE)*VLOOKUP(AH$3,ConversionFactors,2,FALSE)/1000","-VLOOKUP($B54,RawData,AI$4,FALSE)*VLOOKUP(AI$3,ConversionFactors,2,FALSE)/1000","-VLOOKUP($B54,RawData,AJ$4,FALSE)*VLOOKUP(AJ$3,ConversionFactors,2,FALSE)/1000","-VLOOKUP($B54,RawData,AK$4,FALSE)*VLOOKUP(AK$3,ConversionFactors,2,FALSE)/1000","-VLOOKUP($B54,RawData,AL$4,FALSE)*VLOOKUP(AL$3,ConversionFactors,2,FALSE)/1000","-VLOOKUP($B54,RawData,AM$4,FALSE)*VLOOKUP(AM$3,ConversionFactors,2,FALSE)/1000","-VLOOKUP($B54,RawData,AN$4,FALSE)*VLOOKUP(AN$3,ConversionFactors,2,FALSE)/1000","-VLOOKUP($B54,RawData,AO$4,FALSE)*VLOOKUP(AO$3,ConversionFactors,2,FALSE)/1000","-VLOOKUP($B54,RawData,AP$4,FALSE)*VLOOKUP(AP$3,ConversionFactors,2,FALSE)/1000","-VLOOKUP($B54,RawData,AQ$4,FALSE)*VLOOKUP(AQ$3,ConversionFactors,2,FALSE)/1000","-VLOOKUP($B54,RawData,AR$4,FALSE)*VLOOKUP(AR$3,ConversionFactors,2,FALSE)/1000","-VLOOKUP($B54,RawData,AS$4,FALSE)*VLOOKUP(AS$3,ConversionFactors,2,FALSE)*1","-VLOOKUP($B54,RawData,AT$4,FALSE)*1","-VLOOKUP($B54,RawData,AU$4,FALSE)*1","-VLOOKUP($B54,RawData,AV$4,FALSE)*1","-VLOOKUP($B54,RawData,AW$4,FALSE)*1","-VLOOKUP($B54,RawData,AX$4,FALSE)*1","-VLOOKUP($B54,RawData,AY$4,FALSE)*VLOOKUP(AY$3,ConversionFactors,2,FALSE)/1000","-VLOOKUP($B54,RawData,AZ$4,FALSE)*VLOOKUP(AZ$3,ConversionFactors,2,FALSE)/1000","-VLOOKUP($B54,RawData,BA$4,FALSE)*VLOOKUP(BA$3,ConversionFactors,2,FALSE)/1000","-VLOOKUP($B54,RawData,BB$4,FALSE)*VLOOKUP(BB$3,ConversionFactors,2,FALSE)/1000","-VLOOKUP($B54,RawData,BC$4,FALSE)*1","-VLOOKUP($B54,RawData,BD$4,FALSE)*VLOOKUP(BD$3,ConversionFactors,2,FALSE)/1000",0,0,"-VLOOKUP($B54,RawData,BG$4,FALSE)*1",0,"-VLOOKUP($B54,RawData,BI$4,FALSE)*1",0,0,0,"-VLOOKUP($B54,RawData,BM$4,FALSE)*3.6","-VLOOKUP($B54,RawData,BN$4,FALSE)*1",0]
[{"$f":"FINCONS","v":"Final consumption"},"FINCONS",null,null,{"$f":"SUM(E56,E70,E77,E83)","v":0},0,0,0,0,0,0,0,0,0,0,0,0,0,0,{"$f":"SUM(T56,T70,T77,T83)","v":0},0,0,0,0,0,0,0,0,0,0,0,0,0,0,0,23005,0,0,0,0,0,0,0,0,0,0,0,0,62.5,0,0,0,55.2,0,0,0,0,0,{"$f":"SUM(BG56,BG70,BG77,BG83)","v":0},0,{"$f":"SUM(BI56,BI70,BI77,BI83)","v":0},0,0,{"$f":"SUM(BL56,BL70,BL77,BL83)","v":0},{"$f":"SUM(BM56,BM70,BM77,BM83)","v":32637.599999999999},{"$f":"SUM(BN56,BN70,BN77,BN83)","v":0},0,55760.3,null,null,null,null,null,null,null,null,null,null,"FINCONS","SUM(E56,E70,E77,E83)","SUM(F56,F70,F77,F83)","SUM(G56,G70,G77,G83)","SUM(H56,H70,H77,H83)","SUM(I56,I70,I77,I83)","SUM(J56,J70,J77,J83)","SUM(K56,K70,K77,K83)","SUM(L56,L70,L77,L83)","SUM(M56,M70,M77,M83)","SUM(N56,N70,N77,N83)","SUM(O56,O70,O77,O83)","SUM(P56,P70,P77,P83)","SUM(Q56,Q70,Q77,Q83)","SUM(R56,R70,R77,R83)",0,"SUM(T56,T70,T77,T83)","SUM(U56,U70,U77,U83)","SUM(V56,V70,V77,V83)","SUM(W56,W70,W77,W83)","SUM(X56,X70,X77,X83)","SUM(Y56,Y70,Y77,Y83)","SUM(Z56,Z70,Z77,Z83)","SUM(AA56,AA70,AA77,AA83)","SUM(AB56,AB70,AB77,AB83)","SUM(AC56,AC70,AC77,AC83)","SUM(AD56,AD70,AD77,AD83)","SUM(AE56,AE70,AE77,AE83)","SUM(AF56,AF70,AF77,AF83)","SUM(AG56,AG70,AG77,AG83)","SUM(AH56,AH70,AH77,AH83)","SUM(AI56,AI70,AI77,AI83)","SUM(AJ56,AJ70,AJ77,AJ83)","SUM(AK56,AK70,AK77,AK83)","SUM(AL56,AL70,AL77,AL83)","SUM(AM56,AM70,AM77,AM83)","SUM(AN56,AN70,AN77,AN83)","SUM(AO56,AO70,AO77,AO83)","SUM(AP56,AP70,AP77,AP83)","SUM(AQ56,AQ70,AQ77,AQ83)","SUM(AR56,AR70,AR77,AR83)","SUM(AS56,AS70,AS77,AS83)","SUM(AT56,AT70,AT77,AT83)","SUM(AU56,AU70,AU77,AU83)","SUM(AV56,AV70,AV77,AV83)","SUM(AW56,AW70,AW77,AW83)","SUM(AX56,AX70,AX77,AX83)","SUM(AY56,AY70,AY77,AY83)","SUM(AZ56,AZ70,AZ77,AZ83)","SUM(BA56,BA70,BA77,BA83)","SUM(BB56,BB70,BB77,BB83)","SUM(BC56,BC70,BC77,BC83)","SUM(BD56,BD70,BD77,BD83)",0,0,"SUM(BG56,BG70,BG77,BG83)",0,"SUM(BI56,BI70,BI77,BI83)",0,0,"SUM(BL56,BL70,BL77,BL83)","SUM(BM56,BM70,BM77,BM83)","SUM(BN56,BN70,BN77,BN83)",0]
[{"$f":"TOTIND","v":"Industry"},"TOTIND",null,null,{"$f":"SUM(E57:E69)","v":0},0,0,0,0,0,0,0,0,0,0,0,0,0,0,{"$f":"SUM(T57:T69)","v":0},0,0,0,0,0,0,0,0,0,0,0,0,0,0,0,0,0,0,0,0,0,0,0,0,0,0,0,0,0,0,0,0,0,0,0,0,0,0,{"$f":"SUM(BG57:BG69)","v":0},0,{"$f":"SUM(BI57:BI69)","v":0},0,0,{"$f":"SUM(BL57:BL69)","v":0},{"$f":"SUM(BM57:BM69)","v":15840},{"$f":"SUM(BN57:BN69)","v":0},0,15840,null,null,null,null,null,null,null,null,null,null,"TOTIND","SUM(E57:E69)","SUM(F57:F69)","SUM(G57:G69)","SUM(H57:H69)","SUM(I57:I69)","SUM(J57:J69)","SUM(K57:K69)","SUM(L57:L69)","SUM(M57:M69)","SUM(N57:N69)","SUM(O57:O69)","SUM(P57:P69)","SUM(Q57:Q69)","SUM(R57:R69)",0,"SUM(T57:T69)","SUM(U57:U69)","SUM(V57:V69)","SUM(W57:W69)","SUM(X57:X69)","SUM(Y57:Y69)","SUM(Z57:Z69)","SUM(AA57:AA69)","SUM(AB57:AB69)","SUM(AC57:AC69)","SUM(AD57:AD69)","SUM(AE57:AE69)","SUM(AF57:AF69)","SUM(AG57:AG69)","SUM(AH57:AH69)","SUM(AI57:AI69)","SUM(AJ57:AJ69)","SUM(AK57:AK69)","SUM(AL57:AL69)","SUM(AM57:AM69)","SUM(AN57:AN69)","SUM(AO57:AO69)","SUM(AP57:AP69)","SUM(AQ57:AQ69)","SUM(AR57:AR69)","SUM(AS57:AS69)","SUM(AT57:AT69)","SUM(AU57:AU69)","SUM(AV57:AV69)","SUM(AW57:AW69)","SUM(AX57:AX69)","SUM(AY57:AY69)","SUM(AZ57:AZ69)","SUM(BA57:BA69)","SUM(BB57:BB69)","SUM(BC57:BC69)","SUM(BD57:BD69)",0,0,"SUM(BG57:BG69)",0,"SUM(BI57:BI69)",0,0,"SUM(BL57:BL69)","SUM(BM57:BM69)","SUM(BN57:BN69)",0]
[{"$f":"IRONSTL","v":"Iron and steel"},"IRONSTL","NIND",{"$f":"MATCH(C57,CFHeadings,0)","v":15},{"$f":"VLOOKUP($B57,RawData,E$4,FALSE)*VLOOKUP(E$3,ConversionFactors,$D57,FALSE)/1000","v":0},0,0,0,0,0,0,0,0,0,{"$f":"(VLOOKUP($B57,RawData,O$4,FALSE)*VLOOKUP(O$3,ConversionFactors,2,FALSE))*1","v":0},0,0,0,0,{"$f":"VLOOKUP($B57,RawData,T$4,FALSE)*VLOOKUP(T$3,ConversionFactors,$D57,FALSE)/1000","v":0},0,0,{"$f":"VLOOKUP($B57,RawData,W$4,FALSE)*VLOOKUP(W$3,ConversionFactors,2,FALSE)/1000","v":0},0,0,0,0,0,0,0,0,0,{"$f":"VLOOKUP($B57,RawData,AG$4,FALSE)*VLOOKUP(AG$3,ConversionFactors,2,FALSE)/1000","v":0},0,0,0,0,0,0,0,0,0,0,0,{"$f":"VLOOKUP($B57,RawData,AS$4,FALSE)*VLOOKUP(AS$3,ConversionFactors,2,FALSE)*1","v":0},{"$f":"VLOOKUP($B57,RawData,AT$4,FALSE)*1","v":0},0,0,0,0,{"$f":"VLOOKUP($B57,RawData,AY$4,FALSE)*VLOOKUP(AY$3,ConversionFactors,2,FALSE)/1000","v":0},0,0,0,{"$f":"VLOOKUP($B57,RawData,BC$4,FALSE)*1","v":0},{"$f":"VLOOKUP($B57,RawData,BD$4,FALSE)*VLOOKUP(BD$3,ConversionFactors,2,FALSE)/1000","v":0},0,0,{"$f":"VLOOKUP($B57,RawData,BG$4,FALSE)*1","v":0},0,{"$f":"VLOOKUP($B57,RawData,BI$4,FALSE)*1","v":0},0,0,0,{"$f":"VLOOKUP($B57,RawData,BM$4,FALSE)*3.6","v":0},{"$f":"VLOOKUP($B57,RawData,BN$4,FALSE)*1","v":0},0,0,null,null,null,null,null,null,null,null,null,null,"IRONSTL","VLOOKUP($B57,RawData,E$4,FALSE)*VLOOKUP(E$3,ConversionFactors,$D57,FALSE)/1000","VLOOKUP($B57,RawData,F$4,FALSE)*VLOOKUP(F$3,ConversionFactors,$D57,FALSE)/1000","VLOOKUP($B57,RawData,G$4,FALSE)*VLOOKUP(G$3,ConversionFactors,$D57,FALSE)/1000","VLOOKUP($B57,RawData,H$4,FALSE)*VLOOKUP(H$3,ConversionFactors,$D57,FALSE)/1000","VLOOKUP($B57,RawData,I$4,FALSE)*VLOOKUP(I$3,ConversionFactors,$D57,FALSE)/1000","VLOOKUP($B57,RawData,J$4,FALSE)*VLOOKUP(J$3,ConversionFactors,$D57,FALSE)/1000","VLOOKUP($B57,RawData,K$4,FALSE)*VLOOKUP(K$3,ConversionFactors,$D57,FALSE)/1000","VLOOKUP($B57,RawData,L$4,FALSE)*VLOOKUP(L$3,ConversionFactors,$D57,FALSE)/1000","VLOOKUP($B57,RawData,M$4,FALSE)*VLOOKUP(M$3,ConversionFactors,$D57,FALSE)/1000","VLOOKUP($B57,RawData,N$4,FALSE)*VLOOKUP(N$3,ConversionFactors,$D57,FALSE)/1000","(VLOOKUP($B57,RawData,O$4,FALSE)*VLOOKUP(O$3,ConversionFactors,2,FALSE))*1","(VLOOKUP($B57,RawData,P$4,FALSE)*VLOOKUP(P$3,ConversionFactors,2,FALSE))*1","(VLOOKUP($B57,RawData,Q$4,FALSE)*VLOOKUP(Q$3,ConversionFactors,2,FALSE))*1","(VLOOKUP($B57,RawData,R$4,FALSE)*VLOOKUP(R$3,ConversionFactors,2,FALSE))*1",0,"VLOOKUP($B57,RawData,T$4,FALSE)*VLOOKUP(T$3,ConversionFactors,$D57,FALSE)/1000","VLOOKUP($B57,RawData,U$4,FALSE)*VLOOKUP(U$3,ConversionFactors,$D57,FALSE)/1000","VLOOKUP($B57,RawData,V$4,FALSE)*VLOOKUP(V$3,ConversionFactors,$D57,FALSE)/1000","VLOOKUP($B57,RawData,W$4,FALSE)*VLOOKUP(W$3,ConversionFactors,2,FALSE)/1000","VLOOKUP($B57,RawData,X$4,FALSE)*VLOOKUP(X$3,ConversionFactors,2,FALSE)/1000","VLOOKUP($B57,RawData,Y$4,FALSE)*VLOOKUP(Y$3,ConversionFactors,2,FALSE)/1000","VLOOKUP($B57,RawData,Z$4,FALSE)*VLOOKUP(Z$3,ConversionFactors,2,FALSE)/1000","VLOOKUP($B57,RawData,AA$4,FALSE)*VLOOKUP(AA$3,ConversionFactors,2,FALSE)/1000","VLOOKUP($B57,RawData,AB$4,FALSE)*VLOOKUP(AB$3,ConversionFactors,2,FALSE)/1000","VLOOKUP($B57,RawData,AC$4,FALSE)*VLOOKUP(AC$3,ConversionFactors,2,FALSE)/1000","VLOOKUP($B57,RawData,AD$4,FALSE)*VLOOKUP(AD$3,ConversionFactors,2,FALSE)/1000","VLOOKUP($B57,RawData,AE$4,FALSE)*VLOOKUP(AE$3,ConversionFactors,2,FALSE)/1000","VLOOKUP($B57,RawData,AF$4,FALSE)*VLOOKUP(AF$3,ConversionFactors,2,FALSE)/1000","VLOOKUP($B57,RawData,AG$4,FALSE)*VLOOKUP(AG$3,ConversionFactors,2,FALSE)/1000","VLOOKUP($B57,RawData,AH$4,FALSE)*VLOOKUP(AH$3,ConversionFactors,2,FALSE)/1000","VLOOKUP($B57,RawData,AI$4,FALSE)*VLOOKUP(AI$3,ConversionFactors,2,FALSE)/1000","VLOOKUP($B57,RawData,AJ$4,FALSE)*VLOOKUP(AJ$3,ConversionFactors,2,FALSE)/1000","VLOOKUP($B57,RawData,AK$4,FALSE)*VLOOKUP(AK$3,ConversionFactors,2,FALSE)/1000","VLOOKUP($B57,RawData,AL$4,FALSE)*VLOOKUP(AL$3,ConversionFactors,2,FALSE)/1000","VLOOKUP($B57,RawData,AM$4,FALSE)*VLOOKUP(AM$3,ConversionFactors,2,FALSE)/1000","VLOOKUP($B57,RawData,AN$4,FALSE)*VLOOKUP(AN$3,ConversionFactors,2,FALSE)/1000","VLOOKUP($B57,RawData,AO$4,FALSE)*VLOOKUP(AO$3,ConversionFactors,2,FALSE)/1000","VLOOKUP($B57,RawData,AP$4,FALSE)*VLOOKUP(AP$3,ConversionFactors,2,FALSE)/1000","VLOOKUP($B57,RawData,AQ$4,FALSE)*VLOOKUP(AQ$3,ConversionFactors,2,FALSE)/1000","VLOOKUP($B57,RawData,AR$4,FALSE)*VLOOKUP(AR$3,ConversionFactors,2,FALSE)/1000","VLOOKUP($B57,RawData,AS$4,FALSE)*VLOOKUP(AS$3,ConversionFactors,2,FALSE)*1","VLOOKUP($B57,RawData,AT$4,FALSE)*1","VLOOKUP($B57,RawData,AU$4,FALSE)*1","VLOOKUP($B57,RawData,AV$4,FALSE)*1","VLOOKUP($B57,RawData,AW$4,FALSE)*1","VLOOKUP($B57,RawData,AX$4,FALSE)*1","VLOOKUP($B57,RawData,AY$4,FALSE)*VLOOKUP(AY$3,ConversionFactors,2,FALSE)/1000","VLOOKUP($B57,RawData,AZ$4,FALSE)*VLOOKUP(AZ$3,ConversionFactors,2,FALSE)/1000","VLOOKUP($B57,RawData,BA$4,FALSE)*VLOOKUP(BA$3,ConversionFactors,2,FALSE)/1000","VLOOKUP($B57,RawData,BB$4,FALSE)*VLOOKUP(BB$3,ConversionFactors,2,FALSE)/1000","VLOOKUP($B57,RawData,BC$4,FALSE)*1","VLOOKUP($B57,RawData,BD$4,FALSE)*VLOOKUP(BD$3,ConversionFactors,2,FALSE)/1000",0,0,"VLOOKUP($B57,RawData,BG$4,FALSE)*1",0,"VLOOKUP($B57,RawData,BI$4,FALSE)*1",0,0,0,"VLOOKUP($B57,RawData,BM$4,FALSE)*3.6","VLOOKUP($B57,RawData,BN$4,FALSE)*1",0]
[{"$f":"CHEMICAL","v":"Chemical and petrochemical"},"CHEMICAL","NIND",15,0,0,0,0,0,0,0,0,0,0,0,0,0,0,0,0,0,0,0,0,0,0,0,0,0,0,0,0,0,0,0,0,0,0,0,0,0,0,0,0,0,0,0,0,0,0,0,0,0,0,0,0,0,0,0,0,0,0,0,0,0,0,0,0,null,null,null,null,null,null,null,null,null,null,"CHEMICAL","VLOOKUP($B58,RawData,E$4,FALSE)*VLOOKUP(E$3,ConversionFactors,$D58,FALSE)/1000","VLOOKUP($B58,RawData,F$4,FALSE)*VLOOKUP(F$3,ConversionFactors,$D58,FALSE)/1000","VLOOKUP($B58,RawData,G$4,FALSE)*VLOOKUP(G$3,ConversionFactors,$D58,FALSE)/1000","VLOOKUP($B58,RawData,H$4,FALSE)*VLOOKUP(H$3,ConversionFactors,$D58,FALSE)/1000","VLOOKUP($B58,RawData,I$4,FALSE)*VLOOKUP(I$3,ConversionFactors,$D58,FALSE)/1000","VLOOKUP($B58,RawData,J$4,FALSE)*VLOOKUP(J$3,ConversionFactors,$D58,FALSE)/1000","VLOOKUP($B58,RawData,K$4,FALSE)*VLOOKUP(K$3,ConversionFactors,$D58,FALSE)/1000","VLOOKUP($B58,RawData,L$4,FALSE)*VLOOKUP(L$3,ConversionFactors,$D58,FALSE)/1000","VLOOKUP($B58,RawData,M$4,FALSE)*VLOOKUP(M$3,ConversionFactors,$D58,FALSE)/1000","VLOOKUP($B58,RawData,N$4,FALSE)*VLOOKUP(N$3,ConversionFactors,$D58,FALSE)/1000","(VLOOKUP($B58,RawData,O$4,FALSE)*VLOOKUP(O$3,ConversionFactors,2,FALSE))*1","(VLOOKUP($B58,RawData,P$4,FALSE)*VLOOKUP(P$3,ConversionFactors,2,FALSE))*1","(VLOOKUP($B58,RawData,Q$4,FALSE)*VLOOKUP(Q$3,ConversionFactors,2,FALSE))*1","(VLOOKUP($B58,RawData,R$4,FALSE)*VLOOKUP(R$3,ConversionFactors,2,FALSE))*1",0,"VLOOKUP($B58,RawData,T$4,FALSE)*VLOOKUP(T$3,ConversionFactors,$D58,FALSE)/1000","VLOOKUP($B58,RawData,U$4,FALSE)*VLOOKUP(U$3,ConversionFactors,$D58,FALSE)/1000","VLOOKUP($B58,RawData,V$4,FALSE)*VLOOKUP(V$3,ConversionFactors,$D58,FALSE)/1000","VLOOKUP($B58,RawData,W$4,FALSE)*VLOOKUP(W$3,ConversionFactors,2,FALSE)/1000","VLOOKUP($B58,RawData,X$4,FALSE)*VLOOKUP(X$3,ConversionFactors,2,FALSE)/1000","VLOOKUP($B58,RawData,Y$4,FALSE)*VLOOKUP(Y$3,ConversionFactors,2,FALSE)/1000","VLOOKUP($B58,RawData,Z$4,FALSE)*VLOOKUP(Z$3,ConversionFactors,2,FALSE)/1000","VLOOKUP($B58,RawData,AA$4,FALSE)*VLOOKUP(AA$3,ConversionFactors,2,FALSE)/1000","VLOOKUP($B58,RawData,AB$4,FALSE)*VLOOKUP(AB$3,ConversionFactors,2,FALSE)/1000","VLOOKUP($B58,RawData,AC$4,FALSE)*VLOOKUP(AC$3,ConversionFactors,2,FALSE)/1000","VLOOKUP($B58,RawData,AD$4,FALSE)*VLOOKUP(AD$3,ConversionFactors,2,FALSE)/1000","VLOOKUP($B58,RawData,AE$4,FALSE)*VLOOKUP(AE$3,ConversionFactors,2,FALSE)/1000","VLOOKUP($B58,RawData,AF$4,FALSE)*VLOOKUP(AF$3,ConversionFactors,2,FALSE)/1000","VLOOKUP($B58,RawData,AG$4,FALSE)*VLOOKUP(AG$3,ConversionFactors,2,FALSE)/1000","VLOOKUP($B58,RawData,AH$4,FALSE)*VLOOKUP(AH$3,ConversionFactors,2,FALSE)/1000","VLOOKUP($B58,RawData,AI$4,FALSE)*VLOOKUP(AI$3,ConversionFactors,2,FALSE)/1000","VLOOKUP($B58,RawData,AJ$4,FALSE)*VLOOKUP(AJ$3,ConversionFactors,2,FALSE)/1000","VLOOKUP($B58,RawData,AK$4,FALSE)*VLOOKUP(AK$3,ConversionFactors,2,FALSE)/1000","VLOOKUP($B58,RawData,AL$4,FALSE)*VLOOKUP(AL$3,ConversionFactors,2,FALSE)/1000","VLOOKUP($B58,RawData,AM$4,FALSE)*VLOOKUP(AM$3,ConversionFactors,2,FALSE)/1000","VLOOKUP($B58,RawData,AN$4,FALSE)*VLOOKUP(AN$3,ConversionFactors,2,FALSE)/1000","VLOOKUP($B58,RawData,AO$4,FALSE)*VLOOKUP(AO$3,ConversionFactors,2,FALSE)/1000","VLOOKUP($B58,RawData,AP$4,FALSE)*VLOOKUP(AP$3,ConversionFactors,2,FALSE)/1000","VLOOKUP($B58,RawData,AQ$4,FALSE)*VLOOKUP(AQ$3,ConversionFactors,2,FALSE)/1000","VLOOKUP($B58,RawData,AR$4,FALSE)*VLOOKUP(AR$3,ConversionFactors,2,FALSE)/1000","VLOOKUP($B58,RawData,AS$4,FALSE)*VLOOKUP(AS$3,ConversionFactors,2,FALSE)*1","VLOOKUP($B58,RawData,AT$4,FALSE)*1","VLOOKUP($B58,RawData,AU$4,FALSE)*1","VLOOKUP($B58,RawData,AV$4,FALSE)*1","VLOOKUP($B58,RawData,AW$4,FALSE)*1","VLOOKUP($B58,RawData,AX$4,FALSE)*1","VLOOKUP($B58,RawData,AY$4,FALSE)*VLOOKUP(AY$3,ConversionFactors,2,FALSE)/1000","VLOOKUP($B58,RawData,AZ$4,FALSE)*VLOOKUP(AZ$3,ConversionFactors,2,FALSE)/1000","VLOOKUP($B58,RawData,BA$4,FALSE)*VLOOKUP(BA$3,ConversionFactors,2,FALSE)/1000","VLOOKUP($B58,RawData,BB$4,FALSE)*VLOOKUP(BB$3,ConversionFactors,2,FALSE)/1000","VLOOKUP($B58,RawData,BC$4,FALSE)*1","VLOOKUP($B58,RawData,BD$4,FALSE)*VLOOKUP(BD$3,ConversionFactors,2,FALSE)/1000",0,0,"VLOOKUP($B58,RawData,BG$4,FALSE)*1",0,"VLOOKUP($B58,RawData,BI$4,FALSE)*1",0,0,0,"VLOOKUP($B58,RawData,BM$4,FALSE)*3.6","VLOOKUP($B58,RawData,BN$4,FALSE)*1",0]
[{"$f":"NONFERR","v":"Non-ferrous metals"},"NONFERR","NIND",15,0,0,0,0,0,0,0,0,0,0,0,0,0,0,0,0,0,0,0,0,0,0,0,0,0,0,0,0,0,0,0,0,0,0,0,0,0,0,0,0,0,0,0,0,0,0,0,0,0,0,0,0,0,0,0,0,0,0,0,0,0,0,0,0,null,null,null,null,null,null,null,null,null,null,"NONFERR","VLOOKUP($B59,RawData,E$4,FALSE)*VLOOKUP(E$3,ConversionFactors,$D59,FALSE)/1000","VLOOKUP($B59,RawData,F$4,FALSE)*VLOOKUP(F$3,ConversionFactors,$D59,FALSE)/1000","VLOOKUP($B59,RawData,G$4,FALSE)*VLOOKUP(G$3,ConversionFactors,$D59,FALSE)/1000","VLOOKUP($B59,RawData,H$4,FALSE)*VLOOKUP(H$3,ConversionFactors,$D59,FALSE)/1000","VLOOKUP($B59,RawData,I$4,FALSE)*VLOOKUP(I$3,ConversionFactors,$D59,FALSE)/1000","VLOOKUP($B59,RawData,J$4,FALSE)*VLOOKUP(J$3,ConversionFactors,$D59,FALSE)/1000","VLOOKUP($B59,RawData,K$4,FALSE)*VLOOKUP(K$3,ConversionFactors,$D59,FALSE)/1000","VLOOKUP($B59,RawData,L$4,FALSE)*VLOOKUP(L$3,ConversionFactors,$D59,FALSE)/1000","VLOOKUP($B59,RawData,M$4,FALSE)*VLOOKUP(M$3,ConversionFactors,$D59,FALSE)/1000","VLOOKUP($B59,RawData,N$4,FALSE)*VLOOKUP(N$3,ConversionFactors,$D59,FALSE)/1000","(VLOOKUP($B59,RawData,O$4,FALSE)*VLOOKUP(O$3,ConversionFactors,2,FALSE))*1","(VLOOKUP($B59,RawData,P$4,FALSE)*VLOOKUP(P$3,ConversionFactors,2,FALSE))*1","(VLOOKUP($B59,RawData,Q$4,FALSE)*VLOOKUP(Q$3,ConversionFactors,2,FALSE))*1","(VLOOKUP($B59,RawData,R$4,FALSE)*VLOOKUP(R$3,ConversionFactors,2,FALSE))*1",0,"VLOOKUP($B59,RawData,T$4,FALSE)*VLOOKUP(T$3,ConversionFactors,$D59,FALSE)/1000","VLOOKUP($B59,RawData,U$4,FALSE)*VLOOKUP(U$3,ConversionFactors,$D59,FALSE)/1000","VLOOKUP($B59,RawData,V$4,FALSE)*VLOOKUP(V$3,ConversionFactors,$D59,FALSE)/1000","VLOOKUP($B59,RawData,W$4,FALSE)*VLOOKUP(W$3,ConversionFactors,2,FALSE)/1000","VLOOKUP($B59,RawData,X$4,FALSE)*VLOOKUP(X$3,ConversionFactors,2,FALSE)/1000","VLOOKUP($B59,RawData,Y$4,FALSE)*VLOOKUP(Y$3,ConversionFactors,2,FALSE)/1000","VLOOKUP($B59,RawData,Z$4,FALSE)*VLOOKUP(Z$3,ConversionFactors,2,FALSE)/1000","VLOOKUP($B59,RawData,AA$4,FALSE)*VLOOKUP(AA$3,ConversionFactors,2,FALSE)/1000","VLOOKUP($B59,RawData,AB$4,FALSE)*VLOOKUP(AB$3,ConversionFactors,2,FALSE)/1000","VLOOKUP($B59,RawData,AC$4,FALSE)*VLOOKUP(AC$3,ConversionFactors,2,FALSE)/1000","VLOOKUP($B59,RawData,AD$4,FALSE)*VLOOKUP(AD$3,ConversionFactors,2,FALSE)/1000","VLOOKUP($B59,RawData,AE$4,FALSE)*VLOOKUP(AE$3,ConversionFactors,2,FALSE)/1000","VLOOKUP($B59,RawData,AF$4,FALSE)*VLOOKUP(AF$3,ConversionFactors,2,FALSE)/1000","VLOOKUP($B59,RawData,AG$4,FALSE)*VLOOKUP(AG$3,ConversionFactors,2,FALSE)/1000","VLOOKUP($B59,RawData,AH$4,FALSE)*VLOOKUP(AH$3,ConversionFactors,2,FALSE)/1000","VLOOKUP($B59,RawData,AI$4,FALSE)*VLOOKUP(AI$3,ConversionFactors,2,FALSE)/1000","VLOOKUP($B59,RawData,AJ$4,FALSE)*VLOOKUP(AJ$3,ConversionFactors,2,FALSE)/1000","VLOOKUP($B59,RawData,AK$4,FALSE)*VLOOKUP(AK$3,ConversionFactors,2,FALSE)/1000","VLOOKUP($B59,RawData,AL$4,FALSE)*VLOOKUP(AL$3,ConversionFactors,2,FALSE)/1000","VLOOKUP($B59,RawData,AM$4,FALSE)*VLOOKUP(AM$3,ConversionFactors,2,FALSE)/1000","VLOOKUP($B59,RawData,AN$4,FALSE)*VLOOKUP(AN$3,ConversionFactors,2,FALSE)/1000","VLOOKUP($B59,RawData,AO$4,FALSE)*VLOOKUP(AO$3,ConversionFactors,2,FALSE)/1000","VLOOKUP($B59,RawData,AP$4,FALSE)*VLOOKUP(AP$3,ConversionFactors,2,FALSE)/1000","VLOOKUP($B59,RawData,AQ$4,FALSE)*VLOOKUP(AQ$3,ConversionFactors,2,FALSE)/1000","VLOOKUP($B59,RawData,AR$4,FALSE)*VLOOKUP(AR$3,ConversionFactors,2,FALSE)/1000","VLOOKUP($B59,RawData,AS$4,FALSE)*VLOOKUP(AS$3,ConversionFactors,2,FALSE)*1","VLOOKUP($B59,RawData,AT$4,FALSE)*1","VLOOKUP($B59,RawData,AU$4,FALSE)*1","VLOOKUP($B59,RawData,AV$4,FALSE)*1","VLOOKUP($B59,RawData,AW$4,FALSE)*1","VLOOKUP($B59,RawData,AX$4,FALSE)*1","VLOOKUP($B59,RawData,AY$4,FALSE)*VLOOKUP(AY$3,ConversionFactors,2,FALSE)/1000","VLOOKUP($B59,RawData,AZ$4,FALSE)*VLOOKUP(AZ$3,ConversionFactors,2,FALSE)/1000","VLOOKUP($B59,RawData,BA$4,FALSE)*VLOOKUP(BA$3,ConversionFactors,2,FALSE)/1000","VLOOKUP($B59,RawData,BB$4,FALSE)*VLOOKUP(BB$3,ConversionFactors,2,FALSE)/1000","VLOOKUP($B59,RawData,BC$4,FALSE)*1","VLOOKUP($B59,RawData,BD$4,FALSE)*VLOOKUP(BD$3,ConversionFactors,2,FALSE)/1000",0,0,"VLOOKUP($B59,RawData,BG$4,FALSE)*1",0,"VLOOKUP($B59,RawData,BI$4,FALSE)*1",0,0,0,"VLOOKUP($B59,RawData,BM$4,FALSE)*3.6","VLOOKUP($B59,RawData,BN$4,FALSE)*1",0]
[{"$f":"NONMET","v":"Non-metallic minerals"},"NONMET","NIND",15,0,0,0,0,0,0,0,0,0,0,0,0,0,0,0,0,0,0,0,0,0,0,0,0,0,0,0,0,0,0,0,0,0,0,0,0,0,0,0,0,0,0,0,0,0,0,0,0,0,0,0,0,0,0,0,0,0,0,0,0,0,0,0,0,null,null,null,null,null,null,null,null,null,null,"NONMET","VLOOKUP($B60,RawData,E$4,FALSE)*VLOOKUP(E$3,ConversionFactors,$D60,FALSE)/1000","VLOOKUP($B60,RawData,F$4,FALSE)*VLOOKUP(F$3,ConversionFactors,$D60,FALSE)/1000","VLOOKUP($B60,RawData,G$4,FALSE)*VLOOKUP(G$3,ConversionFactors,$D60,FALSE)/1000","VLOOKUP($B60,RawData,H$4,FALSE)*VLOOKUP(H$3,ConversionFactors,$D60,FALSE)/1000","VLOOKUP($B60,RawData,I$4,FALSE)*VLOOKUP(I$3,ConversionFactors,$D60,FALSE)/1000","VLOOKUP($B60,RawData,J$4,FALSE)*VLOOKUP(J$3,ConversionFactors,$D60,FALSE)/1000","VLOOKUP($B60,RawData,K$4,FALSE)*VLOOKUP(K$3,ConversionFactors,$D60,FALSE)/1000","VLOOKUP($B60,RawData,L$4,FALSE)*VLOOKUP(L$3,ConversionFactors,$D60,FALSE)/1000","VLOOKUP($B60,RawData,M$4,FALSE)*VLOOKUP(M$3,ConversionFactors,$D60,FALSE)/1000","VLOOKUP($B60,RawData,N$4,FALSE)*VLOOKUP(N$3,ConversionFactors,$D60,FALSE)/1000","(VLOOKUP($B60,RawData,O$4,FALSE)*VLOOKUP(O$3,ConversionFactors,2,FALSE))*1","(VLOOKUP($B60,RawData,P$4,FALSE)*VLOOKUP(P$3,ConversionFactors,2,FALSE))*1","(VLOOKUP($B60,RawData,Q$4,FALSE)*VLOOKUP(Q$3,ConversionFactors,2,FALSE))*1","(VLOOKUP($B60,RawData,R$4,FALSE)*VLOOKUP(R$3,ConversionFactors,2,FALSE))*1",0,"VLOOKUP($B60,RawData,T$4,FALSE)*VLOOKUP(T$3,ConversionFactors,$D60,FALSE)/1000","VLOOKUP($B60,RawData,U$4,FALSE)*VLOOKUP(U$3,ConversionFactors,$D60,FALSE)/1000","VLOOKUP($B60,RawData,V$4,FALSE)*VLOOKUP(V$3,ConversionFactors,$D60,FALSE)/1000","VLOOKUP($B60,RawData,W$4,FALSE)*VLOOKUP(W$3,ConversionFactors,2,FALSE)/1000","VLOOKUP($B60,RawData,X$4,FALSE)*VLOOKUP(X$3,ConversionFactors,2,FALSE)/1000","VLOOKUP($B60,RawData,Y$4,FALSE)*VLOOKUP(Y$3,ConversionFactors,2,FALSE)/1000","VLOOKUP($B60,RawData,Z$4,FALSE)*VLOOKUP(Z$3,ConversionFactors,2,FALSE)/1000","VLOOKUP($B60,RawData,AA$4,FALSE)*VLOOKUP(AA$3,ConversionFactors,2,FALSE)/1000","VLOOKUP($B60,RawData,AB$4,FALSE)*VLOOKUP(AB$3,ConversionFactors,2,FALSE)/1000","VLOOKUP($B60,RawData,AC$4,FALSE)*VLOOKUP(AC$3,ConversionFactors,2,FALSE)/1000","VLOOKUP($B60,RawData,AD$4,FALSE)*VLOOKUP(AD$3,ConversionFactors,2,FALSE)/1000","VLOOKUP($B60,RawData,AE$4,FALSE)*VLOOKUP(AE$3,ConversionFactors,2,FALSE)/1000","VLOOKUP($B60,RawData,AF$4,FALSE)*VLOOKUP(AF$3,ConversionFactors,2,FALSE)/1000","VLOOKUP($B60,RawData,AG$4,FALSE)*VLOOKUP(AG$3,ConversionFactors,2,FALSE)/1000","VLOOKUP($B60,RawData,AH$4,FALSE)*VLOOKUP(AH$3,ConversionFactors,2,FALSE)/1000","VLOOKUP($B60,RawData,AI$4,FALSE)*VLOOKUP(AI$3,ConversionFactors,2,FALSE)/1000","VLOOKUP($B60,RawData,AJ$4,FALSE)*VLOOKUP(AJ$3,ConversionFactors,2,FALSE)/1000","VLOOKUP($B60,RawData,AK$4,FALSE)*VLOOKUP(AK$3,ConversionFactors,2,FALSE)/1000","VLOOKUP($B60,RawData,AL$4,FALSE)*VLOOKUP(AL$3,ConversionFactors,2,FALSE)/1000","VLOOKUP($B60,RawData,AM$4,FALSE)*VLOOKUP(AM$3,ConversionFactors,2,FALSE)/1000","VLOOKUP($B60,RawData,AN$4,FALSE)*VLOOKUP(AN$3,ConversionFactors,2,FALSE)/1000","VLOOKUP($B60,RawData,AO$4,FALSE)*VLOOKUP(AO$3,ConversionFactors,2,FALSE)/1000","VLOOKUP($B60,RawData,AP$4,FALSE)*VLOOKUP(AP$3,ConversionFactors,2,FALSE)/1000","VLOOKUP($B60,RawData,AQ$4,FALSE)*VLOOKUP(AQ$3,ConversionFactors,2,FALSE)/1000","VLOOKUP($B60,RawData,AR$4,FALSE)*VLOOKUP(AR$3,ConversionFactors,2,FALSE)/1000","VLOOKUP($B60,RawData,AS$4,FALSE)*VLOOKUP(AS$3,ConversionFactors,2,FALSE)*1","VLOOKUP($B60,RawData,AT$4,FALSE)*1","VLOOKUP($B60,RawData,AU$4,FALSE)*1","VLOOKUP($B60,RawData,AV$4,FALSE)*1","VLOOKUP($B60,RawData,AW$4,FALSE)*1","VLOOKUP($B60,RawData,AX$4,FALSE)*1","VLOOKUP($B60,RawData,AY$4,FALSE)*VLOOKUP(AY$3,ConversionFactors,2,FALSE)/1000","VLOOKUP($B60,RawData,AZ$4,FALSE)*VLOOKUP(AZ$3,ConversionFactors,2,FALSE)/1000","VLOOKUP($B60,RawData,BA$4,FALSE)*VLOOKUP(BA$3,ConversionFactors,2,FALSE)/1000","VLOOKUP($B60,RawData,BB$4,FALSE)*VLOOKUP(BB$3,ConversionFactors,2,FALSE)/1000","VLOOKUP($B60,RawData,BC$4,FALSE)*1","VLOOKUP($B60,RawData,BD$4,FALSE)*VLOOKUP(BD$3,ConversionFactors,2,FALSE)/1000",0,0,"VLOOKUP($B60,RawData,BG$4,FALSE)*1",0,"VLOOKUP($B60,RawData,BI$4,FALSE)*1",0,0,0,"VLOOKUP($B60,RawData,BM$4,FALSE)*3.6","VLOOKUP($B60,RawData,BN$4,FALSE)*1",0]
[{"$f":"TRANSEQ","v":"Transport equipment"},"TRANSEQ","NIND",15,0,0,0,0,0,0,0,0,0,0,0,0,0,0,0,0,0,0,0,0,0,0,0,0,0,0,0,0,0,0,0,0,0,0,0,0,0,0,0,0,0,0,0,0,0,0,0,0,0,0,0,0,0,0,0,0,0,0,0,0,0,0,0,0,null,null,null,null,null,null,null,null,null,null,"TRANSEQ","VLOOKUP($B61,RawData,E$4,FALSE)*VLOOKUP(E$3,ConversionFactors,$D61,FALSE)/1000","VLOOKUP($B61,RawData,F$4,FALSE)*VLOOKUP(F$3,ConversionFactors,$D61,FALSE)/1000","VLOOKUP($B61,RawData,G$4,FALSE)*VLOOKUP(G$3,ConversionFactors,$D61,FALSE)/1000","VLOOKUP($B61,RawData,H$4,FALSE)*VLOOKUP(H$3,ConversionFactors,$D61,FALSE)/1000","VLOOKUP($B61,RawData,I$4,FALSE)*VLOOKUP(I$3,ConversionFactors,$D61,FALSE)/1000","VLOOKUP($B61,RawData,J$4,FALSE)*VLOOKUP(J$3,ConversionFactors,$D61,FALSE)/1000","VLOOKUP($B61,RawData,K$4,FALSE)*VLOOKUP(K$3,ConversionFactors,$D61,FALSE)/1000","VLOOKUP($B61,RawData,L$4,FALSE)*VLOOKUP(L$3,ConversionFactors,$D61,FALSE)/1000","VLOOKUP($B61,RawData,M$4,FALSE)*VLOOKUP(M$3,ConversionFactors,$D61,FALSE)/1000","VLOOKUP($B61,RawData,N$4,FALSE)*VLOOKUP(N$3,ConversionFactors,$D61,FALSE)/1000","(VLOOKUP($B61,RawData,O$4,FALSE)*VLOOKUP(O$3,ConversionFactors,2,FALSE))*1","(VLOOKUP($B61,RawData,P$4,FALSE)*VLOOKUP(P$3,ConversionFactors,2,FALSE))*1","(VLOOKUP($B61,RawData,Q$4,FALSE)*VLOOKUP(Q$3,ConversionFactors,2,FALSE))*1","(VLOOKUP($B61,RawData,R$4,FALSE)*VLOOKUP(R$3,ConversionFactors,2,FALSE))*1",0,"VLOOKUP($B61,RawData,T$4,FALSE)*VLOOKUP(T$3,ConversionFactors,$D61,FALSE)/1000","VLOOKUP($B61,RawData,U$4,FALSE)*VLOOKUP(U$3,ConversionFactors,$D61,FALSE)/1000","VLOOKUP($B61,RawData,V$4,FALSE)*VLOOKUP(V$3,ConversionFactors,$D61,FALSE)/1000","VLOOKUP($B61,RawData,W$4,FALSE)*VLOOKUP(W$3,ConversionFactors,2,FALSE)/1000","VLOOKUP($B61,RawData,X$4,FALSE)*VLOOKUP(X$3,ConversionFactors,2,FALSE)/1000","VLOOKUP($B61,RawData,Y$4,FALSE)*VLOOKUP(Y$3,ConversionFactors,2,FALSE)/1000","VLOOKUP($B61,RawData,Z$4,FALSE)*VLOOKUP(Z$3,ConversionFactors,2,FALSE)/1000","VLOOKUP($B61,RawData,AA$4,FALSE)*VLOOKUP(AA$3,ConversionFactors,2,FALSE)/1000","VLOOKUP($B61,RawData,AB$4,FALSE)*VLOOKUP(AB$3,ConversionFactors,2,FALSE)/1000","VLOOKUP($B61,RawData,AC$4,FALSE)*VLOOKUP(AC$3,ConversionFactors,2,FALSE)/1000","VLOOKUP($B61,RawData,AD$4,FALSE)*VLOOKUP(AD$3,ConversionFactors,2,FALSE)/1000","VLOOKUP($B61,RawData,AE$4,FALSE)*VLOOKUP(AE$3,ConversionFactors,2,FALSE)/1000","VLOOKUP($B61,RawData,AF$4,FALSE)*VLOOKUP(AF$3,ConversionFactors,2,FALSE)/1000","VLOOKUP($B61,RawData,AG$4,FALSE)*VLOOKUP(AG$3,ConversionFactors,2,FALSE)/1000","VLOOKUP($B61,RawData,AH$4,FALSE)*VLOOKUP(AH$3,ConversionFactors,2,FALSE)/1000","VLOOKUP($B61,RawData,AI$4,FALSE)*VLOOKUP(AI$3,ConversionFactors,2,FALSE)/1000","VLOOKUP($B61,RawData,AJ$4,FALSE)*VLOOKUP(AJ$3,ConversionFactors,2,FALSE)/1000","VLOOKUP($B61,RawData,AK$4,FALSE)*VLOOKUP(AK$3,ConversionFactors,2,FALSE)/1000","VLOOKUP($B61,RawData,AL$4,FALSE)*VLOOKUP(AL$3,ConversionFactors,2,FALSE)/1000","VLOOKUP($B61,RawData,AM$4,FALSE)*VLOOKUP(AM$3,ConversionFactors,2,FALSE)/1000","VLOOKUP($B61,RawData,AN$4,FALSE)*VLOOKUP(AN$3,ConversionFactors,2,FALSE)/1000","VLOOKUP($B61,RawData,AO$4,FALSE)*VLOOKUP(AO$3,ConversionFactors,2,FALSE)/1000","VLOOKUP($B61,RawData,AP$4,FALSE)*VLOOKUP(AP$3,ConversionFactors,2,FALSE)/1000","VLOOKUP($B61,RawData,AQ$4,FALSE)*VLOOKUP(AQ$3,ConversionFactors,2,FALSE)/1000","VLOOKUP($B61,RawData,AR$4,FALSE)*VLOOKUP(AR$3,ConversionFactors,2,FALSE)/1000","VLOOKUP($B61,RawData,AS$4,FALSE)*VLOOKUP(AS$3,ConversionFactors,2,FALSE)*1","VLOOKUP($B61,RawData,AT$4,FALSE)*1","VLOOKUP($B61,RawData,AU$4,FALSE)*1","VLOOKUP($B61,RawData,AV$4,FALSE)*1","VLOOKUP($B61,RawData,AW$4,FALSE)*1","VLOOKUP($B61,RawData,AX$4,FALSE)*1","VLOOKUP($B61,RawData,AY$4,FALSE)*VLOOKUP(AY$3,ConversionFactors,2,FALSE)/1000","VLOOKUP($B61,RawData,AZ$4,FALSE)*VLOOKUP(AZ$3,ConversionFactors,2,FALSE)/1000","VLOOKUP($B61,RawData,BA$4,FALSE)*VLOOKUP(BA$3,ConversionFactors,2,FALSE)/1000","VLOOKUP($B61,RawData,BB$4,FALSE)*VLOOKUP(BB$3,ConversionFactors,2,FALSE)/1000","VLOOKUP($B61,RawData,BC$4,FALSE)*1","VLOOKUP($B61,RawData,BD$4,FALSE)*VLOOKUP(BD$3,ConversionFactors,2,FALSE)/1000",0,0,"VLOOKUP($B61,RawData,BG$4,FALSE)*1",0,"VLOOKUP($B61,RawData,BI$4,FALSE)*1",0,0,0,"VLOOKUP($B61,RawData,BM$4,FALSE)*3.6","VLOOKUP($B61,RawData,BN$4,FALSE)*1",0]
[{"$f":"MACHINE","v":"Machinery"},"MACHINE","NIND",15,0,0,0,0,0,0,0,0,0,0,0,0,0,0,0,0,0,0,0,0,0,0,0,0,0,0,0,0,0,0,0,0,0,0,0,0,0,0,0,0,0,0,0,0,0,0,0,0,0,0,0,0,0,0,0,0,0,0,0,0,0,0,0,0,null,null,null,null,null,null,null,null,null,null,"MACHINE","VLOOKUP($B62,RawData,E$4,FALSE)*VLOOKUP(E$3,ConversionFactors,$D62,FALSE)/1000","VLOOKUP($B62,RawData,F$4,FALSE)*VLOOKUP(F$3,ConversionFactors,$D62,FALSE)/1000","VLOOKUP($B62,RawData,G$4,FALSE)*VLOOKUP(G$3,ConversionFactors,$D62,FALSE)/1000","VLOOKUP($B62,RawData,H$4,FALSE)*VLOOKUP(H$3,ConversionFactors,$D62,FALSE)/1000","VLOOKUP($B62,RawData,I$4,FALSE)*VLOOKUP(I$3,ConversionFactors,$D62,FALSE)/1000","VLOOKUP($B62,RawData,J$4,FALSE)*VLOOKUP(J$3,ConversionFactors,$D62,FALSE)/1000","VLOOKUP($B62,RawData,K$4,FALSE)*VLOOKUP(K$3,ConversionFactors,$D62,FALSE)/1000","VLOOKUP($B62,RawData,L$4,FALSE)*VLOOKUP(L$3,ConversionFactors,$D62,FALSE)/1000","VLOOKUP($B62,RawData,M$4,FALSE)*VLOOKUP(M$3,ConversionFactors,$D62,FALSE)/1000","VLOOKUP($B62,RawData,N$4,FALSE)*VLOOKUP(N$3,ConversionFactors,$D62,FALSE)/1000","(VLOOKUP($B62,RawData,O$4,FALSE)*VLOOKUP(O$3,ConversionFactors,2,FALSE))*1","(VLOOKUP($B62,RawData,P$4,FALSE)*VLOOKUP(P$3,ConversionFactors,2,FALSE))*1","(VLOOKUP($B62,RawData,Q$4,FALSE)*VLOOKUP(Q$3,ConversionFactors,2,FALSE))*1","(VLOOKUP($B62,RawData,R$4,FALSE)*VLOOKUP(R$3,ConversionFactors,2,FALSE))*1",0,"VLOOKUP($B62,RawData,T$4,FALSE)*VLOOKUP(T$3,ConversionFactors,$D62,FALSE)/1000","VLOOKUP($B62,RawData,U$4,FALSE)*VLOOKUP(U$3,ConversionFactors,$D62,FALSE)/1000","VLOOKUP($B62,RawData,V$4,FALSE)*VLOOKUP(V$3,ConversionFactors,$D62,FALSE)/1000","VLOOKUP($B62,RawData,W$4,FALSE)*VLOOKUP(W$3,ConversionFactors,2,FALSE)/1000","VLOOKUP($B62,RawData,X$4,FALSE)*VLOOKUP(X$3,ConversionFactors,2,FALSE)/1000","VLOOKUP($B62,RawData,Y$4,FALSE)*VLOOKUP(Y$3,ConversionFactors,2,FALSE)/1000","VLOOKUP($B62,RawData,Z$4,FALSE)*VLOOKUP(Z$3,ConversionFactors,2,FALSE)/1000","VLOOKUP($B62,RawData,AA$4,FALSE)*VLOOKUP(AA$3,ConversionFactors,2,FALSE)/1000","VLOOKUP($B62,RawData,AB$4,FALSE)*VLOOKUP(AB$3,ConversionFactors,2,FALSE)/1000","VLOOKUP($B62,RawData,AC$4,FALSE)*VLOOKUP(AC$3,ConversionFactors,2,FALSE)/1000","VLOOKUP($B62,RawData,AD$4,FALSE)*VLOOKUP(AD$3,ConversionFactors,2,FALSE)/1000","VLOOKUP($B62,RawData,AE$4,FALSE)*VLOOKUP(AE$3,ConversionFactors,2,FALSE)/1000","VLOOKUP($B62,RawData,AF$4,FALSE)*VLOOKUP(AF$3,ConversionFactors,2,FALSE)/1000","VLOOKUP($B62,RawData,AG$4,FALSE)*VLOOKUP(AG$3,ConversionFactors,2,FALSE)/1000","VLOOKUP($B62,RawData,AH$4,FALSE)*VLOOKUP(AH$3,ConversionFactors,2,FALSE)/1000","VLOOKUP($B62,RawData,AI$4,FALSE)*VLOOKUP(AI$3,ConversionFactors,2,FALSE)/1000","VLOOKUP($B62,RawData,AJ$4,FALSE)*VLOOKUP(AJ$3,ConversionFactors,2,FALSE)/1000","VLOOKUP($B62,RawData,AK$4,FALSE)*VLOOKUP(AK$3,ConversionFactors,2,FALSE)/1000","VLOOKUP($B62,RawData,AL$4,FALSE)*VLOOKUP(AL$3,ConversionFactors,2,FALSE)/1000","VLOOKUP($B62,RawData,AM$4,FALSE)*VLOOKUP(AM$3,ConversionFactors,2,FALSE)/1000","VLOOKUP($B62,RawData,AN$4,FALSE)*VLOOKUP(AN$3,ConversionFactors,2,FALSE)/1000","VLOOKUP($B62,RawData,AO$4,FALSE)*VLOOKUP(AO$3,ConversionFactors,2,FALSE)/1000","VLOOKUP($B62,RawData,AP$4,FALSE)*VLOOKUP(AP$3,ConversionFactors,2,FALSE)/1000","VLOOKUP($B62,RawData,AQ$4,FALSE)*VLOOKUP(AQ$3,ConversionFactors,2,FALSE)/1000","VLOOKUP($B62,RawData,AR$4,FALSE)*VLOOKUP(AR$3,ConversionFactors,2,FALSE)/1000","VLOOKUP($B62,RawData,AS$4,FALSE)*VLOOKUP(AS$3,ConversionFactors,2,FALSE)*1","VLOOKUP($B62,RawData,AT$4,FALSE)*1","VLOOKUP($B62,RawData,AU$4,FALSE)*1","VLOOKUP($B62,RawData,AV$4,FALSE)*1","VLOOKUP($B62,RawData,AW$4,FALSE)*1","VLOOKUP($B62,RawData,AX$4,FALSE)*1","VLOOKUP($B62,RawData,AY$4,FALSE)*VLOOKUP(AY$3,ConversionFactors,2,FALSE)/1000","VLOOKUP($B62,RawData,AZ$4,FALSE)*VLOOKUP(AZ$3,ConversionFactors,2,FALSE)/1000","VLOOKUP($B62,RawData,BA$4,FALSE)*VLOOKUP(BA$3,ConversionFactors,2,FALSE)/1000","VLOOKUP($B62,RawData,BB$4,FALSE)*VLOOKUP(BB$3,ConversionFactors,2,FALSE)/1000","VLOOKUP($B62,RawData,BC$4,FALSE)*1","VLOOKUP($B62,RawData,BD$4,FALSE)*VLOOKUP(BD$3,ConversionFactors,2,FALSE)/1000",0,0,"VLOOKUP($B62,RawData,BG$4,FALSE)*1",0,"VLOOKUP($B62,RawData,BI$4,FALSE)*1",0,0,0,"VLOOKUP($B62,RawData,BM$4,FALSE)*3.6","VLOOKUP($B62,RawData,BN$4,FALSE)*1",0]
[{"$f":"MINING","v":"Mining and quarrying"},"MINING","NIND",15,0,0,0,0,0,0,0,0,0,0,0,0,0,0,0,0,0,0,0,0,0,0,0,0,0,0,0,0,0,0,0,0,0,0,0,0,0,0,0,0,0,0,0,0,0,0,0,0,0,0,0,0,0,0,0,0,0,0,0,0,0,0,0,0,null,null,null,null,null,null,null,null,null,null,"MINING","VLOOKUP($B63,RawData,E$4,FALSE)*VLOOKUP(E$3,ConversionFactors,$D63,FALSE)/1000","VLOOKUP($B63,RawData,F$4,FALSE)*VLOOKUP(F$3,ConversionFactors,$D63,FALSE)/1000","VLOOKUP($B63,RawData,G$4,FALSE)*VLOOKUP(G$3,ConversionFactors,$D63,FALSE)/1000","VLOOKUP($B63,RawData,H$4,FALSE)*VLOOKUP(H$3,ConversionFactors,$D63,FALSE)/1000","VLOOKUP($B63,RawData,I$4,FALSE)*VLOOKUP(I$3,ConversionFactors,$D63,FALSE)/1000","VLOOKUP($B63,RawData,J$4,FALSE)*VLOOKUP(J$3,ConversionFactors,$D63,FALSE)/1000","VLOOKUP($B63,RawData,K$4,FALSE)*VLOOKUP(K$3,ConversionFactors,$D63,FALSE)/1000","VLOOKUP($B63,RawData,L$4,FALSE)*VLOOKUP(L$3,ConversionFactors,$D63,FALSE)/1000","VLOOKUP($B63,RawData,M$4,FALSE)*VLOOKUP(M$3,ConversionFactors,$D63,FALSE)/1000","VLOOKUP($B63,RawData,N$4,FALSE)*VLOOKUP(N$3,ConversionFactors,$D63,FALSE)/1000","(VLOOKUP($B63,RawData,O$4,FALSE)*VLOOKUP(O$3,ConversionFactors,2,FALSE))*1","(VLOOKUP($B63,RawData,P$4,FALSE)*VLOOKUP(P$3,ConversionFactors,2,FALSE))*1","(VLOOKUP($B63,RawData,Q$4,FALSE)*VLOOKUP(Q$3,ConversionFactors,2,FALSE))*1","(VLOOKUP($B63,RawData,R$4,FALSE)*VLOOKUP(R$3,ConversionFactors,2,FALSE))*1",0,"VLOOKUP($B63,RawData,T$4,FALSE)*VLOOKUP(T$3,ConversionFactors,$D63,FALSE)/1000","VLOOKUP($B63,RawData,U$4,FALSE)*VLOOKUP(U$3,ConversionFactors,$D63,FALSE)/1000","VLOOKUP($B63,RawData,V$4,FALSE)*VLOOKUP(V$3,ConversionFactors,$D63,FALSE)/1000","VLOOKUP($B63,RawData,W$4,FALSE)*VLOOKUP(W$3,ConversionFactors,2,FALSE)/1000","VLOOKUP($B63,RawData,X$4,FALSE)*VLOOKUP(X$3,ConversionFactors,2,FALSE)/1000","VLOOKUP($B63,RawData,Y$4,FALSE)*VLOOKUP(Y$3,ConversionFactors,2,FALSE)/1000","VLOOKUP($B63,RawData,Z$4,FALSE)*VLOOKUP(Z$3,ConversionFactors,2,FALSE)/1000","VLOOKUP($B63,RawData,AA$4,FALSE)*VLOOKUP(AA$3,ConversionFactors,2,FALSE)/1000","VLOOKUP($B63,RawData,AB$4,FALSE)*VLOOKUP(AB$3,ConversionFactors,2,FALSE)/1000","VLOOKUP($B63,RawData,AC$4,FALSE)*VLOOKUP(AC$3,ConversionFactors,2,FALSE)/1000","VLOOKUP($B63,RawData,AD$4,FALSE)*VLOOKUP(AD$3,ConversionFactors,2,FALSE)/1000","VLOOKUP($B63,RawData,AE$4,FALSE)*VLOOKUP(AE$3,ConversionFactors,2,FALSE)/1000","VLOOKUP($B63,RawData,AF$4,FALSE)*VLOOKUP(AF$3,ConversionFactors,2,FALSE)/1000","VLOOKUP($B63,RawData,AG$4,FALSE)*VLOOKUP(AG$3,ConversionFactors,2,FALSE)/1000","VLOOKUP($B63,RawData,AH$4,FALSE)*VLOOKUP(AH$3,ConversionFactors,2,FALSE)/1000","VLOOKUP($B63,RawData,AI$4,FALSE)*VLOOKUP(AI$3,ConversionFactors,2,FALSE)/1000","VLOOKUP($B63,RawData,AJ$4,FALSE)*VLOOKUP(AJ$3,ConversionFactors,2,FALSE)/1000","VLOOKUP($B63,RawData,AK$4,FALSE)*VLOOKUP(AK$3,ConversionFactors,2,FALSE)/1000","VLOOKUP($B63,RawData,AL$4,FALSE)*VLOOKUP(AL$3,ConversionFactors,2,FALSE)/1000","VLOOKUP($B63,RawData,AM$4,FALSE)*VLOOKUP(AM$3,ConversionFactors,2,FALSE)/1000","VLOOKUP($B63,RawData,AN$4,FALSE)*VLOOKUP(AN$3,ConversionFactors,2,FALSE)/1000","VLOOKUP($B63,RawData,AO$4,FALSE)*VLOOKUP(AO$3,ConversionFactors,2,FALSE)/1000","VLOOKUP($B63,RawData,AP$4,FALSE)*VLOOKUP(AP$3,ConversionFactors,2,FALSE)/1000","VLOOKUP($B63,RawData,AQ$4,FALSE)*VLOOKUP(AQ$3,ConversionFactors,2,FALSE)/1000","VLOOKUP($B63,RawData,AR$4,FALSE)*VLOOKUP(AR$3,ConversionFactors,2,FALSE)/1000","VLOOKUP($B63,RawData,AS$4,FALSE)*VLOOKUP(AS$3,ConversionFactors,2,FALSE)*1","VLOOKUP($B63,RawData,AT$4,FALSE)*1","VLOOKUP($B63,RawData,AU$4,FALSE)*1","VLOOKUP($B63,RawData,AV$4,FALSE)*1","VLOOKUP($B63,RawData,AW$4,FALSE)*1","VLOOKUP($B63,RawData,AX$4,FALSE)*1","VLOOKUP($B63,RawData,AY$4,FALSE)*VLOOKUP(AY$3,ConversionFactors,2,FALSE)/1000","VLOOKUP($B63,RawData,AZ$4,FALSE)*VLOOKUP(AZ$3,ConversionFactors,2,FALSE)/1000","VLOOKUP($B63,RawData,BA$4,FALSE)*VLOOKUP(BA$3,ConversionFactors,2,FALSE)/1000","VLOOKUP($B63,RawData,BB$4,FALSE)*VLOOKUP(BB$3,ConversionFactors,2,FALSE)/1000","VLOOKUP($B63,RawData,BC$4,FALSE)*1","VLOOKUP($B63,RawData,BD$4,FALSE)*VLOOKUP(BD$3,ConversionFactors,2,FALSE)/1000",0,0,"VLOOKUP($B63,RawData,BG$4,FALSE)*1",0,"VLOOKUP($B63,RawData,BI$4,FALSE)*1",0,0,0,"VLOOKUP($B63,RawData,BM$4,FALSE)*3.6","VLOOKUP($B63,RawData,BN$4,FALSE)*1",0]
[{"$f":"FOODPRO","v":"Food, beverages and tobacco"},"FOODPRO","NIND",15,0,0,0,0,0,0,0,0,0,0,0,0,0,0,0,0,0,0,0,0,0,0,0,0,0,0,0,0,0,0,0,0,0,0,0,0,0,0,0,0,0,0,0,0,0,0,0,0,0,0,0,0,0,0,0,0,0,0,0,0,0,0,0,0,null,null,null,null,null,null,null,null,null,null,"FOODPRO","VLOOKUP($B64,RawData,E$4,FALSE)*VLOOKUP(E$3,ConversionFactors,$D64,FALSE)/1000","VLOOKUP($B64,RawData,F$4,FALSE)*VLOOKUP(F$3,ConversionFactors,$D64,FALSE)/1000","VLOOKUP($B64,RawData,G$4,FALSE)*VLOOKUP(G$3,ConversionFactors,$D64,FALSE)/1000","VLOOKUP($B64,RawData,H$4,FALSE)*VLOOKUP(H$3,ConversionFactors,$D64,FALSE)/1000","VLOOKUP($B64,RawData,I$4,FALSE)*VLOOKUP(I$3,ConversionFactors,$D64,FALSE)/1000","VLOOKUP($B64,RawData,J$4,FALSE)*VLOOKUP(J$3,ConversionFactors,$D64,FALSE)/1000","VLOOKUP($B64,RawData,K$4,FALSE)*VLOOKUP(K$3,ConversionFactors,$D64,FALSE)/1000","VLOOKUP($B64,RawData,L$4,FALSE)*VLOOKUP(L$3,ConversionFactors,$D64,FALSE)/1000","VLOOKUP($B64,RawData,M$4,FALSE)*VLOOKUP(M$3,ConversionFactors,$D64,FALSE)/1000","VLOOKUP($B64,RawData,N$4,FALSE)*VLOOKUP(N$3,ConversionFactors,$D64,FALSE)/1000","(VLOOKUP($B64,RawData,O$4,FALSE)*VLOOKUP(O$3,ConversionFactors,2,FALSE))*1","(VLOOKUP($B64,RawData,P$4,FALSE)*VLOOKUP(P$3,ConversionFactors,2,FALSE))*1","(VLOOKUP($B64,RawData,Q$4,FALSE)*VLOOKUP(Q$3,ConversionFactors,2,FALSE))*1","(VLOOKUP($B64,RawData,R$4,FALSE)*VLOOKUP(R$3,ConversionFactors,2,FALSE))*1",0,"VLOOKUP($B64,RawData,T$4,FALSE)*VLOOKUP(T$3,ConversionFactors,$D64,FALSE)/1000","VLOOKUP($B64,RawData,U$4,FALSE)*VLOOKUP(U$3,ConversionFactors,$D64,FALSE)/1000","VLOOKUP($B64,RawData,V$4,FALSE)*VLOOKUP(V$3,ConversionFactors,$D64,FALSE)/1000","VLOOKUP($B64,RawData,W$4,FALSE)*VLOOKUP(W$3,ConversionFactors,2,FALSE)/1000","VLOOKUP($B64,RawData,X$4,FALSE)*VLOOKUP(X$3,ConversionFactors,2,FALSE)/1000","VLOOKUP($B64,RawData,Y$4,FALSE)*VLOOKUP(Y$3,ConversionFactors,2,FALSE)/1000","VLOOKUP($B64,RawData,Z$4,FALSE)*VLOOKUP(Z$3,ConversionFactors,2,FALSE)/1000","VLOOKUP($B64,RawData,AA$4,FALSE)*VLOOKUP(AA$3,ConversionFactors,2,FALSE)/1000","VLOOKUP($B64,RawData,AB$4,FALSE)*VLOOKUP(AB$3,ConversionFactors,2,FALSE)/1000","VLOOKUP($B64,RawData,AC$4,FALSE)*VLOOKUP(AC$3,ConversionFactors,2,FALSE)/1000","VLOOKUP($B64,RawData,AD$4,FALSE)*VLOOKUP(AD$3,ConversionFactors,2,FALSE)/1000","VLOOKUP($B64,RawData,AE$4,FALSE)*VLOOKUP(AE$3,ConversionFactors,2,FALSE)/1000","VLOOKUP($B64,RawData,AF$4,FALSE)*VLOOKUP(AF$3,ConversionFactors,2,FALSE)/1000","VLOOKUP($B64,RawData,AG$4,FALSE)*VLOOKUP(AG$3,ConversionFactors,2,FALSE)/1000","VLOOKUP($B64,RawData,AH$4,FALSE)*VLOOKUP(AH$3,ConversionFactors,2,FALSE)/1000","VLOOKUP($B64,RawData,AI$4,FALSE)*VLOOKUP(AI$3,ConversionFactors,2,FALSE)/1000","VLOOKUP($B64,RawData,AJ$4,FALSE)*VLOOKUP(AJ$3,ConversionFactors,2,FALSE)/1000","VLOOKUP($B64,RawData,AK$4,FALSE)*VLOOKUP(AK$3,ConversionFactors,2,FALSE)/1000","VLOOKUP($B64,RawData,AL$4,FALSE)*VLOOKUP(AL$3,ConversionFactors,2,FALSE)/1000","VLOOKUP($B64,RawData,AM$4,FALSE)*VLOOKUP(AM$3,ConversionFactors,2,FALSE)/1000","VLOOKUP($B64,RawData,AN$4,FALSE)*VLOOKUP(AN$3,ConversionFactors,2,FALSE)/1000","VLOOKUP($B64,RawData,AO$4,FALSE)*VLOOKUP(AO$3,ConversionFactors,2,FALSE)/1000","VLOOKUP($B64,RawData,AP$4,FALSE)*VLOOKUP(AP$3,ConversionFactors,2,FALSE)/1000","VLOOKUP($B64,RawData,AQ$4,FALSE)*VLOOKUP(AQ$3,ConversionFactors,2,FALSE)/1000","VLOOKUP($B64,RawData,AR$4,FALSE)*VLOOKUP(AR$3,ConversionFactors,2,FALSE)/1000","VLOOKUP($B64,RawData,AS$4,FALSE)*VLOOKUP(AS$3,ConversionFactors,2,FALSE)*1","VLOOKUP($B64,RawData,AT$4,FALSE)*1","VLOOKUP($B64,RawData,AU$4,FALSE)*1","VLOOKUP($B64,RawData,AV$4,FALSE)*1","VLOOKUP($B64,RawData,AW$4,FALSE)*1","VLOOKUP($B64,RawData,AX$4,FALSE)*1","VLOOKUP($B64,RawData,AY$4,FALSE)*VLOOKUP(AY$3,ConversionFactors,2,FALSE)/1000","VLOOKUP($B64,RawData,AZ$4,FALSE)*VLOOKUP(AZ$3,ConversionFactors,2,FALSE)/1000","VLOOKUP($B64,RawData,BA$4,FALSE)*VLOOKUP(BA$3,ConversionFactors,2,FALSE)/1000","VLOOKUP($B64,RawData,BB$4,FALSE)*VLOOKUP(BB$3,ConversionFactors,2,FALSE)/1000","VLOOKUP($B64,RawData,BC$4,FALSE)*1","VLOOKUP($B64,RawData,BD$4,FALSE)*VLOOKUP(BD$3,ConversionFactors,2,FALSE)/1000",0,0,"VLOOKUP($B64,RawData,BG$4,FALSE)*1",0,"VLOOKUP($B64,RawData,BI$4,FALSE)*1",0,0,0,"VLOOKUP($B64,RawData,BM$4,FALSE)*3.6","VLOOKUP($B64,RawData,BN$4,FALSE)*1",0]
[{"$f":"PAPERPRO","v":"Paper, pulp and print"},"PAPERPRO","NIND",15,0,0,0,0,0,0,0,0,0,0,0,0,0,0,0,0,0,0,0,0,0,0,0,0,0,0,0,0,0,0,0,0,0,0,0,0,0,0,0,0,0,0,0,0,0,0,0,0,0,0,0,0,0,0,0,0,0,0,0,0,0,0,0,0,null,null,null,null,null,null,null,null,null,null,"PAPERPRO","VLOOKUP($B65,RawData,E$4,FALSE)*VLOOKUP(E$3,ConversionFactors,$D65,FALSE)/1000","VLOOKUP($B65,RawData,F$4,FALSE)*VLOOKUP(F$3,ConversionFactors,$D65,FALSE)/1000","VLOOKUP($B65,RawData,G$4,FALSE)*VLOOKUP(G$3,ConversionFactors,$D65,FALSE)/1000","VLOOKUP($B65,RawData,H$4,FALSE)*VLOOKUP(H$3,ConversionFactors,$D65,FALSE)/1000","VLOOKUP($B65,RawData,I$4,FALSE)*VLOOKUP(I$3,ConversionFactors,$D65,FALSE)/1000","VLOOKUP($B65,RawData,J$4,FALSE)*VLOOKUP(J$3,ConversionFactors,$D65,FALSE)/1000","VLOOKUP($B65,RawData,K$4,FALSE)*VLOOKUP(K$3,ConversionFactors,$D65,FALSE)/1000","VLOOKUP($B65,RawData,L$4,FALSE)*VLOOKUP(L$3,ConversionFactors,$D65,FALSE)/1000","VLOOKUP($B65,RawData,M$4,FALSE)*VLOOKUP(M$3,ConversionFactors,$D65,FALSE)/1000","VLOOKUP($B65,RawData,N$4,FALSE)*VLOOKUP(N$3,ConversionFactors,$D65,FALSE)/1000","(VLOOKUP($B65,RawData,O$4,FALSE)*VLOOKUP(O$3,ConversionFactors,2,FALSE))*1","(VLOOKUP($B65,RawData,P$4,FALSE)*VLOOKUP(P$3,ConversionFactors,2,FALSE))*1","(VLOOKUP($B65,RawData,Q$4,FALSE)*VLOOKUP(Q$3,ConversionFactors,2,FALSE))*1","(VLOOKUP($B65,RawData,R$4,FALSE)*VLOOKUP(R$3,ConversionFactors,2,FALSE))*1",0,"VLOOKUP($B65,RawData,T$4,FALSE)*VLOOKUP(T$3,ConversionFactors,$D65,FALSE)/1000","VLOOKUP($B65,RawData,U$4,FALSE)*VLOOKUP(U$3,ConversionFactors,$D65,FALSE)/1000","VLOOKUP($B65,RawData,V$4,FALSE)*VLOOKUP(V$3,ConversionFactors,$D65,FALSE)/1000","VLOOKUP($B65,RawData,W$4,FALSE)*VLOOKUP(W$3,ConversionFactors,2,FALSE)/1000","VLOOKUP($B65,RawData,X$4,FALSE)*VLOOKUP(X$3,ConversionFactors,2,FALSE)/1000","VLOOKUP($B65,RawData,Y$4,FALSE)*VLOOKUP(Y$3,ConversionFactors,2,FALSE)/1000","VLOOKUP($B65,RawData,Z$4,FALSE)*VLOOKUP(Z$3,ConversionFactors,2,FALSE)/1000","VLOOKUP($B65,RawData,AA$4,FALSE)*VLOOKUP(AA$3,ConversionFactors,2,FALSE)/1000","VLOOKUP($B65,RawData,AB$4,FALSE)*VLOOKUP(AB$3,ConversionFactors,2,FALSE)/1000","VLOOKUP($B65,RawData,AC$4,FALSE)*VLOOKUP(AC$3,ConversionFactors,2,FALSE)/1000","VLOOKUP($B65,RawData,AD$4,FALSE)*VLOOKUP(AD$3,ConversionFactors,2,FALSE)/1000","VLOOKUP($B65,RawData,AE$4,FALSE)*VLOOKUP(AE$3,ConversionFactors,2,FALSE)/1000","VLOOKUP($B65,RawData,AF$4,FALSE)*VLOOKUP(AF$3,ConversionFactors,2,FALSE)/1000","VLOOKUP($B65,RawData,AG$4,FALSE)*VLOOKUP(AG$3,ConversionFactors,2,FALSE)/1000","VLOOKUP($B65,RawData,AH$4,FALSE)*VLOOKUP(AH$3,ConversionFactors,2,FALSE)/1000","VLOOKUP($B65,RawData,AI$4,FALSE)*VLOOKUP(AI$3,ConversionFactors,2,FALSE)/1000","VLOOKUP($B65,RawData,AJ$4,FALSE)*VLOOKUP(AJ$3,ConversionFactors,2,FALSE)/1000","VLOOKUP($B65,RawData,AK$4,FALSE)*VLOOKUP(AK$3,ConversionFactors,2,FALSE)/1000","VLOOKUP($B65,RawData,AL$4,FALSE)*VLOOKUP(AL$3,ConversionFactors,2,FALSE)/1000","VLOOKUP($B65,RawData,AM$4,FALSE)*VLOOKUP(AM$3,ConversionFactors,2,FALSE)/1000","VLOOKUP($B65,RawData,AN$4,FALSE)*VLOOKUP(AN$3,ConversionFactors,2,FALSE)/1000","VLOOKUP($B65,RawData,AO$4,FALSE)*VLOOKUP(AO$3,ConversionFactors,2,FALSE)/1000","VLOOKUP($B65,RawData,AP$4,FALSE)*VLOOKUP(AP$3,ConversionFactors,2,FALSE)/1000","VLOOKUP($B65,RawData,AQ$4,FALSE)*VLOOKUP(AQ$3,ConversionFactors,2,FALSE)/1000","VLOOKUP($B65,RawData,AR$4,FALSE)*VLOOKUP(AR$3,ConversionFactors,2,FALSE)/1000","VLOOKUP($B65,RawData,AS$4,FALSE)*VLOOKUP(AS$3,ConversionFactors,2,FALSE)*1","VLOOKUP($B65,RawData,AT$4,FALSE)*1","VLOOKUP($B65,RawData,AU$4,FALSE)*1","VLOOKUP($B65,RawData,AV$4,FALSE)*1","VLOOKUP($B65,RawData,AW$4,FALSE)*1","VLOOKUP($B65,RawData,AX$4,FALSE)*1","VLOOKUP($B65,RawData,AY$4,FALSE)*VLOOKUP(AY$3,ConversionFactors,2,FALSE)/1000","VLOOKUP($B65,RawData,AZ$4,FALSE)*VLOOKUP(AZ$3,ConversionFactors,2,FALSE)/1000","VLOOKUP($B65,RawData,BA$4,FALSE)*VLOOKUP(BA$3,ConversionFactors,2,FALSE)/1000","VLOOKUP($B65,RawData,BB$4,FALSE)*VLOOKUP(BB$3,ConversionFactors,2,FALSE)/1000","VLOOKUP($B65,RawData,BC$4,FALSE)*1","VLOOKUP($B65,RawData,BD$4,FALSE)*VLOOKUP(BD$3,ConversionFactors,2,FALSE)/1000",0,0,"VLOOKUP($B65,RawData,BG$4,FALSE)*1",0,"VLOOKUP($B65,RawData,BI$4,FALSE)*1",0,0,0,"VLOOKUP($B65,RawData,BM$4,FALSE)*3.6","VLOOKUP($B65,RawData,BN$4,FALSE)*1",0]
[{"$f":"WOODPRO","v":"Wood and wood products"},"WOODPRO","NIND",15,0,0,0,0,0,0,0,0,0,0,0,0,0,0,0,0,0,0,0,0,0,0,0,0,0,0,0,0,0,0,0,0,0,0,0,0,0,0,0,0,0,0,0,0,0,0,0,0,0,0,0,0,0,0,0,0,0,0,0,0,0,0,0,0,null,null,null,null,null,null,null,null,null,null,"WOODPRO","VLOOKUP($B66,RawData,E$4,FALSE)*VLOOKUP(E$3,ConversionFactors,$D66,FALSE)/1000","VLOOKUP($B66,RawData,F$4,FALSE)*VLOOKUP(F$3,ConversionFactors,$D66,FALSE)/1000","VLOOKUP($B66,RawData,G$4,FALSE)*VLOOKUP(G$3,ConversionFactors,$D66,FALSE)/1000","VLOOKUP($B66,RawData,H$4,FALSE)*VLOOKUP(H$3,ConversionFactors,$D66,FALSE)/1000","VLOOKUP($B66,RawData,I$4,FALSE)*VLOOKUP(I$3,ConversionFactors,$D66,FALSE)/1000","VLOOKUP($B66,RawData,J$4,FALSE)*VLOOKUP(J$3,ConversionFactors,$D66,FALSE)/1000","VLOOKUP($B66,RawData,K$4,FALSE)*VLOOKUP(K$3,ConversionFactors,$D66,FALSE)/1000","VLOOKUP($B66,RawData,L$4,FALSE)*VLOOKUP(L$3,ConversionFactors,$D66,FALSE)/1000","VLOOKUP($B66,RawData,M$4,FALSE)*VLOOKUP(M$3,ConversionFactors,$D66,FALSE)/1000","VLOOKUP($B66,RawData,N$4,FALSE)*VLOOKUP(N$3,ConversionFactors,$D66,FALSE)/1000","(VLOOKUP($B66,RawData,O$4,FALSE)*VLOOKUP(O$3,ConversionFactors,2,FALSE))*1","(VLOOKUP($B66,RawData,P$4,FALSE)*VLOOKUP(P$3,ConversionFactors,2,FALSE))*1","(VLOOKUP($B66,RawData,Q$4,FALSE)*VLOOKUP(Q$3,ConversionFactors,2,FALSE))*1","(VLOOKUP($B66,RawData,R$4,FALSE)*VLOOKUP(R$3,ConversionFactors,2,FALSE))*1",0,"VLOOKUP($B66,RawData,T$4,FALSE)*VLOOKUP(T$3,ConversionFactors,$D66,FALSE)/1000","VLOOKUP($B66,RawData,U$4,FALSE)*VLOOKUP(U$3,ConversionFactors,$D66,FALSE)/1000","VLOOKUP($B66,RawData,V$4,FALSE)*VLOOKUP(V$3,ConversionFactors,$D66,FALSE)/1000","VLOOKUP($B66,RawData,W$4,FALSE)*VLOOKUP(W$3,ConversionFactors,2,FALSE)/1000","VLOOKUP($B66,RawData,X$4,FALSE)*VLOOKUP(X$3,ConversionFactors,2,FALSE)/1000","VLOOKUP($B66,RawData,Y$4,FALSE)*VLOOKUP(Y$3,ConversionFactors,2,FALSE)/1000","VLOOKUP($B66,RawData,Z$4,FALSE)*VLOOKUP(Z$3,ConversionFactors,2,FALSE)/1000","VLOOKUP($B66,RawData,AA$4,FALSE)*VLOOKUP(AA$3,ConversionFactors,2,FALSE)/1000","VLOOKUP($B66,RawData,AB$4,FALSE)*VLOOKUP(AB$3,ConversionFactors,2,FALSE)/1000","VLOOKUP($B66,RawData,AC$4,FALSE)*VLOOKUP(AC$3,ConversionFactors,2,FALSE)/1000","VLOOKUP($B66,RawData,AD$4,FALSE)*VLOOKUP(AD$3,ConversionFactors,2,FALSE)/1000","VLOOKUP($B66,RawData,AE$4,FALSE)*VLOOKUP(AE$3,ConversionFactors,2,FALSE)/1000","VLOOKUP($B66,RawData,AF$4,FALSE)*VLOOKUP(AF$3,ConversionFactors,2,FALSE)/1000","VLOOKUP($B66,RawData,AG$4,FALSE)*VLOOKUP(AG$3,ConversionFactors,2,FALSE)/1000","VLOOKUP($B66,RawData,AH$4,FALSE)*VLOOKUP(AH$3,ConversionFactors,2,FALSE)/1000","VLOOKUP($B66,RawData,AI$4,FALSE)*VLOOKUP(AI$3,ConversionFactors,2,FALSE)/1000","VLOOKUP($B66,RawData,AJ$4,FALSE)*VLOOKUP(AJ$3,ConversionFactors,2,FALSE)/1000","VLOOKUP($B66,RawData,AK$4,FALSE)*VLOOKUP(AK$3,ConversionFactors,2,FALSE)/1000","VLOOKUP($B66,RawData,AL$4,FALSE)*VLOOKUP(AL$3,ConversionFactors,2,FALSE)/1000","VLOOKUP($B66,RawData,AM$4,FALSE)*VLOOKUP(AM$3,ConversionFactors,2,FALSE)/1000","VLOOKUP($B66,RawData,AN$4,FALSE)*VLOOKUP(AN$3,ConversionFactors,2,FALSE)/1000","VLOOKUP($B66,RawData,AO$4,FALSE)*VLOOKUP(AO$3,ConversionFactors,2,FALSE)/1000","VLOOKUP($B66,RawData,AP$4,FALSE)*VLOOKUP(AP$3,ConversionFactors,2,FALSE)/1000","VLOOKUP($B66,RawData,AQ$4,FALSE)*VLOOKUP(AQ$3,ConversionFactors,2,FALSE)/1000","VLOOKUP($B66,RawData,AR$4,FALSE)*VLOOKUP(AR$3,ConversionFactors,2,FALSE)/1000","VLOOKUP($B66,RawData,AS$4,FALSE)*VLOOKUP(AS$3,ConversionFactors,2,FALSE)*1","VLOOKUP($B66,RawData,AT$4,FALSE)*1","VLOOKUP($B66,RawData,AU$4,FALSE)*1","VLOOKUP($B66,RawData,AV$4,FALSE)*1","VLOOKUP($B66,RawData,AW$4,FALSE)*1","VLOOKUP($B66,RawData,AX$4,FALSE)*1","VLOOKUP($B66,RawData,AY$4,FALSE)*VLOOKUP(AY$3,ConversionFactors,2,FALSE)/1000","VLOOKUP($B66,RawData,AZ$4,FALSE)*VLOOKUP(AZ$3,ConversionFactors,2,FALSE)/1000","VLOOKUP($B66,RawData,BA$4,FALSE)*VLOOKUP(BA$3,ConversionFactors,2,FALSE)/1000","VLOOKUP($B66,RawData,BB$4,FALSE)*VLOOKUP(BB$3,ConversionFactors,2,FALSE)/1000","VLOOKUP($B66,RawData,BC$4,FALSE)*1","VLOOKUP($B66,RawData,BD$4,FALSE)*VLOOKUP(BD$3,ConversionFactors,2,FALSE)/1000",0,0,"VLOOKUP($B66,RawData,BG$4,FALSE)*1",0,"VLOOKUP($B66,RawData,BI$4,FALSE)*1",0,0,0,"VLOOKUP($B66,RawData,BM$4,FALSE)*3.6","VLOOKUP($B66,RawData,BN$4,FALSE)*1",0]
[{"$f":"CONSTRUC","v":"Construction"},"CONSTRUC","NIND",15,0,0,0,0,0,0,0,0,0,0,0,0,0,0,0,0,0,0,0,0,0,0,0,0,0,0,0,0,0,0,0,0,0,0,0,0,0,0,0,0,0,0,0,0,0,0,0,0,0,0,0,0,0,0,0,0,0,0,0,0,0,0,0,0,null,null,null,null,null,null,null,null,null,null,"CONSTRUC","VLOOKUP($B67,RawData,E$4,FALSE)*VLOOKUP(E$3,ConversionFactors,$D67,FALSE)/1000","VLOOKUP($B67,RawData,F$4,FALSE)*VLOOKUP(F$3,ConversionFactors,$D67,FALSE)/1000","VLOOKUP($B67,RawData,G$4,FALSE)*VLOOKUP(G$3,ConversionFactors,$D67,FALSE)/1000","VLOOKUP($B67,RawData,H$4,FALSE)*VLOOKUP(H$3,ConversionFactors,$D67,FALSE)/1000","VLOOKUP($B67,RawData,I$4,FALSE)*VLOOKUP(I$3,ConversionFactors,$D67,FALSE)/1000","VLOOKUP($B67,RawData,J$4,FALSE)*VLOOKUP(J$3,ConversionFactors,$D67,FALSE)/1000","VLOOKUP($B67,RawData,K$4,FALSE)*VLOOKUP(K$3,ConversionFactors,$D67,FALSE)/1000","VLOOKUP($B67,RawData,L$4,FALSE)*VLOOKUP(L$3,ConversionFactors,$D67,FALSE)/1000","VLOOKUP($B67,RawData,M$4,FALSE)*VLOOKUP(M$3,ConversionFactors,$D67,FALSE)/1000","VLOOKUP($B67,RawData,N$4,FALSE)*VLOOKUP(N$3,ConversionFactors,$D67,FALSE)/1000","(VLOOKUP($B67,RawData,O$4,FALSE)*VLOOKUP(O$3,ConversionFactors,2,FALSE))*1","(VLOOKUP($B67,RawData,P$4,FALSE)*VLOOKUP(P$3,ConversionFactors,2,FALSE))*1","(VLOOKUP($B67,RawData,Q$4,FALSE)*VLOOKUP(Q$3,ConversionFactors,2,FALSE))*1","(VLOOKUP($B67,RawData,R$4,FALSE)*VLOOKUP(R$3,ConversionFactors,2,FALSE))*1",0,"VLOOKUP($B67,RawData,T$4,FALSE)*VLOOKUP(T$3,ConversionFactors,$D67,FALSE)/1000","VLOOKUP($B67,RawData,U$4,FALSE)*VLOOKUP(U$3,ConversionFactors,$D67,FALSE)/1000","VLOOKUP($B67,RawData,V$4,FALSE)*VLOOKUP(V$3,ConversionFactors,$D67,FALSE)/1000","VLOOKUP($B67,RawData,W$4,FALSE)*VLOOKUP(W$3,ConversionFactors,2,FALSE)/1000","VLOOKUP($B67,RawData,X$4,FALSE)*VLOOKUP(X$3,ConversionFactors,2,FALSE)/1000","VLOOKUP($B67,RawData,Y$4,FALSE)*VLOOKUP(Y$3,ConversionFactors,2,FALSE)/1000","VLOOKUP($B67,RawData,Z$4,FALSE)*VLOOKUP(Z$3,ConversionFactors,2,FALSE)/1000","VLOOKUP($B67,RawData,AA$4,FALSE)*VLOOKUP(AA$3,ConversionFactors,2,FALSE)/1000","VLOOKUP($B67,RawData,AB$4,FALSE)*VLOOKUP(AB$3,ConversionFactors,2,FALSE)/1000","VLOOKUP($B67,RawData,AC$4,FALSE)*VLOOKUP(AC$3,ConversionFactors,2,FALSE)/1000","VLOOKUP($B67,RawData,AD$4,FALSE)*VLOOKUP(AD$3,ConversionFactors,2,FALSE)/1000","VLOOKUP($B67,RawData,AE$4,FALSE)*VLOOKUP(AE$3,ConversionFactors,2,FALSE)/1000","VLOOKUP($B67,RawData,AF$4,FALSE)*VLOOKUP(AF$3,ConversionFactors,2,FALSE)/1000","VLOOKUP($B67,RawData,AG$4,FALSE)*VLOOKUP(AG$3,ConversionFactors,2,FALSE)/1000","VLOOKUP($B67,RawData,AH$4,FALSE)*VLOOKUP(AH$3,ConversionFactors,2,FALSE)/1000","VLOOKUP($B67,RawData,AI$4,FALSE)*VLOOKUP(AI$3,ConversionFactors,2,FALSE)/1000","VLOOKUP($B67,RawData,AJ$4,FALSE)*VLOOKUP(AJ$3,ConversionFactors,2,FALSE)/1000","VLOOKUP($B67,RawData,AK$4,FALSE)*VLOOKUP(AK$3,ConversionFactors,2,FALSE)/1000","VLOOKUP($B67,RawData,AL$4,FALSE)*VLOOKUP(AL$3,ConversionFactors,2,FALSE)/1000","VLOOKUP($B67,RawData,AM$4,FALSE)*VLOOKUP(AM$3,ConversionFactors,2,FALSE)/1000","VLOOKUP($B67,RawData,AN$4,FALSE)*VLOOKUP(AN$3,ConversionFactors,2,FALSE)/1000","VLOOKUP($B67,RawData,AO$4,FALSE)*VLOOKUP(AO$3,ConversionFactors,2,FALSE)/1000","VLOOKUP($B67,RawData,AP$4,FALSE)*VLOOKUP(AP$3,ConversionFactors,2,FALSE)/1000","VLOOKUP($B67,RawData,AQ$4,FALSE)*VLOOKUP(AQ$3,ConversionFactors,2,FALSE)/1000","VLOOKUP($B67,RawData,AR$4,FALSE)*VLOOKUP(AR$3,ConversionFactors,2,FALSE)/1000","VLOOKUP($B67,RawData,AS$4,FALSE)*VLOOKUP(AS$3,ConversionFactors,2,FALSE)*1","VLOOKUP($B67,RawData,AT$4,FALSE)*1","VLOOKUP($B67,RawData,AU$4,FALSE)*1","VLOOKUP($B67,RawData,AV$4,FALSE)*1","VLOOKUP($B67,RawData,AW$4,FALSE)*1","VLOOKUP($B67,RawData,AX$4,FALSE)*1","VLOOKUP($B67,RawData,AY$4,FALSE)*VLOOKUP(AY$3,ConversionFactors,2,FALSE)/1000","VLOOKUP($B67,RawData,AZ$4,FALSE)*VLOOKUP(AZ$3,ConversionFactors,2,FALSE)/1000","VLOOKUP($B67,RawData,BA$4,FALSE)*VLOOKUP(BA$3,ConversionFactors,2,FALSE)/1000","VLOOKUP($B67,RawData,BB$4,FALSE)*VLOOKUP(BB$3,ConversionFactors,2,FALSE)/1000","VLOOKUP($B67,RawData,BC$4,FALSE)*1","VLOOKUP($B67,RawData,BD$4,FALSE)*VLOOKUP(BD$3,ConversionFactors,2,FALSE)/1000",0,0,"VLOOKUP($B67,RawData,BG$4,FALSE)*1",0,"VLOOKUP($B67,RawData,BI$4,FALSE)*1",0,0,0,"VLOOKUP($B67,RawData,BM$4,FALSE)*3.6","VLOOKUP($B67,RawData,BN$4,FALSE)*1",0]
[{"$f":"TEXTILES","v":"Textiles and leather"},"TEXTILES","NIND",15,0,0,0,0,0,0,0,0,0,0,0,0,0,0,0,0,0,0,0,0,0,0,0,0,0,0,0,0,0,0,0,0,0,0,0,0,0,0,0,0,0,0,0,0,0,0,0,0,0,0,0,0,0,0,0,0,0,0,0,0,0,0,0,0,null,null,null,null,null,null,null,null,null,null,"TEXTILES","VLOOKUP($B68,RawData,E$4,FALSE)*VLOOKUP(E$3,ConversionFactors,$D68,FALSE)/1000","VLOOKUP($B68,RawData,F$4,FALSE)*VLOOKUP(F$3,ConversionFactors,$D68,FALSE)/1000","VLOOKUP($B68,RawData,G$4,FALSE)*VLOOKUP(G$3,ConversionFactors,$D68,FALSE)/1000","VLOOKUP($B68,RawData,H$4,FALSE)*VLOOKUP(H$3,ConversionFactors,$D68,FALSE)/1000","VLOOKUP($B68,RawData,I$4,FALSE)*VLOOKUP(I$3,ConversionFactors,$D68,FALSE)/1000","VLOOKUP($B68,RawData,J$4,FALSE)*VLOOKUP(J$3,ConversionFactors,$D68,FALSE)/1000","VLOOKUP($B68,RawData,K$4,FALSE)*VLOOKUP(K$3,ConversionFactors,$D68,FALSE)/1000","VLOOKUP($B68,RawData,L$4,FALSE)*VLOOKUP(L$3,ConversionFactors,$D68,FALSE)/1000","VLOOKUP($B68,RawData,M$4,FALSE)*VLOOKUP(M$3,ConversionFactors,$D68,FALSE)/1000","VLOOKUP($B68,RawData,N$4,FALSE)*VLOOKUP(N$3,ConversionFactors,$D68,FALSE)/1000","(VLOOKUP($B68,RawData,O$4,FALSE)*VLOOKUP(O$3,ConversionFactors,2,FALSE))*1","(VLOOKUP($B68,RawData,P$4,FALSE)*VLOOKUP(P$3,ConversionFactors,2,FALSE))*1","(VLOOKUP($B68,RawData,Q$4,FALSE)*VLOOKUP(Q$3,ConversionFactors,2,FALSE))*1","(VLOOKUP($B68,RawData,R$4,FALSE)*VLOOKUP(R$3,ConversionFactors,2,FALSE))*1",0,"VLOOKUP($B68,RawData,T$4,FALSE)*VLOOKUP(T$3,ConversionFactors,$D68,FALSE)/1000","VLOOKUP($B68,RawData,U$4,FALSE)*VLOOKUP(U$3,ConversionFactors,$D68,FALSE)/1000","VLOOKUP($B68,RawData,V$4,FALSE)*VLOOKUP(V$3,ConversionFactors,$D68,FALSE)/1000","VLOOKUP($B68,RawData,W$4,FALSE)*VLOOKUP(W$3,ConversionFactors,2,FALSE)/1000","VLOOKUP($B68,RawData,X$4,FALSE)*VLOOKUP(X$3,ConversionFactors,2,FALSE)/1000","VLOOKUP($B68,RawData,Y$4,FALSE)*VLOOKUP(Y$3,ConversionFactors,2,FALSE)/1000","VLOOKUP($B68,RawData,Z$4,FALSE)*VLOOKUP(Z$3,ConversionFactors,2,FALSE)/1000","VLOOKUP($B68,RawData,AA$4,FALSE)*VLOOKUP(AA$3,ConversionFactors,2,FALSE)/1000","VLOOKUP($B68,RawData,AB$4,FALSE)*VLOOKUP(AB$3,ConversionFactors,2,FALSE)/1000","VLOOKUP($B68,RawData,AC$4,FALSE)*VLOOKUP(AC$3,ConversionFactors,2,FALSE)/1000","VLOOKUP($B68,RawData,AD$4,FALSE)*VLOOKUP(AD$3,ConversionFactors,2,FALSE)/1000","VLOOKUP($B68,RawData,AE$4,FALSE)*VLOOKUP(AE$3,ConversionFactors,2,FALSE)/1000","VLOOKUP($B68,RawData,AF$4,FALSE)*VLOOKUP(AF$3,ConversionFactors,2,FALSE)/1000","VLOOKUP($B68,RawData,AG$4,FALSE)*VLOOKUP(AG$3,ConversionFactors,2,FALSE)/1000","VLOOKUP($B68,RawData,AH$4,FALSE)*VLOOKUP(AH$3,ConversionFactors,2,FALSE)/1000","VLOOKUP($B68,RawData,AI$4,FALSE)*VLOOKUP(AI$3,ConversionFactors,2,FALSE)/1000","VLOOKUP($B68,RawData,AJ$4,FALSE)*VLOOKUP(AJ$3,ConversionFactors,2,FALSE)/1000","VLOOKUP($B68,RawData,AK$4,FALSE)*VLOOKUP(AK$3,ConversionFactors,2,FALSE)/1000","VLOOKUP($B68,RawData,AL$4,FALSE)*VLOOKUP(AL$3,ConversionFactors,2,FALSE)/1000","VLOOKUP($B68,RawData,AM$4,FALSE)*VLOOKUP(AM$3,ConversionFactors,2,FALSE)/1000","VLOOKUP($B68,RawData,AN$4,FALSE)*VLOOKUP(AN$3,ConversionFactors,2,FALSE)/1000","VLOOKUP($B68,RawData,AO$4,FALSE)*VLOOKUP(AO$3,ConversionFactors,2,FALSE)/1000","VLOOKUP($B68,RawData,AP$4,FALSE)*VLOOKUP(AP$3,ConversionFactors,2,FALSE)/1000","VLOOKUP($B68,RawData,AQ$4,FALSE)*VLOOKUP(AQ$3,ConversionFactors,2,FALSE)/1000","VLOOKUP($B68,RawData,AR$4,FALSE)*VLOOKUP(AR$3,ConversionFactors,2,FALSE)/1000","VLOOKUP($B68,RawData,AS$4,FALSE)*VLOOKUP(AS$3,ConversionFactors,2,FALSE)*1","VLOOKUP($B68,RawData,AT$4,FALSE)*1","VLOOKUP($B68,RawData,AU$4,FALSE)*1","VLOOKUP($B68,RawData,AV$4,FALSE)*1","VLOOKUP($B68,RawData,AW$4,FALSE)*1","VLOOKUP($B68,RawData,AX$4,FALSE)*1","VLOOKUP($B68,RawData,AY$4,FALSE)*VLOOKUP(AY$3,ConversionFactors,2,FALSE)/1000","VLOOKUP($B68,RawData,AZ$4,FALSE)*VLOOKUP(AZ$3,ConversionFactors,2,FALSE)/1000","VLOOKUP($B68,RawData,BA$4,FALSE)*VLOOKUP(BA$3,ConversionFactors,2,FALSE)/1000","VLOOKUP($B68,RawData,BB$4,FALSE)*VLOOKUP(BB$3,ConversionFactors,2,FALSE)/1000","VLOOKUP($B68,RawData,BC$4,FALSE)*1","VLOOKUP($B68,RawData,BD$4,FALSE)*VLOOKUP(BD$3,ConversionFactors,2,FALSE)/1000",0,0,"VLOOKUP($B68,RawData,BG$4,FALSE)*1",0,"VLOOKUP($B68,RawData,BI$4,FALSE)*1",0,0,0,"VLOOKUP($B68,RawData,BM$4,FALSE)*3.6","VLOOKUP($B68,RawData,BN$4,FALSE)*1",0]
[{"$f":"INONSPEC","v":"Non-specified (Industry)"},"INONSPEC","NIND",15,0,0,0,0,0,0,0,0,0,0,0,0,0,0,0,0,0,0,0,0,0,0,0,0,0,0,0,0,0,0,0,0,0,0,0,0,0,0,0,0,0,0,0,0,0,0,0,0,0,0,0,0,0,0,0,0,0,0,0,0,15840,0,0,15840,null,null,null,null,null,null,null,null,null,null,"INONSPEC","VLOOKUP($B69,RawData,E$4,FALSE)*VLOOKUP(E$3,ConversionFactors,$D69,FALSE)/1000","VLOOKUP($B69,RawData,F$4,FALSE)*VLOOKUP(F$3,ConversionFactors,$D69,FALSE)/1000","VLOOKUP($B69,RawData,G$4,FALSE)*VLOOKUP(G$3,ConversionFactors,$D69,FALSE)/1000","VLOOKUP($B69,RawData,H$4,FALSE)*VLOOKUP(H$3,ConversionFactors,$D69,FALSE)/1000","VLOOKUP($B69,RawData,I$4,FALSE)*VLOOKUP(I$3,ConversionFactors,$D69,FALSE)/1000","VLOOKUP($B69,RawData,J$4,FALSE)*VLOOKUP(J$3,ConversionFactors,$D69,FALSE)/1000","VLOOKUP($B69,RawData,K$4,FALSE)*VLOOKUP(K$3,ConversionFactors,$D69,FALSE)/1000","VLOOKUP($B69,RawData,L$4,FALSE)*VLOOKUP(L$3,ConversionFactors,$D69,FALSE)/1000","VLOOKUP($B69,RawData,M$4,FALSE)*VLOOKUP(M$3,ConversionFactors,$D69,FALSE)/1000","VLOOKUP($B69,RawData,N$4,FALSE)*VLOOKUP(N$3,ConversionFactors,$D69,FALSE)/1000","(VLOOKUP($B69,RawData,O$4,FALSE)*VLOOKUP(O$3,ConversionFactors,2,FALSE))*1","(VLOOKUP($B69,RawData,P$4,FALSE)*VLOOKUP(P$3,ConversionFactors,2,FALSE))*1","(VLOOKUP($B69,RawData,Q$4,FALSE)*VLOOKUP(Q$3,ConversionFactors,2,FALSE))*1","(VLOOKUP($B69,RawData,R$4,FALSE)*VLOOKUP(R$3,ConversionFactors,2,FALSE))*1",0,"VLOOKUP($B69,RawData,T$4,FALSE)*VLOOKUP(T$3,ConversionFactors,$D69,FALSE)/1000","VLOOKUP($B69,RawData,U$4,FALSE)*VLOOKUP(U$3,ConversionFactors,$D69,FALSE)/1000","VLOOKUP($B69,RawData,V$4,FALSE)*VLOOKUP(V$3,ConversionFactors,$D69,FALSE)/1000","VLOOKUP($B69,RawData,W$4,FALSE)*VLOOKUP(W$3,ConversionFactors,2,FALSE)/1000","VLOOKUP($B69,RawData,X$4,FALSE)*VLOOKUP(X$3,ConversionFactors,2,FALSE)/1000","VLOOKUP($B69,RawData,Y$4,FALSE)*VLOOKUP(Y$3,ConversionFactors,2,FALSE)/1000","VLOOKUP($B69,RawData,Z$4,FALSE)*VLOOKUP(Z$3,ConversionFactors,2,FALSE)/1000","VLOOKUP($B69,RawData,AA$4,FALSE)*VLOOKUP(AA$3,ConversionFactors,2,FALSE)/1000","VLOOKUP($B69,RawData,AB$4,FALSE)*VLOOKUP(AB$3,ConversionFactors,2,FALSE)/1000","VLOOKUP($B69,RawData,AC$4,FALSE)*VLOOKUP(AC$3,ConversionFactors,2,FALSE)/1000","VLOOKUP($B69,RawData,AD$4,FALSE)*VLOOKUP(AD$3,ConversionFactors,2,FALSE)/1000","VLOOKUP($B69,RawData,AE$4,FALSE)*VLOOKUP(AE$3,ConversionFactors,2,FALSE)/1000","VLOOKUP($B69,RawData,AF$4,FALSE)*VLOOKUP(AF$3,ConversionFactors,2,FALSE)/1000","VLOOKUP($B69,RawData,AG$4,FALSE)*VLOOKUP(AG$3,ConversionFactors,2,FALSE)/1000","VLOOKUP($B69,RawData,AH$4,FALSE)*VLOOKUP(AH$3,ConversionFactors,2,FALSE)/1000","VLOOKUP($B69,RawData,AI$4,FALSE)*VLOOKUP(AI$3,ConversionFactors,2,FALSE)/1000","VLOOKUP($B69,RawData,AJ$4,FALSE)*VLOOKUP(AJ$3,ConversionFactors,2,FALSE)/1000","VLOOKUP($B69,RawData,AK$4,FALSE)*VLOOKUP(AK$3,ConversionFactors,2,FALSE)/1000","VLOOKUP($B69,RawData,AL$4,FALSE)*VLOOKUP(AL$3,ConversionFactors,2,FALSE)/1000","VLOOKUP($B69,RawData,AM$4,FALSE)*VLOOKUP(AM$3,ConversionFactors,2,FALSE)/1000","VLOOKUP($B69,RawData,AN$4,FALSE)*VLOOKUP(AN$3,ConversionFactors,2,FALSE)/1000","VLOOKUP($B69,RawData,AO$4,FALSE)*VLOOKUP(AO$3,ConversionFactors,2,FALSE)/1000","VLOOKUP($B69,RawData,AP$4,FALSE)*VLOOKUP(AP$3,ConversionFactors,2,FALSE)/1000","VLOOKUP($B69,RawData,AQ$4,FALSE)*VLOOKUP(AQ$3,ConversionFactors,2,FALSE)/1000","VLOOKUP($B69,RawData,AR$4,FALSE)*VLOOKUP(AR$3,ConversionFactors,2,FALSE)/1000","VLOOKUP($B69,RawData,AS$4,FALSE)*VLOOKUP(AS$3,ConversionFactors,2,FALSE)*1","VLOOKUP($B69,RawData,AT$4,FALSE)*1","VLOOKUP($B69,RawData,AU$4,FALSE)*1","VLOOKUP($B69,RawData,AV$4,FALSE)*1","VLOOKUP($B69,RawData,AW$4,FALSE)*1","VLOOKUP($B69,RawData,AX$4,FALSE)*1","VLOOKUP($B69,RawData,AY$4,FALSE)*VLOOKUP(AY$3,ConversionFactors,2,FALSE)/1000","VLOOKUP($B69,RawData,AZ$4,FALSE)*VLOOKUP(AZ$3,ConversionFactors,2,FALSE)/1000","VLOOKUP($B69,RawData,BA$4,FALSE)*VLOOKUP(BA$3,ConversionFactors,2,FALSE)/1000","VLOOKUP($B69,RawData,BB$4,FALSE)*VLOOKUP(BB$3,ConversionFactors,2,FALSE)/1000","VLOOKUP($B69,RawData,BC$4,FALSE)*1","VLOOKUP($B69,RawData,BD$4,FALSE)*VLOOKUP(BD$3,ConversionFactors,2,FALSE)/1000",0,0,"VLOOKUP($B69,RawData,BG$4,FALSE)*1",0,"VLOOKUP($B69,RawData,BI$4,FALSE)*1",0,0,0,"VLOOKUP($B69,RawData,BM$4,FALSE)*3.6","VLOOKUP($B69,RawData,BN$4,FALSE)*1",0]
[{"$f":"TOTTRANS","v":"Transport"},"TOTTRANS",null,null,{"$f":"SUM(E71:E76)","v":0},0,0,0,0,0,0,0,0,0,0,0,0,0,0,{"$f":"SUM(T71:T76)","v":0},0,0,0,0,0,0,0,0,0,0,0,0,0,0,0,23005,0,0,0,0,0,0,0,0,0,0,0,0,0,0,0,0,55.2,0,0,0,0,0,{"$f":"SUM(BG71:BG76)","v":0},0,{"$f":"SUM(BI71:BI76)","v":0},0,0,{"$f":"SUM(BL71:BL76)","v":0},{"$f":"SUM(BM71:BM76)","v":36},{"$f":"SUM(BN71:BN76)","v":0},0,23096.2,null,null,null,null,null,null,null,null,null,null,"TOTTRANS","SUM(E71:E76)","SUM(F71:F76)","SUM(G71:G76)","SUM(H71:H76)","SUM(I71:I76)","SUM(J71:J76)","SUM(K71:K76)","SUM(L71:L76)","SUM(M71:M76)","SUM(N71:N76)","SUM(O71:O76)","SUM(P71:P76)","SUM(Q71:Q76)","SUM(R71:R76)",0,"SUM(T71:T76)","SUM(U71:U76)","SUM(V71:V76)","SUM(W71:W76)","SUM(X71:X76)","SUM(Y71:Y76)","SUM(Z71:Z76)","SUM(AA71:AA76)","SUM(AB71:AB76)","SUM(AC71:AC76)","SUM(AD71:AD76)","SUM(AE71:AE76)","SUM(AF71:AF76)","SUM(AG71:AG76)","SUM(AH71:AH76)","SUM(AI71:AI76)","SUM(AJ71:AJ76)","SUM(AK71:AK76)","SUM(AL71:AL76)","SUM(AM71:AM76)","SUM(AN71:AN76)","SUM(AO71:AO76)","SUM(AP71:AP76)","SUM(AQ71:AQ76)","SUM(AR71:AR76)","SUM(AS71:AS76)","SUM(AT71:AT76)","SUM(AU71:AU76)","SUM(AV71:AV76)","SUM(AW71:AW76)","SUM(AX71:AX76)","SUM(AY71:AY76)","SUM(AZ71:AZ76)","SUM(BA71:BA76)","SUM(BB71:BB76)","SUM(BC71:BC76)","SUM(BD71:BD76)",0,0,"SUM(BG71:BG76)",0,"SUM(BI71:BI76)",0,0,"SUM(BL71:BL76)","SUM(BM71:BM76)","SUM(BN71:BN76)",0]
[{"$f":"ROAD","v":"Road"},"ROAD","NOTHER",{"$f":"MATCH(C71,CFHeadings,0)","v":16},{"$f":"VLOOKUP($B71,RawData,E$4,FALSE)*VLOOKUP(E$3,ConversionFactors,$D71,FALSE)/1000","v":0},0,0,0,0,0,0,0,0,0,{"$f":"(VLOOKUP($B71,RawData,O$4,FALSE)*VLOOKUP(O$3,ConversionFactors,2,FALSE))*1","v":0},0,0,0,0,{"$f":"VLOOKUP($B71,RawData,T$4,FALSE)*VLOOKUP(T$3,ConversionFactors,$D71,FALSE)/1000","v":0},0,0,{"$f":"VLOOKUP($B71,RawData,W$4,FALSE)*VLOOKUP(W$3,ConversionFactors,2,FALSE)/1000","v":0},0,0,0,0,0,0,0,0,0,{"$f":"VLOOKUP($B71,RawData,AG$4,FALSE)*VLOOKUP(AG$3,ConversionFactors,2,FALSE)/1000","v":0},0,0,22575,0,0,0,0,0,0,0,0,{"$f":"VLOOKUP($B71,RawData,AS$4,FALSE)*VLOOKUP(AS$3,ConversionFactors,2,FALSE)*1","v":0},{"$f":"VLOOKUP($B71,RawData,AT$4,FALSE)*1","v":0},0,0,0,0,{"$f":"VLOOKUP($B71,RawData,AY$4,FALSE)*VLOOKUP(AY$3,ConversionFactors,2,FALSE)/1000","v":0},0,55.2,0,{"$f":"VLOOKUP($B71,RawData,BC$4,FALSE)*1","v":0},{"$f":"VLOOKUP($B71,RawData,BD$4,FALSE)*VLOOKUP(BD$3,ConversionFactors,2,FALSE)/1000","v":0},0,0,{"$f":"VLOOKUP($B71,RawData,BG$4,FALSE)*1","v":0},0,{"$f":"VLOOKUP($B71,RawData,BI$4,FALSE)*1","v":0},0,0,0,{"$f":"VLOOKUP($B71,RawData,BM$4,FALSE)*3.6","v":0},{"$f":"VLOOKUP($B71,RawData,BN$4,FALSE)*1","v":0},0,22630.2,null,null,null,null,null,null,null,null,null,null,"ROAD","VLOOKUP($B71,RawData,E$4,FALSE)*VLOOKUP(E$3,ConversionFactors,$D71,FALSE)/1000","VLOOKUP($B71,RawData,F$4,FALSE)*VLOOKUP(F$3,ConversionFactors,$D71,FALSE)/1000","VLOOKUP($B71,RawData,G$4,FALSE)*VLOOKUP(G$3,ConversionFactors,$D71,FALSE)/1000","VLOOKUP($B71,RawData,H$4,FALSE)*VLOOKUP(H$3,ConversionFactors,$D71,FALSE)/1000","VLOOKUP($B71,RawData,I$4,FALSE)*VLOOKUP(I$3,ConversionFactors,$D71,FALSE)/1000","VLOOKUP($B71,RawData,J$4,FALSE)*VLOOKUP(J$3,ConversionFactors,$D71,FALSE)/1000","VLOOKUP($B71,RawData,K$4,FALSE)*VLOOKUP(K$3,ConversionFactors,$D71,FALSE)/1000","VLOOKUP($B71,RawData,L$4,FALSE)*VLOOKUP(L$3,ConversionFactors,$D71,FALSE)/1000","VLOOKUP($B71,RawData,M$4,FALSE)*VLOOKUP(M$3,ConversionFactors,$D71,FALSE)/1000","VLOOKUP($B71,RawData,N$4,FALSE)*VLOOKUP(N$3,ConversionFactors,$D71,FALSE)/1000","(VLOOKUP($B71,RawData,O$4,FALSE)*VLOOKUP(O$3,ConversionFactors,2,FALSE))*1","(VLOOKUP($B71,RawData,P$4,FALSE)*VLOOKUP(P$3,ConversionFactors,2,FALSE))*1","(VLOOKUP($B71,RawData,Q$4,FALSE)*VLOOKUP(Q$3,ConversionFactors,2,FALSE))*1","(VLOOKUP($B71,RawData,R$4,FALSE)*VLOOKUP(R$3,ConversionFactors,2,FALSE))*1",0,"VLOOKUP($B71,RawData,T$4,FALSE)*VLOOKUP(T$3,ConversionFactors,$D71,FALSE)/1000","VLOOKUP($B71,RawData,U$4,FALSE)*VLOOKUP(U$3,ConversionFactors,$D71,FALSE)/1000","VLOOKUP($B71,RawData,V$4,FALSE)*VLOOKUP(V$3,ConversionFactors,$D71,FALSE)/1000","VLOOKUP($B71,RawData,W$4,FALSE)*VLOOKUP(W$3,ConversionFactors,2,FALSE)/1000","VLOOKUP($B71,RawData,X$4,FALSE)*VLOOKUP(X$3,ConversionFactors,2,FALSE)/1000","VLOOKUP($B71,RawData,Y$4,FALSE)*VLOOKUP(Y$3,ConversionFactors,2,FALSE)/1000","VLOOKUP($B71,RawData,Z$4,FALSE)*VLOOKUP(Z$3,ConversionFactors,2,FALSE)/1000","VLOOKUP($B71,RawData,AA$4,FALSE)*VLOOKUP(AA$3,ConversionFactors,2,FALSE)/1000","VLOOKUP($B71,RawData,AB$4,FALSE)*VLOOKUP(AB$3,ConversionFactors,2,FALSE)/1000","VLOOKUP($B71,RawData,AC$4,FALSE)*VLOOKUP(AC$3,ConversionFactors,2,FALSE)/1000","VLOOKUP($B71,RawData,AD$4,FALSE)*VLOOKUP(AD$3,ConversionFactors,2,FALSE)/1000","VLOOKUP($B71,RawData,AE$4,FALSE)*VLOOKUP(AE$3,ConversionFactors,2,FALSE)/1000","VLOOKUP($B71,RawData,AF$4,FALSE)*VLOOKUP(AF$3,ConversionFactors,2,FALSE)/1000","VLOOKUP($B71,RawData,AG$4,FALSE)*VLOOKUP(AG$3,ConversionFactors,2,FALSE)/1000","VLOOKUP($B71,RawData,AH$4,FALSE)*VLOOKUP(AH$3,ConversionFactors,2,FALSE)/1000","VLOOKUP($B71,RawData,AI$4,FALSE)*VLOOKUP(AI$3,ConversionFactors,2,FALSE)/1000","VLOOKUP($B71,RawData,AJ$4,FALSE)*VLOOKUP(AJ$3,ConversionFactors,2,FALSE)/1000","VLOOKUP($B71,RawData,AK$4,FALSE)*VLOOKUP(AK$3,ConversionFactors,2,FALSE)/1000","VLOOKUP($B71,RawData,AL$4,FALSE)*VLOOKUP(AL$3,ConversionFactors,2,FALSE)/1000","VLOOKUP($B71,RawData,AM$4,FALSE)*VLOOKUP(AM$3,ConversionFactors,2,FALSE)/1000","VLOOKUP($B71,RawData,AN$4,FALSE)*VLOOKUP(AN$3,ConversionFactors,2,FALSE)/1000","VLOOKUP($B71,RawData,AO$4,FALSE)*VLOOKUP(AO$3,ConversionFactors,2,FALSE)/1000","VLOOKUP($B71,RawData,AP$4,FALSE)*VLOOKUP(AP$3,ConversionFactors,2,FALSE)/1000","VLOOKUP($B71,RawData,AQ$4,FALSE)*VLOOKUP(AQ$3,ConversionFactors,2,FALSE)/1000","VLOOKUP($B71,RawData,AR$4,FALSE)*VLOOKUP(AR$3,ConversionFactors,2,FALSE)/1000","VLOOKUP($B71,RawData,AS$4,FALSE)*VLOOKUP(AS$3,ConversionFactors,2,FALSE)*1","VLOOKUP($B71,RawData,AT$4,FALSE)*1","VLOOKUP($B71,RawData,AU$4,FALSE)*1","VLOOKUP($B71,RawData,AV$4,FALSE)*1","VLOOKUP($B71,RawData,AW$4,FALSE)*1","VLOOKUP($B71,RawData,AX$4,FALSE)*1","VLOOKUP($B71,RawData,AY$4,FALSE)*VLOOKUP(AY$3,ConversionFactors,2,FALSE)/1000","VLOOKUP($B71,RawData,AZ$4,FALSE)*VLOOKUP(AZ$3,ConversionFactors,2,FALSE)/1000","VLOOKUP($B71,RawData,BA$4,FALSE)*VLOOKUP(BA$3,ConversionFactors,2,FALSE)/1000","VLOOKUP($B71,RawData,BB$4,FALSE)*VLOOKUP(BB$3,ConversionFactors,2,FALSE)/1000","VLOOKUP($B71,RawData,BC$4,FALSE)*1","VLOOKUP($B71,RawData,BD$4,FALSE)*VLOOKUP(BD$3,ConversionFactors,2,FALSE)/1000",0,0,"VLOOKUP($B71,RawData,BG$4,FALSE)*1",0,"VLOOKUP($B71,RawData,BI$4,FALSE)*1",0,0,0,"VLOOKUP($B71,RawData,BM$4,FALSE)*3.6","VLOOKUP($B71,RawData,BN$4,FALSE)*1",0]
[{"$f":"DOMESAIR","v":"Domestic aviation"},"DOMESAIR","NOTHER",16,0,0,0,0,0,0,0,0,0,0,0,0,0,0,0,0,0,0,0,0,0,0,0,0,0,0,0,0,0,0,0,0,0,0,0,0,0,0,0,0,0,0,0,0,0,0,0,0,0,0,0,0,0,0,0,0,0,0,0,0,0,0,0,0,null,null,null,null,null,null,null,null,null,null,"DOMESAIR","VLOOKUP($B72,RawData,E$4,FALSE)*VLOOKUP(E$3,ConversionFactors,$D72,FALSE)/1000","VLOOKUP($B72,RawData,F$4,FALSE)*VLOOKUP(F$3,ConversionFactors,$D72,FALSE)/1000","VLOOKUP($B72,RawData,G$4,FALSE)*VLOOKUP(G$3,ConversionFactors,$D72,FALSE)/1000","VLOOKUP($B72,RawData,H$4,FALSE)*VLOOKUP(H$3,ConversionFactors,$D72,FALSE)/1000","VLOOKUP($B72,RawData,I$4,FALSE)*VLOOKUP(I$3,ConversionFactors,$D72,FALSE)/1000","VLOOKUP($B72,RawData,J$4,FALSE)*VLOOKUP(J$3,ConversionFactors,$D72,FALSE)/1000","VLOOKUP($B72,RawData,K$4,FALSE)*VLOOKUP(K$3,ConversionFactors,$D72,FALSE)/1000","VLOOKUP($B72,RawData,L$4,FALSE)*VLOOKUP(L$3,ConversionFactors,$D72,FALSE)/1000","VLOOKUP($B72,RawData,M$4,FALSE)*VLOOKUP(M$3,ConversionFactors,$D72,FALSE)/1000","VLOOKUP($B72,RawData,N$4,FALSE)*VLOOKUP(N$3,ConversionFactors,$D72,FALSE)/1000","(VLOOKUP($B72,RawData,O$4,FALSE)*VLOOKUP(O$3,ConversionFactors,2,FALSE))*1","(VLOOKUP($B72,RawData,P$4,FALSE)*VLOOKUP(P$3,ConversionFactors,2,FALSE))*1","(VLOOKUP($B72,RawData,Q$4,FALSE)*VLOOKUP(Q$3,ConversionFactors,2,FALSE))*1","(VLOOKUP($B72,RawData,R$4,FALSE)*VLOOKUP(R$3,ConversionFactors,2,FALSE))*1",0,"VLOOKUP($B72,RawData,T$4,FALSE)*VLOOKUP(T$3,ConversionFactors,$D72,FALSE)/1000","VLOOKUP($B72,RawData,U$4,FALSE)*VLOOKUP(U$3,ConversionFactors,$D72,FALSE)/1000","VLOOKUP($B72,RawData,V$4,FALSE)*VLOOKUP(V$3,ConversionFactors,$D72,FALSE)/1000","VLOOKUP($B72,RawData,W$4,FALSE)*VLOOKUP(W$3,ConversionFactors,2,FALSE)/1000","VLOOKUP($B72,RawData,X$4,FALSE)*VLOOKUP(X$3,ConversionFactors,2,FALSE)/1000","VLOOKUP($B72,RawData,Y$4,FALSE)*VLOOKUP(Y$3,ConversionFactors,2,FALSE)/1000","VLOOKUP($B72,RawData,Z$4,FALSE)*VLOOKUP(Z$3,ConversionFactors,2,FALSE)/1000","VLOOKUP($B72,RawData,AA$4,FALSE)*VLOOKUP(AA$3,ConversionFactors,2,FALSE)/1000","VLOOKUP($B72,RawData,AB$4,FALSE)*VLOOKUP(AB$3,ConversionFactors,2,FALSE)/1000","VLOOKUP($B72,RawData,AC$4,FALSE)*VLOOKUP(AC$3,ConversionFactors,2,FALSE)/1000","VLOOKUP($B72,RawData,AD$4,FALSE)*VLOOKUP(AD$3,ConversionFactors,2,FALSE)/1000","VLOOKUP($B72,RawData,AE$4,FALSE)*VLOOKUP(AE$3,ConversionFactors,2,FALSE)/1000","VLOOKUP($B72,RawData,AF$4,FALSE)*VLOOKUP(AF$3,ConversionFactors,2,FALSE)/1000","VLOOKUP($B72,RawData,AG$4,FALSE)*VLOOKUP(AG$3,ConversionFactors,2,FALSE)/1000","VLOOKUP($B72,RawData,AH$4,FALSE)*VLOOKUP(AH$3,ConversionFactors,2,FALSE)/1000","VLOOKUP($B72,RawData,AI$4,FALSE)*VLOOKUP(AI$3,ConversionFactors,2,FALSE)/1000","VLOOKUP($B72,RawData,AJ$4,FALSE)*VLOOKUP(AJ$3,ConversionFactors,2,FALSE)/1000","VLOOKUP($B72,RawData,AK$4,FALSE)*VLOOKUP(AK$3,ConversionFactors,2,FALSE)/1000","VLOOKUP($B72,RawData,AL$4,FALSE)*VLOOKUP(AL$3,ConversionFactors,2,FALSE)/1000","VLOOKUP($B72,RawData,AM$4,FALSE)*VLOOKUP(AM$3,ConversionFactors,2,FALSE)/1000","VLOOKUP($B72,RawData,AN$4,FALSE)*VLOOKUP(AN$3,ConversionFactors,2,FALSE)/1000","VLOOKUP($B72,RawData,AO$4,FALSE)*VLOOKUP(AO$3,ConversionFactors,2,FALSE)/1000","VLOOKUP($B72,RawData,AP$4,FALSE)*VLOOKUP(AP$3,ConversionFactors,2,FALSE)/1000","VLOOKUP($B72,RawData,AQ$4,FALSE)*VLOOKUP(AQ$3,ConversionFactors,2,FALSE)/1000","VLOOKUP($B72,RawData,AR$4,FALSE)*VLOOKUP(AR$3,ConversionFactors,2,FALSE)/1000","VLOOKUP($B72,RawData,AS$4,FALSE)*VLOOKUP(AS$3,ConversionFactors,2,FALSE)*1","VLOOKUP($B72,RawData,AT$4,FALSE)*1","VLOOKUP($B72,RawData,AU$4,FALSE)*1","VLOOKUP($B72,RawData,AV$4,FALSE)*1","VLOOKUP($B72,RawData,AW$4,FALSE)*1","VLOOKUP($B72,RawData,AX$4,FALSE)*1","VLOOKUP($B72,RawData,AY$4,FALSE)*VLOOKUP(AY$3,ConversionFactors,2,FALSE)/1000","VLOOKUP($B72,RawData,AZ$4,FALSE)*VLOOKUP(AZ$3,ConversionFactors,2,FALSE)/1000","VLOOKUP($B72,RawData,BA$4,FALSE)*VLOOKUP(BA$3,ConversionFactors,2,FALSE)/1000","VLOOKUP($B72,RawData,BB$4,FALSE)*VLOOKUP(BB$3,ConversionFactors,2,FALSE)/1000","VLOOKUP($B72,RawData,BC$4,FALSE)*1","VLOOKUP($B72,RawData,BD$4,FALSE)*VLOOKUP(BD$3,ConversionFactors,2,FALSE)/1000",0,0,"VLOOKUP($B72,RawData,BG$4,FALSE)*1",0,"VLOOKUP($B72,RawData,BI$4,FALSE)*1",0,0,0,"VLOOKUP($B72,RawData,BM$4,FALSE)*3.6","VLOOKUP($B72,RawData,BN$4,FALSE)*1",0]
[{"$f":"RAIL","v":"Rail"},"RAIL","NOTHER",16,0,0,0,0,0,0,0,0,0,0,0,0,0,0,0,0,0,0,0,0,0,0,0,0,0,0,0,0,0,0,0,0,0,0,0,0,0,0,0,0,0,0,0,0,0,0,0,0,0,0,0,0,0,0,0,0,0,0,0,0,36,0,0,36,null,null,null,null,null,null,null,null,null,null,"RAIL","VLOOKUP($B73,RawData,E$4,FALSE)*VLOOKUP(E$3,ConversionFactors,$D73,FALSE)/1000","VLOOKUP($B73,RawData,F$4,FALSE)*VLOOKUP(F$3,ConversionFactors,$D73,FALSE)/1000","VLOOKUP($B73,RawData,G$4,FALSE)*VLOOKUP(G$3,ConversionFactors,$D73,FALSE)/1000","VLOOKUP($B73,RawData,H$4,FALSE)*VLOOKUP(H$3,ConversionFactors,$D73,FALSE)/1000","VLOOKUP($B73,RawData,I$4,FALSE)*VLOOKUP(I$3,ConversionFactors,$D73,FALSE)/1000","VLOOKUP($B73,RawData,J$4,FALSE)*VLOOKUP(J$3,ConversionFactors,$D73,FALSE)/1000","VLOOKUP($B73,RawData,K$4,FALSE)*VLOOKUP(K$3,ConversionFactors,$D73,FALSE)/1000","VLOOKUP($B73,RawData,L$4,FALSE)*VLOOKUP(L$3,ConversionFactors,$D73,FALSE)/1000","VLOOKUP($B73,RawData,M$4,FALSE)*VLOOKUP(M$3,ConversionFactors,$D73,FALSE)/1000","VLOOKUP($B73,RawData,N$4,FALSE)*VLOOKUP(N$3,ConversionFactors,$D73,FALSE)/1000","(VLOOKUP($B73,RawData,O$4,FALSE)*VLOOKUP(O$3,ConversionFactors,2,FALSE))*1","(VLOOKUP($B73,RawData,P$4,FALSE)*VLOOKUP(P$3,ConversionFactors,2,FALSE))*1","(VLOOKUP($B73,RawData,Q$4,FALSE)*VLOOKUP(Q$3,ConversionFactors,2,FALSE))*1","(VLOOKUP($B73,RawData,R$4,FALSE)*VLOOKUP(R$3,ConversionFactors,2,FALSE))*1",0,"VLOOKUP($B73,RawData,T$4,FALSE)*VLOOKUP(T$3,ConversionFactors,$D73,FALSE)/1000","VLOOKUP($B73,RawData,U$4,FALSE)*VLOOKUP(U$3,ConversionFactors,$D73,FALSE)/1000","VLOOKUP($B73,RawData,V$4,FALSE)*VLOOKUP(V$3,ConversionFactors,$D73,FALSE)/1000","VLOOKUP($B73,RawData,W$4,FALSE)*VLOOKUP(W$3,ConversionFactors,2,FALSE)/1000","VLOOKUP($B73,RawData,X$4,FALSE)*VLOOKUP(X$3,ConversionFactors,2,FALSE)/1000","VLOOKUP($B73,RawData,Y$4,FALSE)*VLOOKUP(Y$3,ConversionFactors,2,FALSE)/1000","VLOOKUP($B73,RawData,Z$4,FALSE)*VLOOKUP(Z$3,ConversionFactors,2,FALSE)/1000","VLOOKUP($B73,RawData,AA$4,FALSE)*VLOOKUP(AA$3,ConversionFactors,2,FALSE)/1000","VLOOKUP($B73,RawData,AB$4,FALSE)*VLOOKUP(AB$3,ConversionFactors,2,FALSE)/1000","VLOOKUP($B73,RawData,AC$4,FALSE)*VLOOKUP(AC$3,ConversionFactors,2,FALSE)/1000","VLOOKUP($B73,RawData,AD$4,FALSE)*VLOOKUP(AD$3,ConversionFactors,2,FALSE)/1000","VLOOKUP($B73,RawData,AE$4,FALSE)*VLOOKUP(AE$3,ConversionFactors,2,FALSE)/1000","VLOOKUP($B73,RawData,AF$4,FALSE)*VLOOKUP(AF$3,ConversionFactors,2,FALSE)/1000","VLOOKUP($B73,RawData,AG$4,FALSE)*VLOOKUP(AG$3,ConversionFactors,2,FALSE)/1000","VLOOKUP($B73,RawData,AH$4,FALSE)*VLOOKUP(AH$3,ConversionFactors,2,FALSE)/1000","VLOOKUP($B73,RawData,AI$4,FALSE)*VLOOKUP(AI$3,ConversionFactors,2,FALSE)/1000","VLOOKUP($B73,RawData,AJ$4,FALSE)*VLOOKUP(AJ$3,ConversionFactors,2,FALSE)/1000","VLOOKUP($B73,RawData,AK$4,FALSE)*VLOOKUP(AK$3,ConversionFactors,2,FALSE)/1000","VLOOKUP($B73,RawData,AL$4,FALSE)*VLOOKUP(AL$3,ConversionFactors,2,FALSE)/1000","VLOOKUP($B73,RawData,AM$4,FALSE)*VLOOKUP(AM$3,ConversionFactors,2,FALSE)/1000","VLOOKUP($B73,RawData,AN$4,FALSE)*VLOOKUP(AN$3,ConversionFactors,2,FALSE)/1000","VLOOKUP($B73,RawData,AO$4,FALSE)*VLOOKUP(AO$3,ConversionFactors,2,FALSE)/1000","VLOOKUP($B73,RawData,AP$4,FALSE)*VLOOKUP(AP$3,ConversionFactors,2,FALSE)/1000","VLOOKUP($B73,RawData,AQ$4,FALSE)*VLOOKUP(AQ$3,ConversionFactors,2,FALSE)/1000","VLOOKUP($B73,RawData,AR$4,FALSE)*VLOOKUP(AR$3,ConversionFactors,2,FALSE)/1000","VLOOKUP($B73,RawData,AS$4,FALSE)*VLOOKUP(AS$3,ConversionFactors,2,FALSE)*1","VLOOKUP($B73,RawData,AT$4,FALSE)*1","VLOOKUP($B73,RawData,AU$4,FALSE)*1","VLOOKUP($B73,RawData,AV$4,FALSE)*1","VLOOKUP($B73,RawData,AW$4,FALSE)*1","VLOOKUP($B73,RawData,AX$4,FALSE)*1","VLOOKUP($B73,RawData,AY$4,FALSE)*VLOOKUP(AY$3,ConversionFactors,2,FALSE)/1000","VLOOKUP($B73,RawData,AZ$4,FALSE)*VLOOKUP(AZ$3,ConversionFactors,2,FALSE)/1000","VLOOKUP($B73,RawData,BA$4,FALSE)*VLOOKUP(BA$3,ConversionFactors,2,FALSE)/1000","VLOOKUP($B73,RawData,BB$4,FALSE)*VLOOKUP(BB$3,ConversionFactors,2,FALSE)/1000","VLOOKUP($B73,RawData,BC$4,FALSE)*1","VLOOKUP($B73,RawData,BD$4,FALSE)*VLOOKUP(BD$3,ConversionFactors,2,FALSE)/1000",0,0,"VLOOKUP($B73,RawData,BG$4,FALSE)*1",0,"VLOOKUP($B73,RawData,BI$4,FALSE)*1",0,0,0,"VLOOKUP($B73,RawData,BM$4,FALSE)*3.6","VLOOKUP($B73,RawData,BN$4,FALSE)*1",0]
[{"$f":"PIPELINE","v":"Pipeline transport"},"PIPELINE","NOTHER",16,0,0,0,0,0,0,0,0,0,0,0,0,0,0,0,0,0,0,0,0,0,0,0,0,0,0,0,0,0,0,0,0,0,0,0,0,0,0,0,0,0,0,0,0,0,0,0,0,0,0,0,0,0,0,0,0,0,0,0,0,0,0,0,0,null,null,null,null,null,null,null,null,null,null,"PIPELINE","VLOOKUP($B74,RawData,E$4,FALSE)*VLOOKUP(E$3,ConversionFactors,$D74,FALSE)/1000","VLOOKUP($B74,RawData,F$4,FALSE)*VLOOKUP(F$3,ConversionFactors,$D74,FALSE)/1000","VLOOKUP($B74,RawData,G$4,FALSE)*VLOOKUP(G$3,ConversionFactors,$D74,FALSE)/1000","VLOOKUP($B74,RawData,H$4,FALSE)*VLOOKUP(H$3,ConversionFactors,$D74,FALSE)/1000","VLOOKUP($B74,RawData,I$4,FALSE)*VLOOKUP(I$3,ConversionFactors,$D74,FALSE)/1000","VLOOKUP($B74,RawData,J$4,FALSE)*VLOOKUP(J$3,ConversionFactors,$D74,FALSE)/1000","VLOOKUP($B74,RawData,K$4,FALSE)*VLOOKUP(K$3,ConversionFactors,$D74,FALSE)/1000","VLOOKUP($B74,RawData,L$4,FALSE)*VLOOKUP(L$3,ConversionFactors,$D74,FALSE)/1000","VLOOKUP($B74,RawData,M$4,FALSE)*VLOOKUP(M$3,ConversionFactors,$D74,FALSE)/1000","VLOOKUP($B74,RawData,N$4,FALSE)*VLOOKUP(N$3,ConversionFactors,$D74,FALSE)/1000","(VLOOKUP($B74,RawData,O$4,FALSE)*VLOOKUP(O$3,ConversionFactors,2,FALSE))*1","(VLOOKUP($B74,RawData,P$4,FALSE)*VLOOKUP(P$3,ConversionFactors,2,FALSE))*1","(VLOOKUP($B74,RawData,Q$4,FALSE)*VLOOKUP(Q$3,ConversionFactors,2,FALSE))*1","(VLOOKUP($B74,RawData,R$4,FALSE)*VLOOKUP(R$3,ConversionFactors,2,FALSE))*1",0,"VLOOKUP($B74,RawData,T$4,FALSE)*VLOOKUP(T$3,ConversionFactors,$D74,FALSE)/1000","VLOOKUP($B74,RawData,U$4,FALSE)*VLOOKUP(U$3,ConversionFactors,$D74,FALSE)/1000","VLOOKUP($B74,RawData,V$4,FALSE)*VLOOKUP(V$3,ConversionFactors,$D74,FALSE)/1000","VLOOKUP($B74,RawData,W$4,FALSE)*VLOOKUP(W$3,ConversionFactors,2,FALSE)/1000","VLOOKUP($B74,RawData,X$4,FALSE)*VLOOKUP(X$3,ConversionFactors,2,FALSE)/1000","VLOOKUP($B74,RawData,Y$4,FALSE)*VLOOKUP(Y$3,ConversionFactors,2,FALSE)/1000","VLOOKUP($B74,RawData,Z$4,FALSE)*VLOOKUP(Z$3,ConversionFactors,2,FALSE)/1000","VLOOKUP($B74,RawData,AA$4,FALSE)*VLOOKUP(AA$3,ConversionFactors,2,FALSE)/1000","VLOOKUP($B74,RawData,AB$4,FALSE)*VLOOKUP(AB$3,ConversionFactors,2,FALSE)/1000","VLOOKUP($B74,RawData,AC$4,FALSE)*VLOOKUP(AC$3,ConversionFactors,2,FALSE)/1000","VLOOKUP($B74,RawData,AD$4,FALSE)*VLOOKUP(AD$3,ConversionFactors,2,FALSE)/1000","VLOOKUP($B74,RawData,AE$4,FALSE)*VLOOKUP(AE$3,ConversionFactors,2,FALSE)/1000","VLOOKUP($B74,RawData,AF$4,FALSE)*VLOOKUP(AF$3,ConversionFactors,2,FALSE)/1000","VLOOKUP($B74,RawData,AG$4,FALSE)*VLOOKUP(AG$3,ConversionFactors,2,FALSE)/1000","VLOOKUP($B74,RawData,AH$4,FALSE)*VLOOKUP(AH$3,ConversionFactors,2,FALSE)/1000","VLOOKUP($B74,RawData,AI$4,FALSE)*VLOOKUP(AI$3,ConversionFactors,2,FALSE)/1000","VLOOKUP($B74,RawData,AJ$4,FALSE)*VLOOKUP(AJ$3,ConversionFactors,2,FALSE)/1000","VLOOKUP($B74,RawData,AK$4,FALSE)*VLOOKUP(AK$3,ConversionFactors,2,FALSE)/1000","VLOOKUP($B74,RawData,AL$4,FALSE)*VLOOKUP(AL$3,ConversionFactors,2,FALSE)/1000","VLOOKUP($B74,RawData,AM$4,FALSE)*VLOOKUP(AM$3,ConversionFactors,2,FALSE)/1000","VLOOKUP($B74,RawData,AN$4,FALSE)*VLOOKUP(AN$3,ConversionFactors,2,FALSE)/1000","VLOOKUP($B74,RawData,AO$4,FALSE)*VLOOKUP(AO$3,ConversionFactors,2,FALSE)/1000","VLOOKUP($B74,RawData,AP$4,FALSE)*VLOOKUP(AP$3,ConversionFactors,2,FALSE)/1000","VLOOKUP($B74,RawData,AQ$4,FALSE)*VLOOKUP(AQ$3,ConversionFactors,2,FALSE)/1000","VLOOKUP($B74,RawData,AR$4,FALSE)*VLOOKUP(AR$3,ConversionFactors,2,FALSE)/1000","VLOOKUP($B74,RawData,AS$4,FALSE)*VLOOKUP(AS$3,ConversionFactors,2,FALSE)*1","VLOOKUP($B74,RawData,AT$4,FALSE)*1","VLOOKUP($B74,RawData,AU$4,FALSE)*1","VLOOKUP($B74,RawData,AV$4,FALSE)*1","VLOOKUP($B74,RawData,AW$4,FALSE)*1","VLOOKUP($B74,RawData,AX$4,FALSE)*1","VLOOKUP($B74,RawData,AY$4,FALSE)*VLOOKUP(AY$3,ConversionFactors,2,FALSE)/1000","VLOOKUP($B74,RawData,AZ$4,FALSE)*VLOOKUP(AZ$3,ConversionFactors,2,FALSE)/1000","VLOOKUP($B74,RawData,BA$4,FALSE)*VLOOKUP(BA$3,ConversionFactors,2,FALSE)/1000","VLOOKUP($B74,RawData,BB$4,FALSE)*VLOOKUP(BB$3,ConversionFactors,2,FALSE)/1000","VLOOKUP($B74,RawData,BC$4,FALSE)*1","VLOOKUP($B74,RawData,BD$4,FALSE)*VLOOKUP(BD$3,ConversionFactors,2,FALSE)/1000",0,0,"VLOOKUP($B74,RawData,BG$4,FALSE)*1",0,"VLOOKUP($B74,RawData,BI$4,FALSE)*1",0,0,0,"VLOOKUP($B74,RawData,BM$4,FALSE)*3.6","VLOOKUP($B74,RawData,BN$4,FALSE)*1",0]
[{"$f":"DOMESNAV","v":"Domestic navigation"},"DOMESNAV","NOTHER",16,0,0,0,0,0,0,0,0,0,0,0,0,0,0,0,0,0,0,0,0,0,0,0,0,0,0,0,0,0,0,0,430,0,0,0,0,0,0,0,0,0,0,0,0,0,0,0,0,0,0,0,0,0,0,0,0,0,0,0,0,0,0,0,430,null,null,null,null,null,null,null,null,null,null,"DOMESNAV","VLOOKUP($B75,RawData,E$4,FALSE)*VLOOKUP(E$3,ConversionFactors,$D75,FALSE)/1000","VLOOKUP($B75,RawData,F$4,FALSE)*VLOOKUP(F$3,ConversionFactors,$D75,FALSE)/1000","VLOOKUP($B75,RawData,G$4,FALSE)*VLOOKUP(G$3,ConversionFactors,$D75,FALSE)/1000","VLOOKUP($B75,RawData,H$4,FALSE)*VLOOKUP(H$3,ConversionFactors,$D75,FALSE)/1000","VLOOKUP($B75,RawData,I$4,FALSE)*VLOOKUP(I$3,ConversionFactors,$D75,FALSE)/1000","VLOOKUP($B75,RawData,J$4,FALSE)*VLOOKUP(J$3,ConversionFactors,$D75,FALSE)/1000","VLOOKUP($B75,RawData,K$4,FALSE)*VLOOKUP(K$3,ConversionFactors,$D75,FALSE)/1000","VLOOKUP($B75,RawData,L$4,FALSE)*VLOOKUP(L$3,ConversionFactors,$D75,FALSE)/1000","VLOOKUP($B75,RawData,M$4,FALSE)*VLOOKUP(M$3,ConversionFactors,$D75,FALSE)/1000","VLOOKUP($B75,RawData,N$4,FALSE)*VLOOKUP(N$3,ConversionFactors,$D75,FALSE)/1000","(VLOOKUP($B75,RawData,O$4,FALSE)*VLOOKUP(O$3,ConversionFactors,2,FALSE))*1","(VLOOKUP($B75,RawData,P$4,FALSE)*VLOOKUP(P$3,ConversionFactors,2,FALSE))*1","(VLOOKUP($B75,RawData,Q$4,FALSE)*VLOOKUP(Q$3,ConversionFactors,2,FALSE))*1","(VLOOKUP($B75,RawData,R$4,FALSE)*VLOOKUP(R$3,ConversionFactors,2,FALSE))*1",0,"VLOOKUP($B75,RawData,T$4,FALSE)*VLOOKUP(T$3,ConversionFactors,$D75,FALSE)/1000","VLOOKUP($B75,RawData,U$4,FALSE)*VLOOKUP(U$3,ConversionFactors,$D75,FALSE)/1000","VLOOKUP($B75,RawData,V$4,FALSE)*VLOOKUP(V$3,ConversionFactors,$D75,FALSE)/1000","VLOOKUP($B75,RawData,W$4,FALSE)*VLOOKUP(W$3,ConversionFactors,2,FALSE)/1000","VLOOKUP($B75,RawData,X$4,FALSE)*VLOOKUP(X$3,ConversionFactors,2,FALSE)/1000","VLOOKUP($B75,RawData,Y$4,FALSE)*VLOOKUP(Y$3,ConversionFactors,2,FALSE)/1000","VLOOKUP($B75,RawData,Z$4,FALSE)*VLOOKUP(Z$3,ConversionFactors,2,FALSE)/1000","VLOOKUP($B75,RawData,AA$4,FALSE)*VLOOKUP(AA$3,ConversionFactors,2,FALSE)/1000","VLOOKUP($B75,RawData,AB$4,FALSE)*VLOOKUP(AB$3,ConversionFactors,2,FALSE)/1000","VLOOKUP($B75,RawData,AC$4,FALSE)*VLOOKUP(AC$3,ConversionFactors,2,FALSE)/1000","VLOOKUP($B75,RawData,AD$4,FALSE)*VLOOKUP(AD$3,ConversionFactors,2,FALSE)/1000","VLOOKUP($B75,RawData,AE$4,FALSE)*VLOOKUP(AE$3,ConversionFactors,2,FALSE)/1000","VLOOKUP($B75,RawData,AF$4,FALSE)*VLOOKUP(AF$3,ConversionFactors,2,FALSE)/1000","VLOOKUP($B75,RawData,AG$4,FALSE)*VLOOKUP(AG$3,ConversionFactors,2,FALSE)/1000","VLOOKUP($B75,RawData,AH$4,FALSE)*VLOOKUP(AH$3,ConversionFactors,2,FALSE)/1000","VLOOKUP($B75,RawData,AI$4,FALSE)*VLOOKUP(AI$3,ConversionFactors,2,FALSE)/1000","VLOOKUP($B75,RawData,AJ$4,FALSE)*VLOOKUP(AJ$3,ConversionFactors,2,FALSE)/1000","VLOOKUP($B75,RawData,AK$4,FALSE)*VLOOKUP(AK$3,ConversionFactors,2,FALSE)/1000","VLOOKUP($B75,RawData,AL$4,FALSE)*VLOOKUP(AL$3,ConversionFactors,2,FALSE)/1000","VLOOKUP($B75,RawData,AM$4,FALSE)*VLOOKUP(AM$3,ConversionFactors,2,FALSE)/1000","VLOOKUP($B75,RawData,AN$4,FALSE)*VLOOKUP(AN$3,ConversionFactors,2,FALSE)/1000","VLOOKUP($B75,RawData,AO$4,FALSE)*VLOOKUP(AO$3,ConversionFactors,2,FALSE)/1000","VLOOKUP($B75,RawData,AP$4,FALSE)*VLOOKUP(AP$3,ConversionFactors,2,FALSE)/1000","VLOOKUP($B75,RawData,AQ$4,FALSE)*VLOOKUP(AQ$3,ConversionFactors,2,FALSE)/1000","VLOOKUP($B75,RawData,AR$4,FALSE)*VLOOKUP(AR$3,ConversionFactors,2,FALSE)/1000","VLOOKUP($B75,RawData,AS$4,FALSE)*VLOOKUP(AS$3,ConversionFactors,2,FALSE)*1","VLOOKUP($B75,RawData,AT$4,FALSE)*1","VLOOKUP($B75,RawData,AU$4,FALSE)*1","VLOOKUP($B75,RawData,AV$4,FALSE)*1","VLOOKUP($B75,RawData,AW$4,FALSE)*1","VLOOKUP($B75,RawData,AX$4,FALSE)*1","VLOOKUP($B75,RawData,AY$4,FALSE)*VLOOKUP(AY$3,ConversionFactors,2,FALSE)/1000","VLOOKUP($B75,RawData,AZ$4,FALSE)*VLOOKUP(AZ$3,ConversionFactors,2,FALSE)/1000","VLOOKUP($B75,RawData,BA$4,FALSE)*VLOOKUP(BA$3,ConversionFactors,2,FALSE)/1000","VLOOKUP($B75,RawData,BB$4,FALSE)*VLOOKUP(BB$3,ConversionFactors,2,FALSE)/1000","VLOOKUP($B75,RawData,BC$4,FALSE)*1","VLOOKUP($B75,RawData,BD$4,FALSE)*VLOOKUP(BD$3,ConversionFactors,2,FALSE)/1000",0,0,"VLOOKUP($B75,RawData,BG$4,FALSE)*1",0,"VLOOKUP($B75,RawData,BI$4,FALSE)*1",0,0,0,"VLOOKUP($B75,RawData,BM$4,FALSE)*3.6","VLOOKUP($B75,RawData,BN$4,FALSE)*1",0]
[{"$f":"TRNONSPE","v":"Non-specified (transport)"},"TRNONSPE","NOTHER",16,0,0,0,0,0,0,0,0,0,0,0,0,0,0,0,0,0,0,0,0,0,0,0,0,0,0,0,0,0,0,0,0,0,0,0,0,0,0,0,0,0,0,0,0,0,0,0,0,0,0,0,0,0,0,0,0,0,0,0,0,0,0,0,0,null,null,null,null,null,null,null,null,null,null,"TRNONSPE","VLOOKUP($B76,RawData,E$4,FALSE)*VLOOKUP(E$3,ConversionFactors,$D76,FALSE)/1000","VLOOKUP($B76,RawData,F$4,FALSE)*VLOOKUP(F$3,ConversionFactors,$D76,FALSE)/1000","VLOOKUP($B76,RawData,G$4,FALSE)*VLOOKUP(G$3,ConversionFactors,$D76,FALSE)/1000","VLOOKUP($B76,RawData,H$4,FALSE)*VLOOKUP(H$3,ConversionFactors,$D76,FALSE)/1000","VLOOKUP($B76,RawData,I$4,FALSE)*VLOOKUP(I$3,ConversionFactors,$D76,FALSE)/1000","VLOOKUP($B76,RawData,J$4,FALSE)*VLOOKUP(J$3,ConversionFactors,$D76,FALSE)/1000","VLOOKUP($B76,RawData,K$4,FALSE)*VLOOKUP(K$3,ConversionFactors,$D76,FALSE)/1000","VLOOKUP($B76,RawData,L$4,FALSE)*VLOOKUP(L$3,ConversionFactors,$D76,FALSE)/1000","VLOOKUP($B76,RawData,M$4,FALSE)*VLOOKUP(M$3,ConversionFactors,$D76,FALSE)/1000","VLOOKUP($B76,RawData,N$4,FALSE)*VLOOKUP(N$3,ConversionFactors,$D76,FALSE)/1000","(VLOOKUP($B76,RawData,O$4,FALSE)*VLOOKUP(O$3,ConversionFactors,2,FALSE))*1","(VLOOKUP($B76,RawData,P$4,FALSE)*VLOOKUP(P$3,ConversionFactors,2,FALSE))*1","(VLOOKUP($B76,RawData,Q$4,FALSE)*VLOOKUP(Q$3,ConversionFactors,2,FALSE))*1","(VLOOKUP($B76,RawData,R$4,FALSE)*VLOOKUP(R$3,ConversionFactors,2,FALSE))*1",0,"VLOOKUP($B76,RawData,T$4,FALSE)*VLOOKUP(T$3,ConversionFactors,$D76,FALSE)/1000","VLOOKUP($B76,RawData,U$4,FALSE)*VLOOKUP(U$3,ConversionFactors,$D76,FALSE)/1000","VLOOKUP($B76,RawData,V$4,FALSE)*VLOOKUP(V$3,ConversionFactors,$D76,FALSE)/1000","VLOOKUP($B76,RawData,W$4,FALSE)*VLOOKUP(W$3,ConversionFactors,2,FALSE)/1000","VLOOKUP($B76,RawData,X$4,FALSE)*VLOOKUP(X$3,ConversionFactors,2,FALSE)/1000","VLOOKUP($B76,RawData,Y$4,FALSE)*VLOOKUP(Y$3,ConversionFactors,2,FALSE)/1000","VLOOKUP($B76,RawData,Z$4,FALSE)*VLOOKUP(Z$3,ConversionFactors,2,FALSE)/1000","VLOOKUP($B76,RawData,AA$4,FALSE)*VLOOKUP(AA$3,ConversionFactors,2,FALSE)/1000","VLOOKUP($B76,RawData,AB$4,FALSE)*VLOOKUP(AB$3,ConversionFactors,2,FALSE)/1000","VLOOKUP($B76,RawData,AC$4,FALSE)*VLOOKUP(AC$3,ConversionFactors,2,FALSE)/1000","VLOOKUP($B76,RawData,AD$4,FALSE)*VLOOKUP(AD$3,ConversionFactors,2,FALSE)/1000","VLOOKUP($B76,RawData,AE$4,FALSE)*VLOOKUP(AE$3,ConversionFactors,2,FALSE)/1000","VLOOKUP($B76,RawData,AF$4,FALSE)*VLOOKUP(AF$3,ConversionFactors,2,FALSE)/1000","VLOOKUP($B76,RawData,AG$4,FALSE)*VLOOKUP(AG$3,ConversionFactors,2,FALSE)/1000","VLOOKUP($B76,RawData,AH$4,FALSE)*VLOOKUP(AH$3,ConversionFactors,2,FALSE)/1000","VLOOKUP($B76,RawData,AI$4,FALSE)*VLOOKUP(AI$3,ConversionFactors,2,FALSE)/1000","VLOOKUP($B76,RawData,AJ$4,FALSE)*VLOOKUP(AJ$3,ConversionFactors,2,FALSE)/1000","VLOOKUP($B76,RawData,AK$4,FALSE)*VLOOKUP(AK$3,ConversionFactors,2,FALSE)/1000","VLOOKUP($B76,RawData,AL$4,FALSE)*VLOOKUP(AL$3,ConversionFactors,2,FALSE)/1000","VLOOKUP($B76,RawData,AM$4,FALSE)*VLOOKUP(AM$3,ConversionFactors,2,FALSE)/1000","VLOOKUP($B76,RawData,AN$4,FALSE)*VLOOKUP(AN$3,ConversionFactors,2,FALSE)/1000","VLOOKUP($B76,RawData,AO$4,FALSE)*VLOOKUP(AO$3,ConversionFactors,2,FALSE)/1000","VLOOKUP($B76,RawData,AP$4,FALSE)*VLOOKUP(AP$3,ConversionFactors,2,FALSE)/1000","VLOOKUP($B76,RawData,AQ$4,FALSE)*VLOOKUP(AQ$3,ConversionFactors,2,FALSE)/1000","VLOOKUP($B76,RawData,AR$4,FALSE)*VLOOKUP(AR$3,ConversionFactors,2,FALSE)/1000","VLOOKUP($B76,RawData,AS$4,FALSE)*VLOOKUP(AS$3,ConversionFactors,2,FALSE)*1","VLOOKUP($B76,RawData,AT$4,FALSE)*1","VLOOKUP($B76,RawData,AU$4,FALSE)*1","VLOOKUP($B76,RawData,AV$4,FALSE)*1","VLOOKUP($B76,RawData,AW$4,FALSE)*1","VLOOKUP($B76,RawData,AX$4,FALSE)*1","VLOOKUP($B76,RawData,AY$4,FALSE)*VLOOKUP(AY$3,ConversionFactors,2,FALSE)/1000","VLOOKUP($B76,RawData,AZ$4,FALSE)*VLOOKUP(AZ$3,ConversionFactors,2,FALSE)/1000","VLOOKUP($B76,RawData,BA$4,FALSE)*VLOOKUP(BA$3,ConversionFactors,2,FALSE)/1000","VLOOKUP($B76,RawData,BB$4,FALSE)*VLOOKUP(BB$3,ConversionFactors,2,FALSE)/1000","VLOOKUP($B76,RawData,BC$4,FALSE)*1","VLOOKUP($B76,RawData,BD$4,FALSE)*VLOOKUP(BD$3,ConversionFactors,2,FALSE)/1000",0,0,"VLOOKUP($B76,RawData,BG$4,FALSE)*1",0,"VLOOKUP($B76,RawData,BI$4,FALSE)*1",0,0,0,"VLOOKUP($B76,RawData,BM$4,FALSE)*3.6","VLOOKUP($B76,RawData,BN$4,FALSE)*1",0]
[{"$f":"TOTOTHER","v":"Other"},"TOTOTHER",null,null,{"$f":"SUM(E78:E82)","v":0},0,0,0,0,0,0,0,0,0,0,0,0,0,0,{"$f":"SUM(T78:T82)","v":0},0,0,0,0,0,0,0,0,0,0,0,0,0,0,0,0,0,0,0,0,0,0,0,0,0,0,0,0,62.5,0,0,0,0,0,0,0,0,0,{"$f":"SUM(BG78:BG82)","v":0},0,{"$f":"SUM(BI78:BI82)","v":0},0,0,{"$f":"SUM(BL78:BL82)","v":0},{"$f":"SUM(BM78:BM82)","v":16761.599999999999},{"$f":"SUM(BN78:BN82)","v":0},0,16824.099999999999,null,null,null,null,null,null,null,null,null,null,"TOTOTHER","SUM(E78:E82)","SUM(F78:F82)","SUM(G78:G82)","SUM(H78:H82)","SUM(I78:I82)","SUM(J78:J82)","SUM(K78:K82)","SUM(L78:L82)","SUM(M78:M82)","SUM(N78:N82)","SUM(O78:O82)","SUM(P78:P82)","SUM(Q78:Q82)","SUM(R78:R82)",0,"SUM(T78:T82)","SUM(U78:U82)","SUM(V78:V82)","SUM(W78:W82)","SUM(X78:X82)","SUM(Y78:Y82)","SUM(Z78:Z82)","SUM(AA78:AA82)","SUM(AB78:AB82)","SUM(AC78:AC82)","SUM(AD78:AD82)","SUM(AE78:AE82)","SUM(AF78:AF82)","SUM(AG78:AG82)","SUM(AH78:AH82)","SUM(AI78:AI82)","SUM(AJ78:AJ82)","SUM(AK78:AK82)","SUM(AL78:AL82)","SUM(AM78:AM82)","SUM(AN78:AN82)","SUM(AO78:AO82)","SUM(AP78:AP82)","SUM(AQ78:AQ82)","SUM(AR78:AR82)","SUM(AS78:AS82)","SUM(AT78:AT82)","SUM(AU78:AU82)","SUM(AV78:AV82)","SUM(AW78:AW82)","SUM(AX78:AX82)","SUM(AY78:AY82)","SUM(AZ78:AZ82)","SUM(BA78:BA82)","SUM(BB78:BB82)","SUM(BC78:BC82)","SUM(BD78:BD82)",0,0,"SUM(BG78:BG82)",0,"SUM(BI78:BI82)",0,0,"SUM(BL78:BL82)","SUM(BM78:BM82)","SUM(BN78:BN82)",0]
[{"$f":"RESIDENT","v":"Residential"},"RESIDENT","NOTHER",{"$f":"MATCH(C78,CFHeadings,0)","v":16},{"$f":"VLOOKUP($B78,RawData,E$4,FALSE)*VLOOKUP(E$3,ConversionFactors,$D78,FALSE)/1000","v":0},0,0,0,0,0,0,0,0,0,{"$f":"(VLOOKUP($B78,RawData,O$4,FALSE)*VLOOKUP(O$3,ConversionFactors,2,FALSE))*1","v":0},0,0,0,0,{"$f":"VLOOKUP($B78,RawData,T$4,FALSE)*VLOOKUP(T$3,ConversionFactors,$D78,FALSE)/1000","v":0},0,0,{"$f":"VLOOKUP($B78,RawData,W$4,FALSE)*VLOOKUP(W$3,ConversionFactors,2,FALSE)/1000","v":0},0,0,0,0,0,0,0,0,0,{"$f":"VLOOKUP($B78,RawData,AG$4,FALSE)*VLOOKUP(AG$3,ConversionFactors,2,FALSE)/1000","v":0},0,0,0,0,0,0,0,0,0,0,0,{"$f":"VLOOKUP($B78,RawData,AS$4,FALSE)*VLOOKUP(AS$3,ConversionFactors,2,FALSE)*1","v":0},{"$f":"VLOOKUP($B78,RawData,AT$4,FALSE)*1","v":0},0,0,62.5,0,{"$f":"VLOOKUP($B78,RawData,AY$4,FALSE)*VLOOKUP(AY$3,ConversionFactors,2,FALSE)/1000","v":0},0,0,0,{"$f":"VLOOKUP($B78,RawData,BC$4,FALSE)*1","v":0},{"$f":"VLOOKUP($B78,RawData,BD$4,FALSE)*VLOOKUP(BD$3,ConversionFactors,2,FALSE)/1000","v":0},0,0,{"$f":"VLOOKUP($B78,RawData,BG$4,FALSE)*1","v":0},0,{"$f":"VLOOKUP($B78,RawData,BI$4,FALSE)*1","v":0},0,0,0,{"$f":"VLOOKUP($B78,RawData,BM$4,FALSE)*3.6","v":8103.6},{"$f":"VLOOKUP($B78,RawData,BN$4,FALSE)*1","v":0},0,8166.1,null,null,null,null,null,null,null,null,null,null,"RESIDENT","VLOOKUP($B78,RawData,E$4,FALSE)*VLOOKUP(E$3,ConversionFactors,$D78,FALSE)/1000","VLOOKUP($B78,RawData,F$4,FALSE)*VLOOKUP(F$3,ConversionFactors,$D78,FALSE)/1000","VLOOKUP($B78,RawData,G$4,FALSE)*VLOOKUP(G$3,ConversionFactors,$D78,FALSE)/1000","VLOOKUP($B78,RawData,H$4,FALSE)*VLOOKUP(H$3,ConversionFactors,$D78,FALSE)/1000","VLOOKUP($B78,RawData,I$4,FALSE)*VLOOKUP(I$3,ConversionFactors,$D78,FALSE)/1000","VLOOKUP($B78,RawData,J$4,FALSE)*VLOOKUP(J$3,ConversionFactors,$D78,FALSE)/1000","VLOOKUP($B78,RawData,K$4,FALSE)*VLOOKUP(K$3,ConversionFactors,$D78,FALSE)/1000","VLOOKUP($B78,RawData,L$4,FALSE)*VLOOKUP(L$3,ConversionFactors,$D78,FALSE)/1000","VLOOKUP($B78,RawData,M$4,FALSE)*VLOOKUP(M$3,ConversionFactors,$D78,FALSE)/1000","VLOOKUP($B78,RawData,N$4,FALSE)*VLOOKUP(N$3,ConversionFactors,$D78,FALSE)/1000","(VLOOKUP($B78,RawData,O$4,FALSE)*VLOOKUP(O$3,ConversionFactors,2,FALSE))*1","(VLOOKUP($B78,RawData,P$4,FALSE)*VLOOKUP(P$3,ConversionFactors,2,FALSE))*1","(VLOOKUP($B78,RawData,Q$4,FALSE)*VLOOKUP(Q$3,ConversionFactors,2,FALSE))*1","(VLOOKUP($B78,RawData,R$4,FALSE)*VLOOKUP(R$3,ConversionFactors,2,FALSE))*1",0,"VLOOKUP($B78,RawData,T$4,FALSE)*VLOOKUP(T$3,ConversionFactors,$D78,FALSE)/1000","VLOOKUP($B78,RawData,U$4,FALSE)*VLOOKUP(U$3,ConversionFactors,$D78,FALSE)/1000","VLOOKUP($B78,RawData,V$4,FALSE)*VLOOKUP(V$3,ConversionFactors,$D78,FALSE)/1000","VLOOKUP($B78,RawData,W$4,FALSE)*VLOOKUP(W$3,ConversionFactors,2,FALSE)/1000","VLOOKUP($B78,RawData,X$4,FALSE)*VLOOKUP(X$3,ConversionFactors,2,FALSE)/1000","VLOOKUP($B78,RawData,Y$4,FALSE)*VLOOKUP(Y$3,ConversionFactors,2,FALSE)/1000","VLOOKUP($B78,RawData,Z$4,FALSE)*VLOOKUP(Z$3,ConversionFactors,2,FALSE)/1000","VLOOKUP($B78,RawData,AA$4,FALSE)*VLOOKUP(AA$3,ConversionFactors,2,FALSE)/1000","VLOOKUP($B78,RawData,AB$4,FALSE)*VLOOKUP(AB$3,ConversionFactors,2,FALSE)/1000","VLOOKUP($B78,RawData,AC$4,FALSE)*VLOOKUP(AC$3,ConversionFactors,2,FALSE)/1000","VLOOKUP($B78,RawData,AD$4,FALSE)*VLOOKUP(AD$3,ConversionFactors,2,FALSE)/1000","VLOOKUP($B78,RawData,AE$4,FALSE)*VLOOKUP(AE$3,ConversionFactors,2,FALSE)/1000","VLOOKUP($B78,RawData,AF$4,FALSE)*VLOOKUP(AF$3,ConversionFactors,2,FALSE)/1000","VLOOKUP($B78,RawData,AG$4,FALSE)*VLOOKUP(AG$3,ConversionFactors,2,FALSE)/1000","VLOOKUP($B78,RawData,AH$4,FALSE)*VLOOKUP(AH$3,ConversionFactors,2,FALSE)/1000","VLOOKUP($B78,RawData,AI$4,FALSE)*VLOOKUP(AI$3,ConversionFactors,2,FALSE)/1000","VLOOKUP($B78,RawData,AJ$4,FALSE)*VLOOKUP(AJ$3,ConversionFactors,2,FALSE)/1000","VLOOKUP($B78,RawData,AK$4,FALSE)*VLOOKUP(AK$3,ConversionFactors,2,FALSE)/1000","VLOOKUP($B78,RawData,AL$4,FALSE)*VLOOKUP(AL$3,ConversionFactors,2,FALSE)/1000","VLOOKUP($B78,RawData,AM$4,FALSE)*VLOOKUP(AM$3,ConversionFactors,2,FALSE)/1000","VLOOKUP($B78,RawData,AN$4,FALSE)*VLOOKUP(AN$3,ConversionFactors,2,FALSE)/1000","VLOOKUP($B78,RawData,AO$4,FALSE)*VLOOKUP(AO$3,ConversionFactors,2,FALSE)/1000","VLOOKUP($B78,RawData,AP$4,FALSE)*VLOOKUP(AP$3,ConversionFactors,2,FALSE)/1000","VLOOKUP($B78,RawData,AQ$4,FALSE)*VLOOKUP(AQ$3,ConversionFactors,2,FALSE)/1000","VLOOKUP($B78,RawData,AR$4,FALSE)*VLOOKUP(AR$3,ConversionFactors,2,FALSE)/1000","VLOOKUP($B78,RawData,AS$4,FALSE)*VLOOKUP(AS$3,ConversionFactors,2,FALSE)*1","VLOOKUP($B78,RawData,AT$4,FALSE)*1","VLOOKUP($B78,RawData,AU$4,FALSE)*1","VLOOKUP($B78,RawData,AV$4,FALSE)*1","VLOOKUP($B78,RawData,AW$4,FALSE)*1","VLOOKUP($B78,RawData,AX$4,FALSE)*1","VLOOKUP($B78,RawData,AY$4,FALSE)*VLOOKUP(AY$3,ConversionFactors,2,FALSE)/1000","VLOOKUP($B78,RawData,AZ$4,FALSE)*VLOOKUP(AZ$3,ConversionFactors,2,FALSE)/1000","VLOOKUP($B78,RawData,BA$4,FALSE)*VLOOKUP(BA$3,ConversionFactors,2,FALSE)/1000","VLOOKUP($B78,RawData,BB$4,FALSE)*VLOOKUP(BB$3,ConversionFactors,2,FALSE)/1000","VLOOKUP($B78,RawData,BC$4,FALSE)*1","VLOOKUP($B78,RawData,BD$4,FALSE)*VLOOKUP(BD$3,ConversionFactors,2,FALSE)/1000",0,0,"VLOOKUP($B78,RawData,BG$4,FALSE)*1",0,"VLOOKUP($B78,RawData,BI$4,FALSE)*1",0,0,0,"VLOOKUP($B78,RawData,BM$4,FALSE)*3.6","VLOOKUP($B78,RawData,BN$4,FALSE)*1",0]
[{"$f":"COMMPUB","v":"Commercial and public services"},"COMMPUB","NOTHER",{"$f":"MATCH(C79,CFHeadings,0)","v":16},0,0,0,0,0,0,0,0,0,0,0,0,0,0,0,0,0,0,0,0,0,0,0,0,0,0,0,0,0,0,0,0,0,0,0,0,0,0,0,0,{"$f":"VLOOKUP($B79,RawData,AS$4,FALSE)*VLOOKUP(AS$3,ConversionFactors,2,FALSE)*1","v":0},0,0,0,0,0,0,0,0,0,{"$f":"VLOOKUP($B79,RawData,BC$4,FALSE)*1","v":0},{"$f":"VLOOKUP($B79,RawData,BD$4,FALSE)*VLOOKUP(BD$3,ConversionFactors,2,FALSE)/1000","v":0},0,0,{"$f":"VLOOKUP($B79,RawData,BG$4,FALSE)*1","v":0},0,{"$f":"VLOOKUP($B79,RawData,BI$4,FALSE)*1","v":0},0,0,0,{"$f":"VLOOKUP($B79,RawData,BM$4,FALSE)*3.6","v":8298},{"$f":"VLOOKUP($B79,RawData,BN$4,FALSE)*1","v":0},0,8298,null,null,null,null,null,null,null,null,null,null,"COMMPUB","VLOOKUP($B79,RawData,E$4,FALSE)*VLOOKUP(E$3,ConversionFactors,$D79,FALSE)/1000","VLOOKUP($B79,RawData,F$4,FALSE)*VLOOKUP(F$3,ConversionFactors,$D79,FALSE)/1000","VLOOKUP($B79,RawData,G$4,FALSE)*VLOOKUP(G$3,ConversionFactors,$D79,FALSE)/1000","VLOOKUP($B79,RawData,H$4,FALSE)*VLOOKUP(H$3,ConversionFactors,$D79,FALSE)/1000","VLOOKUP($B79,RawData,I$4,FALSE)*VLOOKUP(I$3,ConversionFactors,$D79,FALSE)/1000","VLOOKUP($B79,RawData,J$4,FALSE)*VLOOKUP(J$3,ConversionFactors,$D79,FALSE)/1000","VLOOKUP($B79,RawData,K$4,FALSE)*VLOOKUP(K$3,ConversionFactors,$D79,FALSE)/1000","VLOOKUP($B79,RawData,L$4,FALSE)*VLOOKUP(L$3,ConversionFactors,$D79,FALSE)/1000","VLOOKUP($B79,RawData,M$4,FALSE)*VLOOKUP(M$3,ConversionFactors,$D79,FALSE)/1000","VLOOKUP($B79,RawData,N$4,FALSE)*VLOOKUP(N$3,ConversionFactors,$D79,FALSE)/1000","(VLOOKUP($B79,RawData,O$4,FALSE)*VLOOKUP(O$3,ConversionFactors,2,FALSE))*1","(VLOOKUP($B79,RawData,P$4,FALSE)*VLOOKUP(P$3,ConversionFactors,2,FALSE))*1","(VLOOKUP($B79,RawData,Q$4,FALSE)*VLOOKUP(Q$3,ConversionFactors,2,FALSE))*1","(VLOOKUP($B79,RawData,R$4,FALSE)*VLOOKUP(R$3,ConversionFactors,2,FALSE))*1",0,"VLOOKUP($B79,RawData,T$4,FALSE)*VLOOKUP(T$3,ConversionFactors,$D79,FALSE)/1000","VLOOKUP($B79,RawData,U$4,FALSE)*VLOOKUP(U$3,ConversionFactors,$D79,FALSE)/1000","VLOOKUP($B79,RawData,V$4,FALSE)*VLOOKUP(V$3,ConversionFactors,$D79,FALSE)/1000","VLOOKUP($B79,RawData,W$4,FALSE)*VLOOKUP(W$3,ConversionFactors,2,FALSE)/1000","VLOOKUP($B79,RawData,X$4,FALSE)*VLOOKUP(X$3,ConversionFactors,2,FALSE)/1000","VLOOKUP($B79,RawData,Y$4,FALSE)*VLOOKUP(Y$3,ConversionFactors,2,FALSE)/1000","VLOOKUP($B79,RawData,Z$4,FALSE)*VLOOKUP(Z$3,ConversionFactors,2,FALSE)/1000","VLOOKUP($B79,RawData,AA$4,FALSE)*VLOOKUP(AA$3,ConversionFactors,2,FALSE)/1000","VLOOKUP($B79,RawData,AB$4,FALSE)*VLOOKUP(AB$3,ConversionFactors,2,FALSE)/1000","VLOOKUP($B79,RawData,AC$4,FALSE)*VLOOKUP(AC$3,ConversionFactors,2,FALSE)/1000","VLOOKUP($B79,RawData,AD$4,FALSE)*VLOOKUP(AD$3,ConversionFactors,2,FALSE)/1000","VLOOKUP($B79,RawData,AE$4,FALSE)*VLOOKUP(AE$3,ConversionFactors,2,FALSE)/1000","VLOOKUP($B79,RawData,AF$4,FALSE)*VLOOKUP(AF$3,ConversionFactors,2,FALSE)/1000","VLOOKUP($B79,RawData,AG$4,FALSE)*VLOOKUP(AG$3,ConversionFactors,2,FALSE)/1000","VLOOKUP($B79,RawData,AH$4,FALSE)*VLOOKUP(AH$3,ConversionFactors,2,FALSE)/1000","VLOOKUP($B79,RawData,AI$4,FALSE)*VLOOKUP(AI$3,ConversionFactors,2,FALSE)/1000","VLOOKUP($B79,RawData,AJ$4,FALSE)*VLOOKUP(AJ$3,ConversionFactors,2,FALSE)/1000","VLOOKUP($B79,RawData,AK$4,FALSE)*VLOOKUP(AK$3,ConversionFactors,2,FALSE)/1000","VLOOKUP($B79,RawData,AL$4,FALSE)*VLOOKUP(AL$3,ConversionFactors,2,FALSE)/1000","VLOOKUP($B79,RawData,AM$4,FALSE)*VLOOKUP(AM$3,ConversionFactors,2,FALSE)/1000","VLOOKUP($B79,RawData,AN$4,FALSE)*VLOOKUP(AN$3,ConversionFactors,2,FALSE)/1000","VLOOKUP($B79,RawData,AO$4,FALSE)*VLOOKUP(AO$3,ConversionFactors,2,FALSE)/1000","VLOOKUP($B79,RawData,AP$4,FALSE)*VLOOKUP(AP$3,ConversionFactors,2,FALSE)/1000","VLOOKUP($B79,RawData,AQ$4,FALSE)*VLOOKUP(AQ$3,ConversionFactors,2,FALSE)/1000","VLOOKUP($B79,RawData,AR$4,FALSE)*VLOOKUP(AR$3,ConversionFactors,2,FALSE)/1000","VLOOKUP($B79,RawData,AS$4,FALSE)*VLOOKUP(AS$3,ConversionFactors,2,FALSE)*1","VLOOKUP($B79,RawData,AT$4,FALSE)*1","VLOOKUP($B79,RawData,AU$4,FALSE)*1","VLOOKUP($B79,RawData,AV$4,FALSE)*1","VLOOKUP($B79,RawData,AW$4,FALSE)*1","VLOOKUP($B79,RawData,AX$4,FALSE)*1","VLOOKUP($B79,RawData,AY$4,FALSE)*VLOOKUP(AY$3,ConversionFactors,2,FALSE)/1000","VLOOKUP($B79,RawData,AZ$4,FALSE)*VLOOKUP(AZ$3,ConversionFactors,2,FALSE)/1000","VLOOKUP($B79,RawData,BA$4,FALSE)*VLOOKUP(BA$3,ConversionFactors,2,FALSE)/1000","VLOOKUP($B79,RawData,BB$4,FALSE)*VLOOKUP(BB$3,ConversionFactors,2,FALSE)/1000","VLOOKUP($B79,RawData,BC$4,FALSE)*1","VLOOKUP($B79,RawData,BD$4,FALSE)*VLOOKUP(BD$3,ConversionFactors,2,FALSE)/1000",0,0,"VLOOKUP($B79,RawData,BG$4,FALSE)*1",0,"VLOOKUP($B79,RawData,BI$4,FALSE)*1",0,0,0,"VLOOKUP($B79,RawData,BM$4,FALSE)*3.6","VLOOKUP($B79,RawData,BN$4,FALSE)*1",0]
[{"$f":"AGRICULT","v":"Agriculture/forestry"},"AGRICULT","NOTHER",{"$f":"MATCH(C80,CFHeadings,0)","v":16},0,0,0,0,0,0,0,0,0,0,0,0,0,0,0,0,0,0,0,0,0,0,0,0,0,0,0,0,0,0,0,0,0,0,0,0,0,0,0,0,{"$f":"VLOOKUP($B80,RawData,AS$4,FALSE)*VLOOKUP(AS$3,ConversionFactors,2,FALSE)*1","v":0},0,0,0,0,0,0,0,0,0,{"$f":"VLOOKUP($B80,RawData,BC$4,FALSE)*1","v":0},{"$f":"VLOOKUP($B80,RawData,BD$4,FALSE)*VLOOKUP(BD$3,ConversionFactors,2,FALSE)/1000","v":0},0,0,{"$f":"VLOOKUP($B80,RawData,BG$4,FALSE)*1","v":0},0,{"$f":"VLOOKUP($B80,RawData,BI$4,FALSE)*1","v":0},0,0,0,{"$f":"VLOOKUP($B80,RawData,BM$4,FALSE)*3.6","v":360},{"$f":"VLOOKUP($B80,RawData,BN$4,FALSE)*1","v":0},0,360,null,null,null,null,null,null,null,null,null,null,"AGRICULT","VLOOKUP($B80,RawData,E$4,FALSE)*VLOOKUP(E$3,ConversionFactors,$D80,FALSE)/1000","VLOOKUP($B80,RawData,F$4,FALSE)*VLOOKUP(F$3,ConversionFactors,$D80,FALSE)/1000","VLOOKUP($B80,RawData,G$4,FALSE)*VLOOKUP(G$3,ConversionFactors,$D80,FALSE)/1000","VLOOKUP($B80,RawData,H$4,FALSE)*VLOOKUP(H$3,ConversionFactors,$D80,FALSE)/1000","VLOOKUP($B80,RawData,I$4,FALSE)*VLOOKUP(I$3,ConversionFactors,$D80,FALSE)/1000","VLOOKUP($B80,RawData,J$4,FALSE)*VLOOKUP(J$3,ConversionFactors,$D80,FALSE)/1000","VLOOKUP($B80,RawData,K$4,FALSE)*VLOOKUP(K$3,ConversionFactors,$D80,FALSE)/1000","VLOOKUP($B80,RawData,L$4,FALSE)*VLOOKUP(L$3,ConversionFactors,$D80,FALSE)/1000","VLOOKUP($B80,RawData,M$4,FALSE)*VLOOKUP(M$3,ConversionFactors,$D80,FALSE)/1000","VLOOKUP($B80,RawData,N$4,FALSE)*VLOOKUP(N$3,ConversionFactors,$D80,FALSE)/1000","(VLOOKUP($B80,RawData,O$4,FALSE)*VLOOKUP(O$3,ConversionFactors,2,FALSE))*1","(VLOOKUP($B80,RawData,P$4,FALSE)*VLOOKUP(P$3,ConversionFactors,2,FALSE))*1","(VLOOKUP($B80,RawData,Q$4,FALSE)*VLOOKUP(Q$3,ConversionFactors,2,FALSE))*1","(VLOOKUP($B80,RawData,R$4,FALSE)*VLOOKUP(R$3,ConversionFactors,2,FALSE))*1",0,"VLOOKUP($B80,RawData,T$4,FALSE)*VLOOKUP(T$3,ConversionFactors,$D80,FALSE)/1000","VLOOKUP($B80,RawData,U$4,FALSE)*VLOOKUP(U$3,ConversionFactors,$D80,FALSE)/1000","VLOOKUP($B80,RawData,V$4,FALSE)*VLOOKUP(V$3,ConversionFactors,$D80,FALSE)/1000","VLOOKUP($B80,RawData,W$4,FALSE)*VLOOKUP(W$3,ConversionFactors,2,FALSE)/1000","VLOOKUP($B80,RawData,X$4,FALSE)*VLOOKUP(X$3,ConversionFactors,2,FALSE)/1000","VLOOKUP($B80,RawData,Y$4,FALSE)*VLOOKUP(Y$3,ConversionFactors,2,FALSE)/1000","VLOOKUP($B80,RawData,Z$4,FALSE)*VLOOKUP(Z$3,ConversionFactors,2,FALSE)/1000","VLOOKUP($B80,RawData,AA$4,FALSE)*VLOOKUP(AA$3,ConversionFactors,2,FALSE)/1000","VLOOKUP($B80,RawData,AB$4,FALSE)*VLOOKUP(AB$3,ConversionFactors,2,FALSE)/1000","VLOOKUP($B80,RawData,AC$4,FALSE)*VLOOKUP(AC$3,ConversionFactors,2,FALSE)/1000","VLOOKUP($B80,RawData,AD$4,FALSE)*VLOOKUP(AD$3,ConversionFactors,2,FALSE)/1000","VLOOKUP($B80,RawData,AE$4,FALSE)*VLOOKUP(AE$3,ConversionFactors,2,FALSE)/1000","VLOOKUP($B80,RawData,AF$4,FALSE)*VLOOKUP(AF$3,ConversionFactors,2,FALSE)/1000","VLOOKUP($B80,RawData,AG$4,FALSE)*VLOOKUP(AG$3,ConversionFactors,2,FALSE)/1000","VLOOKUP($B80,RawData,AH$4,FALSE)*VLOOKUP(AH$3,ConversionFactors,2,FALSE)/1000","VLOOKUP($B80,RawData,AI$4,FALSE)*VLOOKUP(AI$3,ConversionFactors,2,FALSE)/1000","VLOOKUP($B80,RawData,AJ$4,FALSE)*VLOOKUP(AJ$3,ConversionFactors,2,FALSE)/1000","VLOOKUP($B80,RawData,AK$4,FALSE)*VLOOKUP(AK$3,ConversionFactors,2,FALSE)/1000","VLOOKUP($B80,RawData,AL$4,FALSE)*VLOOKUP(AL$3,ConversionFactors,2,FALSE)/1000","VLOOKUP($B80,RawData,AM$4,FALSE)*VLOOKUP(AM$3,ConversionFactors,2,FALSE)/1000","VLOOKUP($B80,RawData,AN$4,FALSE)*VLOOKUP(AN$3,ConversionFactors,2,FALSE)/1000","VLOOKUP($B80,RawData,AO$4,FALSE)*VLOOKUP(AO$3,ConversionFactors,2,FALSE)/1000","VLOOKUP($B80,RawData,AP$4,FALSE)*VLOOKUP(AP$3,ConversionFactors,2,FALSE)/1000","VLOOKUP($B80,RawData,AQ$4,FALSE)*VLOOKUP(AQ$3,ConversionFactors,2,FALSE)/1000","VLOOKUP($B80,RawData,AR$4,FALSE)*VLOOKUP(AR$3,ConversionFactors,2,FALSE)/1000","VLOOKUP($B80,RawData,AS$4,FALSE)*VLOOKUP(AS$3,ConversionFactors,2,FALSE)*1","VLOOKUP($B80,RawData,AT$4,FALSE)*1","VLOOKUP($B80,RawData,AU$4,FALSE)*1","VLOOKUP($B80,RawData,AV$4,FALSE)*1","VLOOKUP($B80,RawData,AW$4,FALSE)*1","VLOOKUP($B80,RawData,AX$4,FALSE)*1","VLOOKUP($B80,RawData,AY$4,FALSE)*VLOOKUP(AY$3,ConversionFactors,2,FALSE)/1000","VLOOKUP($B80,RawData,AZ$4,FALSE)*VLOOKUP(AZ$3,ConversionFactors,2,FALSE)/1000","VLOOKUP($B80,RawData,BA$4,FALSE)*VLOOKUP(BA$3,ConversionFactors,2,FALSE)/1000","VLOOKUP($B80,RawData,BB$4,FALSE)*VLOOKUP(BB$3,ConversionFactors,2,FALSE)/1000","VLOOKUP($B80,RawData,BC$4,FALSE)*1","VLOOKUP($B80,RawData,BD$4,FALSE)*VLOOKUP(BD$3,ConversionFactors,2,FALSE)/1000",0,0,"VLOOKUP($B80,RawData,BG$4,FALSE)*1",0,"VLOOKUP($B80,RawData,BI$4,FALSE)*1",0,0,0,"VLOOKUP($B80,RawData,BM$4,FALSE)*3.6","VLOOKUP($B80,RawData,BN$4,FALSE)*1",0]
[{"$f":"FISHING","v":"Fishing"},"FISHING","NOTHER",{"$f":"MATCH(C81,CFHeadings,0)","v":16},0,0,0,0,0,0,0,0,0,0,0,0,0,0,0,0,0,0,0,0,0,0,0,0,0,0,0,0,0,0,0,0,0,0,0,0,0,0,0,0,{"$f":"VLOOKUP($B81,RawData,AS$4,FALSE)*VLOOKUP(AS$3,ConversionFactors,2,FALSE)*1","v":0},0,0,0,0,0,0,0,0,0,{"$f":"VLOOKUP($B81,RawData,BC$4,FALSE)*1","v":0},{"$f":"VLOOKUP($B81,RawData,BD$4,FALSE)*VLOOKUP(BD$3,ConversionFactors,2,FALSE)/1000","v":0},0,0,{"$f":"VLOOKUP($B81,RawData,BG$4,FALSE)*1","v":0},0,{"$f":"VLOOKUP($B81,RawData,BI$4,FALSE)*1","v":0},0,0,0,{"$f":"VLOOKUP($B81,RawData,BM$4,FALSE)*3.6","v":0},{"$f":"VLOOKUP($B81,RawData,BN$4,FALSE)*1","v":0},0,0,null,null,null,null,null,null,null,null,null,null,"FISHING","VLOOKUP($B81,RawData,E$4,FALSE)*VLOOKUP(E$3,ConversionFactors,$D81,FALSE)/1000","VLOOKUP($B81,RawData,F$4,FALSE)*VLOOKUP(F$3,ConversionFactors,$D81,FALSE)/1000","VLOOKUP($B81,RawData,G$4,FALSE)*VLOOKUP(G$3,ConversionFactors,$D81,FALSE)/1000","VLOOKUP($B81,RawData,H$4,FALSE)*VLOOKUP(H$3,ConversionFactors,$D81,FALSE)/1000","VLOOKUP($B81,RawData,I$4,FALSE)*VLOOKUP(I$3,ConversionFactors,$D81,FALSE)/1000","VLOOKUP($B81,RawData,J$4,FALSE)*VLOOKUP(J$3,ConversionFactors,$D81,FALSE)/1000","VLOOKUP($B81,RawData,K$4,FALSE)*VLOOKUP(K$3,ConversionFactors,$D81,FALSE)/1000","VLOOKUP($B81,RawData,L$4,FALSE)*VLOOKUP(L$3,ConversionFactors,$D81,FALSE)/1000","VLOOKUP($B81,RawData,M$4,FALSE)*VLOOKUP(M$3,ConversionFactors,$D81,FALSE)/1000","VLOOKUP($B81,RawData,N$4,FALSE)*VLOOKUP(N$3,ConversionFactors,$D81,FALSE)/1000","(VLOOKUP($B81,RawData,O$4,FALSE)*VLOOKUP(O$3,ConversionFactors,2,FALSE))*1","(VLOOKUP($B81,RawData,P$4,FALSE)*VLOOKUP(P$3,ConversionFactors,2,FALSE))*1","(VLOOKUP($B81,RawData,Q$4,FALSE)*VLOOKUP(Q$3,ConversionFactors,2,FALSE))*1","(VLOOKUP($B81,RawData,R$4,FALSE)*VLOOKUP(R$3,ConversionFactors,2,FALSE))*1",0,"VLOOKUP($B81,RawData,T$4,FALSE)*VLOOKUP(T$3,ConversionFactors,$D81,FALSE)/1000","VLOOKUP($B81,RawData,U$4,FALSE)*VLOOKUP(U$3,ConversionFactors,$D81,FALSE)/1000","VLOOKUP($B81,RawData,V$4,FALSE)*VLOOKUP(V$3,ConversionFactors,$D81,FALSE)/1000","VLOOKUP($B81,RawData,W$4,FALSE)*VLOOKUP(W$3,ConversionFactors,2,FALSE)/1000","VLOOKUP($B81,RawData,X$4,FALSE)*VLOOKUP(X$3,ConversionFactors,2,FALSE)/1000","VLOOKUP($B81,RawData,Y$4,FALSE)*VLOOKUP(Y$3,ConversionFactors,2,FALSE)/1000","VLOOKUP($B81,RawData,Z$4,FALSE)*VLOOKUP(Z$3,ConversionFactors,2,FALSE)/1000","VLOOKUP($B81,RawData,AA$4,FALSE)*VLOOKUP(AA$3,ConversionFactors,2,FALSE)/1000","VLOOKUP($B81,RawData,AB$4,FALSE)*VLOOKUP(AB$3,ConversionFactors,2,FALSE)/1000","VLOOKUP($B81,RawData,AC$4,FALSE)*VLOOKUP(AC$3,ConversionFactors,2,FALSE)/1000","VLOOKUP($B81,RawData,AD$4,FALSE)*VLOOKUP(AD$3,ConversionFactors,2,FALSE)/1000","VLOOKUP($B81,RawData,AE$4,FALSE)*VLOOKUP(AE$3,ConversionFactors,2,FALSE)/1000","VLOOKUP($B81,RawData,AF$4,FALSE)*VLOOKUP(AF$3,ConversionFactors,2,FALSE)/1000","VLOOKUP($B81,RawData,AG$4,FALSE)*VLOOKUP(AG$3,ConversionFactors,2,FALSE)/1000","VLOOKUP($B81,RawData,AH$4,FALSE)*VLOOKUP(AH$3,ConversionFactors,2,FALSE)/1000","VLOOKUP($B81,RawData,AI$4,FALSE)*VLOOKUP(AI$3,ConversionFactors,2,FALSE)/1000","VLOOKUP($B81,RawData,AJ$4,FALSE)*VLOOKUP(AJ$3,ConversionFactors,2,FALSE)/1000","VLOOKUP($B81,RawData,AK$4,FALSE)*VLOOKUP(AK$3,ConversionFactors,2,FALSE)/1000","VLOOKUP($B81,RawData,AL$4,FALSE)*VLOOKUP(AL$3,ConversionFactors,2,FALSE)/1000","VLOOKUP($B81,RawData,AM$4,FALSE)*VLOOKUP(AM$3,ConversionFactors,2,FALSE)/1000","VLOOKUP($B81,RawData,AN$4,FALSE)*VLOOKUP(AN$3,ConversionFactors,2,FALSE)/1000","VLOOKUP($B81,RawData,AO$4,FALSE)*VLOOKUP(AO$3,ConversionFactors,2,FALSE)/1000","VLOOKUP($B81,RawData,AP$4,FALSE)*VLOOKUP(AP$3,ConversionFactors,2,FALSE)/1000","VLOOKUP($B81,RawData,AQ$4,FALSE)*VLOOKUP(AQ$3,ConversionFactors,2,FALSE)/1000","VLOOKUP($B81,RawData,AR$4,FALSE)*VLOOKUP(AR$3,ConversionFactors,2,FALSE)/1000","VLOOKUP($B81,RawData,AS$4,FALSE)*VLOOKUP(AS$3,ConversionFactors,2,FALSE)*1","VLOOKUP($B81,RawData,AT$4,FALSE)*1","VLOOKUP($B81,RawData,AU$4,FALSE)*1","VLOOKUP($B81,RawData,AV$4,FALSE)*1","VLOOKUP($B81,RawData,AW$4,FALSE)*1","VLOOKUP($B81,RawData,AX$4,FALSE)*1","VLOOKUP($B81,RawData,AY$4,FALSE)*VLOOKUP(AY$3,ConversionFactors,2,FALSE)/1000","VLOOKUP($B81,RawData,AZ$4,FALSE)*VLOOKUP(AZ$3,ConversionFactors,2,FALSE)/1000","VLOOKUP($B81,RawData,BA$4,FALSE)*VLOOKUP(BA$3,ConversionFactors,2,FALSE)/1000","VLOOKUP($B81,RawData,BB$4,FALSE)*VLOOKUP(BB$3,ConversionFactors,2,FALSE)/1000","VLOOKUP($B81,RawData,BC$4,FALSE)*1","VLOOKUP($B81,RawData,BD$4,FALSE)*VLOOKUP(BD$3,ConversionFactors,2,FALSE)/1000",0,0,"VLOOKUP($B81,RawData,BG$4,FALSE)*1",0,"VLOOKUP($B81,RawData,BI$4,FALSE)*1",0,0,0,"VLOOKUP($B81,RawData,BM$4,FALSE)*3.6","VLOOKUP($B81,RawData,BN$4,FALSE)*1",0]
[{"$f":"OTHNONSPEC","v":"Non-specified (other)"},"ONONSPEC","NOTHER",{"$f":"MATCH(C82,CFHeadings,0)","v":16},0,0,0,0,0,0,0,0,0,0,0,0,0,0,0,0,0,0,0,0,0,0,0,0,0,0,0,0,0,0,0,0,0,0,0,0,0,0,0,0,{"$f":"VLOOKUP($B82,RawData,AS$4,FALSE)*VLOOKUP(AS$3,ConversionFactors,2,FALSE)*1","v":0},0,0,0,0,0,0,0,0,0,{"$f":"VLOOKUP($B82,RawData,BC$4,FALSE)*1","v":0},{"$f":"VLOOKUP($B82,RawData,BD$4,FALSE)*VLOOKUP(BD$3,ConversionFactors,2,FALSE)/1000","v":0},0,0,{"$f":"VLOOKUP($B82,RawData,BG$4,FALSE)*1","v":0},0,{"$f":"VLOOKUP($B82,RawData,BI$4,FALSE)*1","v":0},0,0,0,{"$f":"VLOOKUP($B82,RawData,BM$4,FALSE)*3.6","v":0},{"$f":"VLOOKUP($B82,RawData,BN$4,FALSE)*1","v":0},0,0,null,null,null,null,null,null,null,null,null,null,"ONONSPEC","VLOOKUP($B82,RawData,E$4,FALSE)*VLOOKUP(E$3,ConversionFactors,$D82,FALSE)/1000","VLOOKUP($B82,RawData,F$4,FALSE)*VLOOKUP(F$3,ConversionFactors,$D82,FALSE)/1000","VLOOKUP($B82,RawData,G$4,FALSE)*VLOOKUP(G$3,ConversionFactors,$D82,FALSE)/1000","VLOOKUP($B82,RawData,H$4,FALSE)*VLOOKUP(H$3,ConversionFactors,$D82,FALSE)/1000","VLOOKUP($B82,RawData,I$4,FALSE)*VLOOKUP(I$3,ConversionFactors,$D82,FALSE)/1000","VLOOKUP($B82,RawData,J$4,FALSE)*VLOOKUP(J$3,ConversionFactors,$D82,FALSE)/1000","VLOOKUP($B82,RawData,K$4,FALSE)*VLOOKUP(K$3,ConversionFactors,$D82,FALSE)/1000","VLOOKUP($B82,RawData,L$4,FALSE)*VLOOKUP(L$3,ConversionFactors,$D82,FALSE)/1000","VLOOKUP($B82,RawData,M$4,FALSE)*VLOOKUP(M$3,ConversionFactors,$D82,FALSE)/1000","VLOOKUP($B82,RawData,N$4,FALSE)*VLOOKUP(N$3,ConversionFactors,$D82,FALSE)/1000","(VLOOKUP($B82,RawData,O$4,FALSE)*VLOOKUP(O$3,ConversionFactors,2,FALSE))*1","(VLOOKUP($B82,RawData,P$4,FALSE)*VLOOKUP(P$3,ConversionFactors,2,FALSE))*1","(VLOOKUP($B82,RawData,Q$4,FALSE)*VLOOKUP(Q$3,ConversionFactors,2,FALSE))*1","(VLOOKUP($B82,RawData,R$4,FALSE)*VLOOKUP(R$3,ConversionFactors,2,FALSE))*1",0,"VLOOKUP($B82,RawData,T$4,FALSE)*VLOOKUP(T$3,ConversionFactors,$D82,FALSE)/1000","VLOOKUP($B82,RawData,U$4,FALSE)*VLOOKUP(U$3,ConversionFactors,$D82,FALSE)/1000","VLOOKUP($B82,RawData,V$4,FALSE)*VLOOKUP(V$3,ConversionFactors,$D82,FALSE)/1000","VLOOKUP($B82,RawData,W$4,FALSE)*VLOOKUP(W$3,ConversionFactors,2,FALSE)/1000","VLOOKUP($B82,RawData,X$4,FALSE)*VLOOKUP(X$3,ConversionFactors,2,FALSE)/1000","VLOOKUP($B82,RawData,Y$4,FALSE)*VLOOKUP(Y$3,ConversionFactors,2,FALSE)/1000","VLOOKUP($B82,RawData,Z$4,FALSE)*VLOOKUP(Z$3,ConversionFactors,2,FALSE)/1000","VLOOKUP($B82,RawData,AA$4,FALSE)*VLOOKUP(AA$3,ConversionFactors,2,FALSE)/1000","VLOOKUP($B82,RawData,AB$4,FALSE)*VLOOKUP(AB$3,ConversionFactors,2,FALSE)/1000","VLOOKUP($B82,RawData,AC$4,FALSE)*VLOOKUP(AC$3,ConversionFactors,2,FALSE)/1000","VLOOKUP($B82,RawData,AD$4,FALSE)*VLOOKUP(AD$3,ConversionFactors,2,FALSE)/1000","VLOOKUP($B82,RawData,AE$4,FALSE)*VLOOKUP(AE$3,ConversionFactors,2,FALSE)/1000","VLOOKUP($B82,RawData,AF$4,FALSE)*VLOOKUP(AF$3,ConversionFactors,2,FALSE)/1000","VLOOKUP($B82,RawData,AG$4,FALSE)*VLOOKUP(AG$3,ConversionFactors,2,FALSE)/1000","VLOOKUP($B82,RawData,AH$4,FALSE)*VLOOKUP(AH$3,ConversionFactors,2,FALSE)/1000","VLOOKUP($B82,RawData,AI$4,FALSE)*VLOOKUP(AI$3,ConversionFactors,2,FALSE)/1000","VLOOKUP($B82,RawData,AJ$4,FALSE)*VLOOKUP(AJ$3,ConversionFactors,2,FALSE)/1000","VLOOKUP($B82,RawData,AK$4,FALSE)*VLOOKUP(AK$3,ConversionFactors,2,FALSE)/1000","VLOOKUP($B82,RawData,AL$4,FALSE)*VLOOKUP(AL$3,ConversionFactors,2,FALSE)/1000","VLOOKUP($B82,RawData,AM$4,FALSE)*VLOOKUP(AM$3,ConversionFactors,2,FALSE)/1000","VLOOKUP($B82,RawData,AN$4,FALSE)*VLOOKUP(AN$3,ConversionFactors,2,FALSE)/1000","VLOOKUP($B82,RawData,AO$4,FALSE)*VLOOKUP(AO$3,ConversionFactors,2,FALSE)/1000","VLOOKUP($B82,RawData,AP$4,FALSE)*VLOOKUP(AP$3,ConversionFactors,2,FALSE)/1000","VLOOKUP($B82,RawData,AQ$4,FALSE)*VLOOKUP(AQ$3,ConversionFactors,2,FALSE)/1000","VLOOKUP($B82,RawData,AR$4,FALSE)*VLOOKUP(AR$3,ConversionFactors,2,FALSE)/1000","VLOOKUP($B82,RawData,AS$4,FALSE)*VLOOKUP(AS$3,ConversionFactors,2,FALSE)*1","VLOOKUP($B82,RawData,AT$4,FALSE)*1","VLOOKUP($B82,RawData,AU$4,FALSE)*1","VLOOKUP($B82,RawData,AV$4,FALSE)*1","VLOOKUP($B82,RawData,AW$4,FALSE)*1","VLOOKUP($B82,RawData,AX$4,FALSE)*1","VLOOKUP($B82,RawData,AY$4,FALSE)*VLOOKUP(AY$3,ConversionFactors,2,FALSE)/1000","VLOOKUP($B82,RawData,AZ$4,FALSE)*VLOOKUP(AZ$3,ConversionFactors,2,FALSE)/1000","VLOOKUP($B82,RawData,BA$4,FALSE)*VLOOKUP(BA$3,ConversionFactors,2,FALSE)/1000","VLOOKUP($B82,RawData,BB$4,FALSE)*VLOOKUP(BB$3,ConversionFactors,2,FALSE)/1000","VLOOKUP($B82,RawData,BC$4,FALSE)*1","VLOOKUP($B82,RawData,BD$4,FALSE)*VLOOKUP(BD$3,ConversionFactors,2,FALSE)/1000",0,0,"VLOOKUP($B82,RawData,BG$4,FALSE)*1",0,"VLOOKUP($B82,RawData,BI$4,FALSE)*1",0,0,0,"VLOOKUP($B82,RawData,BM$4,FALSE)*3.6","VLOOKUP($B82,RawData,BN$4,FALSE)*1",0]
[{"$f":"NONENUSE","v":"Non-energy use"},"NONENUSE",null,null,{"$f":"SUM(E84:E86)","v":0},0,0,0,0,0,0,0,0,0,0,0,0,0,0,{"$f":"SUM(T84:T86)","v":0},0,0,0,0,0,0,0,0,0,0,0,0,0,0,0,0,0,0,0,0,0,0,0,0,0,0,0,0,0,{"$f":"SUM(AX84:AX86)","v":0},0,0,0,0,0,0,0,0,0,0,0,0,0,0,{"$f":"SUM(BM84:BM86)","v":0},{"$f":"SUM(BN84:BN86)","v":0},0,0,null,null,null,null,null,null,null,null,null,null,"NONENUSE","SUM(E84:E86)","SUM(F84:F86)","SUM(G84:G86)","SUM(H84:H86)","SUM(I84:I86)","SUM(J84:J86)","SUM(K84:K86)","SUM(L84:L86)","SUM(M84:M86)","SUM(N84:N86)","SUM(O84:O86)","SUM(P84:P86)","SUM(Q84:Q86)","SUM(R84:R86)",0,"SUM(T84:T86)","SUM(U84:U86)","SUM(V84:V86)","SUM(W84:W86)","SUM(X84:X86)","SUM(Y84:Y86)","SUM(Z84:Z86)","SUM(AA84:AA86)","SUM(AB84:AB86)","SUM(AC84:AC86)","SUM(AD84:AD86)","SUM(AE84:AE86)","SUM(AF84:AF86)","SUM(AG84:AG86)","SUM(AH84:AH86)","SUM(AI84:AI86)","SUM(AJ84:AJ86)","SUM(AK84:AK86)","SUM(AL84:AL86)","SUM(AM84:AM86)","SUM(AN84:AN86)","SUM(AO84:AO86)","SUM(AP84:AP86)","SUM(AQ84:AQ86)","SUM(AR84:AR86)","SUM(AS84:AS86)","SUM(AT84:AT86)","SUM(AU84:AU86)","SUM(AV84:AV86)",0,"SUM(AX84:AX86)","SUM(AY84:AY86)","SUM(AZ84:AZ86)","SUM(BA84:BA86)","SUM(BB84:BB86)","SUM(BC84:BC86)","SUM(BD84:BD86)",0,0,0,0,0,0,0,0,"SUM(BM84:BM86)","SUM(BN84:BN86)",0]
[{"$f":"NEINTREN","v":"Non-energy use industry/transformation/energy"},"NEINTREN","NIND",{"$f":"MATCH(C84,CFHeadings,0)","v":15},{"$f":"VLOOKUP($B84,RawData,E$4,FALSE)*VLOOKUP(E$3,ConversionFactors,$D84,FALSE)/1000","v":0},0,0,0,0,0,0,0,0,0,{"$f":"(VLOOKUP($B84,RawData,O$4,FALSE)*VLOOKUP(O$3,ConversionFactors,2,FALSE))*1","v":0},0,0,0,0,{"$f":"VLOOKUP($B84,RawData,T$4,FALSE)*VLOOKUP(T$3,ConversionFactors,$D84,FALSE)/1000","v":0},0,0,{"$f":"VLOOKUP($B84,RawData,W$4,FALSE)*VLOOKUP(W$3,ConversionFactors,2,FALSE)/1000","v":0},0,0,0,0,0,0,0,0,0,{"$f":"VLOOKUP($B84,RawData,AG$4,FALSE)*VLOOKUP(AG$3,ConversionFactors,2,FALSE)/1000","v":0},0,0,0,0,0,0,0,0,0,0,0,{"$f":"VLOOKUP($B84,RawData,AS$4,FALSE)*VLOOKUP(AS$3,ConversionFactors,2,FALSE)*1","v":0},{"$f":"VLOOKUP($B84,RawData,AT$4,FALSE)*1","v":0},{"$f":"VLOOKUP($B84,RawData,AU$4,FALSE)*1","v":0},{"$f":"VLOOKUP($B84,RawData,AV$4,FALSE)*1","v":0},{"$f":"VLOOKUP($B84,RawData,AW$4,FALSE)*1","v":0},{"$f":"VLOOKUP($B84,RawData,AX$4,FALSE)*1","v":0},{"$f":"VLOOKUP($B84,RawData,AY$4,FALSE)*VLOOKUP(AY$3,ConversionFactors,2,FALSE)/1000","v":0},0,0,0,{"$f":"VLOOKUP($B84,RawData,BC$4,FALSE)*1","v":0},{"$f":"VLOOKUP($B84,RawData,BD$4,FALSE)*VLOOKUP(BD$3,ConversionFactors,2,FALSE)/1000","v":0},0,0,{"$f":"VLOOKUP($B84,RawData,BG$4,FALSE)","v":0},0,{"$f":"VLOOKUP($B84,RawData,BI$4,FALSE)","v":0},0,0,0,{"$f":"VLOOKUP($B84,RawData,BM$4,FALSE)*3.6","v":0},{"$f":"VLOOKUP($B84,RawData,BN$4,FALSE)*1","v":0},0,0,null,null,null,null,null,null,null,null,null,null,"NEINTREN","VLOOKUP($B84,RawData,E$4,FALSE)*VLOOKUP(E$3,ConversionFactors,$D84,FALSE)/1000","VLOOKUP($B84,RawData,F$4,FALSE)*VLOOKUP(F$3,ConversionFactors,$D84,FALSE)/1000","VLOOKUP($B84,RawData,G$4,FALSE)*VLOOKUP(G$3,ConversionFactors,$D84,FALSE)/1000","VLOOKUP($B84,RawData,H$4,FALSE)*VLOOKUP(H$3,ConversionFactors,$D84,FALSE)/1000","VLOOKUP($B84,RawData,I$4,FALSE)*VLOOKUP(I$3,ConversionFactors,$D84,FALSE)/1000","VLOOKUP($B84,RawData,J$4,FALSE)*VLOOKUP(J$3,ConversionFactors,$D84,FALSE)/1000","VLOOKUP($B84,RawData,K$4,FALSE)*VLOOKUP(K$3,ConversionFactors,$D84,FALSE)/1000","VLOOKUP($B84,RawData,L$4,FALSE)*VLOOKUP(L$3,ConversionFactors,$D84,FALSE)/1000","VLOOKUP($B84,RawData,M$4,FALSE)*VLOOKUP(M$3,ConversionFactors,$D84,FALSE)/1000","VLOOKUP($B84,RawData,N$4,FALSE)*VLOOKUP(N$3,ConversionFactors,$D84,FALSE)/1000","(VLOOKUP($B84,RawData,O$4,FALSE)*VLOOKUP(O$3,ConversionFactors,2,FALSE))*1","(VLOOKUP($B84,RawData,P$4,FALSE)*VLOOKUP(P$3,ConversionFactors,2,FALSE))*1","(VLOOKUP($B84,RawData,Q$4,FALSE)*VLOOKUP(Q$3,ConversionFactors,2,FALSE))*1","(VLOOKUP($B84,RawData,R$4,FALSE)*VLOOKUP(R$3,ConversionFactors,2,FALSE))*1",0,"VLOOKUP($B84,RawData,T$4,FALSE)*VLOOKUP(T$3,ConversionFactors,$D84,FALSE)/1000","VLOOKUP($B84,RawData,U$4,FALSE)*VLOOKUP(U$3,ConversionFactors,$D84,FALSE)/1000","VLOOKUP($B84,RawData,V$4,FALSE)*VLOOKUP(V$3,ConversionFactors,$D84,FALSE)/1000","VLOOKUP($B84,RawData,W$4,FALSE)*VLOOKUP(W$3,ConversionFactors,2,FALSE)/1000","VLOOKUP($B84,RawData,X$4,FALSE)*VLOOKUP(X$3,ConversionFactors,2,FALSE)/1000","VLOOKUP($B84,RawData,Y$4,FALSE)*VLOOKUP(Y$3,ConversionFactors,2,FALSE)/1000","VLOOKUP($B84,RawData,Z$4,FALSE)*VLOOKUP(Z$3,ConversionFactors,2,FALSE)/1000","VLOOKUP($B84,RawData,AA$4,FALSE)*VLOOKUP(AA$3,ConversionFactors,2,FALSE)/1000","VLOOKUP($B84,RawData,AB$4,FALSE)*VLOOKUP(AB$3,ConversionFactors,2,FALSE)/1000","VLOOKUP($B84,RawData,AC$4,FALSE)*VLOOKUP(AC$3,ConversionFactors,2,FALSE)/1000","VLOOKUP($B84,RawData,AD$4,FALSE)*VLOOKUP(AD$3,ConversionFactors,2,FALSE)/1000","VLOOKUP($B84,RawData,AE$4,FALSE)*VLOOKUP(AE$3,ConversionFactors,2,FALSE)/1000","VLOOKUP($B84,RawData,AF$4,FALSE)*VLOOKUP(AF$3,ConversionFactors,2,FALSE)/1000","VLOOKUP($B84,RawData,AG$4,FALSE)*VLOOKUP(AG$3,ConversionFactors,2,FALSE)/1000","VLOOKUP($B84,RawData,AH$4,FALSE)*VLOOKUP(AH$3,ConversionFactors,2,FALSE)/1000","VLOOKUP($B84,RawData,AI$4,FALSE)*VLOOKUP(AI$3,ConversionFactors,2,FALSE)/1000","VLOOKUP($B84,RawData,AJ$4,FALSE)*VLOOKUP(AJ$3,ConversionFactors,2,FALSE)/1000","VLOOKUP($B84,RawData,AK$4,FALSE)*VLOOKUP(AK$3,ConversionFactors,2,FALSE)/1000","VLOOKUP($B84,RawData,AL$4,FALSE)*VLOOKUP(AL$3,ConversionFactors,2,FALSE)/1000","VLOOKUP($B84,RawData,AM$4,FALSE)*VLOOKUP(AM$3,ConversionFactors,2,FALSE)/1000","VLOOKUP($B84,RawData,AN$4,FALSE)*VLOOKUP(AN$3,ConversionFactors,2,FALSE)/1000","VLOOKUP($B84,RawData,AO$4,FALSE)*VLOOKUP(AO$3,ConversionFactors,2,FALSE)/1000","VLOOKUP($B84,RawData,AP$4,FALSE)*VLOOKUP(AP$3,ConversionFactors,2,FALSE)/1000","VLOOKUP($B84,RawData,AQ$4,FALSE)*VLOOKUP(AQ$3,ConversionFactors,2,FALSE)/1000","VLOOKUP($B84,RawData,AR$4,FALSE)*VLOOKUP(AR$3,ConversionFactors,2,FALSE)/1000","VLOOKUP($B84,RawData,AS$4,FALSE)*VLOOKUP(AS$3,ConversionFactors,2,FALSE)*1","VLOOKUP($B84,RawData,AT$4,FALSE)*1","VLOOKUP($B84,RawData,AU$4,FALSE)*1","VLOOKUP($B84,RawData,AV$4,FALSE)*1",0,"VLOOKUP($B84,RawData,AX$4,FALSE)*1","VLOOKUP($B84,RawData,AY$4,FALSE)*VLOOKUP(AY$3,ConversionFactors,2,FALSE)/1000","VLOOKUP($B84,RawData,AZ$4,FALSE)*VLOOKUP(AZ$3,ConversionFactors,2,FALSE)/1000","VLOOKUP($B84,RawData,BA$4,FALSE)*VLOOKUP(BA$3,ConversionFactors,2,FALSE)/1000","VLOOKUP($B84,RawData,BB$4,FALSE)*VLOOKUP(BB$3,ConversionFactors,2,FALSE)/1000","VLOOKUP($B84,RawData,BC$4,FALSE)*1","VLOOKUP($B84,RawData,BD$4,FALSE)*VLOOKUP(BD$3,ConversionFactors,2,FALSE)/1000",0,0,"VLOOKUP($B84,RawData,BG$4,FALSE)",0,"VLOOKUP($B84,RawData,BI$4,FALSE)",0,0,0,"VLOOKUP($B84,RawData,BM$4,FALSE)*3.6","VLOOKUP($B84,RawData,BN$4,FALSE)*1",0]
[{"$f":"NETRANS","v":"Non-energy use in transport"},"NETRANS","NOTHER",{"$f":"MATCH(C85,CFHeadings,0)","v":16},0,0,0,0,0,0,0,0,0,0,0,0,0,0,0,0,0,0,0,0,0,0,0,0,0,0,0,0,0,0,0,0,0,0,0,0,0,0,0,0,{"$f":"VLOOKUP($B85,RawData,AS$4,FALSE)*VLOOKUP(AS$3,ConversionFactors,2,FALSE)*1","v":0},{"$f":"VLOOKUP($B85,RawData,AT$4,FALSE)*1","v":0},0,0,0,{"$f":"VLOOKUP($B85,RawData,AX$4,FALSE)*1","v":0},0,0,0,0,{"$f":"VLOOKUP($B85,RawData,BC$4,FALSE)*1","v":0},{"$f":"VLOOKUP($B85,RawData,BD$4,FALSE)*VLOOKUP(BD$3,ConversionFactors,2,FALSE)/1000","v":0},0,0,{"$f":"VLOOKUP($B85,RawData,BG$4,FALSE)","v":0},0,{"$f":"VLOOKUP($B85,RawData,BI$4,FALSE)","v":0},0,0,0,{"$f":"VLOOKUP($B85,RawData,BM$4,FALSE)*3.6","v":0},{"$f":"VLOOKUP($B85,RawData,BN$4,FALSE)*1","v":0},0,0,null,null,null,null,null,null,null,null,null,null,"NETRANS","VLOOKUP($B85,RawData,E$4,FALSE)*VLOOKUP(E$3,ConversionFactors,$D85,FALSE)/1000","VLOOKUP($B85,RawData,F$4,FALSE)*VLOOKUP(F$3,ConversionFactors,$D85,FALSE)/1000","VLOOKUP($B85,RawData,G$4,FALSE)*VLOOKUP(G$3,ConversionFactors,$D85,FALSE)/1000","VLOOKUP($B85,RawData,H$4,FALSE)*VLOOKUP(H$3,ConversionFactors,$D85,FALSE)/1000","VLOOKUP($B85,RawData,I$4,FALSE)*VLOOKUP(I$3,ConversionFactors,$D85,FALSE)/1000","VLOOKUP($B85,RawData,J$4,FALSE)*VLOOKUP(J$3,ConversionFactors,$D85,FALSE)/1000","VLOOKUP($B85,RawData,K$4,FALSE)*VLOOKUP(K$3,ConversionFactors,$D85,FALSE)/1000","VLOOKUP($B85,RawData,L$4,FALSE)*VLOOKUP(L$3,ConversionFactors,$D85,FALSE)/1000","VLOOKUP($B85,RawData,M$4,FALSE)*VLOOKUP(M$3,ConversionFactors,$D85,FALSE)/1000","VLOOKUP($B85,RawData,N$4,FALSE)*VLOOKUP(N$3,ConversionFactors,$D85,FALSE)/1000","(VLOOKUP($B85,RawData,O$4,FALSE)*VLOOKUP(O$3,ConversionFactors,2,FALSE))*1","(VLOOKUP($B85,RawData,P$4,FALSE)*VLOOKUP(P$3,ConversionFactors,2,FALSE))*1","(VLOOKUP($B85,RawData,Q$4,FALSE)*VLOOKUP(Q$3,ConversionFactors,2,FALSE))*1","(VLOOKUP($B85,RawData,R$4,FALSE)*VLOOKUP(R$3,ConversionFactors,2,FALSE))*1",0,"VLOOKUP($B85,RawData,T$4,FALSE)*VLOOKUP(T$3,ConversionFactors,$D85,FALSE)/1000","VLOOKUP($B85,RawData,U$4,FALSE)*VLOOKUP(U$3,ConversionFactors,$D85,FALSE)/1000","VLOOKUP($B85,RawData,V$4,FALSE)*VLOOKUP(V$3,ConversionFactors,$D85,FALSE)/1000","VLOOKUP($B85,RawData,W$4,FALSE)*VLOOKUP(W$3,ConversionFactors,2,FALSE)/1000","VLOOKUP($B85,RawData,X$4,FALSE)*VLOOKUP(X$3,ConversionFactors,2,FALSE)/1000","VLOOKUP($B85,RawData,Y$4,FALSE)*VLOOKUP(Y$3,ConversionFactors,2,FALSE)/1000","VLOOKUP($B85,RawData,Z$4,FALSE)*VLOOKUP(Z$3,ConversionFactors,2,FALSE)/1000","VLOOKUP($B85,RawData,AA$4,FALSE)*VLOOKUP(AA$3,ConversionFactors,2,FALSE)/1000","VLOOKUP($B85,RawData,AB$4,FALSE)*VLOOKUP(AB$3,ConversionFactors,2,FALSE)/1000","VLOOKUP($B85,RawData,AC$4,FALSE)*VLOOKUP(AC$3,ConversionFactors,2,FALSE)/1000","VLOOKUP($B85,RawData,AD$4,FALSE)*VLOOKUP(AD$3,ConversionFactors,2,FALSE)/1000","VLOOKUP($B85,RawData,AE$4,FALSE)*VLOOKUP(AE$3,ConversionFactors,2,FALSE)/1000","VLOOKUP($B85,RawData,AF$4,FALSE)*VLOOKUP(AF$3,ConversionFactors,2,FALSE)/1000","VLOOKUP($B85,RawData,AG$4,FALSE)*VLOOKUP(AG$3,ConversionFactors,2,FALSE)/1000","VLOOKUP($B85,RawData,AH$4,FALSE)*VLOOKUP(AH$3,ConversionFactors,2,FALSE)/1000","VLOOKUP($B85,RawData,AI$4,FALSE)*VLOOKUP(AI$3,ConversionFactors,2,FALSE)/1000","VLOOKUP($B85,RawData,AJ$4,FALSE)*VLOOKUP(AJ$3,ConversionFactors,2,FALSE)/1000","VLOOKUP($B85,RawData,AK$4,FALSE)*VLOOKUP(AK$3,ConversionFactors,2,FALSE)/1000","VLOOKUP($B85,RawData,AL$4,FALSE)*VLOOKUP(AL$3,ConversionFactors,2,FALSE)/1000","VLOOKUP($B85,RawData,AM$4,FALSE)*VLOOKUP(AM$3,ConversionFactors,2,FALSE)/1000","VLOOKUP($B85,RawData,AN$4,FALSE)*VLOOKUP(AN$3,ConversionFactors,2,FALSE)/1000","VLOOKUP($B85,RawData,AO$4,FALSE)*VLOOKUP(AO$3,ConversionFactors,2,FALSE)/1000","VLOOKUP($B85,RawData,AP$4,FALSE)*VLOOKUP(AP$3,ConversionFactors,2,FALSE)/1000","VLOOKUP($B85,RawData,AQ$4,FALSE)*VLOOKUP(AQ$3,ConversionFactors,2,FALSE)/1000","VLOOKUP($B85,RawData,AR$4,FALSE)*VLOOKUP(AR$3,ConversionFactors,2,FALSE)/1000","VLOOKUP($B85,RawData,AS$4,FALSE)*VLOOKUP(AS$3,ConversionFactors,2,FALSE)*1","VLOOKUP($B85,RawData,AT$4,FALSE)*1","VLOOKUP($B85,RawData,AU$4,FALSE)*1","VLOOKUP($B85,RawData,AV$4,FALSE)*1",0,"VLOOKUP($B85,RawData,AX$4,FALSE)*1","VLOOKUP($B85,RawData,AY$4,FALSE)*VLOOKUP(AY$3,ConversionFactors,2,FALSE)/1000","VLOOKUP($B85,RawData,AZ$4,FALSE)*VLOOKUP(AZ$3,ConversionFactors,2,FALSE)/1000","VLOOKUP($B85,RawData,BA$4,FALSE)*VLOOKUP(BA$3,ConversionFactors,2,FALSE)/1000","VLOOKUP($B85,RawData,BB$4,FALSE)*VLOOKUP(BB$3,ConversionFactors,2,FALSE)/1000","VLOOKUP($B85,RawData,BC$4,FALSE)*1","VLOOKUP($B85,RawData,BD$4,FALSE)*VLOOKUP(BD$3,ConversionFactors,2,FALSE)/1000",0,0,"VLOOKUP($B85,RawData,BG$4,FALSE)",0,"VLOOKUP($B85,RawData,BI$4,FALSE)",0,0,0,"VLOOKUP($B85,RawData,BM$4,FALSE)*3.6","VLOOKUP($B85,RawData,BN$4,FALSE)*1",0]
[{"$f":"NEOTHER","v":"Non-energy use in other"},"NEOTHER","NOTHER",{"$f":"MATCH(C86,CFHeadings,0)","v":16},0,0,0,0,0,0,0,0,0,0,0,0,0,0,0,0,0,0,0,0,0,0,0,0,0,0,0,0,0,0,0,0,0,0,0,0,0,0,0,0,{"$f":"VLOOKUP($B86,RawData,AS$4,FALSE)*VLOOKUP(AS$3,ConversionFactors,2,FALSE)*1","v":0},0,0,0,0,{"$f":"VLOOKUP($B86,RawData,AX$4,FALSE)*1","v":0},0,0,0,0,{"$f":"VLOOKUP($B86,RawData,BC$4,FALSE)*1","v":0},{"$f":"VLOOKUP($B86,RawData,BD$4,FALSE)*VLOOKUP(BD$3,ConversionFactors,2,FALSE)/1000","v":0},0,0,{"$f":"VLOOKUP($B86,RawData,BG$4,FALSE)","v":0},0,{"$f":"VLOOKUP($B86,RawData,BI$4,FALSE)","v":0},0,0,0,{"$f":"VLOOKUP($B86,RawData,BM$4,FALSE)*3.6","v":0},{"$f":"VLOOKUP($B86,RawData,BN$4,FALSE)*1","v":0},0,0,null,null,null,null,null,null,null,null,null,null,"NEOTHER","VLOOKUP($B86,RawData,E$4,FALSE)*VLOOKUP(E$3,ConversionFactors,$D86,FALSE)/1000","VLOOKUP($B86,RawData,F$4,FALSE)*VLOOKUP(F$3,ConversionFactors,$D86,FALSE)/1000","VLOOKUP($B86,RawData,G$4,FALSE)*VLOOKUP(G$3,ConversionFactors,$D86,FALSE)/1000","VLOOKUP($B86,RawData,H$4,FALSE)*VLOOKUP(H$3,ConversionFactors,$D86,FALSE)/1000","VLOOKUP($B86,RawData,I$4,FALSE)*VLOOKUP(I$3,ConversionFactors,$D86,FALSE)/1000","VLOOKUP($B86,RawData,J$4,FALSE)*VLOOKUP(J$3,ConversionFactors,$D86,FALSE)/1000","VLOOKUP($B86,RawData,K$4,FALSE)*VLOOKUP(K$3,ConversionFactors,$D86,FALSE)/1000","VLOOKUP($B86,RawData,L$4,FALSE)*VLOOKUP(L$3,ConversionFactors,$D86,FALSE)/1000","VLOOKUP($B86,RawData,M$4,FALSE)*VLOOKUP(M$3,ConversionFactors,$D86,FALSE)/1000","VLOOKUP($B86,RawData,N$4,FALSE)*VLOOKUP(N$3,ConversionFactors,$D86,FALSE)/1000","(VLOOKUP($B86,RawData,O$4,FALSE)*VLOOKUP(O$3,ConversionFactors,2,FALSE))*1","(VLOOKUP($B86,RawData,P$4,FALSE)*VLOOKUP(P$3,ConversionFactors,2,FALSE))*1","(VLOOKUP($B86,RawData,Q$4,FALSE)*VLOOKUP(Q$3,ConversionFactors,2,FALSE))*1","(VLOOKUP($B86,RawData,R$4,FALSE)*VLOOKUP(R$3,ConversionFactors,2,FALSE))*1",0,"VLOOKUP($B86,RawData,T$4,FALSE)*VLOOKUP(T$3,ConversionFactors,$D86,FALSE)/1000","VLOOKUP($B86,RawData,U$4,FALSE)*VLOOKUP(U$3,ConversionFactors,$D86,FALSE)/1000","VLOOKUP($B86,RawData,V$4,FALSE)*VLOOKUP(V$3,ConversionFactors,$D86,FALSE)/1000","VLOOKUP($B86,RawData,W$4,FALSE)*VLOOKUP(W$3,ConversionFactors,2,FALSE)/1000","VLOOKUP($B86,RawData,X$4,FALSE)*VLOOKUP(X$3,ConversionFactors,2,FALSE)/1000","VLOOKUP($B86,RawData,Y$4,FALSE)*VLOOKUP(Y$3,ConversionFactors,2,FALSE)/1000","VLOOKUP($B86,RawData,Z$4,FALSE)*VLOOKUP(Z$3,ConversionFactors,2,FALSE)/1000","VLOOKUP($B86,RawData,AA$4,FALSE)*VLOOKUP(AA$3,ConversionFactors,2,FALSE)/1000","VLOOKUP($B86,RawData,AB$4,FALSE)*VLOOKUP(AB$3,ConversionFactors,2,FALSE)/1000","VLOOKUP($B86,RawData,AC$4,FALSE)*VLOOKUP(AC$3,ConversionFactors,2,FALSE)/1000","VLOOKUP($B86,RawData,AD$4,FALSE)*VLOOKUP(AD$3,ConversionFactors,2,FALSE)/1000","VLOOKUP($B86,RawData,AE$4,FALSE)*VLOOKUP(AE$3,ConversionFactors,2,FALSE)/1000","VLOOKUP($B86,RawData,AF$4,FALSE)*VLOOKUP(AF$3,ConversionFactors,2,FALSE)/1000","VLOOKUP($B86,RawData,AG$4,FALSE)*VLOOKUP(AG$3,ConversionFactors,2,FALSE)/1000","VLOOKUP($B86,RawData,AH$4,FALSE)*VLOOKUP(AH$3,ConversionFactors,2,FALSE)/1000","VLOOKUP($B86,RawData,AI$4,FALSE)*VLOOKUP(AI$3,ConversionFactors,2,FALSE)/1000","VLOOKUP($B86,RawData,AJ$4,FALSE)*VLOOKUP(AJ$3,ConversionFactors,2,FALSE)/1000","VLOOKUP($B86,RawData,AK$4,FALSE)*VLOOKUP(AK$3,ConversionFactors,2,FALSE)/1000","VLOOKUP($B86,RawData,AL$4,FALSE)*VLOOKUP(AL$3,ConversionFactors,2,FALSE)/1000","VLOOKUP($B86,RawData,AM$4,FALSE)*VLOOKUP(AM$3,ConversionFactors,2,FALSE)/1000","VLOOKUP($B86,RawData,AN$4,FALSE)*VLOOKUP(AN$3,ConversionFactors,2,FALSE)/1000","VLOOKUP($B86,RawData,AO$4,FALSE)*VLOOKUP(AO$3,ConversionFactors,2,FALSE)/1000","VLOOKUP($B86,RawData,AP$4,FALSE)*VLOOKUP(AP$3,ConversionFactors,2,FALSE)/1000","VLOOKUP($B86,RawData,AQ$4,FALSE)*VLOOKUP(AQ$3,ConversionFactors,2,FALSE)/1000","VLOOKUP($B86,RawData,AR$4,FALSE)*VLOOKUP(AR$3,ConversionFactors,2,FALSE)/1000","VLOOKUP($B86,RawData,AS$4,FALSE)*VLOOKUP(AS$3,ConversionFactors,2,FALSE)*1","VLOOKUP($B86,RawData,AT$4,FALSE)*1","VLOOKUP($B86,RawData,AU$4,FALSE)*1","VLOOKUP($B86,RawData,AV$4,FALSE)*1",0,"VLOOKUP($B86,RawData,AX$4,FALSE)*1","VLOOKUP($B86,RawData,AY$4,FALSE)*VLOOKUP(AY$3,ConversionFactors,2,FALSE)/1000","VLOOKUP($B86,RawData,AZ$4,FALSE)*VLOOKUP(AZ$3,ConversionFactors,2,FALSE)/1000","VLOOKUP($B86,RawData,BA$4,FALSE)*VLOOKUP(BA$3,ConversionFactors,2,FALSE)/1000","VLOOKUP($B86,RawData,BB$4,FALSE)*VLOOKUP(BB$3,ConversionFactors,2,FALSE)/1000","VLOOKUP($B86,RawData,BC$4,FALSE)*1","VLOOKUP($B86,RawData,BD$4,FALSE)*VLOOKUP(BD$3,ConversionFactors,2,FALSE)/1000",0,0,"VLOOKUP($B86,RawData,BG$4,FALSE)",0,"VLOOKUP($B86,RawData,BI$4,FALSE)",0,0,0,"VLOOKUP($B86,RawData,BM$4,FALSE)*3.6","VLOOKUP($B86,RawData,BN$4,FALSE)*1",0]
[{"$f":"NECHEM","v":"Memo: Non-energy use chemical/petrochemical"},"NECHEM","NIND",{"$f":"MATCH(C87,CFHeadings,0)","v":15},0,0,0,0,0,0,0,0,0,0,0,0,0,0,0,0,0,0,0,0,0,0,0,0,0,0,0,0,0,0,0,0,0,0,0,0,0,0,0,0,{"$f":"VLOOKUP($B87,RawData,AS$4,FALSE)*VLOOKUP(AS$3,ConversionFactors,2,FALSE)*1","v":0},0,0,0,0,{"$f":"VLOOKUP($B87,RawData,AX$4,FALSE)*1","v":0},0,0,0,0,{"$f":"VLOOKUP($B87,RawData,BC$4,FALSE)*1","v":0},{"$f":"VLOOKUP($B87,RawData,BD$4,FALSE)*VLOOKUP(BD$3,ConversionFactors,2,FALSE)/1000","v":0},0,0,{"$f":"VLOOKUP($B87,RawData,BG$4,FALSE)","v":0},0,{"$f":"VLOOKUP($B87,RawData,BI$4,FALSE)","v":0},0,0,0,{"$f":"VLOOKUP($B87,RawData,BM$4,FALSE)*3.6","v":0},{"$f":"VLOOKUP($B87,RawData,BN$4,FALSE)*1","v":0},0,0,null,null,null,null,null,null,null,null,null,null,"NECHEM","VLOOKUP($B87,RawData,E$4,FALSE)*VLOOKUP(E$3,ConversionFactors,$D87,FALSE)/1000","VLOOKUP($B87,RawData,F$4,FALSE)*VLOOKUP(F$3,ConversionFactors,$D87,FALSE)/1000","VLOOKUP($B87,RawData,G$4,FALSE)*VLOOKUP(G$3,ConversionFactors,$D87,FALSE)/1000","VLOOKUP($B87,RawData,H$4,FALSE)*VLOOKUP(H$3,ConversionFactors,$D87,FALSE)/1000","VLOOKUP($B87,RawData,I$4,FALSE)*VLOOKUP(I$3,ConversionFactors,$D87,FALSE)/1000","VLOOKUP($B87,RawData,J$4,FALSE)*VLOOKUP(J$3,ConversionFactors,$D87,FALSE)/1000","VLOOKUP($B87,RawData,K$4,FALSE)*VLOOKUP(K$3,ConversionFactors,$D87,FALSE)/1000","VLOOKUP($B87,RawData,L$4,FALSE)*VLOOKUP(L$3,ConversionFactors,$D87,FALSE)/1000","VLOOKUP($B87,RawData,M$4,FALSE)*VLOOKUP(M$3,ConversionFactors,$D87,FALSE)/1000","VLOOKUP($B87,RawData,N$4,FALSE)*VLOOKUP(N$3,ConversionFactors,$D87,FALSE)/1000","(VLOOKUP($B87,RawData,O$4,FALSE)*VLOOKUP(O$3,ConversionFactors,2,FALSE))*1","(VLOOKUP($B87,RawData,P$4,FALSE)*VLOOKUP(P$3,ConversionFactors,2,FALSE))*1","(VLOOKUP($B87,RawData,Q$4,FALSE)*VLOOKUP(Q$3,ConversionFactors,2,FALSE))*1","(VLOOKUP($B87,RawData,R$4,FALSE)*VLOOKUP(R$3,ConversionFactors,2,FALSE))*1",0,"VLOOKUP($B87,RawData,T$4,FALSE)*VLOOKUP(T$3,ConversionFactors,$D87,FALSE)/1000","VLOOKUP($B87,RawData,U$4,FALSE)*VLOOKUP(U$3,ConversionFactors,$D87,FALSE)/1000","VLOOKUP($B87,RawData,V$4,FALSE)*VLOOKUP(V$3,ConversionFactors,$D87,FALSE)/1000","VLOOKUP($B87,RawData,W$4,FALSE)*VLOOKUP(W$3,ConversionFactors,2,FALSE)/1000","VLOOKUP($B87,RawData,X$4,FALSE)*VLOOKUP(X$3,ConversionFactors,2,FALSE)/1000","VLOOKUP($B87,RawData,Y$4,FALSE)*VLOOKUP(Y$3,ConversionFactors,2,FALSE)/1000","VLOOKUP($B87,RawData,Z$4,FALSE)*VLOOKUP(Z$3,ConversionFactors,2,FALSE)/1000","VLOOKUP($B87,RawData,AA$4,FALSE)*VLOOKUP(AA$3,ConversionFactors,2,FALSE)/1000","VLOOKUP($B87,RawData,AB$4,FALSE)*VLOOKUP(AB$3,ConversionFactors,2,FALSE)/1000","VLOOKUP($B87,RawData,AC$4,FALSE)*VLOOKUP(AC$3,ConversionFactors,2,FALSE)/1000","VLOOKUP($B87,RawData,AD$4,FALSE)*VLOOKUP(AD$3,ConversionFactors,2,FALSE)/1000","VLOOKUP($B87,RawData,AE$4,FALSE)*VLOOKUP(AE$3,ConversionFactors,2,FALSE)/1000","VLOOKUP($B87,RawData,AF$4,FALSE)*VLOOKUP(AF$3,ConversionFactors,2,FALSE)/1000","VLOOKUP($B87,RawData,AG$4,FALSE)*VLOOKUP(AG$3,ConversionFactors,2,FALSE)/1000","VLOOKUP($B87,RawData,AH$4,FALSE)*VLOOKUP(AH$3,ConversionFactors,2,FALSE)/1000","VLOOKUP($B87,RawData,AI$4,FALSE)*VLOOKUP(AI$3,ConversionFactors,2,FALSE)/1000","VLOOKUP($B87,RawData,AJ$4,FALSE)*VLOOKUP(AJ$3,ConversionFactors,2,FALSE)/1000","VLOOKUP($B87,RawData,AK$4,FALSE)*VLOOKUP(AK$3,ConversionFactors,2,FALSE)/1000","VLOOKUP($B87,RawData,AL$4,FALSE)*VLOOKUP(AL$3,ConversionFactors,2,FALSE)/1000","VLOOKUP($B87,RawData,AM$4,FALSE)*VLOOKUP(AM$3,ConversionFactors,2,FALSE)/1000","VLOOKUP($B87,RawData,AN$4,FALSE)*VLOOKUP(AN$3,ConversionFactors,2,FALSE)/1000","VLOOKUP($B87,RawData,AO$4,FALSE)*VLOOKUP(AO$3,ConversionFactors,2,FALSE)/1000","VLOOKUP($B87,RawData,AP$4,FALSE)*VLOOKUP(AP$3,ConversionFactors,2,FALSE)/1000","VLOOKUP($B87,RawData,AQ$4,FALSE)*VLOOKUP(AQ$3,ConversionFactors,2,FALSE)/1000","VLOOKUP($B87,RawData,AR$4,FALSE)*VLOOKUP(AR$3,ConversionFactors,2,FALSE)/1000","VLOOKUP($B87,RawData,AS$4,FALSE)*VLOOKUP(AS$3,ConversionFactors,2,FALSE)*1","VLOOKUP($B87,RawData,AT$4,FALSE)*1","VLOOKUP($B87,RawData,AU$4,FALSE)*1","VLOOKUP($B87,RawData,AV$4,FALSE)*1",0,"VLOOKUP($B87,RawData,AX$4,FALSE)*1","VLOOKUP($B87,RawData,AY$4,FALSE)*VLOOKUP(AY$3,ConversionFactors,2,FALSE)/1000","VLOOKUP($B87,RawData,AZ$4,FALSE)*VLOOKUP(AZ$3,ConversionFactors,2,FALSE)/1000","VLOOKUP($B87,RawData,BA$4,FALSE)*VLOOKUP(BA$3,ConversionFactors,2,FALSE)/1000","VLOOKUP($B87,RawData,BB$4,FALSE)*VLOOKUP(BB$3,ConversionFactors,2,FALSE)/1000","VLOOKUP($B87,RawData,BC$4,FALSE)*1","VLOOKUP($B87,RawData,BD$4,FALSE)*VLOOKUP(BD$3,ConversionFactors,2,FALSE)/1000",0,0,"VLOOKUP($B87,RawData,BG$4,FALSE)",0,"VLOOKUP($B87,RawData,BI$4,FALSE)",0,0,0,"VLOOKUP($B87,RawData,BM$4,FALSE)*3.6","VLOOKUP($B87,RawData,BN$4,FALSE)*1",0]
[{"$f":"ELOUTPUT","v":"Electricity output in GWh"},"ELOUTPUT",null,null,{"$f":"SUM(E89:E92)","v":0},0,0,0,0,0,0,0,0,0,0,0,0,0,0,0,0,0,0,0,0,0,0,0,0,0,0,0,0,0,0,9850,{"$f":"SUM(AK89:AK92)","v":0},0,0,0,0,0,0,0,0,0,0,0,0,0,0,0,0,0,0,0,0,600,0,19,0,0,30,0,0,0,0,10499,null,null,null,null,null,null,null,null,null,null,"ELOUTPUT","SUM(E89:E92)","SUM(F89:F92)","SUM(G89:G92)","SUM(H89:H92)","SUM(I89:I92)","SUM(J89:J92)","SUM(K89:K92)","SUM(L89:L92)","SUM(M89:M92)","SUM(N89:N92)","SUM(O89:O92)","SUM(P89:P92)","SUM(Q89:Q92)","SUM(R89:R92)","SUM(S89:S92)","SUM(T89:T92)","SUM(U89:U92)","SUM(V89:V92)","SUM(W89:W92)","SUM(X89:X92)","SUM(Y89:Y92)","SUM(Z89:Z92)","SUM(AA89:AA92)","SUM(AB89:AB92)","SUM(AC89:AC92)","SUM(AD89:AD92)","SUM(AE89:AE92)","SUM(AF89:AF92)","SUM(AG89:AG92)","SUM(AH89:AH92)","SUM(AI89:AI92)","SUM(AJ89:AJ92)","SUM(AK89:AK92)","SUM(AL89:AL92)","SUM(AM89:AM92)","SUM(AN89:AN92)","SUM(AO89:AO92)","SUM(AP89:AP92)","SUM(AQ89:AQ92)","SUM(AR89:AR92)","SUM(AS89:AS92)","SUM(AT89:AT92)","SUM(AU89:AU92)","SUM(AV89:AV92)","SUM(AW89:AW92)","SUM(AX89:AX92)","SUM(AY89:AY92)","SUM(AZ89:AZ92)","SUM(BA89:BA92)","SUM(BB89:BB92)","SUM(BC89:BC92)","SUM(BD89:BD92)","SUM(BE89:BE92)","SUM(BF89:BF92)","SUM(BG89:BG92)","SUM(BH89:BH92)","SUM(BI89:BI92)","SUM(BJ89:BJ92)","SUM(BK89:BK92)","SUM(BL89:BL92)","SUM(BM89:BM92)","SUM(BN89:BN92)",0]
[{"$f":"HLOOKUP(LangChoice,Definitions_FlowLang!$C$2:$E$112,MATCH($B89,Definitions_FlowLang!$B$2:$B$112,0),FALSE)","v":"Elec output-main activity producer ele plants"},"ELMAINE",null,null,{"$f":"VLOOKUP($B89,RawData,E$4,FALSE)","v":0},0,0,0,0,0,0,0,0,0,{"$f":"VLOOKUP($B89,RawData,O$4,FALSE)","v":0},0,0,0,0,0,0,0,0,0,{"$f":"VLOOKUP($B89,RawData,Y$4,FALSE)","v":0},0,0,0,0,0,0,0,0,0,{"$f":"VLOOKUP($B89,RawData,AI$4,FALSE)","v":0},8700,0,0,0,0,0,0,0,0,{"$f":"VLOOKUP($B89,RawData,AS$4,FALSE)","v":0},0,0,0,0,0,0,0,0,0,0,0,0,{"$f":"VLOOKUP($B89,RawData,BF$4,FALSE)-VLOOKUP(\"MHYDPUMP\",RawData,BF$4,FALSE)","v":600},{"$f":"VLOOKUP($B89,RawData,BG$4,FALSE)","v":0},19,0,0,30,0,{"$f":"VLOOKUP($B89,RawData,MATCH(\"BOILER\",RawDataHeadings,0),FALSE)","v":0},{"$f":"SUM(VLOOKUP($B89,RawData,MATCH(\"HEATPUMP\",RawDataHeadings,0),FALSE),VLOOKUP($B89,RawData,MATCH(\"CHEMHEAT\",RawDataHeadings,0),FALSE))","v":0},0,9349,null,null,null,null,null,null,null,null,null,null,"ELMAINE","VLOOKUP($B89,RawData,E$4,FALSE)","VLOOKUP($B89,RawData,F$4,FALSE)","VLOOKUP($B89,RawData,G$4,FALSE)","VLOOKUP($B89,RawData,H$4,FALSE)","VLOOKUP($B89,RawData,I$4,FALSE)","VLOOKUP($B89,RawData,J$4,FALSE)","VLOOKUP($B89,RawData,K$4,FALSE)","VLOOKUP($B89,RawData,L$4,FALSE)","VLOOKUP($B89,RawData,M$4,FALSE)","VLOOKUP($B89,RawData,N$4,FALSE)","VLOOKUP($B89,RawData,O$4,FALSE)","VLOOKUP($B89,RawData,P$4,FALSE)","VLOOKUP($B89,RawData,Q$4,FALSE)","VLOOKUP($B89,RawData,R$4,FALSE)","VLOOKUP($B89,RawData,S$4,FALSE)","VLOOKUP($B89,RawData,T$4,FALSE)","VLOOKUP($B89,RawData,U$4,FALSE)","VLOOKUP($B89,RawData,V$4,FALSE)","VLOOKUP($B89,RawData,W$4,FALSE)","VLOOKUP($B89,RawData,X$4,FALSE)","VLOOKUP($B89,RawData,Y$4,FALSE)","VLOOKUP($B89,RawData,Z$4,FALSE)","VLOOKUP($B89,RawData,AA$4,FALSE)","VLOOKUP($B89,RawData,AB$4,FALSE)","VLOOKUP($B89,RawData,AC$4,FALSE)","VLOOKUP($B89,RawData,AD$4,FALSE)","VLOOKUP($B89,RawData,AE$4,FALSE)","VLOOKUP($B89,RawData,AF$4,FALSE)","VLOOKUP($B89,RawData,AG$4,FALSE)","VLOOKUP($B89,RawData,AH$4,FALSE)","VLOOKUP($B89,RawData,AI$4,FALSE)","VLOOKUP($B89,RawData,AJ$4,FALSE)","VLOOKUP($B89,RawData,AK$4,FALSE)","VLOOKUP($B89,RawData,AL$4,FALSE)","VLOOKUP($B89,RawData,AM$4,FALSE)","VLOOKUP($B89,RawData,AN$4,FALSE)","VLOOKUP($B89,RawData,AO$4,FALSE)","VLOOKUP($B89,RawData,AP$4,FALSE)","VLOOKUP($B89,RawData,AQ$4,FALSE)","VLOOKUP($B89,RawData,AR$4,FALSE)","VLOOKUP($B89,RawData,AS$4,FALSE)","VLOOKUP($B89,RawData,AT$4,FALSE)","VLOOKUP($B89,RawData,AU$4,FALSE)","VLOOKUP($B89,RawData,AV$4,FALSE)","VLOOKUP($B89,RawData,AW$4,FALSE)","VLOOKUP($B89,RawData,AX$4,FALSE)","VLOOKUP($B89,RawData,AY$4,FALSE)","VLOOKUP($B89,RawData,AZ$4,FALSE)","VLOOKUP($B89,RawData,BA$4,FALSE)","VLOOKUP($B89,RawData,BB$4,FALSE)","VLOOKUP($B89,RawData,BC$4,FALSE)","VLOOKUP($B89,RawData,BD$4,FALSE)","VLOOKUP($B89,RawData,BE$4,FALSE)","VLOOKUP($B89,RawData,BF$4,FALSE)-VLOOKUP(\"MHYDPUMP\",RawData,BF$4,FALSE)","VLOOKUP($B89,RawData,BG$4,FALSE)","VLOOKUP($B89,RawData,BH$4,FALSE)","VLOOKUP($B89,RawData,BI$4,FALSE)","VLOOKUP($B89,RawData,BJ$4,FALSE)","VLOOKUP($B89,RawData,BK$4,FALSE)","VLOOKUP($B89,RawData,BL$4,FALSE)","VLOOKUP($B89,RawData,MATCH(\"BOILER\",RawDataHeadings,0),FALSE)","SUM(VLOOKUP($B89,RawData,MATCH(\"HEATPUMP\",RawDataHeadings,0),FALSE),VLOOKUP($B89,RawData,MATCH(\"CHEMHEAT\",RawDataHeadings,0),FALSE))",0]
[{"$f":"HLOOKUP(LangChoice,Definitions_FlowLang!$C$2:$E$112,MATCH($B90,Definitions_FlowLang!$B$2:$B$112,0),FALSE)","v":"Elec output-autoproducer electricity plants"},"ELAUTOE",null,null,0,0,0,0,0,0,0,0,0,0,0,0,0,0,0,0,0,0,0,0,0,0,0,0,0,0,0,0,0,0,0,1150,0,0,0,0,0,0,0,0,0,0,0,0,0,0,0,0,0,0,0,0,0,{"$f":"VLOOKUP($B90,RawData,BF$4,FALSE)-VLOOKUP(\"AHYDPUMP\",RawData,BF$4,FALSE)","v":0},0,0,0,0,0,0,0,0,0,1150,null,null,null,null,null,null,null,null,null,null,"ELAUTOE","VLOOKUP($B90,RawData,E$4,FALSE)","VLOOKUP($B90,RawData,F$4,FALSE)","VLOOKUP($B90,RawData,G$4,FALSE)","VLOOKUP($B90,RawData,H$4,FALSE)","VLOOKUP($B90,RawData,I$4,FALSE)","VLOOKUP($B90,RawData,J$4,FALSE)","VLOOKUP($B90,RawData,K$4,FALSE)","VLOOKUP($B90,RawData,L$4,FALSE)","VLOOKUP($B90,RawData,M$4,FALSE)","VLOOKUP($B90,RawData,N$4,FALSE)","VLOOKUP($B90,RawData,O$4,FALSE)","VLOOKUP($B90,RawData,P$4,FALSE)","VLOOKUP($B90,RawData,Q$4,FALSE)","VLOOKUP($B90,RawData,R$4,FALSE)","VLOOKUP($B90,RawData,S$4,FALSE)","VLOOKUP($B90,RawData,T$4,FALSE)","VLOOKUP($B90,RawData,U$4,FALSE)","VLOOKUP($B90,RawData,V$4,FALSE)","VLOOKUP($B90,RawData,W$4,FALSE)","VLOOKUP($B90,RawData,X$4,FALSE)","VLOOKUP($B90,RawData,Y$4,FALSE)","VLOOKUP($B90,RawData,Z$4,FALSE)","VLOOKUP($B90,RawData,AA$4,FALSE)","VLOOKUP($B90,RawData,AB$4,FALSE)","VLOOKUP($B90,RawData,AC$4,FALSE)","VLOOKUP($B90,RawData,AD$4,FALSE)","VLOOKUP($B90,RawData,AE$4,FALSE)","VLOOKUP($B90,RawData,AF$4,FALSE)","VLOOKUP($B90,RawData,AG$4,FALSE)","VLOOKUP($B90,RawData,AH$4,FALSE)","VLOOKUP($B90,RawData,AI$4,FALSE)","VLOOKUP($B90,RawData,AJ$4,FALSE)","VLOOKUP($B90,RawData,AK$4,FALSE)","VLOOKUP($B90,RawData,AL$4,FALSE)","VLOOKUP($B90,RawData,AM$4,FALSE)","VLOOKUP($B90,RawData,AN$4,FALSE)","VLOOKUP($B90,RawData,AO$4,FALSE)","VLOOKUP($B90,RawData,AP$4,FALSE)","VLOOKUP($B90,RawData,AQ$4,FALSE)","VLOOKUP($B90,RawData,AR$4,FALSE)","VLOOKUP($B90,RawData,AS$4,FALSE)","VLOOKUP($B90,RawData,AT$4,FALSE)","VLOOKUP($B90,RawData,AU$4,FALSE)","VLOOKUP($B90,RawData,AV$4,FALSE)","VLOOKUP($B90,RawData,AW$4,FALSE)","VLOOKUP($B90,RawData,AX$4,FALSE)","VLOOKUP($B90,RawData,AY$4,FALSE)","VLOOKUP($B90,RawData,AZ$4,FALSE)","VLOOKUP($B90,RawData,BA$4,FALSE)","VLOOKUP($B90,RawData,BB$4,FALSE)","VLOOKUP($B90,RawData,BC$4,FALSE)","VLOOKUP($B90,RawData,BD$4,FALSE)","VLOOKUP($B90,RawData,BE$4,FALSE)","VLOOKUP($B90,RawData,BF$4,FALSE)-VLOOKUP(\"AHYDPUMP\",RawData,BF$4,FALSE)","VLOOKUP($B90,RawData,BG$4,FALSE)","VLOOKUP($B90,RawData,BH$4,FALSE)","VLOOKUP($B90,RawData,BI$4,FALSE)","VLOOKUP($B90,RawData,BJ$4,FALSE)","VLOOKUP($B90,RawData,BK$4,FALSE)","VLOOKUP($B90,RawData,BL$4,FALSE)","VLOOKUP($B90,RawData,MATCH(\"BOILER\",RawDataHeadings,0),FALSE)","SUM(VLOOKUP($B90,RawData,MATCH(\"HEATPUMP\",RawDataHeadings,0),FALSE),VLOOKUP($B90,RawData,MATCH(\"CHEMHEAT\",RawDataHeadings,0),FALSE))",0]
[{"$f":"HLOOKUP(LangChoice,Definitions_FlowLang!$C$2:$E$112,MATCH($B91,Definitions_FlowLang!$B$2:$B$112,0),FALSE)","v":"Elec output-main activity producer CHP plants"},"ELMAINC",null,null,0,0,0,0,0,0,0,0,0,0,0,0,0,0,0,0,0,0,0,0,0,0,0,0,0,0,0,0,0,0,0,0,0,0,0,0,0,0,0,0,0,0,0,0,0,0,0,0,0,0,0,0,0,{"$f":"VLOOKUP($B91,RawData,BF$4,FALSE)","v":0},0,0,0,0,0,0,0,0,0,0,null,null,null,null,null,null,null,null,null,null,"ELMAINC","VLOOKUP($B91,RawData,E$4,FALSE)","VLOOKUP($B91,RawData,F$4,FALSE)","VLOOKUP($B91,RawData,G$4,FALSE)","VLOOKUP($B91,RawData,H$4,FALSE)","VLOOKUP($B91,RawData,I$4,FALSE)","VLOOKUP($B91,RawData,J$4,FALSE)","VLOOKUP($B91,RawData,K$4,FALSE)","VLOOKUP($B91,RawData,L$4,FALSE)","VLOOKUP($B91,RawData,M$4,FALSE)","VLOOKUP($B91,RawData,N$4,FALSE)","VLOOKUP($B91,RawData,O$4,FALSE)","VLOOKUP($B91,RawData,P$4,FALSE)","VLOOKUP($B91,RawData,Q$4,FALSE)","VLOOKUP($B91,RawData,R$4,FALSE)","VLOOKUP($B91,RawData,S$4,FALSE)","VLOOKUP($B91,RawData,T$4,FALSE)","VLOOKUP($B91,RawData,U$4,FALSE)","VLOOKUP($B91,RawData,V$4,FALSE)","VLOOKUP($B91,RawData,W$4,FALSE)","VLOOKUP($B91,RawData,X$4,FALSE)","VLOOKUP($B91,RawData,Y$4,FALSE)","VLOOKUP($B91,RawData,Z$4,FALSE)","VLOOKUP($B91,RawData,AA$4,FALSE)","VLOOKUP($B91,RawData,AB$4,FALSE)","VLOOKUP($B91,RawData,AC$4,FALSE)","VLOOKUP($B91,RawData,AD$4,FALSE)","VLOOKUP($B91,RawData,AE$4,FALSE)","VLOOKUP($B91,RawData,AF$4,FALSE)","VLOOKUP($B91,RawData,AG$4,FALSE)","VLOOKUP($B91,RawData,AH$4,FALSE)","VLOOKUP($B91,RawData,AI$4,FALSE)","VLOOKUP($B91,RawData,AJ$4,FALSE)","VLOOKUP($B91,RawData,AK$4,FALSE)","VLOOKUP($B91,RawData,AL$4,FALSE)","VLOOKUP($B91,RawData,AM$4,FALSE)","VLOOKUP($B91,RawData,AN$4,FALSE)","VLOOKUP($B91,RawData,AO$4,FALSE)","VLOOKUP($B91,RawData,AP$4,FALSE)","VLOOKUP($B91,RawData,AQ$4,FALSE)","VLOOKUP($B91,RawData,AR$4,FALSE)","VLOOKUP($B91,RawData,AS$4,FALSE)","VLOOKUP($B91,RawData,AT$4,FALSE)","VLOOKUP($B91,RawData,AU$4,FALSE)","VLOOKUP($B91,RawData,AV$4,FALSE)","VLOOKUP($B91,RawData,AW$4,FALSE)","VLOOKUP($B91,RawData,AX$4,FALSE)","VLOOKUP($B91,RawData,AY$4,FALSE)","VLOOKUP($B91,RawData,AZ$4,FALSE)","VLOOKUP($B91,RawData,BA$4,FALSE)","VLOOKUP($B91,RawData,BB$4,FALSE)","VLOOKUP($B91,RawData,BC$4,FALSE)","VLOOKUP($B91,RawData,BD$4,FALSE)","VLOOKUP($B91,RawData,BE$4,FALSE)","VLOOKUP($B91,RawData,BF$4,FALSE)","VLOOKUP($B91,RawData,BG$4,FALSE)","VLOOKUP($B91,RawData,BH$4,FALSE)","VLOOKUP($B91,RawData,BI$4,FALSE)","VLOOKUP($B91,RawData,BJ$4,FALSE)","VLOOKUP($B91,RawData,BK$4,FALSE)","VLOOKUP($B91,RawData,BL$4,FALSE)","VLOOKUP($B91,RawData,MATCH(\"BOILER\",RawDataHeadings,0),FALSE)","SUM(VLOOKUP($B91,RawData,MATCH(\"HEATPUMP\",RawDataHeadings,0),FALSE),VLOOKUP($B91,RawData,MATCH(\"CHEMHEAT\",RawDataHeadings,0),FALSE))",0]
[{"$f":"HLOOKUP(LangChoice,Definitions_FlowLang!$C$2:$E$112,MATCH($B92,Definitions_FlowLang!$B$2:$B$112,0),FALSE)","v":"Elec output-autoproducer CHP plants"},"ELAUTOC",null,null,0,0,0,0,0,0,0,0,0,0,0,0,0,0,0,0,0,0,0,0,0,0,0,0,0,0,0,0,0,0,0,0,0,0,0,0,0,0,0,0,0,0,0,0,0,0,0,0,0,0,0,0,0,0,0,0,0,0,0,0,0,0,0,0,null,null,null,null,null,null,null,null,null,null,"ELAUTOC","VLOOKUP($B92,RawData,E$4,FALSE)","VLOOKUP($B92,RawData,F$4,FALSE)","VLOOKUP($B92,RawData,G$4,FALSE)","VLOOKUP($B92,RawData,H$4,FALSE)","VLOOKUP($B92,RawData,I$4,FALSE)","VLOOKUP($B92,RawData,J$4,FALSE)","VLOOKUP($B92,RawData,K$4,FALSE)","VLOOKUP($B92,RawData,L$4,FALSE)","VLOOKUP($B92,RawData,M$4,FALSE)","VLOOKUP($B92,RawData,N$4,FALSE)","VLOOKUP($B92,RawData,O$4,FALSE)","VLOOKUP($B92,RawData,P$4,FALSE)","VLOOKUP($B92,RawData,Q$4,FALSE)","VLOOKUP($B92,RawData,R$4,FALSE)","VLOOKUP($B92,RawData,S$4,FALSE)","VLOOKUP($B92,RawData,T$4,FALSE)","VLOOKUP($B92,RawData,U$4,FALSE)","VLOOKUP($B92,RawData,V$4,FALSE)","VLOOKUP($B92,RawData,W$4,FALSE)","VLOOKUP($B92,RawData,X$4,FALSE)","VLOOKUP($B92,RawData,Y$4,FALSE)","VLOOKUP($B92,RawData,Z$4,FALSE)","VLOOKUP($B92,RawData,AA$4,FALSE)","VLOOKUP($B92,RawData,AB$4,FALSE)","VLOOKUP($B92,RawData,AC$4,FALSE)","VLOOKUP($B92,RawData,AD$4,FALSE)","VLOOKUP($B92,RawData,AE$4,FALSE)","VLOOKUP($B92,RawData,AF$4,FALSE)","VLOOKUP($B92,RawData,AG$4,FALSE)","VLOOKUP($B92,RawData,AH$4,FALSE)","VLOOKUP($B92,RawData,AI$4,FALSE)","VLOOKUP($B92,RawData,AJ$4,FALSE)","VLOOKUP($B92,RawData,AK$4,FALSE)","VLOOKUP($B92,RawData,AL$4,FALSE)","VLOOKUP($B92,RawData,AM$4,FALSE)","VLOOKUP($B92,RawData,AN$4,FALSE)","VLOOKUP($B92,RawData,AO$4,FALSE)","VLOOKUP($B92,RawData,AP$4,FALSE)","VLOOKUP($B92,RawData,AQ$4,FALSE)","VLOOKUP($B92,RawData,AR$4,FALSE)","VLOOKUP($B92,RawData,AS$4,FALSE)","VLOOKUP($B92,RawData,AT$4,FALSE)","VLOOKUP($B92,RawData,AU$4,FALSE)","VLOOKUP($B92,RawData,AV$4,FALSE)","VLOOKUP($B92,RawData,AW$4,FALSE)","VLOOKUP($B92,RawData,AX$4,FALSE)","VLOOKUP($B92,RawData,AY$4,FALSE)","VLOOKUP($B92,RawData,AZ$4,FALSE)","VLOOKUP($B92,RawData,BA$4,FALSE)","VLOOKUP($B92,RawData,BB$4,FALSE)","VLOOKUP($B92,RawData,BC$4,FALSE)","VLOOKUP($B92,RawData,BD$4,FALSE)","VLOOKUP($B92,RawData,BE$4,FALSE)","VLOOKUP($B92,RawData,BF$4,FALSE)","VLOOKUP($B92,RawData,BG$4,FALSE)","VLOOKUP($B92,RawData,BH$4,FALSE)","VLOOKUP($B92,RawData,BI$4,FALSE)","VLOOKUP($B92,RawData,BJ$4,FALSE)","VLOOKUP($B92,RawData,BK$4,FALSE)","VLOOKUP($B92,RawData,BL$4,FALSE)","VLOOKUP($B92,RawData,MATCH(\"BOILER\",RawDataHeadings,0),FALSE)","SUM(VLOOKUP($B92,RawData,MATCH(\"HEATPUMP\",RawDataHeadings,0),FALSE),VLOOKUP($B92,RawData,MATCH(\"CHEMHEAT\",RawDataHeadings,0),FALSE))",0]
[{"$f":"HLOOKUP(LangChoice,Definitions_FlowLang!$C$2:$E$112,MATCH($B93,Definitions_FlowLang!$B$2:$B$112,0),FALSE)","v":"Heat output-main activity producer CHP plants"},"HEMAINC",null,null,0,0,0,0,0,0,0,0,0,0,0,0,0,0,0,0,0,0,0,0,0,0,0,0,0,0,0,0,0,0,0,0,0,0,0,0,0,0,0,0,0,0,0,0,0,0,0,0,0,0,0,0,0,0,0,0,0,0,0,0,0,0,{"$f":"VLOOKUP($B93,RawData,BO$4,FALSE)","v":0},0,null,null,null,null,null,null,null,null,null,null,"HEMAINC","VLOOKUP($B93,RawData,E$4,FALSE)","VLOOKUP($B93,RawData,F$4,FALSE)","VLOOKUP($B93,RawData,G$4,FALSE)","VLOOKUP($B93,RawData,H$4,FALSE)","VLOOKUP($B93,RawData,I$4,FALSE)","VLOOKUP($B93,RawData,J$4,FALSE)","VLOOKUP($B93,RawData,K$4,FALSE)","VLOOKUP($B93,RawData,L$4,FALSE)","VLOOKUP($B93,RawData,M$4,FALSE)","VLOOKUP($B93,RawData,N$4,FALSE)","VLOOKUP($B93,RawData,O$4,FALSE)","VLOOKUP($B93,RawData,P$4,FALSE)","VLOOKUP($B93,RawData,Q$4,FALSE)","VLOOKUP($B93,RawData,R$4,FALSE)","VLOOKUP($B93,RawData,S$4,FALSE)","VLOOKUP($B93,RawData,T$4,FALSE)","VLOOKUP($B93,RawData,U$4,FALSE)","VLOOKUP($B93,RawData,V$4,FALSE)","VLOOKUP($B93,RawData,W$4,FALSE)","VLOOKUP($B93,RawData,X$4,FALSE)","VLOOKUP($B93,RawData,Y$4,FALSE)","VLOOKUP($B93,RawData,Z$4,FALSE)","VLOOKUP($B93,RawData,AA$4,FALSE)","VLOOKUP($B93,RawData,AB$4,FALSE)","VLOOKUP($B93,RawData,AC$4,FALSE)","VLOOKUP($B93,RawData,AD$4,FALSE)","VLOOKUP($B93,RawData,AE$4,FALSE)","VLOOKUP($B93,RawData,AF$4,FALSE)","VLOOKUP($B93,RawData,AG$4,FALSE)","VLOOKUP($B93,RawData,AH$4,FALSE)","VLOOKUP($B93,RawData,AI$4,FALSE)","VLOOKUP($B93,RawData,AJ$4,FALSE)","VLOOKUP($B93,RawData,AK$4,FALSE)","VLOOKUP($B93,RawData,AL$4,FALSE)","VLOOKUP($B93,RawData,AM$4,FALSE)","VLOOKUP($B93,RawData,AN$4,FALSE)","VLOOKUP($B93,RawData,AO$4,FALSE)","VLOOKUP($B93,RawData,AP$4,FALSE)","VLOOKUP($B93,RawData,AQ$4,FALSE)","VLOOKUP($B93,RawData,AR$4,FALSE)","VLOOKUP($B93,RawData,AS$4,FALSE)","VLOOKUP($B93,RawData,AT$4,FALSE)","VLOOKUP($B93,RawData,AU$4,FALSE)","VLOOKUP($B93,RawData,AV$4,FALSE)","VLOOKUP($B93,RawData,AW$4,FALSE)","VLOOKUP($B93,RawData,AX$4,FALSE)","VLOOKUP($B93,RawData,AY$4,FALSE)","VLOOKUP($B93,RawData,AZ$4,FALSE)","VLOOKUP($B93,RawData,BA$4,FALSE)","VLOOKUP($B93,RawData,BB$4,FALSE)","VLOOKUP($B93,RawData,BC$4,FALSE)","VLOOKUP($B93,RawData,BD$4,FALSE)","VLOOKUP($B93,RawData,BE$4,FALSE)","VLOOKUP($B93,RawData,BF$4,FALSE)","VLOOKUP($B93,RawData,BG$4,FALSE)","VLOOKUP($B93,RawData,BH$4,FALSE)","VLOOKUP($B93,RawData,BI$4,FALSE)","VLOOKUP($B93,RawData,BJ$4,FALSE)","VLOOKUP($B93,RawData,BK$4,FALSE)","VLOOKUP($B93,RawData,BL$4,FALSE)","VLOOKUP($B93,RawData,MATCH(\"BOILER\",RawDataHeadings,0),FALSE)","SUM(VLOOKUP($B93,RawData,MATCH(\"HEATPUMP\",RawDataHeadings,0),FALSE),VLOOKUP($B93,RawData,MATCH(\"CHEMHEAT\",RawDataHeadings,0),FALSE))","VLOOKUP($B93,RawData,BO$4,FALSE)"]
[{"$f":"HLOOKUP(LangChoice,Definitions_FlowLang!$C$2:$E$112,MATCH($B94,Definitions_FlowLang!$B$2:$B$112,0),FALSE)","v":"Heat output-autoproducer CHP plants"},"HEAUTOC",null,null,0,0,0,0,0,0,0,0,0,0,0,0,0,0,0,0,0,0,0,0,0,0,0,0,0,0,0,0,0,0,0,0,0,0,0,0,0,0,0,0,0,0,0,0,0,0,0,0,0,0,0,0,0,0,0,0,0,0,0,0,0,0,{"$f":"VLOOKUP($B94,RawData,BO$4,FALSE)","v":0},0,null,null,null,null,null,null,null,null,null,null,"HEAUTOC","VLOOKUP($B94,RawData,E$4,FALSE)","VLOOKUP($B94,RawData,F$4,FALSE)","VLOOKUP($B94,RawData,G$4,FALSE)","VLOOKUP($B94,RawData,H$4,FALSE)","VLOOKUP($B94,RawData,I$4,FALSE)","VLOOKUP($B94,RawData,J$4,FALSE)","VLOOKUP($B94,RawData,K$4,FALSE)","VLOOKUP($B94,RawData,L$4,FALSE)","VLOOKUP($B94,RawData,M$4,FALSE)","VLOOKUP($B94,RawData,N$4,FALSE)","VLOOKUP($B94,RawData,O$4,FALSE)","VLOOKUP($B94,RawData,P$4,FALSE)","VLOOKUP($B94,RawData,Q$4,FALSE)","VLOOKUP($B94,RawData,R$4,FALSE)","VLOOKUP($B94,RawData,S$4,FALSE)","VLOOKUP($B94,RawData,T$4,FALSE)","VLOOKUP($B94,RawData,U$4,FALSE)","VLOOKUP($B94,RawData,V$4,FALSE)","VLOOKUP($B94,RawData,W$4,FALSE)","VLOOKUP($B94,RawData,X$4,FALSE)","VLOOKUP($B94,RawData,Y$4,FALSE)","VLOOKUP($B94,RawData,Z$4,FALSE)","VLOOKUP($B94,RawData,AA$4,FALSE)","VLOOKUP($B94,RawData,AB$4,FALSE)","VLOOKUP($B94,RawData,AC$4,FALSE)","VLOOKUP($B94,RawData,AD$4,FALSE)","VLOOKUP($B94,RawData,AE$4,FALSE)","VLOOKUP($B94,RawData,AF$4,FALSE)","VLOOKUP($B94,RawData,AG$4,FALSE)","VLOOKUP($B94,RawData,AH$4,FALSE)","VLOOKUP($B94,RawData,AI$4,FALSE)","VLOOKUP($B94,RawData,AJ$4,FALSE)","VLOOKUP($B94,RawData,AK$4,FALSE)","VLOOKUP($B94,RawData,AL$4,FALSE)","VLOOKUP($B94,RawData,AM$4,FALSE)","VLOOKUP($B94,RawData,AN$4,FALSE)","VLOOKUP($B94,RawData,AO$4,FALSE)","VLOOKUP($B94,RawData,AP$4,FALSE)","VLOOKUP($B94,RawData,AQ$4,FALSE)","VLOOKUP($B94,RawData,AR$4,FALSE)","VLOOKUP($B94,RawData,AS$4,FALSE)","VLOOKUP($B94,RawData,AT$4,FALSE)","VLOOKUP($B94,RawData,AU$4,FALSE)","VLOOKUP($B94,RawData,AV$4,FALSE)","VLOOKUP($B94,RawData,AW$4,FALSE)","VLOOKUP($B94,RawData,AX$4,FALSE)","VLOOKUP($B94,RawData,AY$4,FALSE)","VLOOKUP($B94,RawData,AZ$4,FALSE)","VLOOKUP($B94,RawData,BA$4,FALSE)","VLOOKUP($B94,RawData,BB$4,FALSE)","VLOOKUP($B94,RawData,BC$4,FALSE)","VLOOKUP($B94,RawData,BD$4,FALSE)","VLOOKUP($B94,RawData,BE$4,FALSE)","VLOOKUP($B94,RawData,BF$4,FALSE)","VLOOKUP($B94,RawData,BG$4,FALSE)","VLOOKUP($B94,RawData,BH$4,FALSE)","VLOOKUP($B94,RawData,BI$4,FALSE)","VLOOKUP($B94,RawData,BJ$4,FALSE)","VLOOKUP($B94,RawData,BK$4,FALSE)","VLOOKUP($B94,RawData,BL$4,FALSE)","VLOOKUP($B94,RawData,MATCH(\"BOILER\",RawDataHeadings,0),FALSE)","SUM(VLOOKUP($B94,RawData,MATCH(\"HEATPUMP\",RawDataHeadings,0),FALSE),VLOOKUP($B94,RawData,MATCH(\"CHEMHEAT\",RawDataHeadings,0),FALSE))","VLOOKUP($B94,RawData,BO$4,FALSE)"]
[{"$f":"HLOOKUP(LangChoice,Definitions_FlowLang!$C$2:$E$112,MATCH($B95,Definitions_FlowLang!$B$2:$B$112,0),FALSE)","v":"Heat output-main activity producer heat plant"},"HEMAINH",null,null,0,0,0,0,0,0,0,0,0,0,0,0,0,0,0,0,0,0,0,0,0,0,0,0,0,0,0,0,0,0,0,0,0,0,0,0,0,0,0,0,0,0,0,0,0,0,0,0,0,0,0,0,0,0,0,0,0,0,0,0,0,0,{"$f":"VLOOKUP($B95,RawData,BO$4,FALSE)","v":0},0,null,null,null,null,null,null,null,null,null,null,"HEMAINH","VLOOKUP($B95,RawData,E$4,FALSE)","VLOOKUP($B95,RawData,F$4,FALSE)","VLOOKUP($B95,RawData,G$4,FALSE)","VLOOKUP($B95,RawData,H$4,FALSE)","VLOOKUP($B95,RawData,I$4,FALSE)","VLOOKUP($B95,RawData,J$4,FALSE)","VLOOKUP($B95,RawData,K$4,FALSE)","VLOOKUP($B95,RawData,L$4,FALSE)","VLOOKUP($B95,RawData,M$4,FALSE)","VLOOKUP($B95,RawData,N$4,FALSE)","VLOOKUP($B95,RawData,O$4,FALSE)","VLOOKUP($B95,RawData,P$4,FALSE)","VLOOKUP($B95,RawData,Q$4,FALSE)","VLOOKUP($B95,RawData,R$4,FALSE)","VLOOKUP($B95,RawData,S$4,FALSE)","VLOOKUP($B95,RawData,T$4,FALSE)","VLOOKUP($B95,RawData,U$4,FALSE)","VLOOKUP($B95,RawData,V$4,FALSE)","VLOOKUP($B95,RawData,W$4,FALSE)","VLOOKUP($B95,RawData,X$4,FALSE)","VLOOKUP($B95,RawData,Y$4,FALSE)","VLOOKUP($B95,RawData,Z$4,FALSE)","VLOOKUP($B95,RawData,AA$4,FALSE)","VLOOKUP($B95,RawData,AB$4,FALSE)","VLOOKUP($B95,RawData,AC$4,FALSE)","VLOOKUP($B95,RawData,AD$4,FALSE)","VLOOKUP($B95,RawData,AE$4,FALSE)","VLOOKUP($B95,RawData,AF$4,FALSE)","VLOOKUP($B95,RawData,AG$4,FALSE)","VLOOKUP($B95,RawData,AH$4,FALSE)","VLOOKUP($B95,RawData,AI$4,FALSE)","VLOOKUP($B95,RawData,AJ$4,FALSE)","VLOOKUP($B95,RawData,AK$4,FALSE)","VLOOKUP($B95,RawData,AL$4,FALSE)","VLOOKUP($B95,RawData,AM$4,FALSE)","VLOOKUP($B95,RawData,AN$4,FALSE)","VLOOKUP($B95,RawData,AO$4,FALSE)","VLOOKUP($B95,RawData,AP$4,FALSE)","VLOOKUP($B95,RawData,AQ$4,FALSE)","VLOOKUP($B95,RawData,AR$4,FALSE)","VLOOKUP($B95,RawData,AS$4,FALSE)","VLOOKUP($B95,RawData,AT$4,FALSE)","VLOOKUP($B95,RawData,AU$4,FALSE)","VLOOKUP($B95,RawData,AV$4,FALSE)","VLOOKUP($B95,RawData,AW$4,FALSE)","VLOOKUP($B95,RawData,AX$4,FALSE)","VLOOKUP($B95,RawData,AY$4,FALSE)","VLOOKUP($B95,RawData,AZ$4,FALSE)","VLOOKUP($B95,RawData,BA$4,FALSE)","VLOOKUP($B95,RawData,BB$4,FALSE)","VLOOKUP($B95,RawData,BC$4,FALSE)","VLOOKUP($B95,RawData,BD$4,FALSE)","VLOOKUP($B95,RawData,BE$4,FALSE)","VLOOKUP($B95,RawData,BF$4,FALSE)","VLOOKUP($B95,RawData,BG$4,FALSE)","VLOOKUP($B95,RawData,BH$4,FALSE)","VLOOKUP($B95,RawData,BI$4,FALSE)","VLOOKUP($B95,RawData,BJ$4,FALSE)","VLOOKUP($B95,RawData,BK$4,FALSE)","VLOOKUP($B95,RawData,BL$4,FALSE)","VLOOKUP($B95,RawData,MATCH(\"BOILER\",RawDataHeadings,0),FALSE)","SUM(VLOOKUP($B95,RawData,MATCH(\"HEATPUMP\",RawDataHeadings,0),FALSE),VLOOKUP($B95,RawData,MATCH(\"CHEMHEAT\",RawDataHeadings,0),FALSE))","VLOOKUP($B95,RawData,BO$4,FALSE)"]
[{"$f":"HLOOKUP(LangChoice,Definitions_FlowLang!$C$2:$E$112,MATCH($B96,Definitions_FlowLang!$B$2:$B$112,0),FALSE)","v":"Heat output-autoproducer heat plants"},"HEAUTOH",null,null,0,0,0,0,0,0,0,0,0,0,0,0,0,0,0,0,0,0,0,0,0,0,0,0,0,0,0,0,0,0,0,0,0,0,0,0,0,0,0,0,0,0,0,0,0,0,0,0,0,0,0,0,0,0,0,0,0,0,0,0,0,0,{"$f":"VLOOKUP($B96,RawData,BO$4,FALSE)","v":0},0,null,null,null,null,null,null,null,null,null,null,"HEAUTOH","VLOOKUP($B96,RawData,E$4,FALSE)","VLOOKUP($B96,RawData,F$4,FALSE)","VLOOKUP($B96,RawData,G$4,FALSE)","VLOOKUP($B96,RawData,H$4,FALSE)","VLOOKUP($B96,RawData,I$4,FALSE)","VLOOKUP($B96,RawData,J$4,FALSE)","VLOOKUP($B96,RawData,K$4,FALSE)","VLOOKUP($B96,RawData,L$4,FALSE)","VLOOKUP($B96,RawData,M$4,FALSE)","VLOOKUP($B96,RawData,N$4,FALSE)","VLOOKUP($B96,RawData,O$4,FALSE)","VLOOKUP($B96,RawData,P$4,FALSE)","VLOOKUP($B96,RawData,Q$4,FALSE)","VLOOKUP($B96,RawData,R$4,FALSE)","VLOOKUP($B96,RawData,S$4,FALSE)","VLOOKUP($B96,RawData,T$4,FALSE)","VLOOKUP($B96,RawData,U$4,FALSE)","VLOOKUP($B96,RawData,V$4,FALSE)","VLOOKUP($B96,RawData,W$4,FALSE)","VLOOKUP($B96,RawData,X$4,FALSE)","VLOOKUP($B96,RawData,Y$4,FALSE)","VLOOKUP($B96,RawData,Z$4,FALSE)","VLOOKUP($B96,RawData,AA$4,FALSE)","VLOOKUP($B96,RawData,AB$4,FALSE)","VLOOKUP($B96,RawData,AC$4,FALSE)","VLOOKUP($B96,RawData,AD$4,FALSE)","VLOOKUP($B96,RawData,AE$4,FALSE)","VLOOKUP($B96,RawData,AF$4,FALSE)","VLOOKUP($B96,RawData,AG$4,FALSE)","VLOOKUP($B96,RawData,AH$4,FALSE)","VLOOKUP($B96,RawData,AI$4,FALSE)","VLOOKUP($B96,RawData,AJ$4,FALSE)","VLOOKUP($B96,RawData,AK$4,FALSE)","VLOOKUP($B96,RawData,AL$4,FALSE)","VLOOKUP($B96,RawData,AM$4,FALSE)","VLOOKUP($B96,RawData,AN$4,FALSE)","VLOOKUP($B96,RawData,AO$4,FALSE)","VLOOKUP($B96,RawData,AP$4,FALSE)","VLOOKUP($B96,RawData,AQ$4,FALSE)","VLOOKUP($B96,RawData,AR$4,FALSE)","VLOOKUP($B96,RawData,AS$4,FALSE)","VLOOKUP($B96,RawData,AT$4,FALSE)","VLOOKUP($B96,RawData,AU$4,FALSE)","VLOOKUP($B96,RawData,AV$4,FALSE)","VLOOKUP($B96,RawData,AW$4,FALSE)","VLOOKUP($B96,RawData,AX$4,FALSE)","VLOOKUP($B96,RawData,AY$4,FALSE)","VLOOKUP($B96,RawData,AZ$4,FALSE)","VLOOKUP($B96,RawData,BA$4,FALSE)","VLOOKUP($B96,RawData,BB$4,FALSE)","VLOOKUP($B96,RawData,BC$4,FALSE)","VLOOKUP($B96,RawData,BD$4,FALSE)","VLOOKUP($B96,RawData,BE$4,FALSE)","VLOOKUP($B96,RawData,BF$4,FALSE)","VLOOKUP($B96,RawData,BG$4,FALSE)","VLOOKUP($B96,RawData,BH$4,FALSE)","VLOOKUP($B96,RawData,BI$4,FALSE)","VLOOKUP($B96,RawData,BJ$4,FALSE)","VLOOKUP($B96,RawData,BK$4,FALSE)","VLOOKUP($B96,RawData,BL$4,FALSE)","VLOOKUP($B96,RawData,MATCH(\"BOILER\",RawDataHeadings,0),FALSE)","SUM(VLOOKUP($B96,RawData,MATCH(\"HEATPUMP\",RawDataHeadings,0),FALSE),VLOOKUP($B96,RawData,MATCH(\"CHEMHEAT\",RawDataHeadings,0),FALSE))","VLOOKUP($B96,RawData,BO$4,FALSE)"]
[{"$f":"HEATOUT","v":"Heat output in TJ"},"HEATOUT",null,null,{"$f":"SUM(E93:E96)","v":0},0,0,0,0,0,0,0,0,0,0,0,0,0,0,0,0,0,0,0,0,0,0,0,0,0,0,0,0,0,0,0,{"$f":"SUM(AK93:AK96)","v":0},0,0,0,0,0,0,0,0,0,0,0,0,0,0,0,0,0,0,0,0,0,0,0,0,0,0,0,0,0,0,0,null,null,null,null,null,null,null,null,null,null,"HEATOUT","SUM(E93:E96)","SUM(F93:F96)","SUM(G93:G96)","SUM(H93:H96)","SUM(I93:I96)","SUM(J93:J96)","SUM(K93:K96)","SUM(L93:L96)","SUM(M93:M96)","SUM(N93:N96)","SUM(O93:O96)","SUM(P93:P96)","SUM(Q93:Q96)","SUM(R93:R96)","SUM(S93:S96)","SUM(T93:T96)","SUM(U93:U96)","SUM(V93:V96)","SUM(W93:W96)","SUM(X93:X96)","SUM(Y93:Y96)","SUM(Z93:Z96)","SUM(AA93:AA96)","SUM(AB93:AB96)","SUM(AC93:AC96)","SUM(AD93:AD96)","SUM(AE93:AE96)","SUM(AF93:AF96)","SUM(AG93:AG96)","SUM(AH93:AH96)","SUM(AI93:AI96)","SUM(AJ93:AJ96)","SUM(AK93:AK96)","SUM(AL93:AL96)","SUM(AM93:AM96)","SUM(AN93:AN96)","SUM(AO93:AO96)","SUM(AP93:AP96)","SUM(AQ93:AQ96)","SUM(AR93:AR96)","SUM(AS93:AS96)","SUM(AT93:AT96)","SUM(AU93:AU96)","SUM(AV93:AV96)","SUM(AW93:AW96)","SUM(AX93:AX96)","SUM(AY93:AY96)","SUM(AZ93:AZ96)","SUM(BA93:BA96)","SUM(BB93:BB96)","SUM(BC93:BC96)","SUM(BD93:BD96)","SUM(BE93:BE96)","SUM(BF93:BF96)","SUM(BG93:BG96)","SUM(BH93:BH96)","SUM(BI93:BI96)","SUM(BJ93:BJ96)","SUM(BK93:BK96)","SUM(BL93:BL96)","SUM(BM93:BM96)","SUM(BN93:BN96)","SUM(BO93:BO96)"]
[{"$f":"HLOOKUP(LangChoice,Definitions_FlowLang!$C$2:$E$112,MATCH($B98,Definitions_FlowLang!$B$2:$B$112,0),FALSE)","v":"Memo: gas vented"},"VENTED",null,null,null,null,null,null,null,null,null,null,null,null,null,null,null,null,null,null,null,null,null,null,null,null,null,null,null,null,null,null,null,null,null,null,null,null,null,null,null,null,null,null,{"$f":"VLOOKUP($B98,RawData,AS$4,FALSE)*VLOOKUP(AS$3,ConversionFactors,2,FALSE)*1","v":0},null,null,null,null,null,null,null,null,null,null,null,null,null,null,null,null,null,null,null,null,null,null,null,null,null,null,null,null,null,null,null,null,null,"VENTED"]
[{"$f":"HLOOKUP(LangChoice,Definitions_FlowLang!$C$2:$E$112,MATCH($B99,Definitions_FlowLang!$B$2:$B$112,0),FALSE)","v":"Memo: gas flared"},"FLARED",null,null,null,null,null,null,null,null,null,null,null,null,null,null,null,null,null,null,null,null,null,null,null,null,null,null,null,null,null,null,null,null,null,null,null,null,null,null,null,null,null,null,{"$f":"VLOOKUP($B99,RawData,AS$4,FALSE)*VLOOKUP(AS$3,ConversionFactors,2,FALSE)*1","v":0},null,null,null,null,null,null,null,null,null,null,null,null,null,null,null,null,null,null,null,null,null,null,null,null,null,null,null,null,null,null,null,null,null,"FLARED"]
[{"$f":"HLOOKUP(LangChoice,Definitions_ProdLang!$M$2:$P$30,6)","v":"Efficiencies"}]
[{"$f":"A15","v":"Main activity electricity plants"},null,null,null,{"$f":"IF(E15<>0,ABS((E89*3.6)/E15),\"-\")","v":"-"},"-","-","-","-","-","-","-","-","-","-","-","-","-","-","-",null,null,{"$f":"IF(W15<>0,ABS((W89*3.6)/W15),\"-\")","v":"-"},"-","-","-","-","-","-","-","-","-","-","-","-",0.31668351870576339,"-","-","-","-","-","-","-","-","-","-","-","-","-","-","-",null,{"$f":"IF(BA15<>0,ABS((BA89*3.6)/BA15),\"-\")","v":"-"},"-","-","-","-",1,"-",1,"-","-",1,"-"]
["Autoproducer electricity plants",null,null,null,{"$f":"IF(E16<>0,ABS((E90*3.6)/E16),\"-\")","v":"-"},"-","-","-","-","-","-","-","-","-","-","-","-","-","-","-",null,null,{"$f":"IF(W16<>0,ABS((W90*3.6)/W16),\"-\")","v":"-"},"-","-","-","-","-","-","-","-","-","-","-","-",0.24069767441860465,"-","-","-","-","-","-","-","-","-","-","-","-","-","-","-",null,{"$f":"IF(BA16<>0,ABS((BA90*3.6)/BA16),\"-\")","v":"-"},"-","-","-","-","-","-","-","-","-","-","-"]
["Main activity producer CHP plants",null,null,null,{"$f":"IF(E17<>0,ABS(((E93*1)+(E91*3.6))/E17),\"-\")","v":"-"},"-","-","-","-","-","-","-","-","-","-","-","-","-","-","-",null,null,{"$f":"IF(W17<>0,ABS(((W93*1)+(W91*3.6))/W17),\"-\")","v":"-"},"-","-","-","-","-","-","-","-","-","-","-","-","-","-","-","-","-","-","-","-","-","-","-","-","-","-","-","-",null,{"$f":"IF(BA17<>0,ABS(((BA93*1)+(BA91*3.6))/BA17),\"-\")","v":"-"},"-","-","-","-","-","-","-","-","-","-","-"]
["Autoproducer CHP plants",null,null,null,{"$f":"IF(E18<>0,ABS(((E94*1)+(E92*3.6))/E18),\"-\")","v":"-"},"-","-","-","-","-","-","-","-","-","-","-","-","-","-","-",null,null,{"$f":"IF(W18<>0,ABS(((W94*1)+(W92*3.6))/W18),\"-\")","v":"-"},"-","-","-","-","-","-","-","-","-","-","-","-","-","-","-","-","-","-","-","-","-","-","-","-","-","-","-","-",null,{"$f":"IF(BA18<>0,ABS(((BA94*1)+(BA92*3.6))/BA18),\"-\")","v":"-"},"-","-","-","-","-","-","-","-","-","-","-"]
["Main activity producer heat plants",null,null,null,{"$f":"IF(E19<>0,ABS((E95*1)/E19),\"-\")","v":"-"},"-","-","-","-","-","-","-","-","-","-","-","-","-","-","-",null,null,{"$f":"IF(W19<>0,ABS((W95*1)/W19),\"-\")","v":"-"},"-","-","-","-","-","-","-","-","-","-","-","-","-","-","-","-","-","-","-","-","-","-","-","-","-","-","-","-",null,{"$f":"IF(BA19<>0,ABS((BA95*1)/BA19),\"-\")","v":"-"},"-","-","-","-","-","-","-","-","-","-","-"]
["Autoproducer heat plants",null,null,null,{"$f":"IF(E20<>0,ABS((E96*1)/E20),\"-\")","v":"-"},"-","-","-","-","-","-","-","-","-","-","-","-","-","-","-",null,null,{"$f":"IF(W20<>0,ABS((W96*1)/W20),\"-\")","v":"-"},"-","-","-","-","-","-","-","-","-","-","-","-","-","-","-","-","-","-","-","-","-","-","-","-","-","-","-","-",null,{"$f":"IF(BA20<>0,ABS((BA96*1)/BA20),\"-\")","v":"-"},"-","-","-","-","-","-","-","-","-","-","-"]

{"sheet":"Aggregated Balance","index":10,"n_rows":77,"n_cols":16,"rows_kept":77,"cut":false,"hidden":false,"merged":[]}
[{"$f":"HLOOKUP(LangChoice,Definitions_ProdLang!$M$2:$P$30,7)","v":"Aggregated balance"}]
[{"$f":"CountryName &\", \"&DataYear &\" (TJ)\"","v":"Statisland, 2023 (TJ)"},{"$f":"'Published Balance'!B6","v":"Coal"},{"$f":"PEAT","v":"Peat"},{"$f":"OILSHALE","v":"Oil shale and oil sands"},{"$f":"CRUDEOIL","v":"Crude oil"},{"$f":"HLOOKUP(LangChoice,Definitions_ProdLang!$C$2:$E$75,Definitions_ProdLang!$A29+1,FALSE)","v":"Oil products"},{"$f":"NATGAS","v":"Natural gas"},{"$f":"NUCLEAR","v":"Nuclear"},{"$f":"HYDRO","v":"Hydro"},{"$f":"GEOTHERM","v":"Geothermal"},{"$f":"HLOOKUP(LangChoice,Definitions_ProdLang!$M$2:$P$30,9)","v":"Solar, Wind, Others"},{"$f":"'Data in physical units'!AR2","v":"Biofuels and waste"},{"$f":"ELECTR","v":"Electricity"},{"$f":"HEAT","v":"Heat"},{"$f":"HEATNS","v":"Heat output from non-specified combustible fuels"},{"$f":"HLOOKUP(LangChoice,Definitions_ProdLang!$M$2:$P$30,8)","v":"Total"}]
[{"$f":"INDPROD","v":"Production"},{"$f":"SUM('Disaggregated Balance'!E5:R5)","v":0},{"$f":"SUM('Disaggregated Balance'!T5:U5)","v":0},{"$f":"'Disaggregated Balance'!V5","v":0},{"$f":"SUM('Disaggregated Balance'!W5:AA5)","v":46.53},{"$f":"SUM('Disaggregated Balance'!AB5:AR5)","v":0},{"$f":"'Disaggregated Balance'!AS5","v":0},{"$f":"'Disaggregated Balance'!BE5","v":0},{"$f":"'Disaggregated Balance'!BF5","v":2160},{"$f":"'Disaggregated Balance'!BG5","v":0},{"$f":"SUM('Disaggregated Balance'!BH5:BL5)","v":176.4},{"$f":"SUM('Disaggregated Balance'!AT5:BD5)","v":117.7},{"$f":"'Disaggregated Balance'!BM5","v":0},{"$f":"'Disaggregated Balance'!BN5","v":0},{"$f":"'Disaggregated Balance'!BO5","v":0},{"$f":"SUM(B3:O3)","v":2500.63}]
[{"$f":"IMPORTS","v":"Imports"},{"$f":"SUM('Disaggregated Balance'!E6:R6)","v":0},{"$f":"SUM('Disaggregated Balance'!T6:U6)","v":0},{"$f":"'Disaggregated Balance'!V6","v":0},{"$f":"SUM('Disaggregated Balance'!W6:AA6)","v":0},{"$f":"SUM('Disaggregated Balance'!AB6:AR6)","v":124700},{"$f":"'Disaggregated Balance'!AS6","v":0},{"$f":"'Disaggregated Balance'!BE6","v":0},{"$f":"'Disaggregated Balance'!BF6","v":0},{"$f":"'Disaggregated Balance'!BG6","v":0},{"$f":"SUM('Disaggregated Balance'!BH6:BL6)","v":0},{"$f":"SUM('Disaggregated Balance'!AT6:BD6)","v":0},{"$f":"'Disaggregated Balance'!BM6","v":162},{"$f":"'Disaggregated Balance'!BN6","v":0},{"$f":"'Disaggregated Balance'!BO6","v":0},124862]
[{"$f":"EXPORTS","v":"Exports"},{"$f":"SUM('Disaggregated Balance'!E7:R7)","v":0},{"$f":"SUM('Disaggregated Balance'!T7:U7)","v":0},{"$f":"'Disaggregated Balance'!V7","v":0},{"$f":"SUM('Disaggregated Balance'!W7:AA7)","v":29610},{"$f":"SUM('Disaggregated Balance'!AB7:AR7)","v":0},{"$f":"'Disaggregated Balance'!AS7","v":0},{"$f":"'Disaggregated Balance'!BE7","v":0},{"$f":"'Disaggregated Balance'!BF7","v":0},{"$f":"'Disaggregated Balance'!BG7","v":0},{"$f":"SUM('Disaggregated Balance'!BH7:BL7)","v":0},{"$f":"SUM('Disaggregated Balance'!AT7:BD7)","v":0},{"$f":"'Disaggregated Balance'!BM7","v":-79.2},{"$f":"'Disaggregated Balance'!BN7","v":0},{"$f":"'Disaggregated Balance'!BO7","v":0},29530.799999999999]
[{"$f":"MARBUNK","v":"International marine bunkers"},{"$f":"SUM('Disaggregated Balance'!E8:R8)","v":0},{"$f":"SUM('Disaggregated Balance'!T8:U8)","v":0},{"$f":"'Disaggregated Balance'!V8","v":0},{"$f":"SUM('Disaggregated Balance'!W8:AA8)","v":0},{"$f":"SUM('Disaggregated Balance'!AB8:AR8)","v":-1720},{"$f":"'Disaggregated Balance'!AS8","v":0},{"$f":"'Disaggregated Balance'!BE8","v":0},{"$f":"'Disaggregated Balance'!BF8","v":0},{"$f":"'Disaggregated Balance'!BG8","v":0},{"$f":"SUM('Disaggregated Balance'!BH8:BL8)","v":0},{"$f":"SUM('Disaggregated Balance'!AT8:BD8)","v":0},{"$f":"'Disaggregated Balance'!BM8","v":0},{"$f":"'Disaggregated Balance'!BN8","v":0},{"$f":"'Disaggregated Balance'!BO8","v":0},-1720]
[{"$f":"AVBUNK","v":"International aviation bunkers"},{"$f":"SUM('Disaggregated Balance'!E9:R9)","v":0},{"$f":"SUM('Disaggregated Balance'!T9:U9)","v":0},{"$f":"'Disaggregated Balance'!V9","v":0},{"$f":"SUM('Disaggregated Balance'!W9:AA9)","v":0},{"$f":"SUM('Disaggregated Balance'!AB9:AR9)","v":0},{"$f":"'Disaggregated Balance'!AS9","v":0},{"$f":"'Disaggregated Balance'!BE9","v":0},{"$f":"'Disaggregated Balance'!BF9","v":0},{"$f":"'Disaggregated Balance'!BG9","v":0},{"$f":"SUM('Disaggregated Balance'!BH9:BL9)","v":0},{"$f":"SUM('Disaggregated Balance'!AT9:BD9)","v":0},{"$f":"'Disaggregated Balance'!BM9","v":0},{"$f":"'Disaggregated Balance'!BN9","v":0},{"$f":"'Disaggregated Balance'!BO9","v":0},0]
[{"$f":"STOCKCHA","v":"Stock changes"},{"$f":"SUM('Disaggregated Balance'!E10:R10)","v":0},{"$f":"SUM('Disaggregated Balance'!T10:U10)","v":0},{"$f":"'Disaggregated Balance'!V10","v":0},{"$f":"SUM('Disaggregated Balance'!W10:AA10)","v":4800},{"$f":"SUM('Disaggregated Balance'!AB10:AR10)","v":-645},{"$f":"'Disaggregated Balance'!AS10","v":0},{"$f":"'Disaggregated Balance'!BE10","v":0},{"$f":"'Disaggregated Balance'!BF10","v":0},{"$f":"'Disaggregated Balance'!BG10","v":0},{"$f":"SUM('Disaggregated Balance'!BH10:BL10)","v":0},{"$f":"SUM('Disaggregated Balance'!AT10:BD10)","v":0},{"$f":"'Disaggregated Balance'!BM10","v":0},{"$f":"'Disaggregated Balance'!BN10","v":0},{"$f":"'Disaggregated Balance'!BO10","v":0},4155]
[{"$f":"TPES","v":"Total energy supply (TES)"},{"$f":"SUM(B3:B8)","v":0},{"$f":"SUM(C3:C8)","v":0},0,34456.53,122335,{"$f":"SUM(G3:G8)","v":0},0,{"$f":"SUM(I3:I8)","v":2160},{"$f":"SUM(J3:J8)","v":0},176.4,{"$f":"SUM(L3:L8)","v":117.7},{"$f":"SUM(M3:M8)","v":82.8},{"$f":"SUM(N3:N8)","v":0},{"$f":"SUM(O3:O8)","v":0},{"$f":"SUM(P3:P8)","v":159328.43}]
[{"$f":"TRANSFER","v":"Transfers"},{"$f":"SUM('Disaggregated Balance'!E12:R12)","v":0},{"$f":"SUM('Disaggregated Balance'!T12:U12)","v":0},{"$f":"'Disaggregated Balance'!V12","v":0},{"$f":"SUM('Disaggregated Balance'!W12:AA12)","v":0},{"$f":"SUM('Disaggregated Balance'!AB12:AR12)","v":0},{"$f":"'Disaggregated Balance'!AS12","v":0},{"$f":"'Disaggregated Balance'!BE12","v":0},{"$f":"'Disaggregated Balance'!BF12","v":0},{"$f":"'Disaggregated Balance'!BG12","v":0},{"$f":"SUM('Disaggregated Balance'!BH12:BL12)","v":0},{"$f":"SUM('Disaggregated Balance'!AT12:BD12)","v":0},{"$f":"'Disaggregated Balance'!BM12","v":0},{"$f":"'Disaggregated Balance'!BN12","v":0},{"$f":"'Disaggregated Balance'!BO12","v":0},{"$f":"SUM(B10:O10)","v":0}]
[{"$f":"STATDIFF","v":"Statistical differences"},{"$f":"B28-SUM(B9:B10,B12:B27)","v":0},{"$f":"C28-SUM(C9:C10,C12:C27)","v":0},{"$f":"D28-SUM(D9:D10,D12:D27)","v":0},-13856.529999999999,-4730,0,0,0,0,0,0,0,0,0,-18586.53]
[{"$f":"MAINELEC","v":"Main activity electricity plants"},{"$f":"SUM('Disaggregated Balance'!E15:R15)","v":0},{"$f":"SUM('Disaggregated Balance'!T15:U15)","v":0},{"$f":"'Disaggregated Balance'!V15","v":0},{"$f":"SUM('Disaggregated Balance'!W15:AA15)","v":0},{"$f":"SUM('Disaggregated Balance'!AB15:AR15)","v":-98900},{"$f":"'Disaggregated Balance'!AS15","v":0},{"$f":"'Disaggregated Balance'!BE15","v":0},{"$f":"'Disaggregated Balance'!BF15","v":-2160},{"$f":"'Disaggregated Balance'!BG15","v":0},{"$f":"SUM('Disaggregated Balance'!BH15:BL15)","v":-176.4},{"$f":"SUM('Disaggregated Balance'!AT15:BD15)","v":0},{"$f":"'Disaggregated Balance'!BM15","v":33656.400000000001},{"$f":"'Disaggregated Balance'!BN15","v":0},{"$f":"'Disaggregated Balance'!BO15","v":0},-67580]
[{"$f":"AUTOELEC","v":"Autoproducer electricity plants"},{"$f":"SUM('Disaggregated Balance'!E16:R16)","v":0},{"$f":"SUM('Disaggregated Balance'!T16:U16)","v":0},{"$f":"'Disaggregated Balance'!V16","v":0},{"$f":"SUM('Disaggregated Balance'!W16:AA16)","v":0},{"$f":"SUM('Disaggregated Balance'!AB16:AR16)","v":-17200},{"$f":"'Disaggregated Balance'!AS16","v":0},{"$f":"'Disaggregated Balance'!BE16","v":0},{"$f":"'Disaggregated Balance'!BF16","v":0},{"$f":"'Disaggregated Balance'!BG16","v":0},{"$f":"SUM('Disaggregated Balance'!BH16:BL16)","v":0},{"$f":"SUM('Disaggregated Balance'!AT16:BD16)","v":0},{"$f":"'Disaggregated Balance'!BM16","v":4140},{"$f":"'Disaggregated Balance'!BN16","v":0},{"$f":"'Disaggregated Balance'!BO16","v":0},-13060]
[{"$f":"MAINCHP","v":"Main activity producer CHP plants"},{"$f":"SUM('Disaggregated Balance'!E17:R17)","v":0},{"$f":"SUM('Disaggregated Balance'!T17:U17)","v":0},{"$f":"'Disaggregated Balance'!V17","v":0},{"$f":"SUM('Disaggregated Balance'!W17:AA17)","v":0},{"$f":"SUM('Disaggregated Balance'!AB17:AR17)","v":0},{"$f":"'Disaggregated Balance'!AS17","v":0},{"$f":"'Disaggregated Balance'!BE17","v":0},{"$f":"'Disaggregated Balance'!BF17","v":0},{"$f":"'Disaggregated Balance'!BG17","v":0},{"$f":"SUM('Disaggregated Balance'!BH17:BL17)","v":0},{"$f":"SUM('Disaggregated Balance'!AT17:BD17)","v":0},{"$f":"'Disaggregated Balance'!BM17","v":0},{"$f":"'Disaggregated Balance'!BN17","v":0},{"$f":"'Disaggregated Balance'!BO17","v":0},0]
[{"$f":"AUTOCHP","v":"Autoproducer CHP plants"},{"$f":"SUM('Disaggregated Balance'!E18:R18)","v":0},{"$f":"SUM('Disaggregated Balance'!T18:U18)","v":0},{"$f":"'Disaggregated Balance'!V18","v":0},{"$f":"SUM('Disaggregated Balance'!W18:AA18)","v":0},{"$f":"SUM('Disaggregated Balance'!AB18:AR18)","v":0},{"$f":"'Disaggregated Balance'!AS18","v":0},{"$f":"'Disaggregated Balance'!BE18","v":0},{"$f":"'Disaggregated Balance'!BF18","v":0},{"$f":"'Disaggregated Balance'!BG18","v":0},{"$f":"SUM('Disaggregated Balance'!BH18:BL18)","v":0},{"$f":"SUM('Disaggregated Balance'!AT18:BD18)","v":0},{"$f":"'Disaggregated Balance'!BM18","v":0},{"$f":"'Disaggregated Balance'!BN18","v":0},{"$f":"'Disaggregated Balance'!BO18","v":0},0]
[{"$f":"MAINHEAT","v":"Main activity producer heat plants"},{"$f":"SUM('Disaggregated Balance'!E19:R19)","v":0},{"$f":"SUM('Disaggregated Balance'!T19:U19)","v":0},{"$f":"'Disaggregated Balance'!V19","v":0},{"$f":"SUM('Disaggregated Balance'!W19:AA19)","v":0},{"$f":"SUM('Disaggregated Balance'!AB19:AR19)","v":0},{"$f":"'Disaggregated Balance'!AS19","v":0},{"$f":"'Disaggregated Balance'!BE19","v":0},{"$f":"'Disaggregated Balance'!BF19","v":0},{"$f":"'Disaggregated Balance'!BG19","v":0},{"$f":"SUM('Disaggregated Balance'!BH19:BL19)","v":0},{"$f":"SUM('Disaggregated Balance'!AT19:BD19)","v":0},{"$f":"'Disaggregated Balance'!BM19","v":0},{"$f":"'Disaggregated Balance'!BN19","v":0},{"$f":"'Disaggregated Balance'!BO19","v":0},0]
[{"$f":"AUTOHEAT","v":"Autoproducer heat plants"},{"$f":"SUM('Disaggregated Balance'!E20:R20)","v":0},{"$f":"SUM('Disaggregated Balance'!T20:U20)","v":0},{"$f":"'Disaggregated Balance'!V20","v":0},{"$f":"SUM('Disaggregated Balance'!W20:AA20)","v":0},{"$f":"SUM('Disaggregated Balance'!AB20:AR20)","v":0},{"$f":"'Disaggregated Balance'!AS20","v":0},{"$f":"'Disaggregated Balance'!BE20","v":0},{"$f":"'Disaggregated Balance'!BF20","v":0},{"$f":"'Disaggregated Balance'!BG20","v":0},{"$f":"SUM('Disaggregated Balance'!BH20:BL20)","v":0},{"$f":"SUM('Disaggregated Balance'!AT20:BD20)","v":0},{"$f":"'Disaggregated Balance'!BM20","v":0},{"$f":"'Disaggregated Balance'!BN20","v":0},{"$f":"'Disaggregated Balance'!BO20","v":0},0]
[{"$f":"HEATPUMP","v":"Heat pumps"},{"$f":"SUM('Disaggregated Balance'!E21:R21)","v":0},{"$f":"SUM('Disaggregated Balance'!T21:U21)","v":0},{"$f":"'Disaggregated Balance'!V21","v":0},{"$f":"SUM('Disaggregated Balance'!W21:AA21)","v":0},{"$f":"SUM('Disaggregated Balance'!AB21:AR21)","v":0},{"$f":"'Disaggregated Balance'!AS21","v":0},{"$f":"'Disaggregated Balance'!BE21","v":0},{"$f":"'Disaggregated Balance'!BF21","v":0},{"$f":"'Disaggregated Balance'!BG21","v":0},{"$f":"SUM('Disaggregated Balance'!BH21:BL21)","v":0},{"$f":"SUM('Disaggregated Balance'!AT21:BD21)","v":0},{"$f":"'Disaggregated Balance'!BM21","v":0},{"$f":"'Disaggregated Balance'!BN21","v":0},{"$f":"'Disaggregated Balance'!BO21","v":0},0]
[{"$f":"TBOILER","v":"Electric boilers"},{"$f":"SUM('Disaggregated Balance'!E22:R22)","v":0},{"$f":"SUM('Disaggregated Balance'!T22:U22)","v":0},{"$f":"'Disaggregated Balance'!V22","v":0},{"$f":"SUM('Disaggregated Balance'!W22:AA22)","v":0},{"$f":"SUM('Disaggregated Balance'!AB22:AR22)","v":0},{"$f":"'Disaggregated Balance'!AS22","v":0},{"$f":"'Disaggregated Balance'!BE22","v":0},{"$f":"'Disaggregated Balance'!BF22","v":0},{"$f":"'Disaggregated Balance'!BG22","v":0},{"$f":"SUM('Disaggregated Balance'!BH22:BL22)","v":0},{"$f":"SUM('Disaggregated Balance'!AT22:BD22)","v":0},{"$f":"'Disaggregated Balance'!BM22","v":0},{"$f":"'Disaggregated Balance'!BN22","v":0},{"$f":"'Disaggregated Balance'!BO22","v":0},0]
[{"$f":"TELE","v":"Chemical heat for electricity production"},{"$f":"SUM('Disaggregated Balance'!E23:R23)","v":0},{"$f":"SUM('Disaggregated Balance'!T23:U23)","v":0},{"$f":"'Disaggregated Balance'!V23","v":0},{"$f":"SUM('Disaggregated Balance'!W23:AA23)","v":0},{"$f":"SUM('Disaggregated Balance'!AB23:AR23)","v":0},{"$f":"'Disaggregated Balance'!AS23","v":0},{"$f":"'Disaggregated Balance'!BE23","v":0},{"$f":"'Disaggregated Balance'!BF23","v":0},{"$f":"'Disaggregated Balance'!BG23","v":0},{"$f":"SUM('Disaggregated Balance'!BH23:BL23)","v":0},{"$f":"SUM('Disaggregated Balance'!AT23:BD23)","v":0},{"$f":"'Disaggregated Balance'!BM23","v":0},{"$f":"'Disaggregated Balance'!BN23","v":0},{"$f":"'Disaggregated Balance'!BO23","v":0},0]
[{"$f":"TGASWKS","v":"Gas works"},{"$f":"SUM('Disaggregated Balance'!E26:R26,'Disaggregated Balance'!E33:R33,)","v":0},{"$f":"SUM('Disaggregated Balance'!T26:U26,'Disaggregated Balance'!T33:U33)","v":0},{"$f":"SUM('Disaggregated Balance'!V26,'Disaggregated Balance'!V33)","v":0},{"$f":"SUM('Disaggregated Balance'!W26:AA26,'Disaggregated Balance'!W33:AA33)","v":0},{"$f":"SUM('Disaggregated Balance'!AB26:AR26,'Disaggregated Balance'!AB33:AR33)","v":0},{"$f":"SUM('Disaggregated Balance'!AS26,'Disaggregated Balance'!AS33)","v":0},{"$f":"SUM('Disaggregated Balance'!BE26,'Disaggregated Balance'!BE33)","v":0},{"$f":"SUM('Disaggregated Balance'!BF26,'Disaggregated Balance'!BF33)","v":0},{"$f":"SUM('Disaggregated Balance'!BG26,'Disaggregated Balance'!BG33)","v":0},{"$f":"SUM('Disaggregated Balance'!BH26:BL26,'Disaggregated Balance'!BH33:BL33)","v":0},{"$f":"SUM('Disaggregated Balance'!AT26:BD26,'Disaggregated Balance'!AT33:BD33)","v":0},{"$f":"SUM('Disaggregated Balance'!BM26,'Disaggregated Balance'!BM33)","v":0},{"$f":"SUM('Disaggregated Balance'!BN26,'Disaggregated Balance'!BN33)","v":0},{"$f":"SUM('Disaggregated Balance'!BO26,'Disaggregated Balance'!BO33)","v":0},0]
[{"$f":"TREFINER","v":"Oil refineries"},{"$f":"SUM('Disaggregated Balance'!E30:R30)","v":0},{"$f":"SUM('Disaggregated Balance'!T30:U30)","v":0},{"$f":"'Disaggregated Balance'!V30","v":0},{"$f":"SUM('Disaggregated Balance'!W30:AA30)","v":-20600},{"$f":"SUM('Disaggregated Balance'!AB30:AR30)","v":21500},{"$f":"'Disaggregated Balance'!AS30","v":0},{"$f":"'Disaggregated Balance'!BE30","v":0},{"$f":"'Disaggregated Balance'!BF30","v":0},{"$f":"'Disaggregated Balance'!BG30","v":0},{"$f":"SUM('Disaggregated Balance'!BH30:BL30)","v":0},{"$f":"SUM('Disaggregated Balance'!AT30:BD30)","v":0},{"$f":"'Disaggregated Balance'!BM30","v":0},{"$f":"'Disaggregated Balance'!BN30","v":0},{"$f":"'Disaggregated Balance'!BO30","v":0},900]
[{"$f":"HLOOKUP(LangChoice,Definitions_ProdLang!$M$2:$P$30,10)","v":"Coal transformation"},{"$f":"SUM('Disaggregated Balance'!E24:R25,'Disaggregated Balance'!E27:R27,'Disaggregated Balance'!E29:R29,)","v":0},{"$f":"SUM('Disaggregated Balance'!T24:U25,'Disaggregated Balance'!T27:U27,'Disaggregated Balance'!T29:U29)","v":0},{"$f":"SUM('Disaggregated Balance'!V24:V25,'Disaggregated Balance'!V27,'Disaggregated Balance'!V29)","v":0},{"$f":"SUM('Disaggregated Balance'!W24:AA25,'Disaggregated Balance'!W27:AA27,'Disaggregated Balance'!W29:AA29)","v":0},{"$f":"SUM('Disaggregated Balance'!AB24:AR25,'Disaggregated Balance'!AB27:AR27,'Disaggregated Balance'!AB29:AR29)","v":0},{"$f":"SUM('Disaggregated Balance'!AS24:AS25,'Disaggregated Balance'!AS27,'Disaggregated Balance'!AS29)","v":0},{"$f":"SUM('Disaggregated Balance'!BE24:BE25,'Disaggregated Balance'!BE27,'Disaggregated Balance'!BE29)","v":0},{"$f":"SUM('Disaggregated Balance'!BF24:BF25,'Disaggregated Balance'!BF27,'Disaggregated Balance'!BF29)","v":0},{"$f":"SUM('Disaggregated Balance'!BG24:BG25,'Disaggregated Balance'!BG27,'Disaggregated Balance'!BG29)","v":0},{"$f":"SUM('Disaggregated Balance'!BH24:BL25,'Disaggregated Balance'!BH27:BL27,'Disaggregated Balance'!BH29:BL29)","v":0},{"$f":"SUM('Disaggregated Balance'!AT24:BD25,'Disaggregated Balance'!AT27:BD27,'Disaggregated Balance'!AT29:BD29)","v":0},{"$f":"SUM('Disaggregated Balance'!BM24:BM25,'Disaggregated Balance'!BM27,'Disaggregated Balance'!BM29)","v":0},{"$f":"SUM('Disaggregated Balance'!BN24:BN25,'Disaggregated Balance'!BN27,'Disaggregated Balance'!BN29)","v":0},{"$f":"SUM('Disaggregated Balance'!BO24:BO25,'Disaggregated Balance'!BO27,'Disaggregated Balance'!BO29)","v":0},0]
[{"$f":"HLOOKUP(LangChoice,Definitions_ProdLang!$M$2:$P$30,11)","v":"Liquefaction plants"},{"$f":"SUM('Disaggregated Balance'!E31:R32)","v":0},{"$f":"SUM('Disaggregated Balance'!T31:U32)","v":0},{"$f":"SUM('Disaggregated Balance'!V31:V32)","v":0},{"$f":"SUM('Disaggregated Balance'!W31:AA32)","v":0},{"$f":"SUM('Disaggregated Balance'!AB31:AR32)","v":0},{"$f":"SUM('Disaggregated Balance'!AS31:AS32)","v":0},{"$f":"SUM('Disaggregated Balance'!BE31:BE32)","v":0},{"$f":"SUM('Disaggregated Balance'!BF31:BF32)","v":0},{"$f":"SUM('Disaggregated Balance'!BG31:BG32)","v":0},{"$f":"SUM('Disaggregated Balance'!BH31:BL32)","v":0},{"$f":"SUM('Disaggregated Balance'!AT31:BD32)","v":0},{"$f":"SUM('Disaggregated Balance'!BM31:BM32)","v":0},{"$f":"SUM('Disaggregated Balance'!BN31:BN32)","v":0},{"$f":"SUM('Disaggregated Balance'!BO31:BO32)","v":0},0]
[{"$f":"TNONSPEC","v":"Non-specified (transformation)"},{"$f":"SUM('Disaggregated Balance'!E28:R28,'Disaggregated Balance'!E34:R35)","v":0},{"$f":"SUM('Disaggregated Balance'!T28:U28,'Disaggregated Balance'!T34:U35)","v":0},{"$f":"SUM('Disaggregated Balance'!V28,'Disaggregated Balance'!V34:V35)","v":0},{"$f":"SUM('Disaggregated Balance'!W28:AA28,'Disaggregated Balance'!W34:AA35)","v":0},{"$f":"SUM('Disaggregated Balance'!AB28:AR28,'Disaggregated Balance'!AB34:AR35)","v":0},{"$f":"SUM('Disaggregated Balance'!AS28,'Disaggregated Balance'!AS34:AS35)","v":0},{"$f":"SUM('Disaggregated Balance'!BE28,'Disaggregated Balance'!BE34:BE35)","v":0},{"$f":"SUM('Disaggregated Balance'!BF28,'Disaggregated Balance'!BF34:BF35)","v":0},{"$f":"SUM('Disaggregated Balance'!BG28,'Disaggregated Balance'!BG34:BG35)","v":0},{"$f":"SUM('Disaggregated Balance'!BH28:BL28,'Disaggregated Balance'!BH34:BL35)","v":0},{"$f":"SUM('Disaggregated Balance'!AT28:BD28,'Disaggregated Balance'!AT34:BD35)","v":0},{"$f":"SUM('Disaggregated Balance'!BM28,'Disaggregated Balance'!BM34:BM35)","v":0},{"$f":"SUM('Disaggregated Balance'!BN28,'Disaggregated Balance'!BN34:BN35)","v":0},{"$f":"SUM('Disaggregated Balance'!BO28,'Disaggregated Balance'!BO34:BO35)","v":0},0]
[{"$f":"TOTENGY","v":"Energy industry own use"},{"$f":"SUM('Disaggregated Balance'!E37:R53)","v":0},{"$f":"SUM('Disaggregated Balance'!T37:U53)","v":0},{"$f":"SUM('Disaggregated Balance'!V37:V53)","v":0},{"$f":"SUM('Disaggregated Balance'!W37:AA53)","v":0},{"$f":"SUM('Disaggregated Balance'!AB37:AR53)","v":0},{"$f":"SUM('Disaggregated Balance'!AS37:AS53)","v":0},{"$f":"SUM('Disaggregated Balance'!BE37:BE53)","v":0},{"$f":"SUM('Disaggregated Balance'!BF37:BF53)","v":0},{"$f":"SUM('Disaggregated Balance'!BG37:BG53)","v":0},{"$f":"SUM('Disaggregated Balance'!BH37:BL53)","v":0},{"$f":"SUM('Disaggregated Balance'!AT37:BD53)","v":0},{"$f":"SUM('Disaggregated Balance'!BM37:BM53)","v":-1080},{"$f":"SUM('Disaggregated Balance'!BN37:BN53)","v":0},{"$f":"SUM('Disaggregated Balance'!BO37:BO53)","v":0},-1080]
[{"$f":"DISTLOSS","v":"Losses"},{"$f":"SUM('Disaggregated Balance'!E54:R54)","v":0},{"$f":"SUM('Disaggregated Balance'!T54:U54)","v":0},{"$f":"'Disaggregated Balance'!V54","v":0},{"$f":"SUM('Disaggregated Balance'!W54:AA54)","v":0},{"$f":"SUM('Disaggregated Balance'!AB54:AR54)","v":0},{"$f":"SUM('Disaggregated Balance'!AS54)","v":0},{"$f":"'Disaggregated Balance'!BE54","v":0},{"$f":"'Disaggregated Balance'!BF54","v":0},{"$f":"'Disaggregated Balance'!BG54","v":0},{"$f":"SUM('Disaggregated Balance'!BH54:BL54)","v":0},{"$f":"SUM('Disaggregated Balance'!AT54:BD54)","v":0},{"$f":"'Disaggregated Balance'!BM54","v":-4161.6000000000004},{"$f":"'Disaggregated Balance'!BN54","v":0},{"$f":"'Disaggregated Balance'!BO54","v":0},-4161.6000000000004]
[{"$f":"FINCONS","v":"Final consumption"},{"$f":"SUM(B29,B43,B50,B56)","v":0},0,{"$f":"SUM(D29,D43,D50,D56)","v":0},0,23005,0,0,0,0,0,117.7,32637.599999999999,0,0,55760.299999999996]
[{"$f":"TOTIND","v":"Industry"},{"$f":"SUM(B30:B42)","v":0},{"$f":"SUM(C30:C42)","v":0},{"$f":"SUM(D30:D42)","v":0},{"$f":"SUM(E30:E42)","v":0},0,0,0,{"$f":"SUM(I30:I42)","v":0},{"$f":"SUM(J30:J42)","v":0},{"$f":"SUM(K30:K42)","v":0},0,15840,0,{"$f":"SUM(O30:O42)","v":0},{"$f":"SUM(P30:P42)","v":15840}]
[{"$f":"IRONSTL","v":"Iron and steel"},{"$f":"SUM('Disaggregated Balance'!E57:R57)","v":0},{"$f":"SUM('Disaggregated Balance'!T57:U57)","v":0},{"$f":"'Disaggregated Balance'!V57","v":0},{"$f":"SUM('Disaggregated Balance'!W57:AA57)","v":0},{"$f":"SUM('Disaggregated Balance'!AB57:AR57)","v":0},{"$f":"SUM('Disaggregated Balance'!AS57)","v":0},{"$f":"'Disaggregated Balance'!BE57","v":0},{"$f":"'Disaggregated Balance'!BF57","v":0},{"$f":"'Disaggregated Balance'!BG57","v":0},{"$f":"SUM('Disaggregated Balance'!BH57:BL57)","v":0},{"$f":"SUM('Disaggregated Balance'!AT57:BD57)","v":0},{"$f":"'Disaggregated Balance'!BM57","v":0},{"$f":"'Disaggregated Balance'!BN57","v":0},{"$f":"'Disaggregated Balance'!BO57","v":0},{"$f":"SUM(B30:O30)","v":0}]
[{"$f":"CHEMICAL","v":"Chemical and petrochemical"},{"$f":"SUM('Disaggregated Balance'!E58:R58)","v":0},{"$f":"SUM('Disaggregated Balance'!T58:U58)","v":0},{"$f":"'Disaggregated Balance'!V58","v":0},{"$f":"SUM('Disaggregated Balance'!W58:AA58)","v":0},{"$f":"SUM('Disaggregated Balance'!AB58:AR58)","v":0},{"$f":"SUM('Disaggregated Balance'!AS58)","v":0},{"$f":"'Disaggregated Balance'!BE58","v":0},{"$f":"'Disaggregated Balance'!BF58","v":0},{"$f":"'Disaggregated Balance'!BG58","v":0},{"$f":"SUM('Disaggregated Balance'!BH58:BL58)","v":0},{"$f":"SUM('Disaggregated Balance'!AT58:BD58)","v":0},{"$f":"'Disaggregated Balance'!BM58","v":0},{"$f":"'Disaggregated Balance'!BN58","v":0},{"$f":"'Disaggregated Balance'!BO58","v":0},0]
[{"$f":"NONFERR","v":"Non-ferrous metals"},{"$f":"SUM('Disaggregated Balance'!E59:R59)","v":0},{"$f":"SUM('Disaggregated Balance'!T59:U59)","v":0},{"$f":"'Disaggregated Balance'!V59","v":0},{"$f":"SUM('Disaggregated Balance'!W59:AA59)","v":0},{"$f":"SUM('Disaggregated Balance'!AB59:AR59)","v":0},{"$f":"SUM('Disaggregated Balance'!AS59)","v":0},{"$f":"'Disaggregated Balance'!BE59","v":0},{"$f":"'Disaggregated Balance'!BF59","v":0},{"$f":"'Disaggregated Balance'!BG59","v":0},{"$f":"SUM('Disaggregated Balance'!BH59:BL59)","v":0},{"$f":"SUM('Disaggregated Balance'!AT59:BD59)","v":0},{"$f":"'Disaggregated Balance'!BM59","v":0},{"$f":"'Disaggregated Balance'!BN59","v":0},{"$f":"'Disaggregated Balance'!BO59","v":0},0]
[{"$f":"NONMET","v":"Non-metallic minerals"},{"$f":"SUM('Disaggregated Balance'!E60:R60)","v":0},{"$f":"SUM('Disaggregated Balance'!T60:U60)","v":0},{"$f":"'Disaggregated Balance'!V60","v":0},{"$f":"SUM('Disaggregated Balance'!W60:AA60)","v":0},{"$f":"SUM('Disaggregated Balance'!AB60:AR60)","v":0},{"$f":"SUM('Disaggregated Balance'!AS60)","v":0},{"$f":"'Disaggregated Balance'!BE60","v":0},{"$f":"'Disaggregated Balance'!BF60","v":0},{"$f":"'Disaggregated Balance'!BG60","v":0},{"$f":"SUM('Disaggregated Balance'!BH60:BL60)","v":0},{"$f":"SUM('Disaggregated Balance'!AT60:BD60)","v":0},{"$f":"'Disaggregated Balance'!BM60","v":0},{"$f":"'Disaggregated Balance'!BN60","v":0},{"$f":"'Disaggregated Balance'!BO60","v":0},0]
[{"$f":"TRANSEQ","v":"Transport equipment"},{"$f":"SUM('Disaggregated Balance'!E61:R61)","v":0},{"$f":"SUM('Disaggregated Balance'!T61:U61)","v":0},{"$f":"'Disaggregated Balance'!V61","v":0},{"$f":"SUM('Disaggregated Balance'!W61:AA61)","v":0},{"$f":"SUM('Disaggregated Balance'!AB61:AR61)","v":0},{"$f":"SUM('Disaggregated Balance'!AS61)","v":0},{"$f":"'Disaggregated Balance'!BE61","v":0},{"$f":"'Disaggregated Balance'!BF61","v":0},{"$f":"'Disaggregated Balance'!BG61","v":0},{"$f":"SUM('Disaggregated Balance'!BH61:BL61)","v":0},{"$f":"SUM('Disaggregated Balance'!AT61:BD61)","v":0},{"$f":"'Disaggregated Balance'!BM61","v":0},{"$f":"'Disaggregated Balance'!BN61","v":0},{"$f":"'Disaggregated Balance'!BO61","v":0},0]
[{"$f":"MACHINE","v":"Machinery"},{"$f":"SUM('Disaggregated Balance'!E62:R62)","v":0},{"$f":"SUM('Disaggregated Balance'!T62:U62)","v":0},{"$f":"'Disaggregated Balance'!V62","v":0},{"$f":"SUM('Disaggregated Balance'!W62:AA62)","v":0},{"$f":"SUM('Disaggregated Balance'!AB62:AR62)","v":0},{"$f":"SUM('Disaggregated Balance'!AS62)","v":0},{"$f":"'Disaggregated Balance'!BE62","v":0},{"$f":"'Disaggregated Balance'!BF62","v":0},{"$f":"'Disaggregated Balance'!BG62","v":0},{"$f":"SUM('Disaggregated Balance'!BH62:BL62)","v":0},{"$f":"SUM('Disaggregated Balance'!AT62:BD62)","v":0},{"$f":"'Disaggregated Balance'!BM62","v":0},{"$f":"'Disaggregated Balance'!BN62","v":0},{"$f":"'Disaggregated Balance'!BO62","v":0},0]
[{"$f":"MINING","v":"Mining and quarrying"},{"$f":"SUM('Disaggregated Balance'!E63:R63)","v":0},{"$f":"SUM('Disaggregated Balance'!T63:U63)","v":0},{"$f":"'Disaggregated Balance'!V63","v":0},{"$f":"SUM('Disaggregated Balance'!W63:AA63)","v":0},{"$f":"SUM('Disaggregated Balance'!AB63:AR63)","v":0},{"$f":"SUM('Disaggregated Balance'!AS63)","v":0},{"$f":"'Disaggregated Balance'!BE63","v":0},{"$f":"'Disaggregated Balance'!BF63","v":0},{"$f":"'Disaggregated Balance'!BG63","v":0},{"$f":"SUM('Disaggregated Balance'!BH63:BL63)","v":0},{"$f":"SUM('Disaggregated Balance'!AT63:BD63)","v":0},{"$f":"'Disaggregated Balance'!BM63","v":0},{"$f":"'Disaggregated Balance'!BN63","v":0},{"$f":"'Disaggregated Balance'!BO63","v":0},0]
[{"$f":"FOODPRO","v":"Food, beverages and tobacco"},{"$f":"SUM('Disaggregated Balance'!E64:R64)","v":0},{"$f":"SUM('Disaggregated Balance'!T64:U64)","v":0},{"$f":"'Disaggregated Balance'!V64","v":0},{"$f":"SUM('Disaggregated Balance'!W64:AA64)","v":0},{"$f":"SUM('Disaggregated Balance'!AB64:AR64)","v":0},{"$f":"SUM('Disaggregated Balance'!AS64)","v":0},{"$f":"'Disaggregated Balance'!BE64","v":0},{"$f":"'Disaggregated Balance'!BF64","v":0},{"$f":"'Disaggregated Balance'!BG64","v":0},{"$f":"SUM('Disaggregated Balance'!BH64:BL64)","v":0},{"$f":"SUM('Disaggregated Balance'!AT64:BD64)","v":0},{"$f":"'Disaggregated Balance'!BM64","v":0},{"$f":"'Disaggregated Balance'!BN64","v":0},{"$f":"'Disaggregated Balance'!BO64","v":0},0]
[{"$f":"PAPERPRO","v":"Paper, pulp and print"},{"$f":"SUM('Disaggregated Balance'!E65:R65)","v":0},{"$f":"SUM('Disaggregated Balance'!T65:U65)","v":0},{"$f":"'Disaggregated Balance'!V65","v":0},{"$f":"SUM('Disaggregated Balance'!W65:AA65)","v":0},{"$f":"SUM('Disaggregated Balance'!AB65:AR65)","v":0},{"$f":"SUM('Disaggregated Balance'!AS65)","v":0},{"$f":"'Disaggregated Balance'!BE65","v":0},{"$f":"'Disaggregated Balance'!BF65","v":0},{"$f":"'Disaggregated Balance'!BG65","v":0},{"$f":"SUM('Disaggregated Balance'!BH65:BL65)","v":0},{"$f":"SUM('Disaggregated Balance'!AT65:BD65)","v":0},{"$f":"'Disaggregated Balance'!BM65","v":0},{"$f":"'Disaggregated Balance'!BN65","v":0},{"$f":"'Disaggregated Balance'!BO65","v":0},0]
[{"$f":"WOODPRO","v":"Wood and wood products"},{"$f":"SUM('Disaggregated Balance'!E66:R66)","v":0},{"$f":"SUM('Disaggregated Balance'!T66:U66)","v":0},{"$f":"'Disaggregated Balance'!V66","v":0},{"$f":"SUM('Disaggregated Balance'!W66:AA66)","v":0},{"$f":"SUM('Disaggregated Balance'!AB66:AR66)","v":0},{"$f":"SUM('Disaggregated Balance'!AS66)","v":0},{"$f":"'Disaggregated Balance'!BE66","v":0},{"$f":"'Disaggregated Balance'!BF66","v":0},{"$f":"'Disaggregated Balance'!BG66","v":0},{"$f":"SUM('Disaggregated Balance'!BH66:BL66)","v":0},{"$f":"SUM('Disaggregated Balance'!AT66:BD66)","v":0},{"$f":"'Disaggregated Balance'!BM66","v":0},{"$f":"'Disaggregated Balance'!BN66","v":0},{"$f":"'Disaggregated Balance'!BO66","v":0},0]
[{"$f":"CONSTRUC","v":"Construction"},{"$f":"SUM('Disaggregated Balance'!E67:R67)","v":0},{"$f":"SUM('Disaggregated Balance'!T67:U67)","v":0},{"$f":"'Disaggregated Balance'!V67","v":0},{"$f":"SUM('Disaggregated Balance'!W67:AA67)","v":0},{"$f":"SUM('Disaggregated Balance'!AB67:AR67)","v":0},{"$f":"SUM('Disaggregated Balance'!AS67)","v":0},{"$f":"'Disaggregated Balance'!BE67","v":0},{"$f":"'Disaggregated Balance'!BF67","v":0},{"$f":"'Disaggregated Balance'!BG67","v":0},{"$f":"SUM('Disaggregated Balance'!BH67:BL67)","v":0},{"$f":"SUM('Disaggregated Balance'!AT67:BD67)","v":0},{"$f":"'Disaggregated Balance'!BM67","v":0},{"$f":"'Disaggregated Balance'!BN67","v":0},{"$f":"'Disaggregated Balance'!BO67","v":0},0]
[{"$f":"TEXTILES","v":"Textiles and leather"},{"$f":"SUM('Disaggregated Balance'!E68:R68)","v":0},{"$f":"SUM('Disaggregated Balance'!T68:U68)","v":0},{"$f":"'Disaggregated Balance'!V68","v":0},{"$f":"SUM('Disaggregated Balance'!W68:AA68)","v":0},{"$f":"SUM('Disaggregated Balance'!AB68:AR68)","v":0},{"$f":"SUM('Disaggregated Balance'!AS68)","v":0},{"$f":"'Disaggregated Balance'!BE68","v":0},{"$f":"'Disaggregated Balance'!BF68","v":0},{"$f":"'Disaggregated Balance'!BG68","v":0},{"$f":"SUM('Disaggregated Balance'!BH68:BL68)","v":0},{"$f":"SUM('Disaggregated Balance'!AT68:BD68)","v":0},{"$f":"'Disaggregated Balance'!BM68","v":0},{"$f":"'Disaggregated Balance'!BN68","v":0},{"$f":"'Disaggregated Balance'!BO68","v":0},0]
[{"$f":"INONSPEC","v":"Non-specified (Industry)"},{"$f":"SUM('Disaggregated Balance'!E69:R69)","v":0},{"$f":"SUM('Disaggregated Balance'!T69:U69)","v":0},{"$f":"'Disaggregated Balance'!V69","v":0},{"$f":"SUM('Disaggregated Balance'!W69:AA69)","v":0},{"$f":"SUM('Disaggregated Balance'!AB69:AR69)","v":0},{"$f":"SUM('Disaggregated Balance'!AS69)","v":0},{"$f":"'Disaggregated Balance'!BE69","v":0},{"$f":"'Disaggregated Balance'!BF69","v":0},{"$f":"'Disaggregated Balance'!BG69","v":0},{"$f":"SUM('Disaggregated Balance'!BH69:BL69)","v":0},{"$f":"SUM('Disaggregated Balance'!AT69:BD69)","v":0},{"$f":"'Disaggregated Balance'!BM69","v":15840},{"$f":"'Disaggregated Balance'!BN69","v":0},{"$f":"'Disaggregated Balance'!BO69","v":0},15840]
[{"$f":"TOTTRANS","v":"Transport"},{"$f":"SUM(B44:B49)","v":0},{"$f":"SUM(C44:C49)","v":0},{"$f":"SUM(D44:D49)","v":0},0,23005,{"$f":"SUM(G44:G49)","v":0},0,{"$f":"SUM(I44:I49)","v":0},{"$f":"SUM(J44:J49)","v":0},{"$f":"SUM(K44:K49)","v":0},55.2,36,0,{"$f":"SUM(O44:O49)","v":0},23096.2]
[{"$f":"ROAD","v":"Road"},{"$f":"SUM('Disaggregated Balance'!E71:R71)","v":0},{"$f":"SUM('Disaggregated Balance'!T71:U71)","v":0},{"$f":"'Disaggregated Balance'!V71","v":0},{"$f":"SUM('Disaggregated Balance'!W71:AA71)","v":0},{"$f":"SUM('Disaggregated Balance'!AB71:AR71)","v":22575},{"$f":"SUM('Disaggregated Balance'!AS71)","v":0},{"$f":"'Disaggregated Balance'!BE71","v":0},{"$f":"'Disaggregated Balance'!BF71","v":0},{"$f":"'Disaggregated Balance'!BG71","v":0},{"$f":"SUM('Disaggregated Balance'!BH71:BL71)","v":0},{"$f":"SUM('Disaggregated Balance'!AT71:BD71)","v":55.2},{"$f":"'Disaggregated Balance'!BM71","v":0},{"$f":"'Disaggregated Balance'!BN71","v":0},{"$f":"'Disaggregated Balance'!BO71","v":0},22630.2]
[{"$f":"DOMESAIR","v":"Domestic aviation"},{"$f":"SUM('Disaggregated Balance'!E72:R72)","v":0},{"$f":"SUM('Disaggregated Balance'!T72:U72)","v":0},{"$f":"'Disaggregated Balance'!V72","v":0},{"$f":"SUM('Disaggregated Balance'!W72:AA72)","v":0},{"$f":"SUM('Disaggregated Balance'!AB72:AR72)","v":0},{"$f":"SUM('Disaggregated Balance'!AS72)","v":0},{"$f":"'Disaggregated Balance'!BE72","v":0},{"$f":"'Disaggregated Balance'!BF72","v":0},{"$f":"'Disaggregated Balance'!BG72","v":0},{"$f":"SUM('Disaggregated Balance'!BH72:BL72)","v":0},{"$f":"SUM('Disaggregated Balance'!AT72:BD72)","v":0},{"$f":"'Disaggregated Balance'!BM72","v":0},{"$f":"'Disaggregated Balance'!BN72","v":0},{"$f":"'Disaggregated Balance'!BO72","v":0},0]
[{"$f":"RAIL","v":"Rail"},{"$f":"SUM('Disaggregated Balance'!E73:R73)","v":0},{"$f":"SUM('Disaggregated Balance'!T73:U73)","v":0},{"$f":"'Disaggregated Balance'!V73","v":0},{"$f":"SUM('Disaggregated Balance'!W73:AA73)","v":0},{"$f":"SUM('Disaggregated Balance'!AB73:AR73)","v":0},{"$f":"SUM('Disaggregated Balance'!AS73)","v":0},{"$f":"'Disaggregated Balance'!BE73","v":0},{"$f":"'Disaggregated Balance'!BF73","v":0},{"$f":"'Disaggregated Balance'!BG73","v":0},{"$f":"SUM('Disaggregated Balance'!BH73:BL73)","v":0},{"$f":"SUM('Disaggregated Balance'!AT73:BD73)","v":0},{"$f":"'Disaggregated Balance'!BM73","v":36},{"$f":"'Disaggregated Balance'!BN73","v":0},{"$f":"'Disaggregated Balance'!BO73","v":0},36]
[{"$f":"PIPELINE","v":"Pipeline transport"},{"$f":"SUM('Disaggregated Balance'!E74:R74)","v":0},{"$f":"SUM('Disaggregated Balance'!T74:U74)","v":0},{"$f":"'Disaggregated Balance'!V74","v":0},{"$f":"SUM('Disaggregated Balance'!W74:AA74)","v":0},{"$f":"SUM('Disaggregated Balance'!AB74:AR74)","v":0},{"$f":"SUM('Disaggregated Balance'!AS74)","v":0},{"$f":"'Disaggregated Balance'!BE74","v":0},{"$f":"'Disaggregated Balance'!BF74","v":0},{"$f":"'Disaggregated Balance'!BG74","v":0},{"$f":"SUM('Disaggregated Balance'!BH74:BL74)","v":0},{"$f":"SUM('Disaggregated Balance'!AT74:BD74)","v":0},{"$f":"'Disaggregated Balance'!BM74","v":0},{"$f":"'Disaggregated Balance'!BN74","v":0},{"$f":"'Disaggregated Balance'!BO74","v":0},0]
[{"$f":"DOMESNAV","v":"Domestic navigation"},{"$f":"SUM('Disaggregated Balance'!E75:R75)","v":0},{"$f":"SUM('Disaggregated Balance'!T75:U75)","v":0},{"$f":"'Disaggregated Balance'!V75","v":0},{"$f":"SUM('Disaggregated Balance'!W75:AA75)","v":0},{"$f":"SUM('Disaggregated Balance'!AB75:AR75)","v":430},{"$f":"SUM('Disaggregated Balance'!AS75)","v":0},{"$f":"'Disaggregated Balance'!BE75","v":0},{"$f":"'Disaggregated Balance'!BF75","v":0},{"$f":"'Disaggregated Balance'!BG75","v":0},{"$f":"SUM('Disaggregated Balance'!BH75:BL75)","v":0},{"$f":"SUM('Disaggregated Balance'!AT75:BD75)","v":0},{"$f":"'Disaggregated Balance'!BM75","v":0},{"$f":"'Disaggregated Balance'!BN75","v":0},{"$f":"'Disaggregated Balance'!BO75","v":0},430]
[{"$f":"TRNONSPE","v":"Non-specified (transport)"},{"$f":"SUM('Disaggregated Balance'!E76:R76)","v":0},{"$f":"SUM('Disaggregated Balance'!T76:U76)","v":0},{"$f":"'Disaggregated Balance'!V76","v":0},{"$f":"SUM('Disaggregated Balance'!W76:AA76)","v":0},{"$f":"SUM('Disaggregated Balance'!AB76:AR76)","v":0},{"$f":"SUM('Disaggregated Balance'!AS76)","v":0},{"$f":"'Disaggregated Balance'!BE76","v":0},{"$f":"'Disaggregated Balance'!BF76","v":0},{"$f":"'Disaggregated Balance'!BG76","v":0},{"$f":"SUM('Disaggregated Balance'!BH76:BL76)","v":0},{"$f":"SUM('Disaggregated Balance'!AT76:BD76)","v":0},{"$f":"'Disaggregated Balance'!BM76","v":0},{"$f":"'Disaggregated Balance'!BN76","v":0},{"$f":"'Disaggregated Balance'!BO76","v":0},0]
[{"$f":"TOTOTHER","v":"Other"},{"$f":"SUM(B51:B55)","v":0},0,0,0,0,0,0,{"$f":"SUM(I51:I55)","v":0},{"$f":"SUM(J51:J55)","v":0},{"$f":"SUM(K51:K55)","v":0},62.5,16761.599999999999,0,{"$f":"SUM(O51:O55)","v":0},16824.099999999999]
[{"$f":"RESIDENT","v":"Residential"},{"$f":"SUM('Disaggregated Balance'!E78:R78)","v":0},{"$f":"SUM('Disaggregated Balance'!T78:U78)","v":0},{"$f":"'Disaggregated Balance'!V78","v":0},{"$f":"SUM('Disaggregated Balance'!W78:AA78)","v":0},{"$f":"SUM('Disaggregated Balance'!AB78:AR78)","v":0},{"$f":"SUM('Disaggregated Balance'!AS78)","v":0},{"$f":"'Disaggregated Balance'!BE78","v":0},{"$f":"'Disaggregated Balance'!BF78","v":0},{"$f":"'Disaggregated Balance'!BG78","v":0},{"$f":"SUM('Disaggregated Balance'!BH78:BL78)","v":0},{"$f":"SUM('Disaggregated Balance'!AT78:BD78)","v":62.5},{"$f":"'Disaggregated Balance'!BM78","v":8103.6},{"$f":"'Disaggregated Balance'!BN78","v":0},{"$f":"'Disaggregated Balance'!BO78","v":0},8166.1]
[{"$f":"COMMPUB","v":"Commercial and public services"},{"$f":"SUM('Disaggregated Balance'!E79:R79)","v":0},{"$f":"SUM('Disaggregated Balance'!T79:U79)","v":0},{"$f":"'Disaggregated Balance'!V79","v":0},{"$f":"SUM('Disaggregated Balance'!W79:AA79)","v":0},{"$f":"SUM('Disaggregated Balance'!AB79:AR79)","v":0},{"$f":"SUM('Disaggregated Balance'!AS79)","v":0},{"$f":"'Disaggregated Balance'!BE79","v":0},{"$f":"'Disaggregated Balance'!BF79","v":0},{"$f":"'Disaggregated Balance'!BG79","v":0},{"$f":"SUM('Disaggregated Balance'!BH79:BL79)","v":0},{"$f":"SUM('Disaggregated Balance'!AT79:BD79)","v":0},{"$f":"'Disaggregated Balance'!BM79","v":8298},{"$f":"'Disaggregated Balance'!BN79","v":0},{"$f":"'Disaggregated Balance'!BO79","v":0},8298]
[{"$f":"AGRICULT","v":"Agriculture/forestry"},{"$f":"SUM('Disaggregated Balance'!E80:R80)","v":0},{"$f":"SUM('Disaggregated Balance'!T80:U80)","v":0},{"$f":"'Disaggregated Balance'!V80","v":0},{"$f":"SUM('Disaggregated Balance'!W80:AA80)","v":0},{"$f":"SUM('Disaggregated Balance'!AB80:AR80)","v":0},{"$f":"SUM('Disaggregated Balance'!AS80)","v":0},{"$f":"'Disaggregated Balance'!BE80","v":0},{"$f":"'Disaggregated Balance'!BF80","v":0},{"$f":"'Disaggregated Balance'!BG80","v":0},{"$f":"SUM('Disaggregated Balance'!BH80:BL80)","v":0},{"$f":"SUM('Disaggregated Balance'!AT80:BD80)","v":0},{"$f":"'Disaggregated Balance'!BM80","v":360},{"$f":"'Disaggregated Balance'!BN80","v":0},{"$f":"'Disaggregated Balance'!BO80","v":0},360]
[{"$f":"FISHING","v":"Fishing"},{"$f":"SUM('Disaggregated Balance'!E81:R81)","v":0},{"$f":"SUM('Disaggregated Balance'!T81:U81)","v":0},{"$f":"'Disaggregated Balance'!V81","v":0},{"$f":"SUM('Disaggregated Balance'!W81:AA81)","v":0},{"$f":"SUM('Disaggregated Balance'!AB81:AR81)","v":0},{"$f":"SUM('Disaggregated Balance'!AS81)","v":0},{"$f":"'Disaggregated Balance'!BE81","v":0},{"$f":"'Disaggregated Balance'!BF81","v":0},{"$f":"'Disaggregated Balance'!BG81","v":0},{"$f":"SUM('Disaggregated Balance'!BH81:BL81)","v":0},{"$f":"SUM('Disaggregated Balance'!AT81:BD81)","v":0},{"$f":"'Disaggregated Balance'!BM81","v":0},{"$f":"'Disaggregated Balance'!BN81","v":0},{"$f":"'Disaggregated Balance'!BO81","v":0},0]
[{"$f":"OTHNONSPEC","v":"Non-specified (other)"},{"$f":"SUM('Disaggregated Balance'!E82:R82)","v":0},{"$f":"SUM('Disaggregated Balance'!T82:U82)","v":0},{"$f":"'Disaggregated Balance'!V82","v":0},{"$f":"SUM('Disaggregated Balance'!W82:AA82)","v":0},{"$f":"SUM('Disaggregated Balance'!AB82:AR82)","v":0},{"$f":"SUM('Disaggregated Balance'!AS82)","v":0},{"$f":"'Disaggregated Balance'!BE82","v":0},{"$f":"'Disaggregated Balance'!BF82","v":0},{"$f":"'Disaggregated Balance'!BG82","v":0},{"$f":"SUM('Disaggregated Balance'!BH82:BL82)","v":0},{"$f":"SUM('Disaggregated Balance'!AT82:BD82)","v":0},{"$f":"'Disaggregated Balance'!BM82","v":0},{"$f":"'Disaggregated Balance'!BN82","v":0},{"$f":"'Disaggregated Balance'!BO82","v":0},0]
[{"$f":"NONENUSE","v":"Non-energy use"},{"$f":"SUM(B57:B59)","v":0},0,0,0,0,0,{"$f":"SUM(H57:H59)","v":0},{"$f":"SUM(I57:I59)","v":0},{"$f":"SUM(J57:J59)","v":0},{"$f":"SUM(K57:K59)","v":0},0,0,0,{"$f":"SUM(O57:O59)","v":0},0]
[{"$f":"NEINTREN","v":"Non-energy use industry/transformation/energy"},{"$f":"SUM('Disaggregated Balance'!E84:R84)","v":0},{"$f":"SUM('Disaggregated Balance'!T84:U84)","v":0},{"$f":"'Disaggregated Balance'!V84","v":0},{"$f":"SUM('Disaggregated Balance'!W84:AA84)","v":0},{"$f":"SUM('Disaggregated Balance'!AB84:AR84)","v":0},{"$f":"SUM('Disaggregated Balance'!AS84)","v":0},{"$f":"'Disaggregated Balance'!BE84","v":0},{"$f":"'Disaggregated Balance'!BF84","v":0},{"$f":"'Disaggregated Balance'!BG84","v":0},{"$f":"SUM('Disaggregated Balance'!BH84:BL84)","v":0},{"$f":"SUM('Disaggregated Balance'!AT84:BD84)","v":0},{"$f":"'Disaggregated Balance'!BM84","v":0},{"$f":"'Disaggregated Balance'!BN84","v":0},{"$f":"'Disaggregated Balance'!BO84","v":0},{"$f":"SUM(B57:O57)","v":0}]
[{"$f":"NETRANS","v":"Non-energy use in transport"},{"$f":"SUM('Disaggregated Balance'!E85:R85)","v":0},{"$f":"SUM('Disaggregated Balance'!T85:U85)","v":0},{"$f":"'Disaggregated Balance'!V85","v":0},{"$f":"SUM('Disaggregated Balance'!W85:AA85)","v":0},{"$f":"SUM('Disaggregated Balance'!AB85:AR85)","v":0},{"$f":"SUM('Disaggregated Balance'!AS85)","v":0},{"$f":"'Disaggregated Balance'!BE85","v":0},{"$f":"'Disaggregated Balance'!BF85","v":0},{"$f":"'Disaggregated Balance'!BG85","v":0},{"$f":"SUM('Disaggregated Balance'!BH85:BL85)","v":0},{"$f":"SUM('Disaggregated Balance'!AT85:BD85)","v":0},{"$f":"'Disaggregated Balance'!BM85","v":0},{"$f":"'Disaggregated Balance'!BN85","v":0},{"$f":"'Disaggregated Balance'!BO85","v":0},0]
[{"$f":"NEOTHER","v":"Non-energy use in other"},{"$f":"SUM('Disaggregated Balance'!E86:R86)","v":0},{"$f":"SUM('Disaggregated Balance'!T86:U86)","v":0},{"$f":"'Disaggregated Balance'!V86","v":0},{"$f":"SUM('Disaggregated Balance'!W86:AA86)","v":0},{"$f":"SUM('Disaggregated Balance'!AB86:AR86)","v":0},{"$f":"SUM('Disaggregated Balance'!AS86)","v":0},{"$f":"'Disaggregated Balance'!BE86","v":0},{"$f":"'Disaggregated Balance'!BF86","v":0},{"$f":"'Disaggregated Balance'!BG86","v":0},{"$f":"SUM('Disaggregated Balance'!BH86:BL86)","v":0},{"$f":"SUM('Disaggregated Balance'!AT86:BD86)","v":0},{"$f":"'Disaggregated Balance'!BM86","v":0},{"$f":"'Disaggregated Balance'!BN86","v":0},{"$f":"'Disaggregated Balance'!BO86","v":0},0]
[{"$f":"NECHEM","v":"Memo: Non-energy use chemical/petrochemical"},{"$f":"SUM('Disaggregated Balance'!E87:R87)","v":0},{"$f":"SUM('Disaggregated Balance'!T87:U87)","v":0},{"$f":"'Disaggregated Balance'!V87","v":0},{"$f":"SUM('Disaggregated Balance'!W87:AA87)","v":0},{"$f":"SUM('Disaggregated Balance'!AB87:AR87)","v":0},{"$f":"SUM('Disaggregated Balance'!AS87)","v":0},{"$f":"'Disaggregated Balance'!BE87","v":0},{"$f":"'Disaggregated Balance'!BF87","v":0},{"$f":"'Disaggregated Balance'!BG87","v":0},{"$f":"SUM('Disaggregated Balance'!BH87:BL87)","v":0},{"$f":"SUM('Disaggregated Balance'!AT87:BD87)","v":0},{"$f":"'Disaggregated Balance'!BM87","v":0},{"$f":"'Disaggregated Balance'!BN87","v":0},{"$f":"'Disaggregated Balance'!BO87","v":0},0]
[{"$f":"ELOUTPUT","v":"Electricity output in GWh"},{"$f":"SUM(B62:B65)","v":0},0,0,0,9850,0,0,{"$f":"SUM(I62:I65)","v":600},{"$f":"SUM(J62:J65)","v":0},{"$f":"SUM(K62:K65)","v":49},0,0,{"$f":"SUM(N62:N65)","v":0},{"$f":"SUM(O62:O65)","v":0},10499]
[{"$f":"'Disaggregated Balance'!A89","v":"Elec output-main activity producer ele plants"},{"$f":"SUM('Disaggregated Balance'!E89:S89)","v":0},{"$f":"SUM('Disaggregated Balance'!T89:U89)","v":0},{"$f":"'Disaggregated Balance'!V89","v":0},{"$f":"SUM('Disaggregated Balance'!W89:AA89)","v":0},{"$f":"SUM('Disaggregated Balance'!AB89:AR89)","v":8700},{"$f":"SUM('Disaggregated Balance'!AS89)","v":0},{"$f":"'Disaggregated Balance'!BE89","v":0},{"$f":"'Disaggregated Balance'!BF89","v":600},{"$f":"'Disaggregated Balance'!BG89","v":0},{"$f":"SUM('Disaggregated Balance'!BH89:BL89)","v":49},{"$f":"SUM('Disaggregated Balance'!AT89:BD89)","v":0},{"$f":"'Disaggregated Balance'!BM89","v":0},{"$f":"'Disaggregated Balance'!BN89","v":0},{"$f":"'Disaggregated Balance'!BO89","v":0},9349]
[{"$f":"'Disaggregated Balance'!A90","v":"Elec output-autoproducer electricity plants"},{"$f":"SUM('Disaggregated Balance'!E90:S90)","v":0},{"$f":"SUM('Disaggregated Balance'!T90:U90)","v":0},{"$f":"'Disaggregated Balance'!V90","v":0},{"$f":"SUM('Disaggregated Balance'!W90:AA90)","v":0},{"$f":"SUM('Disaggregated Balance'!AB90:AR90)","v":1150},{"$f":"SUM('Disaggregated Balance'!AS90)","v":0},{"$f":"'Disaggregated Balance'!BE90","v":0},{"$f":"'Disaggregated Balance'!BF90","v":0},{"$f":"'Disaggregated Balance'!BG90","v":0},{"$f":"SUM('Disaggregated Balance'!BH90:BL90)","v":0},{"$f":"SUM('Disaggregated Balance'!AT90:BD90)","v":0},{"$f":"'Disaggregated Balance'!BM90","v":0},{"$f":"'Disaggregated Balance'!BN90","v":0},{"$f":"'Disaggregated Balance'!BO90","v":0},1150]
[{"$f":"'Disaggregated Balance'!A91","v":"Elec output-main activity producer CHP plants"},{"$f":"SUM('Disaggregated Balance'!E91:S91)","v":0},{"$f":"SUM('Disaggregated Balance'!T91:U91)","v":0},{"$f":"'Disaggregated Balance'!V91","v":0},{"$f":"SUM('Disaggregated Balance'!W91:AA91)","v":0},{"$f":"SUM('Disaggregated Balance'!AB91:AR91)","v":0},{"$f":"SUM('Disaggregated Balance'!AS91)","v":0},{"$f":"'Disaggregated Balance'!BE91","v":0},{"$f":"'Disaggregated Balance'!BF91","v":0},{"$f":"'Disaggregated Balance'!BG91","v":0},{"$f":"SUM('Disaggregated Balance'!BH91:BL91)","v":0},{"$f":"SUM('Disaggregated Balance'!AT91:BD91)","v":0},{"$f":"'Disaggregated Balance'!BM91","v":0},{"$f":"'Disaggregated Balance'!BN91","v":0},{"$f":"'Disaggregated Balance'!BO91","v":0},0]
[{"$f":"'Disaggregated Balance'!A92","v":"Elec output-autoproducer CHP plants"},{"$f":"SUM('Disaggregated Balance'!E92:S92)","v":0},{"$f":"SUM('Disaggregated Balance'!T92:U92)","v":0},{"$f":"'Disaggregated Balance'!V92","v":0},{"$f":"SUM('Disaggregated Balance'!W92:AA92)","v":0},{"$f":"SUM('Disaggregated Balance'!AB92:AR92)","v":0},{"$f":"SUM('Disaggregated Balance'!AS92)","v":0},{"$f":"'Disaggregated Balance'!BE92","v":0},{"$f":"'Disaggregated Balance'!BF92","v":0},{"$f":"'Disaggregated Balance'!BG92","v":0},{"$f":"SUM('Disaggregated Balance'!BH92:BL92)","v":0},{"$f":"SUM('Disaggregated Balance'!AT92:BD92)","v":0},{"$f":"'Disaggregated Balance'!BM92","v":0},{"$f":"'Disaggregated Balance'!BN92","v":0},{"$f":"'Disaggregated Balance'!BO92","v":0},0]
[{"$f":"'Disaggregated Balance'!A93","v":"Heat output-main activity producer CHP plants"},{"$f":"SUM('Disaggregated Balance'!E93:S93)","v":0},{"$f":"SUM('Disaggregated Balance'!T93:U93)","v":0},{"$f":"'Disaggregated Balance'!V93","v":0},{"$f":"SUM('Disaggregated Balance'!W93:AA93)","v":0},{"$f":"SUM('Disaggregated Balance'!AB93:AR93)","v":0},{"$f":"SUM('Disaggregated Balance'!AS93)","v":0},{"$f":"'Disaggregated Balance'!BE93","v":0},{"$f":"'Disaggregated Balance'!BF93","v":0},{"$f":"'Disaggregated Balance'!BG93","v":0},{"$f":"SUM('Disaggregated Balance'!BH93:BL93)","v":0},{"$f":"SUM('Disaggregated Balance'!AT93:BD93)","v":0},{"$f":"'Disaggregated Balance'!BM93","v":0},{"$f":"'Disaggregated Balance'!BN93","v":0},{"$f":"'Disaggregated Balance'!BO93","v":0},0]
[{"$f":"'Disaggregated Balance'!A94","v":"Heat output-autoproducer CHP plants"},{"$f":"SUM('Disaggregated Balance'!E94:S94)","v":0},{"$f":"SUM('Disaggregated Balance'!T94:U94)","v":0},{"$f":"'Disaggregated Balance'!V94","v":0},{"$f":"SUM('Disaggregated Balance'!W94:AA94)","v":0},{"$f":"SUM('Disaggregated Balance'!AB94:AR94)","v":0},{"$f":"SUM('Disaggregated Balance'!AS94)","v":0},{"$f":"'Disaggregated Balance'!BE94","v":0},{"$f":"'Disaggregated Balance'!BF94","v":0},{"$f":"'Disaggregated Balance'!BG94","v":0},{"$f":"SUM('Disaggregated Balance'!BH94:BL94)","v":0},{"$f":"SUM('Disaggregated Balance'!AT94:BD94)","v":0},{"$f":"'Disaggregated Balance'!BM94","v":0},{"$f":"'Disaggregated Balance'!BN94","v":0},{"$f":"'Disaggregated Balance'!BO94","v":0},0]
[{"$f":"'Disaggregated Balance'!A95","v":"Heat output-main activity producer heat plant"},{"$f":"SUM('Disaggregated Balance'!E95:S95)","v":0},{"$f":"SUM('Disaggregated Balance'!T95:U95)","v":0},{"$f":"'Disaggregated Balance'!V95","v":0},{"$f":"SUM('Disaggregated Balance'!W95:AA95)","v":0},{"$f":"SUM('Disaggregated Balance'!AB95:AR95)","v":0},{"$f":"SUM('Disaggregated Balance'!AS95)","v":0},{"$f":"'Disaggregated Balance'!BE95","v":0},{"$f":"'Disaggregated Balance'!BF95","v":0},{"$f":"'Disaggregated Balance'!BG95","v":0},{"$f":"SUM('Disaggregated Balance'!BH95:BL95)","v":0},{"$f":"SUM('Disaggregated Balance'!AT95:BD95)","v":0},{"$f":"'Disaggregated Balance'!BM95","v":0},{"$f":"'Disaggregated Balance'!BN95","v":0},{"$f":"'Disaggregated Balance'!BO95","v":0},0]
[{"$f":"'Disaggregated Balance'!A96","v":"Heat output-autoproducer heat plants"},{"$f":"SUM('Disaggregated Balance'!E96:S96)","v":0},{"$f":"SUM('Disaggregated Balance'!T96:U96)","v":0},{"$f":"'Disaggregated Balance'!V96","v":0},{"$f":"SUM('Disaggregated Balance'!W96:AA96)","v":0},{"$f":"SUM('Disaggregated Balance'!AB96:AR96)","v":0},{"$f":"SUM('Disaggregated Balance'!AS96)","v":0},{"$f":"'Disaggregated Balance'!BE96","v":0},{"$f":"'Disaggregated Balance'!BF96","v":0},{"$f":"'Disaggregated Balance'!BG96","v":0},{"$f":"SUM('Disaggregated Balance'!BH96:BL96)","v":0},{"$f":"SUM('Disaggregated Balance'!AT96:BD96)","v":0},{"$f":"'Disaggregated Balance'!BM96","v":0},{"$f":"'Disaggregated Balance'!BN96","v":0},{"$f":"'Disaggregated Balance'!BO96","v":0},0]
[{"$f":"HEATOUT","v":"Heat output in TJ"},{"$f":"SUM(B66:B69)","v":0},{"$f":"SUM(C66:C69)","v":0},0,0,0,0,0,0,0,0,0,{"$f":"SUM(M66:M69)","v":0},{"$f":"SUM(N66:N69)","v":0},{"$f":"SUM(O66:O69)","v":0},0]
[{"$f":"'Disaggregated Balance'!A100","v":"Efficiencies"}]
[{"$f":"'Disaggregated Balance'!A101","v":"Main activity electricity plants"},{"$f":"IF(B12<>0,ABS((B62*3.6)/B12),\"-\")","v":"-"},"-","-","-",0.31668351870576339,"-","-",1,"-",1,"-"]
[{"$f":"'Disaggregated Balance'!A102","v":"Autoproducer electricity plants"},{"$f":"IF(B13<>0,ABS((B63*3.6)/B13),\"-\")","v":"-"},"-","-","-",0.24069767441860465,"-","-","-","-","-","-"]
[{"$f":"'Disaggregated Balance'!A103","v":"Main activity producer CHP plants"},{"$f":"IF(B14<>0,ABS(((B66*1)+(B64*3.6))/B14),\"-\")","v":"-"},"-","-","-","-","-","-","-","-","-","-"]
[{"$f":"'Disaggregated Balance'!A104","v":"Autoproducer CHP plants"},{"$f":"IF(B15<>0,ABS(((B67*1)+(B65*3.6))/B15),\"-\")","v":"-"},"-","-","-","-","-","-","-","-","-","-"]
[{"$f":"'Disaggregated Balance'!A105","v":"Main activity producer heat plants"},{"$f":"IF(B16<>0,ABS((B68*1)/B16),\"-\")","v":"-"},"-","-","-","-","-","-","-","-","-","-"]
[{"$f":"'Disaggregated Balance'!A106","v":"Autoproducer heat plants"},{"$f":"IF(B17<>0,ABS((B69*1)/B17),\"-\")","v":"-"},"-","-","-","-","-","-","-","-","-","-"]

{"sheet":"CF formulas","index":11,"n_rows":171,"n_cols":17,"rows_kept":171,"cut":false,"hidden":true,"merged":[]}
["Conversion factors","HIDE"]
[{"$f":" CountryName&\"  \"&DataYear","v":"Statisland  2023"},null,"Net Calorific Values (kJ/kg)"]
[null,null,"Average NCV","Production","Other Sources","Imports","Exports","Coke Ovens","Blast Furnaces","Main Activity Producers","Autoproducer Elect. Plants","Main Activity CHP Plants","Autoproducer CHP Plants","Main Activity Heat Plants","Autoproducer Heat Plants","Industry","Other Uses  "]
["HIDE","SHORT NAME","NAVERAGE","NINDPROD","NOSOURCES","NIMPORTS","NEXPORTS","NCOKEOVS","NBLAST","NMAIN","NAUTOELEC","NMAINCHP","NAUTOCHP","NMAINHEAT","NAUTOHEAT","NIND","NOTHER"]
["Anthracite","ANTCOAL",{"$f":"ROUND(IF('DPU formulas'!C$5+'DPU formulas'!C$6+'DPU formulas'!C$11+'DPU formulas'!C$13+'DPU formulas'!C$12,(D5*'DPU formulas'!C$5+E5*'DPU formulas'!C$6+F5*'DPU formulas'!C$11+G5*'DPU formulas'!C$12+Q5*'DPU formulas'!C$13)/('DPU formulas'!C$5+'DPU formulas'!C$6+'DPU formulas'!C$11+'DPU formulas'!C$13+'DPU formulas'!C$12),D5),)","v":0},{"$f":"Coal_Table_4!E7","v":0},{"$f":"Coal_Table_4!E7","v":0},{"$f":"Coal_Table_4!E9","v":0},{"$f":"Coal_Table_4!E11","v":0},{"$f":"Coal_Table_4!E13","v":0},{"$f":"Coal_Table_4!E15","v":0},{"$f":"Coal_Table_4!$E$17","v":0},{"$f":"Coal_Table_4!$E$19","v":0},{"$f":"Coal_Table_4!$E$17","v":0},{"$f":"Coal_Table_4!$E$19","v":0},{"$f":"Coal_Table_4!$E$17","v":0},{"$f":"Coal_Table_4!$E$19","v":0},{"$f":"Coal_Table_4!$E$19","v":0},{"$f":"Coal_Table_4!E21","v":0}]
["Coking Coal","COKCOAL",{"$f":"ROUND(IF('DPU formulas'!D$5+'DPU formulas'!D$6+'DPU formulas'!D$11+'DPU formulas'!D$13+'DPU formulas'!D$12,(D6*'DPU formulas'!D$5+E6*'DPU formulas'!D$6+F6*'DPU formulas'!D$11+G6*'DPU formulas'!D$12+Q6*'DPU formulas'!D$13)/('DPU formulas'!D$5+'DPU formulas'!D$6+'DPU formulas'!D$11+'DPU formulas'!D$13+'DPU formulas'!D$12),D6),)","v":0},{"$f":"Coal_Table_4!F7","v":0},{"$f":"Coal_Table_4!F7","v":0},{"$f":"Coal_Table_4!F9","v":0},{"$f":"Coal_Table_4!F11","v":0},{"$f":"Coal_Table_4!F13","v":0},{"$f":"Coal_Table_4!F15","v":0},{"$f":"Coal_Table_4!$F$17","v":0},{"$f":"Coal_Table_4!$F$19","v":0},{"$f":"Coal_Table_4!$F$17","v":0},{"$f":"Coal_Table_4!$F$19","v":0},{"$f":"Coal_Table_4!$F$17","v":0},{"$f":"Coal_Table_4!$F$19","v":0},{"$f":"Coal_Table_4!$F$19","v":0},{"$f":"Coal_Table_4!F21","v":0}]
["Other Bituminous Coal","BITCOAL",{"$f":"ROUND(IF('DPU formulas'!E$5+'DPU formulas'!E$6+'DPU formulas'!E$11+'DPU formulas'!E$13+'DPU formulas'!E$12,(D7*'DPU formulas'!E$5+E7*'DPU formulas'!E$6+F7*'DPU formulas'!E$11+G7*'DPU formulas'!E$12+Q7*'DPU formulas'!E$13)/('DPU formulas'!E$5+'DPU formulas'!E$6+'DPU formulas'!E$11+'DPU formulas'!E$13+'DPU formulas'!E$12),D7),)","v":0},{"$f":"Coal_Table_4!G7","v":0},{"$f":"Coal_Table_4!G7","v":0},{"$f":"Coal_Table_4!G9","v":0},{"$f":"Coal_Table_4!G11","v":0},{"$f":"Coal_Table_4!G13","v":0},{"$f":"Coal_Table_4!G15","v":0},{"$f":"Coal_Table_4!$G$17","v":0},{"$f":"Coal_Table_4!$G$19","v":0},{"$f":"Coal_Table_4!$G$17","v":0},{"$f":"Coal_Table_4!$G$19","v":0},{"$f":"Coal_Table_4!$G$17","v":0},{"$f":"Coal_Table_4!$G$19","v":0},{"$f":"Coal_Table_4!$G$19","v":0},{"$f":"Coal_Table_4!G21","v":0}]
["Sub+Bituminous Coal","SUBCOAL",{"$f":"ROUND(IF('DPU formulas'!F$5+'DPU formulas'!F$6+'DPU formulas'!F$11+'DPU formulas'!F$13+'DPU formulas'!F$12,(D8*'DPU formulas'!F$5+E8*'DPU formulas'!F$6+F8*'DPU formulas'!F$11+G8*'DPU formulas'!F$12+Q8*'DPU formulas'!F$13)/('DPU formulas'!F$5+'DPU formulas'!F$6+'DPU formulas'!F$11+'DPU formulas'!F$13+'DPU formulas'!F$12),D8),)","v":0},{"$f":"Coal_Table_4!H7","v":0},{"$f":"Coal_Table_4!H7","v":0},{"$f":"Coal_Table_4!H9","v":0},{"$f":"Coal_Table_4!H11","v":0},{"$f":"Coal_Table_4!H13","v":0},{"$f":"Coal_Table_4!H15","v":0},{"$f":"Coal_Table_4!$H$17","v":0},{"$f":"Coal_Table_4!$H$19","v":0},{"$f":"Coal_Table_4!$H$17","v":0},{"$f":"Coal_Table_4!$H$19","v":0},{"$f":"Coal_Table_4!$H$17","v":0},{"$f":"Coal_Table_4!$H$19","v":0},{"$f":"Coal_Table_4!$H$19","v":0},{"$f":"Coal_Table_4!H21","v":0}]
["Lignite/Brown Coal","LIGNITE",{"$f":"ROUND(IF('DPU formulas'!G$5+'DPU formulas'!G$6+'DPU formulas'!G$11+'DPU formulas'!G$13+'DPU formulas'!G$12,(D9*'DPU formulas'!G$5+E9*'DPU formulas'!G$6+F9*'DPU formulas'!G$11+G9*'DPU formulas'!G$12+Q9*'DPU formulas'!G$13)/('DPU formulas'!G$5+'DPU formulas'!G$6+'DPU formulas'!G$11+'DPU formulas'!G$13+'DPU formulas'!G$12),D9),)","v":0},{"$f":"Coal_Table_4!I7","v":0},{"$f":"Coal_Table_4!I7","v":0},{"$f":"Coal_Table_4!I9","v":0},{"$f":"Coal_Table_4!I11","v":0},{"$f":"Coal_Table_4!I13","v":0},{"$f":"Coal_Table_4!I15","v":0},{"$f":"Coal_Table_4!$I$17","v":0},{"$f":"Coal_Table_4!$I$19","v":0},{"$f":"Coal_Table_4!$I$17","v":0},{"$f":"Coal_Table_4!$I$19","v":0},{"$f":"Coal_Table_4!$I$17","v":0},{"$f":"Coal_Table_4!$I$19","v":0},{"$f":"Coal_Table_4!$I$19","v":0},{"$f":"Coal_Table_4!I21","v":0}]
["Patent Fuel","PATFUEL",{"$f":"ROUND(IF('DPU formulas'!H$5+'DPU formulas'!H$6+'DPU formulas'!H$11+'DPU formulas'!H$13+'DPU formulas'!H$12,(D10*'DPU formulas'!H$5+E10*'DPU formulas'!H$6+F10*'DPU formulas'!H$11+G10*'DPU formulas'!H$12+Q10*'DPU formulas'!H$13)/('DPU formulas'!H$5+'DPU formulas'!H$6+'DPU formulas'!H$11+'DPU formulas'!H$13+'DPU formulas'!H$12),D10),)","v":0},{"$f":"Coal_Table_4!J7","v":0},{"$f":"Coal_Table_4!J7","v":0},{"$f":"Coal_Table_4!J9","v":0},{"$f":"Coal_Table_4!J11","v":0},{"$f":"Coal_Table_4!J13","v":0},{"$f":"Coal_Table_4!J15","v":0},{"$f":"Coal_Table_4!$J$17","v":0},{"$f":"Coal_Table_4!$J$19","v":0},{"$f":"Coal_Table_4!$J$17","v":0},{"$f":"Coal_Table_4!$J$19","v":0},{"$f":"Coal_Table_4!$J$17","v":0},{"$f":"Coal_Table_4!$J$19","v":0},{"$f":"Coal_Table_4!$J$19","v":0},{"$f":"Coal_Table_4!J21","v":0}]
["Coke Oven Coke","OVENCOKE",{"$f":"ROUND(IF('DPU formulas'!I$5+'DPU formulas'!I$6+'DPU formulas'!I$11+'DPU formulas'!I$13+'DPU formulas'!I$12,(D11*'DPU formulas'!I$5+E11*'DPU formulas'!I$6+F11*'DPU formulas'!I$11+G11*'DPU formulas'!I$12+Q11*'DPU formulas'!I$13)/('DPU formulas'!I$5+'DPU formulas'!I$6+'DPU formulas'!I$11+'DPU formulas'!I$13+'DPU formulas'!I$12),D11),)","v":0},{"$f":"Coal_Table_4!K7","v":0},{"$f":"Coal_Table_4!K7","v":0},{"$f":"Coal_Table_4!K9","v":0},{"$f":"Coal_Table_4!K11","v":0},{"$f":"Coal_Table_4!K13","v":0},{"$f":"Coal_Table_4!K15","v":0},{"$f":"Coal_Table_4!$K$17","v":0},{"$f":"Coal_Table_4!$K$19","v":0},{"$f":"Coal_Table_4!$K$17","v":0},{"$f":"Coal_Table_4!$K$19","v":0},{"$f":"Coal_Table_4!$K$17","v":0},{"$f":"Coal_Table_4!$K$19","v":0},{"$f":"Coal_Table_4!$K$19","v":0},{"$f":"Coal_Table_4!K21","v":0}]
["Gas Coke","GASCOKE",{"$f":"ROUND(IF('DPU formulas'!J$5+'DPU formulas'!J$6+'DPU formulas'!J$11+'DPU formulas'!J$13+'DPU formulas'!J$12,(D12*'DPU formulas'!J$5+E12*'DPU formulas'!J$6+F12*'DPU formulas'!J$11+G12*'DPU formulas'!J$12+Q12*'DPU formulas'!J$13)/('DPU formulas'!J$5+'DPU formulas'!J$6+'DPU formulas'!J$11+'DPU formulas'!J$13+'DPU formulas'!J$12),D12),)","v":0},{"$f":"Coal_Table_4!L7","v":0},{"$f":"Coal_Table_4!L7","v":0},{"$f":"Coal_Table_4!L9","v":0},{"$f":"Coal_Table_4!L11","v":0},{"$f":"Coal_Table_4!L13","v":0},{"$f":"Coal_Table_4!L15","v":0},{"$f":"Coal_Table_4!$L$17","v":0},{"$f":"Coal_Table_4!$L$19","v":0},{"$f":"Coal_Table_4!$L$17","v":0},{"$f":"Coal_Table_4!$L$19","v":0},{"$f":"Coal_Table_4!$L$17","v":0},{"$f":"Coal_Table_4!$L$19","v":0},{"$f":"Coal_Table_4!$L$19","v":0},{"$f":"Coal_Table_4!L21","v":0}]
["Coal Tar","COALTAR",{"$f":"ROUND(IF('DPU formulas'!K$5+'DPU formulas'!K$6+'DPU formulas'!K$11+'DPU formulas'!K$13+'DPU formulas'!K$12,(D13*'DPU formulas'!K$5+E13*'DPU formulas'!K$6+F13*'DPU formulas'!K$11+G13*'DPU formulas'!K$12+Q13*'DPU formulas'!K$13)/('DPU formulas'!K$5+'DPU formulas'!K$6+'DPU formulas'!K$11+'DPU formulas'!K$13+'DPU formulas'!K$12),D13),)","v":0},{"$f":"Coal_Table_4!M7","v":0},{"$f":"Coal_Table_4!M7","v":0},{"$f":"Coal_Table_4!M9","v":0},{"$f":"Coal_Table_4!M11","v":0},{"$f":"Coal_Table_4!M13","v":0},{"$f":"Coal_Table_4!M15","v":0},{"$f":"Coal_Table_4!$M$17","v":0},{"$f":"Coal_Table_4!$M$19","v":0},{"$f":"Coal_Table_4!$M$17","v":0},{"$f":"Coal_Table_4!$M$19","v":0},{"$f":"Coal_Table_4!$M$17","v":0},{"$f":"Coal_Table_4!$M$19","v":0},{"$f":"Coal_Table_4!$M$19","v":0},{"$f":"Coal_Table_4!M21","v":0}]
["BKB/Peat Briquettes","BKB",{"$f":"ROUND(IF('DPU formulas'!L$5+'DPU formulas'!L$6+'DPU formulas'!L$11+'DPU formulas'!L$13+'DPU formulas'!L$12,(D14*'DPU formulas'!L$5+E14*'DPU formulas'!L$6+F14*'DPU formulas'!L$11+G14*'DPU formulas'!L$12+Q14*'DPU formulas'!L$13)/('DPU formulas'!L$5+'DPU formulas'!L$6+'DPU formulas'!L$11+'DPU formulas'!L$13+'DPU formulas'!L$12),D14),)","v":0},{"$f":"Coal_Table_4!N7","v":0},{"$f":"Coal_Table_4!N7","v":0},{"$f":"Coal_Table_4!N9","v":0},{"$f":"Coal_Table_4!N11","v":0},{"$f":"Coal_Table_4!N13","v":0},{"$f":"Coal_Table_4!N15","v":0},{"$f":"Coal_Table_4!$N$17","v":0},{"$f":"Coal_Table_4!$N$19","v":0},{"$f":"Coal_Table_4!$N$17","v":0},{"$f":"Coal_Table_4!$N$19","v":0},{"$f":"Coal_Table_4!$N$17","v":0},{"$f":"Coal_Table_4!$N$19","v":0},{"$f":"Coal_Table_4!$N$19","v":0},{"$f":"Coal_Table_4!N21","v":0}]
["Peat","PEAT",{"$f":"ROUND(IF('DPU formulas'!R$5+'DPU formulas'!R$6+'DPU formulas'!R$11+'DPU formulas'!R$13+'DPU formulas'!R$12,(D15*'DPU formulas'!R$5+E15*'DPU formulas'!R$6+F15*'DPU formulas'!R$11+G15*'DPU formulas'!R$12+Q15*'DPU formulas'!R$13)/('DPU formulas'!R$5+'DPU formulas'!R$6+'DPU formulas'!R$11+'DPU formulas'!R$13+'DPU formulas'!R$12),D15),)","v":0},{"$f":"Coal_Table_4!O$7","v":0},{"$f":"Coal_Table_4!O$7","v":0},{"$f":"Coal_Table_4!O$9","v":0},{"$f":"Coal_Table_4!O$11","v":0},{"$f":"Coal_Table_4!O$13","v":0},{"$f":"Coal_Table_4!O$15","v":0},{"$f":"Coal_Table_4!$O$17","v":0},{"$f":"Coal_Table_4!$O$19","v":0},{"$f":"Coal_Table_4!$O$17","v":0},{"$f":"Coal_Table_4!$O$19","v":0},{"$f":"Coal_Table_4!$O$17","v":0},{"$f":"Coal_Table_4!$O$19","v":0},{"$f":"Coal_Table_4!$O$19","v":0},{"$f":"Coal_Table_4!O$21","v":0}]
["Peat Products","PEATPROD",{"$f":"ROUND(IF('DPU formulas'!S$5+'DPU formulas'!S$6+'DPU formulas'!S$11+'DPU formulas'!S$13+'DPU formulas'!S$12,(D16*'DPU formulas'!S$5+E16*'DPU formulas'!S$6+F16*'DPU formulas'!S$11+G16*'DPU formulas'!S$12+Q16*'DPU formulas'!S$13)/('DPU formulas'!S$5+'DPU formulas'!S$6+'DPU formulas'!S$11+'DPU formulas'!S$13+'DPU formulas'!S$12),D16),)","v":0},{"$f":"Coal_Table_4!P$7","v":0},{"$f":"Coal_Table_4!P$7","v":0},{"$f":"Coal_Table_4!P$9","v":0},{"$f":"Coal_Table_4!P$11","v":0},{"$f":"Coal_Table_4!P$13","v":0},{"$f":"Coal_Table_4!P$15","v":0},{"$f":"Coal_Table_4!$P$17","v":0},{"$f":"Coal_Table_4!$P$19","v":0},{"$f":"Coal_Table_4!$P$17","v":0},{"$f":"Coal_Table_4!$P$19","v":0},{"$f":"Coal_Table_4!$P$17","v":0},{"$f":"Coal_Table_4!$P$19","v":0},{"$f":"Coal_Table_4!$P$19","v":0},{"$f":"Coal_Table_4!P$21","v":0}]
["Oilshale and Oil Sands","OILSHALE",{"$f":"ROUND(IF('DPU formulas'!T$5+'DPU formulas'!T$6+'DPU formulas'!T$11+'DPU formulas'!T$13+'DPU formulas'!T$12,(D17*'DPU formulas'!T$5+E17*'DPU formulas'!T$6+F17*'DPU formulas'!T$11+G17*'DPU formulas'!T$12+Q17*'DPU formulas'!T$13)/('DPU formulas'!T$5+'DPU formulas'!T$6+'DPU formulas'!T$11+'DPU formulas'!T$13+'DPU formulas'!T$12),D17),)","v":0},{"$f":"Coal_Table_4!Q$7","v":0},{"$f":"Coal_Table_4!Q$7","v":0},{"$f":"Coal_Table_4!Q$9","v":0},{"$f":"Coal_Table_4!Q$11","v":0},{"$f":"Coal_Table_4!Q$13","v":0},{"$f":"Coal_Table_4!Q$15","v":0},{"$f":"Coal_Table_4!$Q$17","v":0},{"$f":"Coal_Table_4!$Q$19","v":0},{"$f":"Coal_Table_4!$Q$17","v":0},{"$f":"Coal_Table_4!$Q$19","v":0},{"$f":"Coal_Table_4!$Q$17","v":0},{"$f":"Coal_Table_4!$Q$19","v":0},{"$f":"Coal_Table_4!$Q$19","v":0},{"$f":"Coal_Table_4!Q$21","v":0}]
["Crude Oil","CRUDEOIL",{"$f":"Oil_Table_1!E30","v":0},{"$f":"Oil_Table_1!E27","v":0},"not used",{"$f":"Oil_Table_1!E28","v":0},{"$f":"Oil_Table_1!E29","v":0}]
["Natural Gas Liquids","NGL",{"$f":"Oil_Table_1!F30","v":0},{"$f":"Oil_Table_1!F27","v":0},"not used",{"$f":"Oil_Table_1!F28","v":0},{"$f":"Oil_Table_1!F29","v":0}]
["Refinery Feedstocks","REFFEEDS",{"$f":"Oil_Table_1!G30","v":0},{"$f":"Oil_Table_1!G27","v":0},"not used",{"$f":"Oil_Table_1!G28","v":0},{"$f":"Oil_Table_1!G29","v":0}]
["Additives/Blending Comp","ADDITIVE",{"$f":"Oil_Table_1!H30","v":0},{"$f":"Oil_Table_1!H27","v":0},"not used",{"$f":"Oil_Table_1!H28","v":0},{"$f":"Oil_Table_1!H29","v":0}]
["Other Hydrocarbons","NONCRUDE",{"$f":"Oil_Table_1!J30","v":0},{"$f":"Oil_Table_1!J27","v":0},"not used",{"$f":"Oil_Table_1!J28","v":0},{"$f":"Oil_Table_1!J29","v":0}]
["Refinery Gas","REFINGAS",{"$f":"INDEX(G103:T103,IF(ISNA($D$101),4,$D$101))","v":48100}]
["Ethane","ETHANE",{"$f":"INDEX(G104:T104,IF(ISNA($D$101),4,$D$101))","v":49400}]
["Liquefied Petroleum Gases","LPG",47300]
["Motor Gasoline excl. bio","NONBIOGASO",44800]
["Aviation Gasoline","AVGAS",44800,null,"See the table below (starting row 100) for selecting the appropriate calorific values for oil products!"]
["Gasoline Type Jet Fuel","JETGAS",44800]
["Kerosene Type Jet Fuel excl. bio","NONBIOJETK",44600]
["Kerosene","OTHKERO",43800]
["Gas/Diesel Oil  excl. bio","NONBIODIES",43300]
["Fuel Oil","RESFUEL",40200]
["Naphtha","NAPHTHA",45000]
["White Spirit","WHITESP",43000]
["Lubricants","LUBRIC",42000]
["Bitumen","BITUMEN",39000]
["Paraffin Waxes","PARWAX",40000]
["Petroleum Coke","PETCOKE",32000]
["Non+specified Oil Products","ONONSPEC",40000]
["Biogasoline                     ","BIOGASOL",{"$f":"IF(Ren_Table_3a!E63,Ren_Table_3a!E63,26800)","v":26800}]
["Bio Jet Kerosene","BIOJETKERO",{"$f":"IF(Ren_Table_3a!E66,Ren_Table_3a!E66,44600)","v":44600}]
["Biodiesels                      ","BIODIESEL",{"$f":"IF(Ren_Table_3a!E65,Ren_Table_3a!E65,36800)","v":36800}]
["Other Liquid Biofuels           ","OBIOLIQ",{"$f":"IF(Ren_Table_3a!E67,Ren_Table_3a!E67,36800)","v":36800}]
["Charcoal                        ","CHARCOAL",{"$f":"IF(Ren_Table_3a!E68,Ren_Table_3a!E68,30800)","v":30800}]
[]
[]
[]
[]
[]
[]
[]
[]
[]
[]
[]
[]
[]
[]
[]
[]
[]
[]
[]
[]
[]
[]
[]
[]
[]
[]
[]
[]
[]
[]
[]
[]
[]
[]
[]
[]
[]
[]
[]
[]
[]
[]
[]
[]
[]
[]
[]
[]
[]
[]
[]
[]
[]
[]
[]
[null,null,"Country:",{"$f":"CountryName","v":"Statisland"},null,"Table lookup for default NCVs for petroleum products by region"]
[null,null,"Region where country belongs to:",{"$f":"IF(ISNA(VLOOKUP(CountryName,$C$103:$D$176,2,FALSE)),4,VLOOKUP(CountryName,$C$103:$D$176,2,FALSE))","v":4},null,null,1,2,3,4,5,6,7,8,9,10,11]
[null,null,"Country allocation by regions (sort alphabetically):",null,null,null,"Europe","Americas","Asia Oceania","Non-OECD","Algeria","Brazil","China","Malaysia","South Africa","Tunisia","Ukraine"]
[null,null,"Albania",1,null,"Refinery Gas",49500,48100,48100,48100,48100,35008,46055,48100,48100,48100,49500]
[null,null,"Algeria",5,null,"Ethane",49500,49400,49400,49400,49400,49400,49400,49400,49400,49400,49500]
[null,null,"Armenia",1,null,"Liquefied Petroleum Gases",46000,47300,47700,47300,49404,46473,50242,45544,46767,46306,46000]
[null,null,"Australia",3,null,"Motor Gasoline excl. bio",44000,44800,44600,44800,44800,43543,43124,43961,44045,43878,44000]
[null,null,"Austria",1,null,"Aviation Gasoline",44000,44800,44600,44800,44800,44380,43124,43961,45552,43878,44000]
[null,null,"Azerbaijan",1,null,"Gasoline Type Jet Fuel",43000,44800,44600,44800,44800,44800,43124,44800,40738,43878,43000]
[null,null,"Belarus",1,null,"Kerosene Type Jet Fuel excl. bio",43000,44600,44500,44600,44600,43543,43124,43199,41073,43333,43000]
[null,null,"Belgium",1,null,"Kerosene",43000,43800,42900,43800,43800,43543,43124,43208,43250,43208,43000]
[null,null,"Bosnia and Herzegovina",1,null,"Gas/Diesel Oil  excl. bio",42600,42600,42600,43300,43300,42267,42705,42496,42915,42998,42600]
[null,null,"Brazil",6,null,"Fuel Oil",40000,40200,42600,40200,40200,40068,41868,41500,41826,40989,40000]
[null,null,"Bulgaria",1,null,"Naphtha",44000,45000,43200,45000,45000,44506,43124,44129,44924,44129,44000]
[null,null,"Canada",2,null,"White Spirit",43600,43000,43000,43000,43000,47060,38519,43208,42496,43585,43600]
[null,null,"Chile",2,null,"Lubricants",42000,42000,42900,42000,42000,41372,38519,42140,42000,42705,42000]
[null,null,"Croatia",1,null,"Bitumen",39000,40000,38800,39000,39000,40828,39000,41800,39000,42705,39000]
[null,null,"Cyprus",1,null,"Paraffin Waxes",40000,40000,40000,40000,40000,40000,40000,43333,40000,40000,40000]
[null,null,"Czech Republic",1,null,"Petroleum Coke",32000,32000,33800,32000,32000,35007,32000,36400,32000,32000,32000]
[null,null,"Denmark",1,null,"Non+specified Oil Products",40000,40000,40000,40000,40000,40763,38519,42496,40000,42705,40000]
[null,null,"Estonia",1]
[null,null,"Finland",1]
[null,null,"Former Yugoslav Republic of Macedonia",1]
[null,null,"France",1]
[null,null,"Georgia",1]
[null,null,"Germany",1]
[null,null,"Gibraltar",1]
[null,null,"Greece",1]
[null,null,"Hungary",1]
[null,null,"Iceland",1]
[null,null,"India",4]
[null,null,"Ireland",1]
[null,null,"Israel",3]
[null,null,"Italy",1]
[null,null,"Japan",3]
[null,null,"Kazakhstan",1]
[null,null,"Korea",3]
[null,null,"Kosovo",1]
[null,null,"Kyrgyzstan",1]
[null,null,"Latvia",1]
[null,null,"Lithuania",1]
[null,null,"Luxembourg",1]
[null,null,"Malaysia",8]
[null,null,"Malta",1]
[null,null,"Mexico",2]
[null,null,"Moldova, Republic of",1]
[null,null,"Montenegro",1]
[null,null,"Morocco",4]
[null,null,"Netherlands",1]
[null,null,"New Zealand",3]
[null,null,"Norway",1]
[null,null,"People's Republic of China",7]
[null,null,"Poland",1]
[null,null,"Portugal",1]
[null,null,"Romania",1]
[null,null,"Russian Federation",1]
[null,null,"Serbia",1]
[null,null,"Slovak Republic",1]
[null,null,"Slovenia",1]
[null,null,"South Africa",9]
[null,null,"Spain",1]
[null,null,"Statisland",4]
[null,null,"Sweden",1]
[null,null,"Switzerland",1]
[null,null,"Tajikistan",1]
[null,null,"Tunisia",10]
[null,null,"Turkey",1]
[null,null,"Turkmenistan",1]
[null,null,"Ukraine",11]
[null,null,"United Kingdom",1]
[null,null,"United States",2]
[null,null,"Uzbekistan",1]

{"sheet":"DPU formulas","index":12,"n_rows":106,"n_cols":68,"rows_kept":106,"cut":false,"hidden":true,"merged":[]}
["Data in physical units"]
[null,null,"Coal (kt)",null,null,null,null,null,null,null,null,null,"Coal Gases (TJ gross)",null,null,null,null,"Peat\n(kt)","Peat Products (kt)","Oilshale and Oil Sands (kt)","Oil (kt)",null,null,null,null,"Oil products (kt)",null,null,null,null,null,null,null,null,null,null,null,null,null,null,null,null,"Natural Gas (TJ-gross)","Biofuels and Waste",null,null,null,null,null,null,null,null,null,null,"Electricity and Heat"]
[{"$f":" CountryName & \" \"& DataYear","v":"Statisland 2023"},null,"Anthracite","Coking Coal","Other Bituminous Coal","Sub-Bituminous Coal","Lignite","Patent Fuel","Coke Oven Coke ","Gas Coke","Coal Tar ","BKB","Gas Works Gas","Coke Oven Gas","Blast Furnace Gas","Other Recovered Gases","Elec/Heat Output from non-spec. Manuf. Gases",null,null,null,"Crude Oil","Natural Gas Liquids ","Refinery Feedstocks","Additives/\nBlending Components","Other Hydrocarbons","Refinery Gas ","Ethane","Liquefied Petroleum Gases (LPG)","Motor Gasoline","Aviation Gasoline","Gasoline Type Jet Fuel","Kerosene Type Jet Fuel","Other Kerosene","Gas/Diesel Oil","Fuel Oil ","Naphtha","White Spirit & SBP","Lubricants","Bitumen ","Paraffin Waxes ","Petroleum Coke ","Non-specified Oil Products",null,"Industrial Waste\n(TJ-net)","Municipal Waste (Renew)\n(TJ-net)","Municipal Waste\n(Non-Renew)\n(TJ-net)","Primary Solid Biofuels \n(TJ-net)","Biogases\n(TJ-net)","Biogasoline (kt)","Bio Jet Kerosene (kt)","Biodiesels \n(kt)","Other Liquid Biofuels \n(kt)","Non-specified primary B/W\n(TJ-net)","Charcoal \n(kt)","Nuclear","Hydro","Geothermal \n(TJ)","Solar Photovoltaics","Solar Thermal \n(TJ)","Tide, Wave and Ocean","Wind","Heat Pumps","Electric Boilers","Heat from Chemical Sources","Other Sources","Electricity (GWh)","Heat\n(TJ)","Heat Output from non-specified comb. fuels"]
[null,"SHORT NAMES","ANTCOAL","COKCOAL","BITCOAL","SUBCOAL","LIGNITE","PATFUEL","OVENCOKE","GASCOKE","COALTAR","BKB","GASWKSGS","COKEOVGS","BLFURGS","OGASES","MANGAS","PEAT","PEATPROD","OILSHALE","CRUDEOIL","NGL","REFFEEDS","ADDITIVE","NONCRUDE","REFINGAS","ETHANE","LPG","MOTORGAS","AVGAS","JETGAS","JETKERO","OTHKERO","GASDIES","RESFUEL","NAPHTHA","WHITESP","LUBRIC","BITUMEN","PARWAX","PETCOKE","ONONSPEC","NATGAS","INDWASTE","MUNWASTER","MUNWASTEN","PRIMSBIO","BIOGASES","BIOGASOL","BIOJETKERO","BIODIESEL","OBIOLIQ","RENEWNS","CHARCOAL","NUCLEAR","HYDRO","GEOTHERM","SOLARPV","SOLARTH","TIDE","WIND","HEATPUMP","BOILER","CHEMHEAT","OTHER","ELECTR","HEAT","HEATNS"]
["Production","INDPROD",{"$f":"Coal_Table_1!E6","v":0},{"$f":"Coal_Table_1!F6","v":0},{"$f":"Coal_Table_1!G6","v":0},{"$f":"Coal_Table_1!H6","v":0},{"$f":"Coal_Table_1!I6","v":0},{"$f":"Coal_Table_1!J6","v":0},{"$f":"Coal_Table_1!K6","v":0},{"$f":"Coal_Table_1!L6","v":0},{"$f":"Coal_Table_1!M6","v":0},{"$f":"Coal_Table_1!N6","v":0},{"$f":"Coal_Table_1!O6","v":0},{"$f":"Coal_Table_1!P6","v":0},{"$f":"Coal_Table_1!Q6","v":0},{"$f":"Coal_Table_1!R6","v":0},null,{"$f":"Coal_Table_1!S6","v":0},{"$f":"Coal_Table_1!T6","v":0},{"$f":"Coal_Table_1!U6","v":0},{"$f":"Oil_Table_1!E10","v":0},{"$f":"Oil_Table_1!F10","v":0},0,{"$f":"Oil_Table_1!H10","v":0},{"$f":"Oil_Table_1!J10","v":0},{"$f":"Oil_Table_2a!G12","v":0},{"$f":"Oil_Table_2a!H12","v":0},{"$f":"Oil_Table_2a!I12","v":0},{"$f":"Oil_Table_2a!M12","v":0},{"$f":"Oil_Table_2a!N12","v":0},{"$f":"Oil_Table_2a!O12","v":0},{"$f":"Oil_Table_2a!R12","v":0},{"$f":"Oil_Table_2a!S12","v":0},{"$f":"Oil_Table_2a!X12","v":0},{"$f":"Oil_Table_2a!Y12","v":0},{"$f":"Oil_Table_2a!J12","v":0},{"$f":"Oil_Table_2a!AB12","v":0},{"$f":"Oil_Table_2a!AC12","v":0},{"$f":"Oil_Table_2a!AD12","v":0},{"$f":"Oil_Table_2a!AE12","v":0},{"$f":"Oil_Table_2a!AF12","v":0},{"$f":"Oil_Table_2a!AG12","v":0},{"$f":"Gas_Table_1!F6","v":0},{"$f":"Ren_Table_2a!G8","v":0},{"$f":"Ren_Table_2a!H8","v":0},{"$f":"Ren_Table_2a!I8","v":0},{"$f":"Ren_Table_2a!J8","v":0},{"$f":"Ren_Table_2a!L8","v":0},{"$f":"Ren_Table_2a!M8","v":0},{"$f":"ROUND(Ren_Table_2a!O8, 3)","v":0},{"$f":"ROUND(Ren_Table_2a!P8,3)","v":0},{"$f":"ROUND(Ren_Table_2a!Q8,3)","v":0},null,{"$f":"Ren_Table_2a!K8","v":0},null,null,{"$f":"Ren_Table_2a!E8","v":0},null,{"$f":"Ren_Table_2a!F8","v":0},null,null,null,null,null,null,{"$f":"Ele_Table_3!F6","v":0},{"$f":"Ele_Table_3!G6","v":0}]
["From other sources - coal","OSCOAL",{"$f":"Coal_Table_1!E9","v":0},{"$f":"Coal_Table_1!F9","v":0},{"$f":"Coal_Table_1!G9","v":0},{"$f":"Coal_Table_1!H9","v":0},{"$f":"Coal_Table_1!I9","v":0},0,0,0,0,0,0,0,0,0,null,0,0,0,null,null,null,{"$f":"Oil_Table_1!H34-Oil_Table_1!I34","v":0},{"$f":"Oil_Table_1!J34","v":0},null,null,null,null,null,null,null,null,null,null,null,null,null,null,null,null,null,{"$f":"Gas_Table_1!F35","v":0}]
["From other sources - natural gas","OSNATGAS",null,null,null,null,null,{"$f":"Coal_Table_1!J19","v":0},{"$f":"Coal_Table_1!K19","v":0},{"$f":"Coal_Table_1!L19","v":0},{"$f":"Coal_Table_1!M19","v":0},{"$f":"Coal_Table_1!N19","v":0},{"$f":"Coal_Table_1!O19","v":0},{"$f":"Coal_Table_1!P19","v":0},{"$f":"Coal_Table_1!Q19","v":0},{"$f":"Coal_Table_1!R19","v":0},null,null,{"$f":"Coal_Table_1!T19","v":0},{"$f":"Coal_Table_1!U19","v":0},null,null,null,{"$f":"Oil_Table_1!H35-Oil_Table_1!I35","v":0},{"$f":"Oil_Table_1!J35","v":0}]
["From other sources - oil products","OSOIL",null,null,null,null,null,{"$f":"Coal_Table_1!J18","v":0},{"$f":"Coal_Table_1!K18","v":0},{"$f":"Coal_Table_1!L18","v":0},{"$f":"Coal_Table_1!M18","v":0},{"$f":"Coal_Table_1!N18","v":0},{"$f":"Coal_Table_1!O18","v":0},{"$f":"Coal_Table_1!P18","v":0},{"$f":"Coal_Table_1!Q18","v":0},{"$f":"Coal_Table_1!R18","v":0},null,null,{"$f":"Coal_Table_1!T18","v":0},{"$f":"Coal_Table_1!U18","v":0},null,null,{"$f":"Oil_Table_1!G12","v":0},null,null,null,null,null,null,null,null,null,null,null,null,null,null,null,null,null,null,null,{"$f":"Gas_Table_1!F34","v":0}]
["From other sources - renewables","OSRENEW",null,null,null,null,null,{"$f":"Coal_Table_1!J20","v":0},{"$f":"Coal_Table_1!K20","v":0},{"$f":"Coal_Table_1!L20","v":0},{"$f":"Coal_Table_1!M20","v":0},{"$f":"Coal_Table_1!N20","v":0},{"$f":"Coal_Table_1!O20","v":0},{"$f":"Coal_Table_1!P20","v":0},{"$f":"Coal_Table_1!Q20","v":0},{"$f":"Coal_Table_1!R20","v":0},null,null,{"$f":"Coal_Table_1!T20","v":0},{"$f":"Coal_Table_1!U20","v":0},null,null,null,null,{"$f":"Oil_Table_1!J36","v":0},null,null,null,null,null,null,null,null,null,null,null,null,null,null,null,null,null,{"$f":"Gas_Table_1!F36","v":0}]
["From other sources - non-specified","OSNONSPEC",null,null,null,null,null,{"$f":"Coal_Table_1!J9-(Coal_Table_1!J18+Coal_Table_1!J19+Coal_Table_1!J20)","v":0},{"$f":"Coal_Table_1!K9-(Coal_Table_1!K18+Coal_Table_1!K19+Coal_Table_1!K20)","v":0},{"$f":"Coal_Table_1!L9-(Coal_Table_1!L18+Coal_Table_1!L19+Coal_Table_1!L20)","v":0},{"$f":"Coal_Table_1!M9-(Coal_Table_1!M18+Coal_Table_1!M19+Coal_Table_1!M20)","v":0},{"$f":"Coal_Table_1!N9-(Coal_Table_1!N18+Coal_Table_1!N19+Coal_Table_1!N20)","v":0},{"$f":"Coal_Table_1!O9-(Coal_Table_1!O18+Coal_Table_1!O19+Coal_Table_1!O20)","v":0},{"$f":"Coal_Table_1!P9-(Coal_Table_1!P18+Coal_Table_1!P19+Coal_Table_1!P20)","v":0},{"$f":"Coal_Table_1!Q9-(Coal_Table_1!Q18+Coal_Table_1!Q19+Coal_Table_1!Q20)","v":0},{"$f":"Coal_Table_1!R9-(Coal_Table_1!R18+Coal_Table_1!R19+Coal_Table_1!R20)","v":0},null,null,{"$f":"Coal_Table_1!T9-(Coal_Table_1!T18+Coal_Table_1!T19+Coal_Table_1!T20)","v":0},{"$f":"Coal_Table_1!U9-(Coal_Table_1!U18+Coal_Table_1!U19+Coal_Table_1!U20)","v":0},null,null,null,{"$f":"(Oil_Table_1!H11-Oil_Table_1!I11)-X6-X7-X9","v":0},{"$f":"Oil_Table_1!J11-Y6-Y7-Y9","v":0},null,null,null,null,null,null,null,null,null,null,null,null,null,null,null,null,null,{"$f":"Gas_Table_1!F10-AQ6-AQ8-AQ9","v":0}]
["Imports","IMPORTS",{"$f":"Coal_Table_1!E10","v":0},{"$f":"Coal_Table_1!F10","v":0},{"$f":"Coal_Table_1!G10","v":0},{"$f":"Coal_Table_1!H10","v":0},{"$f":"Coal_Table_1!I10","v":0},{"$f":"Coal_Table_1!J10","v":0},{"$f":"Coal_Table_1!K10","v":0},{"$f":"Coal_Table_1!L10","v":0},{"$f":"Coal_Table_1!M10","v":0},{"$f":"Coal_Table_1!N10","v":0},{"$f":"Coal_Table_1!O10","v":0},{"$f":"Coal_Table_1!P10","v":0},{"$f":"Coal_Table_1!Q10","v":0},{"$f":"Coal_Table_1!R10","v":0},null,{"$f":"Coal_Table_1!S10","v":0},{"$f":"Coal_Table_1!T10","v":0},{"$f":"Coal_Table_1!U10","v":0},{"$f":"Oil_Table_1!E14","v":0},{"$f":"Oil_Table_1!F14","v":0},{"$f":"Oil_Table_1!G14","v":0},{"$f":"Oil_Table_1!H14-Oil_Table_1!I14","v":0},{"$f":"Oil_Table_1!J14","v":0},{"$f":"Oil_Table_2a!G15","v":0},{"$f":"Oil_Table_2a!H15","v":0},{"$f":"Oil_Table_2a!I15","v":0},{"$f":"Oil_Table_2a!M15","v":0},{"$f":"Oil_Table_2a!N15","v":0},{"$f":"Oil_Table_2a!O15","v":0},{"$f":"Oil_Table_2a!R15","v":0},{"$f":"Oil_Table_2a!S15","v":0},{"$f":"(Oil_Table_2a!X15 )","v":0},{"$f":"Oil_Table_2a!Y15","v":0},{"$f":"Oil_Table_2a!J15","v":0},{"$f":"Oil_Table_2a!AB15","v":0},{"$f":"Oil_Table_2a!AC15","v":0},{"$f":"Oil_Table_2a!AD15","v":0},{"$f":"Oil_Table_2a!AE15","v":0},{"$f":"Oil_Table_2a!AF15","v":0},{"$f":"Oil_Table_2a!AG15","v":0},{"$f":"Gas_Table_1!F11","v":0},{"$f":"Ren_Table_2a!G12","v":0},{"$f":"Ren_Table_2a!H12","v":0},{"$f":"Ren_Table_2a!I12","v":0},{"$f":"Ren_Table_2a!J12","v":0},{"$f":"Ren_Table_2a!L12","v":0},{"$f":"ROUND((Ren_Table_2a!M12),3)+Oil_Table_2a!L15","v":0},{"$f":"ROUND((Ren_Table_2a!O12),3)+Oil_Table_2a!Q15","v":0},{"$f":"ROUND((Ren_Table_2a!P12), 3)+Oil_Table_2a!W15","v":0},{"$f":"ROUND((Ren_Table_2a!Q12), 3)","v":0},null,{"$f":"Ren_Table_2a!K12","v":0},null,null,{"$f":"-Ren_Table_2a!E12","v":0},null,{"$f":"-Ren_Table_2a!F12","v":0},null,null,null,null,null,null,{"$f":"Ele_Table_3!F9","v":0},{"$f":"Ele_Table_3!G9","v":0}]
["Exports","EXPORTS",{"$f":"-Coal_Table_1!E11","v":0},{"$f":"-Coal_Table_1!F11","v":0},{"$f":"-Coal_Table_1!G11","v":0},{"$f":"-Coal_Table_1!H11","v":0},{"$f":"-Coal_Table_1!I11","v":0},{"$f":"-Coal_Table_1!J11","v":0},{"$f":"-Coal_Table_1!K11","v":0},{"$f":"-Coal_Table_1!L11","v":0},{"$f":"-Coal_Table_1!M11","v":0},{"$f":"-Coal_Table_1!N11","v":0},{"$f":"-Coal_Table_1!O11","v":0},{"$f":"-Coal_Table_1!P11","v":0},{"$f":"-Coal_Table_1!Q11","v":0},{"$f":"-Coal_Table_1!R11","v":0},null,{"$f":"-Coal_Table_1!S11","v":0},{"$f":"-Coal_Table_1!T11","v":0},{"$f":"-Coal_Table_1!U11","v":0},{"$f":"-Oil_Table_1!E15","v":0},{"$f":"-Oil_Table_1!F15","v":0},{"$f":"-Oil_Table_1!G15","v":0},{"$f":"-(Oil_Table_1!H15-Oil_Table_1!I15)","v":0},{"$f":"-Oil_Table_1!J15","v":0},{"$f":"-Oil_Table_2a!G16","v":0},{"$f":"-Oil_Table_2a!H16","v":0},{"$f":"-Oil_Table_2a!I16","v":0},{"$f":"-(Oil_Table_2a!M16)","v":0},{"$f":"-Oil_Table_2a!N16","v":0},{"$f":"-Oil_Table_2a!O16","v":0},{"$f":"-Oil_Table_2a!R16","v":0},{"$f":"-Oil_Table_2a!S16","v":0},{"$f":"-(Oil_Table_2a!X16 )","v":0},{"$f":"-Oil_Table_2a!Y16","v":0},{"$f":"-Oil_Table_2a!J16","v":0},{"$f":"-Oil_Table_2a!AB16","v":0},{"$f":"-Oil_Table_2a!AC16","v":0},{"$f":"-Oil_Table_2a!AD16","v":0},{"$f":"-Oil_Table_2a!AE16","v":0},{"$f":"-Oil_Table_2a!AF16","v":0},{"$f":"-Oil_Table_2a!AG16","v":0},{"$f":"-Gas_Table_1!F12","v":0},{"$f":"-Ren_Table_2a!G13","v":0},{"$f":"-Ren_Table_2a!H13","v":0},{"$f":"-Ren_Table_2a!I13","v":0},{"$f":"-Ren_Table_2a!J13","v":0},{"$f":"-Ren_Table_2a!L13","v":0},{"$f":"-(ROUND((Ren_Table_2a!M13),3)+Oil_Table_2a!L16)","v":0},{"$f":"-(ROUND((Ren_Table_2a!O13),3)+Oil_Table_2a!Q16)","v":0},{"$f":"-(ROUND((Ren_Table_2a!P13),3)+Oil_Table_2a!W16)","v":0},{"$f":"-(ROUND((Ren_Table_2a!Q13),3))","v":0},null,{"$f":"-Ren_Table_2a!K13","v":0},null,null,{"$f":"-Ren_Table_2a!E13","v":0},null,{"$f":"-Ren_Table_2a!F13","v":0},null,null,null,null,null,null,{"$f":"-Ele_Table_3!F10","v":0},{"$f":"-Ele_Table_3!G10","v":0}]
["International marine bunkers","MARBUNK",{"$f":"Coal_Table_1!E12","v":0},{"$f":"Coal_Table_1!F12","v":0},{"$f":"Coal_Table_1!G12","v":0},{"$f":"Coal_Table_1!H12","v":0},{"$f":"Coal_Table_1!I12","v":0},{"$f":"Coal_Table_1!J12","v":0},{"$f":"Coal_Table_1!K12","v":0},{"$f":"Coal_Table_1!L12","v":0},{"$f":"Coal_Table_1!M12","v":0},{"$f":"Coal_Table_1!N12","v":0},{"$f":"Coal_Table_1!O12","v":0},{"$f":"Coal_Table_1!P12","v":0},{"$f":"Coal_Table_1!Q12","v":0},{"$f":"Coal_Table_1!R12","v":0},null,{"$f":"Coal_Table_1!S12","v":0},{"$f":"Coal_Table_1!T12","v":0},{"$f":"Coal_Table_1!U12","v":0},null,null,null,null,null,{"$f":"-Oil_Table_2a!G17","v":0},{"$f":"-Oil_Table_2a!H17","v":0},{"$f":"-Oil_Table_2a!I17","v":0},{"$f":"-(Oil_Table_2a!M17)","v":0},{"$f":"-Oil_Table_2a!N17","v":0},{"$f":"-Oil_Table_2a!O17","v":0},{"$f":"-Oil_Table_2a!R17","v":0},{"$f":"-Oil_Table_2a!S17","v":0},{"$f":"-(Oil_Table_2a!X17 )","v":0},{"$f":"-Oil_Table_2a!Y17","v":0},{"$f":"-Oil_Table_2a!J17","v":0},{"$f":"-Oil_Table_2a!AB17","v":0},{"$f":"-Oil_Table_2a!AC17","v":0},{"$f":"-Oil_Table_2a!AD17","v":0},{"$f":"-Oil_Table_2a!AE17","v":0},{"$f":"-Oil_Table_2a!AF17","v":0},{"$f":"-Oil_Table_2a!AG17","v":0},{"$f":"Gas_Table_1!F13","v":0},null,null,null,null,{"$f":"-Ren_Table_2a!L14","v":0},{"$f":"-Oil_Table_2a!L17-Ren_Table_2a!M14","v":0},{"$f":"-Oil_Table_2a!Q17-Ren_Table_2a!MO14","v":0},{"$f":"-Oil_Table_2a!W17-Ren_Table_2a!P14","v":0},{"$f":"-Ren_Table_2a!Q14","v":0}]
["International aviation bunkers","AVBUNK",null,null,null,null,null,null,null,null,null,null,null,null,null,null,null,null,null,null,{"$f":"Oil_Table_3a!E37","v":0},{"$f":"Oil_Table_3a!F37","v":0},null,null,null,{"$f":"-Oil_Table_3a!G37","v":0},{"$f":"-Oil_Table_3a!H37","v":0},{"$f":"-Oil_Table_3a!I37","v":0},{"$f":"-(Oil_Table_3a!M37)","v":0},{"$f":"-Oil_Table_3a!N37","v":0},{"$f":"-Oil_Table_3a!O37","v":0},{"$f":"-Oil_Table_3a!R37","v":0},{"$f":"-Oil_Table_3a!S37","v":0},{"$f":"-Oil_Table_3a!X37","v":0},{"$f":"-Oil_Table_3a!Y37","v":0},{"$f":"-Oil_Table_3a!J37","v":0},{"$f":"-Oil_Table_3a!AB37","v":0},{"$f":"-Oil_Table_3a!AC37","v":0},{"$f":"-Oil_Table_3a!AD37","v":0},{"$f":"-Oil_Table_3a!AE37","v":0},{"$f":"-Oil_Table_3a!AF37","v":0},{"$f":"-Oil_Table_3a!AG37","v":0},null,{"$f":"-Ren_Table_2a!G73","v":0},{"$f":"-Ren_Table_2a!H73","v":0},{"$f":"-Ren_Table_2a!I73","v":0},{"$f":"-Ren_Table_2a!J73","v":0},{"$f":"-Ren_Table_2a!L73","v":0},{"$f":"-Oil_Table_3a!L37-Ren_Table_2a!M73","v":0},{"$f":"-Oil_Table_3a!Q37-Ren_Table_2a!O73","v":0},{"$f":"-Oil_Table_3a!W37-Ren_Table_2a!P73","v":0},{"$f":"-Ren_Table_2a!Q73","v":0},null,{"$f":"-Ren_Table_2a!K73","v":0}]
["Stock changes","STOCKCHA",{"$f":"Coal_Table_1!E13","v":0},{"$f":"Coal_Table_1!F13","v":0},{"$f":"Coal_Table_1!G13","v":0},{"$f":"Coal_Table_1!H13","v":0},{"$f":"Coal_Table_1!I13","v":0},{"$f":"Coal_Table_1!J13","v":0},{"$f":"Coal_Table_1!K13","v":0},{"$f":"Coal_Table_1!L13","v":0},{"$f":"Coal_Table_1!M13","v":0},{"$f":"Coal_Table_1!N13","v":0},{"$f":"Coal_Table_1!O13","v":0},{"$f":"Coal_Table_1!P13","v":0},{"$f":"Coal_Table_1!Q13","v":0},{"$f":"Coal_Table_1!R13","v":0},null,{"$f":"Coal_Table_1!S13","v":0},{"$f":"Coal_Table_1!T13","v":0},{"$f":"Coal_Table_1!U13","v":0},{"$f":"Oil_Table_1!E17","v":0},{"$f":"Oil_Table_1!F17","v":0},{"$f":"Oil_Table_1!G17","v":0},{"$f":"Oil_Table_1!H17-Oil_Table_1!I17","v":0},{"$f":"Oil_Table_1!J17","v":0},{"$f":"Oil_Table_2a!G20","v":0},{"$f":"Oil_Table_2a!H20","v":0},{"$f":"Oil_Table_2a!I20","v":0},{"$f":"Oil_Table_2a!M20","v":0},{"$f":"Oil_Table_2a!N20","v":0},{"$f":"Oil_Table_2a!O20","v":0},{"$f":"Oil_Table_2a!R20","v":0},{"$f":"Oil_Table_2a!S20","v":0},{"$f":"Oil_Table_2a!X20","v":0},{"$f":"Oil_Table_2a!Y20","v":0},{"$f":"Oil_Table_2a!J20","v":0},{"$f":"Oil_Table_2a!AB20","v":0},{"$f":"Oil_Table_2a!AC20","v":0},{"$f":"Oil_Table_2a!AD20","v":0},{"$f":"Oil_Table_2a!AE20","v":0},{"$f":"Oil_Table_2a!AF20","v":0},{"$f":"Oil_Table_2a!AG20","v":0},{"$f":"Gas_Table_1!F14","v":0},{"$f":"Ren_Table_2a!G15","v":0},{"$f":"Ren_Table_2a!H15","v":0},{"$f":"Ren_Table_2a!I15","v":0},{"$f":"Ren_Table_2a!J15","v":0},{"$f":"Ren_Table_2a!L15","v":0},{"$f":"ROUND(Ren_Table_2a!M15,3)+Oil_Table_2a!L20+Oil_Table_2a!L11+Oil_Table_2a!L12-ROUND(Ren_Table_2a!M29,3)","v":0},{"$f":"ROUND(Ren_Table_2a!O15,3)+Oil_Table_2a!Q20+Oil_Table_2a!Q11+Oil_Table_2a!Q12-ROUND(Ren_Table_2a!O29,3)","v":0},{"$f":"ROUND(Ren_Table_2a!P15,3)+Oil_Table_2a!W20+Oil_Table_2a!W11+Oil_Table_2a!W12-ROUND(Ren_Table_2a!P29,3)","v":0},{"$f":"ROUND((Ren_Table_2a!Q15),3)","v":0},null,{"$f":"Ren_Table_2a!K15","v":0}]
["Domestic supply","DOMSUP",{"$f":"SUM(C5:C15)","v":0},0,0,0,0,{"$f":"SUM(H5:H15)","v":0},0,0,0,0,0,0,0,0,0,{"$f":"SUM(R5:R15)","v":0},{"$f":"SUM(S5:S15)","v":0},{"$f":"SUM(T5:T15)","v":0},0,0,0,0,0,0,0,0,0,0,0,0,0,0,0,0,0,0,0,0,0,0,{"$f":"SUM(AQ5:AQ15)","v":0},0,{"$f":"SUM(AS5:AS15)","v":0},0,0,0,0,0,0,0,null,{"$f":"SUM(BB5:BB15)","v":0},null,null,{"$f":"SUM(BE5:BE15)","v":0},null,{"$f":"SUM(BG5:BG15)","v":0},null,null,null,null,null,null,{"$f":"BN5+BN11+BN12","v":0},{"$f":"BO5+BO11+BO12","v":0}]
["Transfers","TRANSFER",null,null,null,null,null,null,null,null,null,null,null,null,null,null,null,null,null,null,{"$f":"Oil_Table_2a!E18","v":0},{"$f":"(Oil_Table_2a!F18 + Oil_Table_2a!F11) - Oil_Table_1!F16","v":0},{"$f":"Oil_Table_1!G13-Oil_Table_1!G16","v":0},{"$f":"-(Oil_Table_1!H16-Oil_Table_1!I16)","v":0},{"$f":"-Oil_Table_1!J16","v":0},{"$f":"(Oil_Table_2a!G11+Oil_Table_2a!G13+Oil_Table_2a!G18)-Oil_Table_2a!G19","v":0},{"$f":"(Oil_Table_2a!H11+Oil_Table_2a!H13+Oil_Table_2a!H18)-Oil_Table_2a!H19","v":0},{"$f":"(Oil_Table_2a!I11+Oil_Table_2a!I13+Oil_Table_2a!I18)-Oil_Table_2a!I19","v":0},{"$f":"((Oil_Table_2a!M11+Oil_Table_2a!M13+Oil_Table_2a!M18)-Oil_Table_2a!M19)","v":0},{"$f":"(Oil_Table_2a!N11+Oil_Table_2a!N13+Oil_Table_2a!N18)-Oil_Table_2a!N19","v":0},{"$f":"(Oil_Table_2a!O11+Oil_Table_2a!O13+Oil_Table_2a!O18)-Oil_Table_2a!O19","v":0},{"$f":"(Oil_Table_2a!R11+Oil_Table_2a!R13+Oil_Table_2a!R18)-Oil_Table_2a!R19","v":0},{"$f":"(Oil_Table_2a!S11+Oil_Table_2a!S13+Oil_Table_2a!S18)-Oil_Table_2a!S19","v":0},{"$f":"((Oil_Table_2a!X11+Oil_Table_2a!X13+Oil_Table_2a!X18)-Oil_Table_2a!X19)","v":0},{"$f":"(Oil_Table_2a!Y11+Oil_Table_2a!Y13+Oil_Table_2a!Y18)-Oil_Table_2a!Y19","v":0},{"$f":"(Oil_Table_2a!J11+Oil_Table_2a!J13+Oil_Table_2a!J18)-Oil_Table_2a!J19","v":0},{"$f":"(Oil_Table_2a!AB11+Oil_Table_2a!AB13+Oil_Table_2a!AB18)-Oil_Table_2a!AB19","v":0},{"$f":"(Oil_Table_2a!AC11+Oil_Table_2a!AC13+Oil_Table_2a!AC18)-Oil_Table_2a!AC19","v":0},{"$f":"(Oil_Table_2a!AD11+Oil_Table_2a!AD13+Oil_Table_2a!AD18)-Oil_Table_2a!AD19","v":0},{"$f":"(Oil_Table_2a!AE11+Oil_Table_2a!AE13+Oil_Table_2a!AE18)-Oil_Table_2a!AE19","v":0},{"$f":"(Oil_Table_2a!AF11+Oil_Table_2a!AF13+Oil_Table_2a!AF18)-Oil_Table_2a!AF19","v":0},{"$f":"(Oil_Table_2a!AG11+Oil_Table_2a!AG13+Oil_Table_2a!AG18)-Oil_Table_2a!AG19","v":0},null,null,null,null,null,null,{"$f":"Oil_Table_2a!L18+Oil_Table_2a!L19+Oil_Table_2a!L13","v":0},{"$f":"Oil_Table_2a!Q18+Oil_Table_2a!Q19+Oil_Table_2a!Q13","v":0},{"$f":"Oil_Table_2a!W18+Oil_Table_2a!W19+Oil_Table_2a!W13","v":0}]
["Statistical differences","STATDIFF",{"$f":"-Coal_Table_1!E15","v":0},{"$f":"-Coal_Table_1!F15","v":0},{"$f":"-Coal_Table_1!G15","v":0},{"$f":"-Coal_Table_1!H15","v":0},{"$f":"-Coal_Table_1!I15","v":0},{"$f":"-Coal_Table_1!J15","v":0},{"$f":"-Coal_Table_1!K15","v":0},{"$f":"-Coal_Table_1!L15","v":0},{"$f":"-Coal_Table_1!M15","v":0},{"$f":"-Coal_Table_1!N15","v":0},{"$f":"-Coal_Table_1!O15","v":0},{"$f":"-Coal_Table_1!P15","v":0},{"$f":"-Coal_Table_1!Q15","v":0},{"$f":"-Coal_Table_1!R15","v":0},null,{"$f":"-Coal_Table_1!S15","v":0},{"$f":"-Coal_Table_1!T15","v":0},{"$f":"-Coal_Table_1!U15","v":0},{"$f":"-Oil_Table_1!E19","v":0},{"$f":"-Oil_Table_1!F19","v":0},{"$f":"-Oil_Table_1!G19","v":0},{"$f":"-(Oil_Table_1!H19-Oil_Table_1!I19)","v":0},{"$f":"-Oil_Table_1!J19","v":0},{"$f":"-Oil_Table_2a!G22","v":0},{"$f":"-Oil_Table_2a!H22","v":0},{"$f":"-Oil_Table_2a!I22","v":0},{"$f":"-(Oil_Table_2a!M22)","v":0},{"$f":"-Oil_Table_2a!N22","v":0},{"$f":"-Oil_Table_2a!O22","v":0},{"$f":"-Oil_Table_2a!R22","v":0},{"$f":"-Oil_Table_2a!S22","v":0},{"$f":"-(Oil_Table_2a!X22)","v":0},{"$f":"-Oil_Table_2a!Y22","v":0},{"$f":"-Oil_Table_2a!J22","v":0},{"$f":"-Oil_Table_2a!AB22","v":0},{"$f":"-Oil_Table_2a!AC22","v":0},{"$f":"-Oil_Table_2a!AD22","v":0},{"$f":"-Oil_Table_2a!AE22","v":0},{"$f":"-Oil_Table_2a!AF22","v":0},{"$f":"-Oil_Table_2a!AG22","v":0},{"$f":"-Gas_Table_1!F17","v":0},{"$f":"-Ren_Table_2a!G17","v":0},{"$f":"-Ren_Table_2a!H17","v":0},{"$f":"-Ren_Table_2a!I17","v":0},{"$f":"-Ren_Table_2a!J17","v":0},{"$f":"-Ren_Table_2a!L17","v":0},{"$f":"(AW19+AW41+AW59+AW60) - (AW16+AW17)","v":0},{"$f":"(AX19+AX41+AX59+AX60) - (AX16+AX17)","v":0},{"$f":"(AY19+AY41+AY59+AY60) - (AY16+AY17)","v":0},{"$f":"(AZ19+AZ41+AZ59+AZ60) - (AZ16+AZ17)","v":0},null,{"$f":"-Ren_Table_2a!K17","v":0},null,null,{"$f":"-Ren_Table_2a!E17","v":0},null,{"$f":"-Ren_Table_2a!F17","v":0},null,null,null,null,null,null,{"$f":"-Ele_Table_3!F23","v":0},{"$f":"-Ele_Table_3!G23","v":0}]
["Transformation processes","TOTTRANF",{"$f":"SUM(C20:C40)","v":0},0,0,0,0,{"$f":"SUM(H20:H40)","v":0},0,0,0,0,0,0,0,0,0,{"$f":"SUM(R20:R40)","v":0},{"$f":"SUM(S20:S40)","v":0},{"$f":"SUM(T20:T40)","v":0},0,0,0,0,0,0,0,0,0,0,0,0,0,0,0,0,0,0,0,0,0,0,{"$f":"SUM(AQ20:AQ40)","v":0},0,{"$f":"SUM(AS20:AS40)","v":0},0,0,0,0,0,0,0,null,{"$f":"SUM(BB20:BB40)","v":0},null,null,{"$f":"SUM(BE20:BE40)","v":0},null,{"$f":"SUM(BG20:BG40)","v":0},null,null,null,null,null,null,{"$f":"SUM(BN20:BN40)","v":0},{"$f":"SUM(BO20:BO40)","v":0}]
["Main activity producer electricity plants","MAINELEC",{"$f":"Coal_Table_1!E24","v":0},{"$f":"Coal_Table_1!F24","v":0},{"$f":"Coal_Table_1!G24","v":0},{"$f":"Coal_Table_1!H24","v":0},{"$f":"Coal_Table_1!I24","v":0},{"$f":"Coal_Table_1!J24","v":0},{"$f":"Coal_Table_1!K24","v":0},{"$f":"Coal_Table_1!L24","v":0},{"$f":"Coal_Table_1!M24","v":0},{"$f":"Coal_Table_1!N24","v":0},{"$f":"Coal_Table_1!O24","v":0},{"$f":"Coal_Table_1!P24","v":0},{"$f":"Coal_Table_1!Q24","v":0},{"$f":"Coal_Table_1!R24","v":0},null,{"$f":"Coal_Table_1!S24","v":0},{"$f":"Coal_Table_1!T24","v":0},{"$f":"Coal_Table_1!U24","v":0},{"$f":"Oil_Table_3a!E13","v":0},{"$f":"Oil_Table_3a!F13","v":0},null,null,null,{"$f":"Oil_Table_3a!G13","v":0},{"$f":"Oil_Table_3a!H13","v":0},{"$f":"Oil_Table_3a!I13","v":0},{"$f":"(Oil_Table_3a!M13-Oil_Table_3a!L13)","v":0},{"$f":"Oil_Table_3a!N13","v":0},{"$f":"Oil_Table_3a!O13","v":0},{"$f":"Oil_Table_3a!R13","v":0},{"$f":"Oil_Table_3a!S13","v":0},{"$f":"Oil_Table_3a!X13","v":0},{"$f":"Oil_Table_3a!Y13","v":0},{"$f":"Oil_Table_3a!J13","v":0},{"$f":"Oil_Table_3a!AB13","v":0},{"$f":"Oil_Table_3a!AC13","v":0},{"$f":"Oil_Table_3a!AD13","v":0},{"$f":"Oil_Table_3a!AE13","v":0},{"$f":"Oil_Table_3a!AF13-Oil_Table_3a!AJ13","v":0},{"$f":"Oil_Table_3a!AG13-Oil_Table_3a!AK13","v":0},{"$f":"Gas_Table_2a!E8","v":0},{"$f":"Ren_Table_2a!G19","v":0},{"$f":"Ren_Table_2a!H19","v":0},{"$f":"Ren_Table_2a!I19","v":0},{"$f":"Ren_Table_2a!J19","v":0},{"$f":"Ren_Table_2a!L19","v":0},{"$f":"ROUND(Oil_Table_3a!L13+Ren_Table_2a!M19,3)","v":0},{"$f":"ROUND(Oil_Table_3a!Q13+Ren_Table_2a!O19,3)","v":0},{"$f":"ROUND(Oil_Table_3a!W13+Ren_Table_2a!P19,3)","v":0},{"$f":"ROUND(Ren_Table_2a!Q19,3)","v":0},null,null,null,null,{"$f":"Ren_Table_2a!E19","v":0},null,{"$f":"Ren_Table_2a!F19","v":0}]
["Autoproducer electricity plants","AUTOELEC",{"$f":"Coal_Table_1!E27","v":0},{"$f":"Coal_Table_1!F27","v":0},{"$f":"Coal_Table_1!G27","v":0},{"$f":"Coal_Table_1!H27","v":0},{"$f":"Coal_Table_1!I27","v":0},{"$f":"Coal_Table_1!J27","v":0},{"$f":"Coal_Table_1!K27","v":0},{"$f":"Coal_Table_1!L27","v":0},{"$f":"Coal_Table_1!M27","v":0},{"$f":"Coal_Table_1!N27","v":0},{"$f":"Coal_Table_1!O27","v":0},{"$f":"Coal_Table_1!P27","v":0},{"$f":"Coal_Table_1!Q27","v":0},{"$f":"Coal_Table_1!R27","v":0},null,{"$f":"Coal_Table_1!S27","v":0},{"$f":"Coal_Table_1!T27","v":0},{"$f":"Coal_Table_1!U27","v":0},{"$f":"Oil_Table_3a!E14","v":0},{"$f":"Oil_Table_3a!F14","v":0},null,null,null,{"$f":"Oil_Table_3a!G14+Oil_Table_2a!G28","v":0},{"$f":"Oil_Table_3a!H14+Oil_Table_2a!H28","v":0},{"$f":"Oil_Table_3a!I14+Oil_Table_2a!I28","v":0},{"$f":"(Oil_Table_3a!M14)+(Oil_Table_2a!M28)","v":0},{"$f":"Oil_Table_3a!N14+Oil_Table_2a!N28","v":0},{"$f":"Oil_Table_3a!O14+Oil_Table_2a!O28","v":0},{"$f":"Oil_Table_3a!R14+Oil_Table_2a!R28","v":0},{"$f":"Oil_Table_3a!S14+Oil_Table_2a!S28","v":0},{"$f":"Oil_Table_3a!X14+Oil_Table_2a!X28","v":0},{"$f":"Oil_Table_3a!Y14+Oil_Table_2a!Y28","v":0},{"$f":"Oil_Table_3a!J14+Oil_Table_2a!J28","v":0},{"$f":"Oil_Table_3a!AB14+Oil_Table_2a!AB28","v":0},{"$f":"Oil_Table_3a!AC14+Oil_Table_2a!AC28","v":0},{"$f":"Oil_Table_3a!AD14+Oil_Table_2a!AD28","v":0},{"$f":"Oil_Table_3a!AE14+Oil_Table_2a!AE28","v":0},{"$f":"Oil_Table_3a!AF14+Oil_Table_2a!AF28","v":0},{"$f":"Oil_Table_3a!AG14+Oil_Table_2a!AG28","v":0},{"$f":"Gas_Table_2a!E9","v":0},{"$f":"Ren_Table_2a!G22","v":0},{"$f":"Ren_Table_2a!H22","v":0},{"$f":"Ren_Table_2a!I22","v":0},{"$f":"Ren_Table_2a!J22","v":0},{"$f":"Ren_Table_2a!L22","v":0},{"$f":"ROUND(Oil_Table_3a!L14+Oil_Table_2a!L28+Ren_Table_2a!M22,3)","v":0},{"$f":"ROUND(Oil_Table_3a!Q14+Oil_Table_2a!Q28+Ren_Table_2a!O22,3)","v":0},{"$f":"ROUND(Oil_Table_3a!W14+Oil_Table_2a!W28+Ren_Table_2a!P22,3)","v":0},{"$f":"ROUND(Ren_Table_2a!Q22,3)","v":0},null,null,null,null,{"$f":"Ren_Table_2a!E22","v":0},null,{"$f":"Ren_Table_2a!F22","v":0}]
["Main activity producer CHP plants","MAINCHP",{"$f":"Coal_Table_1!E25","v":0},{"$f":"Coal_Table_1!F25","v":0},{"$f":"Coal_Table_1!G25","v":0},{"$f":"Coal_Table_1!H25","v":0},{"$f":"Coal_Table_1!I25","v":0},{"$f":"Coal_Table_1!J25","v":0},{"$f":"Coal_Table_1!K25","v":0},{"$f":"Coal_Table_1!L25","v":0},{"$f":"Coal_Table_1!M25","v":0},{"$f":"Coal_Table_1!N25","v":0},{"$f":"Coal_Table_1!O25","v":0},{"$f":"Coal_Table_1!P25","v":0},{"$f":"Coal_Table_1!Q25","v":0},{"$f":"Coal_Table_1!R25","v":0},null,{"$f":"Coal_Table_1!S25","v":0},{"$f":"Coal_Table_1!T25","v":0},{"$f":"Coal_Table_1!U25","v":0},{"$f":"Oil_Table_3a!E15","v":0},{"$f":"Oil_Table_3a!F15","v":0},null,null,null,{"$f":"Oil_Table_3a!G15","v":0},{"$f":"Oil_Table_3a!H15","v":0},{"$f":"Oil_Table_3a!I15","v":0},{"$f":"(Oil_Table_3a!M15)","v":0},{"$f":"Oil_Table_3a!N15","v":0},{"$f":"Oil_Table_3a!O15","v":0},{"$f":"Oil_Table_3a!R15","v":0},{"$f":"Oil_Table_3a!S15","v":0},{"$f":"Oil_Table_3a!X15","v":0},{"$f":"Oil_Table_3a!Y15","v":0},{"$f":"Oil_Table_3a!J15","v":0},{"$f":"Oil_Table_3a!AB15","v":0},{"$f":"Oil_Table_3a!AC15","v":0},{"$f":"Oil_Table_3a!AD15","v":0},{"$f":"Oil_Table_3a!AE15","v":0},{"$f":"Oil_Table_3a!AF15-Oil_Table_3a!AJ15","v":0},{"$f":"Oil_Table_3a!AG15-Oil_Table_3a!AK15","v":0},{"$f":"Gas_Table_2a!E10","v":0},{"$f":"Ren_Table_2a!G20","v":0},{"$f":"Ren_Table_2a!H20","v":0},{"$f":"Ren_Table_2a!I20","v":0},{"$f":"Ren_Table_2a!J20","v":0},{"$f":"Ren_Table_2a!L20","v":0},{"$f":"ROUND(Oil_Table_3a!L15+Ren_Table_2a!M20,3)","v":0},{"$f":"ROUND(Oil_Table_3a!Q15+Ren_Table_2a!O20,3)","v":0},{"$f":"ROUND(Oil_Table_3a!W15+Ren_Table_2a!P20,3)","v":0},{"$f":"ROUND(Ren_Table_2a!Q20,3)","v":0},null,null,null,null,{"$f":"Ren_Table_2a!E20","v":0},null,{"$f":"Ren_Table_2a!F20","v":0}]
["Autoproducer CHP plants","AUTOCHP",{"$f":"Coal_Table_1!E28","v":0},{"$f":"Coal_Table_1!F28","v":0},{"$f":"Coal_Table_1!G28","v":0},{"$f":"Coal_Table_1!H28","v":0},{"$f":"Coal_Table_1!I28","v":0},{"$f":"Coal_Table_1!J28","v":0},{"$f":"Coal_Table_1!K28","v":0},{"$f":"Coal_Table_1!L28","v":0},{"$f":"Coal_Table_1!M28","v":0},{"$f":"Coal_Table_1!N28","v":0},{"$f":"Coal_Table_1!O28","v":0},{"$f":"Coal_Table_1!P28","v":0},{"$f":"Coal_Table_1!Q28","v":0},{"$f":"Coal_Table_1!R28","v":0},null,{"$f":"Coal_Table_1!S28","v":0},{"$f":"Coal_Table_1!T28","v":0},{"$f":"Coal_Table_1!U28","v":0},{"$f":"Oil_Table_3a!E16","v":0},{"$f":"Oil_Table_3a!F16","v":0},null,null,null,{"$f":"Oil_Table_3a!G16+Oil_Table_2a!G29","v":0},{"$f":"Oil_Table_3a!H16+Oil_Table_2a!H29","v":0},{"$f":"Oil_Table_3a!I16+Oil_Table_2a!I29","v":0},{"$f":"(Oil_Table_3a!M16)+(Oil_Table_2a!M29)","v":0},{"$f":"Oil_Table_3a!N16+Oil_Table_2a!N29","v":0},{"$f":"Oil_Table_3a!O16+Oil_Table_2a!O29","v":0},{"$f":"Oil_Table_3a!R16+Oil_Table_2a!R29","v":0},{"$f":"Oil_Table_3a!S16+Oil_Table_2a!S29","v":0},{"$f":"Oil_Table_3a!X16+Oil_Table_2a!X29","v":0},{"$f":"Oil_Table_3a!Y16+Oil_Table_2a!Y29","v":0},{"$f":"Oil_Table_3a!J16+Oil_Table_2a!J29","v":0},{"$f":"Oil_Table_3a!AB16+Oil_Table_2a!AB29","v":0},{"$f":"Oil_Table_3a!AC16+Oil_Table_2a!AC29","v":0},{"$f":"Oil_Table_3a!AD16+Oil_Table_2a!AD29","v":0},{"$f":"Oil_Table_3a!AE16+Oil_Table_2a!AE29","v":0},{"$f":"Oil_Table_3a!AF16+Oil_Table_2a!AF29","v":0},{"$f":"Oil_Table_3a!AG16+Oil_Table_2a!AG29","v":0},{"$f":"Gas_Table_2a!E11","v":0},{"$f":"Ren_Table_2a!G23","v":0},{"$f":"Ren_Table_2a!H23","v":0},{"$f":"Ren_Table_2a!I23","v":0},{"$f":"Ren_Table_2a!J23","v":0},{"$f":"Ren_Table_2a!L23","v":0},{"$f":"ROUND(Oil_Table_3a!L17+Oil_Table_2a!L29+Ren_Table_2a!M23,3)","v":0},{"$f":"ROUND(Oil_Table_3a!Q17+Oil_Table_2a!Q29+Ren_Table_2a!O23,3)","v":0},{"$f":"ROUND(Oil_Table_3a!W17+Oil_Table_2a!W29+Ren_Table_2a!P23,3)","v":0},{"$f":"ROUND(Ren_Table_2a!Q23,3)","v":0},null,null,null,null,{"$f":"Ren_Table_2a!E23","v":0},null,{"$f":"Ren_Table_2a!F23","v":0}]
["Main activity producer heat plants","MAINHEAT",{"$f":"Coal_Table_1!E26","v":0},{"$f":"Coal_Table_1!F26","v":0},{"$f":"Coal_Table_1!G26","v":0},{"$f":"Coal_Table_1!H26","v":0},{"$f":"Coal_Table_1!I26","v":0},{"$f":"Coal_Table_1!J26","v":0},{"$f":"Coal_Table_1!K26","v":0},{"$f":"Coal_Table_1!L26","v":0},{"$f":"Coal_Table_1!M26","v":0},{"$f":"Coal_Table_1!N26","v":0},{"$f":"Coal_Table_1!O26","v":0},{"$f":"Coal_Table_1!P26","v":0},{"$f":"Coal_Table_1!Q26","v":0},{"$f":"Coal_Table_1!R26","v":0},null,{"$f":"Coal_Table_1!S26","v":0},{"$f":"Coal_Table_1!T26","v":0},{"$f":"Coal_Table_1!U26","v":0},{"$f":"Oil_Table_3a!E17","v":0},{"$f":"Oil_Table_3a!F17","v":0},null,null,null,{"$f":"Oil_Table_3a!G17","v":0},{"$f":"Oil_Table_3a!H17","v":0},{"$f":"Oil_Table_3a!I17","v":0},{"$f":"(Oil_Table_3a!M17)","v":0},{"$f":"Oil_Table_3a!N17","v":0},{"$f":"Oil_Table_3a!O17","v":0},{"$f":"Oil_Table_3a!R17","v":0},{"$f":"Oil_Table_3a!S17","v":0},{"$f":"Oil_Table_3a!X17","v":0},{"$f":"Oil_Table_3a!Y17","v":0},{"$f":"Oil_Table_3a!J17","v":0},{"$f":"Oil_Table_3a!AB17","v":0},{"$f":"Oil_Table_3a!AC17","v":0},{"$f":"Oil_Table_3a!AD17","v":0},{"$f":"Oil_Table_3a!AE17","v":0},{"$f":"Oil_Table_3a!AF17-Oil_Table_3a!AJ17","v":0},{"$f":"Oil_Table_3a!AG17-Oil_Table_3a!AK17","v":0},{"$f":"Gas_Table_2a!E12","v":0},{"$f":"Ren_Table_2a!G21","v":0},{"$f":"Ren_Table_2a!H21","v":0},{"$f":"Ren_Table_2a!I21","v":0},{"$f":"Ren_Table_2a!J21","v":0},{"$f":"Ren_Table_2a!L21","v":0},{"$f":"ROUND(Oil_Table_3a!L17+Ren_Table_2a!M21,3)","v":0},{"$f":"ROUND(Oil_Table_3a!Q17+Ren_Table_2a!O21,3)","v":0},{"$f":"ROUND(Oil_Table_3a!W17+Ren_Table_2a!P21,3)","v":0},{"$f":"ROUND(Ren_Table_2a!Q21,3)","v":0},null,null,null,null,{"$f":"Ren_Table_2a!E21","v":0},null,{"$f":"Ren_Table_2a!F21","v":0}]
["Autoproducer heat plants","AUTOHEAT",{"$f":"Coal_Table_1!E29","v":0},{"$f":"Coal_Table_1!F29","v":0},{"$f":"Coal_Table_1!G29","v":0},{"$f":"Coal_Table_1!H29","v":0},{"$f":"Coal_Table_1!I29","v":0},{"$f":"Coal_Table_1!J29","v":0},{"$f":"Coal_Table_1!K29","v":0},{"$f":"Coal_Table_1!L29","v":0},{"$f":"Coal_Table_1!M29","v":0},{"$f":"Coal_Table_1!N29","v":0},{"$f":"Coal_Table_1!O29","v":0},{"$f":"Coal_Table_1!P29","v":0},{"$f":"Coal_Table_1!Q29","v":0},{"$f":"Coal_Table_1!R29","v":0},null,{"$f":"Coal_Table_1!S29","v":0},{"$f":"Coal_Table_1!T29","v":0},{"$f":"Coal_Table_1!U29","v":0},{"$f":"Oil_Table_3a!E18","v":0},{"$f":"Oil_Table_3a!F18","v":0},null,null,null,{"$f":"Oil_Table_3a!G18+Oil_Table_2a!G30","v":0},{"$f":"Oil_Table_3a!H18+Oil_Table_2a!H30","v":0},{"$f":"Oil_Table_3a!I18+Oil_Table_2a!I30","v":0},{"$f":"Oil_Table_3a!M18+Oil_Table_2a!M30","v":0},{"$f":"Oil_Table_3a!N18+Oil_Table_2a!N30","v":0},{"$f":"Oil_Table_3a!O18+Oil_Table_2a!O30","v":0},{"$f":"Oil_Table_3a!R18+Oil_Table_2a!R30","v":0},{"$f":"Oil_Table_3a!S18+Oil_Table_2a!S30","v":0},{"$f":"Oil_Table_3a!X18+Oil_Table_2a!X30","v":0},{"$f":"Oil_Table_3a!Y18+Oil_Table_2a!Y30","v":0},{"$f":"Oil_Table_3a!J18+Oil_Table_2a!J30","v":0},{"$f":"Oil_Table_3a!AB18+Oil_Table_2a!AB30","v":0},{"$f":"Oil_Table_3a!AC18+Oil_Table_2a!AC30","v":0},{"$f":"Oil_Table_3a!AD18+Oil_Table_2a!AD30","v":0},{"$f":"Oil_Table_3a!AE18+Oil_Table_2a!AE30","v":0},{"$f":"Oil_Table_3a!AF18+Oil_Table_2a!AF30","v":0},{"$f":"Oil_Table_3a!AG18+Oil_Table_2a!AG30","v":0},{"$f":"Gas_Table_2a!E13","v":0},{"$f":"Ren_Table_2a!G24","v":0},{"$f":"Ren_Table_2a!H24","v":0},{"$f":"Ren_Table_2a!I24","v":0},{"$f":"Ren_Table_2a!J24","v":0},{"$f":"Ren_Table_2a!L24","v":0},{"$f":"ROUND(Oil_Table_3a!L18+Oil_Table_2a!L30+Ren_Table_2a!M24,3)","v":0},{"$f":"ROUND(Oil_Table_3a!Q18+Oil_Table_2a!Q30+Ren_Table_2a!O24,3)","v":0},{"$f":"ROUND(Oil_Table_3a!W18+Oil_Table_2a!W30+Ren_Table_2a!P24,3)","v":0},{"$f":"ROUND(Ren_Table_2a!Q24,3)","v":0},null,null,null,null,{"$f":"Ren_Table_2a!E24","v":0},null,{"$f":"Ren_Table_2a!F24","v":0}]
["Heat pumps","THEAT",null,null,null,null,null,null,null,null,null,null,null,null,null,null,null,null,null,null,null,null,null,null,null,null,null,null,null,null,null,null,null,null,null,null,null,null,null,null,null,null,null,null,null,null,null,null,null,null,null,null,null,null,null,null,null,null,null,null,null,null,null,null,null,{"$f":"Ele_Table_3!F11","v":0}]
["Electric boilers","TBOILER",null,null,null,null,null,null,null,null,null,null,null,null,null,null,null,null,null,null,null,null,null,null,null,null,null,null,null,null,null,null,null,null,null,null,null,null,null,null,null,null,null,null,null,null,null,null,null,null,null,null,null,null,null,null,null,null,null,null,null,null,null,null,null,{"$f":"Ele_Table_3!F12","v":0}]
["Chemical heat for electricity production","TELE",null,null,null,null,null,null,null,null,null,null,null,null,null,null,null,null,null,null,null,null,null,null,null,null,null,null,null,null,null,null,null,null,null,null,null,null,null,null,null,null,null,null,null,null,null,null,null,null,null,null,null,null,null,null,null,null,null,null,null,null,null,null,null,null,{"$f":"Ele_Table_3!G16","v":0}]
["Patent fuel plants","TPATFUEL",{"$f":"Coal_Table_1!E30","v":0},{"$f":"Coal_Table_1!F30","v":0},{"$f":"Coal_Table_1!G30","v":0},{"$f":"Coal_Table_1!H30","v":0},{"$f":"Coal_Table_1!I30","v":0},{"$f":"Coal_Table_1!J30","v":0},{"$f":"Coal_Table_1!K30","v":0},{"$f":"Coal_Table_1!L30","v":0},{"$f":"Coal_Table_1!M30","v":0},{"$f":"Coal_Table_1!N30","v":0},{"$f":"Coal_Table_1!O30","v":0},{"$f":"Coal_Table_1!P30","v":0},{"$f":"Coal_Table_1!Q30","v":0},{"$f":"Coal_Table_1!R30","v":0},null,{"$f":"Coal_Table_1!S30","v":0},{"$f":"Coal_Table_1!T30","v":0},{"$f":"Coal_Table_1!U30","v":0},{"$f":"Oil_Table_3a!E24","v":0},{"$f":"Oil_Table_3a!F24","v":0},null,null,null,{"$f":"Oil_Table_3a!G24","v":0},{"$f":"Oil_Table_3a!H24","v":0},{"$f":"Oil_Table_3a!I24","v":0},{"$f":"(Oil_Table_3a!M24)","v":0},{"$f":"Oil_Table_3a!N24","v":0},{"$f":"Oil_Table_3a!O24","v":0},{"$f":"Oil_Table_3a!R24","v":0},{"$f":"Oil_Table_3a!S24","v":0},{"$f":"Oil_Table_3a!X24","v":0},{"$f":"Oil_Table_3a!Y24","v":0},{"$f":"Oil_Table_3a!J24","v":0},{"$f":"Oil_Table_3a!AB24","v":0},{"$f":"Oil_Table_3a!AC24","v":0},{"$f":"Oil_Table_3a!AD24","v":0},{"$f":"Oil_Table_3a!AE24","v":0},{"$f":"Oil_Table_3a!AF24-Oil_Table_3a!AJ24","v":0},{"$f":"Oil_Table_3a!AG24-Oil_Table_3a!AK24","v":0},null,{"$f":"Ren_Table_2a!G25","v":0},null,null,null,null,{"$f":"ROUND(Oil_Table_3a!L24+Ren_Table_2a!M25,3)","v":0},{"$f":"ROUND(Oil_Table_3a!Q24+Ren_Table_2a!O25,3)","v":0},{"$f":"ROUND(Oil_Table_3a!W24+Ren_Table_2a!P25,3)","v":0},{"$f":"ROUND(Ren_Table_2a!Q25,3)","v":0}]
["Coke ovens","TCOKEOVS",{"$f":"Coal_Table_1!E31","v":0},{"$f":"Coal_Table_1!F31","v":0},{"$f":"Coal_Table_1!G31","v":0},{"$f":"Coal_Table_1!H31","v":0},{"$f":"Coal_Table_1!I31","v":0},{"$f":"Coal_Table_1!J31","v":0},{"$f":"Coal_Table_1!K31","v":0},{"$f":"Coal_Table_1!L31","v":0},{"$f":"Coal_Table_1!M31","v":0},{"$f":"Coal_Table_1!N31","v":0},{"$f":"Coal_Table_1!O31","v":0},{"$f":"Coal_Table_1!P31","v":0},{"$f":"Coal_Table_1!Q31","v":0},{"$f":"Coal_Table_1!R31","v":0},null,{"$f":"Coal_Table_1!S31","v":0},{"$f":"Coal_Table_1!T31","v":0},{"$f":"Coal_Table_1!U31","v":0},{"$f":"Oil_Table_3a!E21","v":0},{"$f":"Oil_Table_3a!F21","v":0},null,null,null,{"$f":"Oil_Table_3a!G21","v":0},{"$f":"Oil_Table_3a!H21","v":0},{"$f":"Oil_Table_3a!I21","v":0},{"$f":"(Oil_Table_3a!M21)","v":0},{"$f":"Oil_Table_3a!N21","v":0},{"$f":"Oil_Table_3a!O21","v":0},{"$f":"Oil_Table_3a!R21","v":0},{"$f":"Oil_Table_3a!S21","v":0},{"$f":"Oil_Table_3a!X21","v":0},{"$f":"Oil_Table_3a!Y21","v":0},{"$f":"Oil_Table_3a!J21","v":0},{"$f":"Oil_Table_3a!AB21","v":0},{"$f":"Oil_Table_3a!AC21","v":0},{"$f":"Oil_Table_3a!AD21","v":0},{"$f":"Oil_Table_3a!AE21","v":0},{"$f":"Oil_Table_3a!AF21-Oil_Table_3a!AJ21","v":0},{"$f":"Oil_Table_3a!AG21-Oil_Table_3a!AK21","v":0},{"$f":"Gas_Table_2a!E15","v":0},null,null,null,null,null,{"$f":"ROUND(Oil_Table_3a!L21,3)","v":0},{"$f":"ROUND(Oil_Table_3a!Q21,)","v":0},{"$f":"ROUND(Oil_Table_3a!W21,3)","v":0}]
["Gas works","TGASWKS",{"$f":"Coal_Table_1!E33","v":0},{"$f":"Coal_Table_1!F33","v":0},{"$f":"Coal_Table_1!G33","v":0},{"$f":"Coal_Table_1!H33","v":0},{"$f":"Coal_Table_1!I33","v":0},{"$f":"Coal_Table_1!J33","v":0},{"$f":"Coal_Table_1!K33","v":0},{"$f":"Coal_Table_1!L33","v":0},{"$f":"Coal_Table_1!M33","v":0},{"$f":"Coal_Table_1!N33","v":0},{"$f":"Coal_Table_1!O33","v":0},{"$f":"Coal_Table_1!P33","v":0},{"$f":"Coal_Table_1!Q33","v":0},{"$f":"Coal_Table_1!R33","v":0},null,{"$f":"Coal_Table_1!S33","v":0},{"$f":"Coal_Table_1!T33","v":0},{"$f":"Coal_Table_1!U33","v":0},{"$f":"Oil_Table_3a!E19","v":0},{"$f":"Oil_Table_3a!F19","v":0},null,null,null,{"$f":"Oil_Table_3a!G19","v":0},{"$f":"Oil_Table_3a!H19","v":0},{"$f":"Oil_Table_3a!I19","v":0},{"$f":"(Oil_Table_3a!M19)","v":0},{"$f":"Oil_Table_3a!N19","v":0},{"$f":"Oil_Table_3a!O19","v":0},{"$f":"Oil_Table_3a!R19","v":0},{"$f":"Oil_Table_3a!S19","v":0},{"$f":"Oil_Table_3a!X19","v":0},{"$f":"Oil_Table_3a!Y19","v":0},{"$f":"Oil_Table_3a!J19","v":0},{"$f":"Oil_Table_3a!AB19","v":0},{"$f":"Oil_Table_3a!AC19","v":0},{"$f":"Oil_Table_3a!AD19","v":0},{"$f":"Oil_Table_3a!AE19","v":0},{"$f":"Oil_Table_3a!AF19-Oil_Table_3a!AJ19","v":0},{"$f":"Oil_Table_3a!AG19-Oil_Table_3a!AK19","v":0},{"$f":"Gas_Table_2a!E14","v":0},null,null,null,null,null,{"$f":"ROUND(Oil_Table_3a!L19,3)","v":0},{"$f":"ROUND(Oil_Table_3a!Q19,3)","v":0},{"$f":"ROUND(Oil_Table_3a!W19,3)","v":0}]
["Blast furnaces","TBLASTFUR",{"$f":"Coal_Table_1!E34","v":0},{"$f":"Coal_Table_1!F34","v":0},{"$f":"Coal_Table_1!G34","v":0},{"$f":"Coal_Table_1!H34","v":0},{"$f":"Coal_Table_1!I34","v":0},{"$f":"Coal_Table_1!J34","v":0},{"$f":"Coal_Table_1!K34","v":0},{"$f":"Coal_Table_1!L34","v":0},{"$f":"Coal_Table_1!M34","v":0},{"$f":"Coal_Table_1!N34","v":0},{"$f":"Coal_Table_1!O34","v":0},{"$f":"Coal_Table_1!P34","v":0},{"$f":"Coal_Table_1!Q34","v":0},{"$f":"Coal_Table_1!R34","v":0},null,{"$f":"Coal_Table_1!S34","v":0},{"$f":"Coal_Table_1!T34","v":0},{"$f":"Coal_Table_1!U34","v":0},{"$f":"Oil_Table_3a!E22","v":0},{"$f":"Oil_Table_3a!F22","v":0},null,null,null,{"$f":"Oil_Table_3a!G22","v":0},{"$f":"Oil_Table_3a!H22","v":0},{"$f":"Oil_Table_3a!I22","v":0},{"$f":"(Oil_Table_3a!M22)","v":0},{"$f":"Oil_Table_3a!N22","v":0},{"$f":"Oil_Table_3a!O22","v":0},{"$f":"Oil_Table_3a!R22","v":0},{"$f":"Oil_Table_3a!S22","v":0},{"$f":"Oil_Table_3a!X22","v":0},{"$f":"Oil_Table_3a!Y22","v":0},{"$f":"Oil_Table_3a!J22","v":0},{"$f":"Oil_Table_3a!AB22","v":0},{"$f":"Oil_Table_3a!AC22","v":0},{"$f":"Oil_Table_3a!AD22","v":0},{"$f":"Oil_Table_3a!AE22","v":0},{"$f":"Oil_Table_3a!AF22-Oil_Table_3a!AJ22","v":0},{"$f":"Oil_Table_3a!AG22-Oil_Table_3a!AK22","v":0},{"$f":"Gas_Table_2a!E16","v":0},null,null,null,null,{"$f":"Ren_Table_2a!L27","v":0},{"$f":"ROUND(Oil_Table_3a!L22+Ren_Table_2a!M27,3)","v":0},{"$f":"ROUND(Oil_Table_3a!Q22+Ren_Table_2a!O27,3)","v":0},{"$f":"ROUND(Oil_Table_3a!W22+Ren_Table_2a!P27,3)","v":0},{"$f":"ROUND(Ren_Table_2a!Q27,3)","v":0},null,{"$f":"Ren_Table_2a!K27","v":0}]
["Petrochemical plants","TPETCHEM",null,null,null,null,null,null,null,null,null,null,null,null,null,null,null,null,null,null,{"$f":"Oil_Table_3a!E23","v":0},{"$f":"Oil_Table_3a!F23","v":0},null,null,null,{"$f":"Oil_Table_3a!G23","v":0},{"$f":"Oil_Table_3a!H23","v":0},{"$f":"Oil_Table_3a!I23","v":0},{"$f":"(Oil_Table_3a!M23)","v":0},{"$f":"Oil_Table_3a!N23","v":0},{"$f":"Oil_Table_3a!O23","v":0},{"$f":"Oil_Table_3a!R23","v":0},{"$f":"Oil_Table_3a!S23","v":0},{"$f":"Oil_Table_3a!X23","v":0},{"$f":"Oil_Table_3a!Y23","v":0},{"$f":"Oil_Table_3a!J23","v":0},{"$f":"Oil_Table_3a!AB23","v":0},{"$f":"Oil_Table_3a!AC23","v":0},{"$f":"Oil_Table_3a!AD23","v":0},{"$f":"Oil_Table_3a!AE23","v":0},{"$f":"Oil_Table_3a!AF23","v":0},{"$f":"Oil_Table_3a!AG23","v":0},null,null,null,null,null,null,{"$f":"ROUND(Oil_Table_3a!L23,3)","v":0},{"$f":"ROUND(Oil_Table_3a!Q23,3)","v":0},{"$f":"ROUND(Oil_Table_3a!W23,3)","v":0}]
["BKB / peat briquette plants","TBKB",{"$f":"Coal_Table_1!E32","v":0},{"$f":"Coal_Table_1!F32","v":0},{"$f":"Coal_Table_1!G32","v":0},{"$f":"Coal_Table_1!H32","v":0},{"$f":"Coal_Table_1!I32","v":0},{"$f":"Coal_Table_1!J32","v":0},{"$f":"Coal_Table_1!K32","v":0},{"$f":"Coal_Table_1!L32","v":0},{"$f":"Coal_Table_1!M32","v":0},{"$f":"Coal_Table_1!N32","v":0},{"$f":"Coal_Table_1!O32","v":0},{"$f":"Coal_Table_1!P32","v":0},{"$f":"Coal_Table_1!Q32","v":0},{"$f":"Coal_Table_1!R32","v":0},null,{"$f":"Coal_Table_1!S32","v":0},{"$f":"Coal_Table_1!T32","v":0},{"$f":"Coal_Table_1!U32","v":0},null,null,null,null,null,null,null,null,null,null,null,null,null,null,null,null,null,null,null,null,null,null,null,{"$f":"Ren_Table_2a!G26","v":0},{"$f":"Ren_Table_2a!H26","v":0},{"$f":"Ren_Table_2a!I26","v":0},{"$f":"Ren_Table_2a!J26","v":0},null,{"$f":"ROUND(+Ren_Table_2a!M26,3)","v":0},{"$f":"ROUND(+Ren_Table_2a!O26,3)","v":0},{"$f":"ROUND(+Ren_Table_2a!P26,3)","v":0},{"$f":"ROUND(+Ren_Table_2a!Q26,3)","v":0},null,{"$f":"Ren_Table_2a!K26","v":0}]
["Oil refineries","TREFINER",null,null,null,null,null,null,null,null,null,null,null,null,null,null,null,null,null,null,{"$f":"Oil_Table_1!E20","v":0},{"$f":"Oil_Table_1!F20","v":0},{"$f":"Oil_Table_1!G20","v":0},{"$f":"Oil_Table_1!H20-Oil_Table_1!I20","v":0},{"$f":"Oil_Table_1!J20","v":0}]
["Coal liquefaction plants","TCOALLIQ",{"$f":"Coal_Table_1!E35","v":0},{"$f":"Coal_Table_1!F35","v":0},{"$f":"Coal_Table_1!G35","v":0},{"$f":"Coal_Table_1!H35","v":0},{"$f":"Coal_Table_1!I35","v":0},{"$f":"Coal_Table_1!J35","v":0},{"$f":"Coal_Table_1!K35","v":0},{"$f":"Coal_Table_1!L35","v":0},{"$f":"Coal_Table_1!M35","v":0},{"$f":"Coal_Table_1!N35","v":0},{"$f":"Coal_Table_1!O35","v":0},{"$f":"Coal_Table_1!P35","v":0},{"$f":"Coal_Table_1!Q35","v":0},{"$f":"Coal_Table_1!R35","v":0},null,{"$f":"Coal_Table_1!S35","v":0},{"$f":"Coal_Table_1!T35","v":0},{"$f":"Coal_Table_1!U35","v":0}]
["Gas-to-liquids (GTL) plants","TGTL",null,null,null,null,null,null,null,null,null,null,null,null,null,null,null,null,null,null,null,null,null,null,null,null,null,null,null,null,null,null,null,null,null,null,null,null,null,null,null,null,{"$f":"Gas_Table_2a!E17","v":0}]
["For blended natural gas","TBLENDGAS",{"$f":"Coal_Table_1!E36","v":0},{"$f":"Coal_Table_1!F36","v":0},{"$f":"Coal_Table_1!G36","v":0},{"$f":"Coal_Table_1!H36","v":0},{"$f":"Coal_Table_1!I36","v":0},{"$f":"Coal_Table_1!J36","v":0},{"$f":"Coal_Table_1!K36","v":0},{"$f":"Coal_Table_1!L36","v":0},{"$f":"Coal_Table_1!M36","v":0},{"$f":"Coal_Table_1!N36","v":0},{"$f":"Coal_Table_1!O36","v":0},{"$f":"Coal_Table_1!P36","v":0},{"$f":"Coal_Table_1!Q36","v":0},{"$f":"Coal_Table_1!R36","v":0},null,{"$f":"Coal_Table_1!S36","v":0},{"$f":"Coal_Table_1!T36","v":0},{"$f":"Coal_Table_1!U36","v":0},{"$f":"Oil_Table_3a!E20","v":0},{"$f":"Oil_Table_3a!F20","v":0},null,null,null,{"$f":"Oil_Table_3a!G20","v":0},{"$f":"Oil_Table_3a!H20","v":0},{"$f":"Oil_Table_3a!I20","v":0},{"$f":"(Oil_Table_3a!M20)","v":0},{"$f":"Oil_Table_3a!N20","v":0},{"$f":"Oil_Table_3a!O20","v":0},{"$f":"Oil_Table_3a!R20","v":0},{"$f":"Oil_Table_3a!S20","v":0},{"$f":"Oil_Table_3a!X20","v":0},{"$f":"Oil_Table_3a!Y20","v":0},{"$f":"Oil_Table_3a!J20","v":0},{"$f":"Oil_Table_3a!AB20","v":0},{"$f":"Oil_Table_3a!AC20","v":0},{"$f":"Oil_Table_3a!AD20","v":0},{"$f":"Oil_Table_3a!AE20","v":0},{"$f":"Oil_Table_3a!AF20-Oil_Table_3a!AJ20","v":0},{"$f":"Oil_Table_3a!AG20-Oil_Table_3a!AK20","v":0},null,null,null,null,null,{"$f":"Ren_Table_2a!L28","v":0},{"$f":"ROUND(+Ren_Table_2a!M28,3)","v":0},{"$f":"ROUND(+Ren_Table_2a!O28,3)","v":0},{"$f":"ROUND(+Ren_Table_2a!P28,3)","v":0},{"$f":"ROUND(+Ren_Table_2a!Q28,3)","v":0}]
["Charcoal production plants","TCHARCOAL",null,null,null,null,null,null,null,null,null,null,null,null,null,null,null,null,null,null,null,null,null,null,null,null,null,null,null,null,null,null,null,null,null,null,null,null,null,null,null,null,null,null,{"$f":"Ren_Table_2a!H30","v":0},null,{"$f":"Ren_Table_2a!J30","v":0},null,{"$f":"ROUND(+Ren_Table_2a!M30,3)","v":0},{"$f":"ROUND(+Ren_Table_2a!O30,3)","v":0},{"$f":"ROUND(+Ren_Table_2a!P30,3)","v":0},{"$f":"ROUND(+Ren_Table_2a!Q30,3)","v":0}]
["Non-specified (transformation)","TNONSPEC",{"$f":"Coal_Table_1!E37","v":0},{"$f":"Coal_Table_1!F37","v":0},{"$f":"Coal_Table_1!G37","v":0},{"$f":"Coal_Table_1!H37","v":0},{"$f":"Coal_Table_1!I37","v":0},{"$f":"Coal_Table_1!J37","v":0},{"$f":"Coal_Table_1!K37","v":0},{"$f":"Coal_Table_1!L37","v":0},{"$f":"Coal_Table_1!M37","v":0},{"$f":"Coal_Table_1!N37","v":0},{"$f":"Coal_Table_1!O37","v":0},{"$f":"Coal_Table_1!P37","v":0},{"$f":"Coal_Table_1!Q37","v":0},{"$f":"Coal_Table_1!R37","v":0},null,{"$f":"Coal_Table_1!S37","v":0},{"$f":"Coal_Table_1!T37","v":0},{"$f":"Coal_Table_1!U37","v":0},{"$f":"Oil_Table_3a!E25","v":0},{"$f":"Oil_Table_3a!F25","v":0},null,null,null,{"$f":"Oil_Table_3a!G25","v":0},{"$f":"Oil_Table_3a!H25","v":0},{"$f":"Oil_Table_3a!I25","v":0},{"$f":"(Oil_Table_3a!M25)","v":0},{"$f":"Oil_Table_3a!N25","v":0},{"$f":"Oil_Table_3a!O25","v":0},{"$f":"Oil_Table_3a!R25","v":0},{"$f":"Oil_Table_3a!S25","v":0},{"$f":"Oil_Table_3a!X25","v":0},{"$f":"Oil_Table_3a!Y25","v":0},{"$f":"Oil_Table_3a!J25","v":0},{"$f":"Oil_Table_3a!AB25","v":0},{"$f":"Oil_Table_3a!AC25","v":0},{"$f":"Oil_Table_3a!AD25","v":0},{"$f":"Oil_Table_3a!AE25","v":0},{"$f":"Oil_Table_3a!AF25-Oil_Table_3a!AJ25","v":0},{"$f":"Oil_Table_3a!AG25-Oil_Table_3a!AK25","v":0},{"$f":"Gas_Table_2a!E19","v":0},{"$f":"Ren_Table_2a!G37","v":0},{"$f":"Ren_Table_2a!H37","v":0},{"$f":"Ren_Table_2a!I37","v":0},{"$f":"Ren_Table_2a!J37","v":0},{"$f":"Ren_Table_2a!L37+Ren_Table_2a!L33+Ren_Table_2a!L36","v":0},{"$f":"ROUND(Oil_Table_3a!L25+Ren_Table_2a!M37,3)","v":0},{"$f":"ROUND(Oil_Table_3a!Q25+Ren_Table_2a!O37,3)","v":0},{"$f":"ROUND(Oil_Table_3a!W25+Ren_Table_2a!P37,3)","v":0},{"$f":"ROUND(Ren_Table_2a!Q37,3)","v":0},null,{"$f":"Ren_Table_2a!K37+Ren_Table_2a!K31+Ren_Table_2a!K36","v":0},null,null,{"$f":"Ren_Table_2a!E37","v":0},null,{"$f":"Ren_Table_2a!F37","v":0}]
["Energy industry own use","TOTENGY",{"$f":"SUM(C42:C58)","v":0},{"$f":"SUM(D42:D58)","v":0},{"$f":"SUM(E42:E58)","v":0},{"$f":"SUM(F42:F58)","v":0},{"$f":"SUM(G42:G58)","v":0},{"$f":"SUM(H42:H58)","v":0},0,0,0,0,0,0,0,0,{"$f":"SUM(Q42:Q58)","v":0},0,0,0,0,0,null,null,null,{"$f":"SUM(Z42:Z58)","v":0},0,0,0,0,0,0,0,0,0,0,0,0,0,0,0,0,{"$f":"SUM(AQ42:AQ58)","v":0},0,{"$f":"SUM(AS42:AS58)","v":0},0,0,0,0,0,0,0,null,{"$f":"SUM(BB42:BB58)","v":0},null,null,{"$f":"SUM(BE42:BE58)","v":0},null,{"$f":"SUM(BG42:BG58)","v":0},null,null,null,null,null,null,{"$f":"SUM(BN42:BN58)","v":0},{"$f":"SUM(BO42:BO58)","v":0}]
["Coal mines","EMINES",{"$f":"Coal_Table_1!E42","v":0},{"$f":"Coal_Table_1!F42","v":0},{"$f":"Coal_Table_1!G42","v":0},{"$f":"Coal_Table_1!H42","v":0},{"$f":"Coal_Table_1!I42","v":0},{"$f":"Coal_Table_1!J42","v":0},{"$f":"Coal_Table_1!K42","v":0},{"$f":"Coal_Table_1!L42","v":0},{"$f":"Coal_Table_1!M42","v":0},{"$f":"Coal_Table_1!N42","v":0},{"$f":"Coal_Table_1!O42","v":0},{"$f":"Coal_Table_1!P42","v":0},{"$f":"Coal_Table_1!Q42","v":0},{"$f":"Coal_Table_1!R42","v":0},null,{"$f":"Coal_Table_1!S42","v":0},{"$f":"Coal_Table_1!T42","v":0},{"$f":"Coal_Table_1!U42","v":0},{"$f":"Oil_Table_3a!E27","v":0},{"$f":"Oil_Table_3a!F27","v":0},null,null,null,{"$f":"Oil_Table_3a!G27","v":0},{"$f":"Oil_Table_3a!H27","v":0},{"$f":"Oil_Table_3a!I27","v":0},{"$f":"(Oil_Table_3a!M27)","v":0},{"$f":"Oil_Table_3a!N27","v":0},{"$f":"Oil_Table_3a!O27","v":0},{"$f":"Oil_Table_3a!R27","v":0},{"$f":"Oil_Table_3a!S27","v":0},{"$f":"Oil_Table_3a!X27","v":0},{"$f":"Oil_Table_3a!Y27","v":0},{"$f":"Oil_Table_3a!J27","v":0},{"$f":"Oil_Table_3a!AB27","v":0},{"$f":"Oil_Table_3a!AC27","v":0},{"$f":"Oil_Table_3a!AD27","v":0},{"$f":"Oil_Table_3a!AE27","v":0},{"$f":"Oil_Table_3a!AF27-Oil_Table_3a!AJ27","v":0},{"$f":"Oil_Table_3a!AG27-Oil_Table_3a!AK27","v":0},{"$f":"Gas_Table_2a!E21","v":0},{"$f":"Ren_Table_2a!G41","v":0},{"$f":"Ren_Table_2a!H41","v":0},{"$f":"Ren_Table_2a!I41","v":0},{"$f":"Ren_Table_2a!J41","v":0},{"$f":"Ren_Table_2a!L41","v":0},{"$f":"ROUND(Oil_Table_3a!L27+Ren_Table_2a!M41,3)","v":0},{"$f":"ROUND(Oil_Table_3a!Q27+Ren_Table_2a!O41,3)","v":0},{"$f":"ROUND(Oil_Table_3a!W27+Ren_Table_2a!P41,3)","v":0},{"$f":"ROUND(Ren_Table_2a!Q41,3)","v":0},null,{"$f":"Ren_Table_2a!K41","v":0},null,null,{"$f":"Ren_Table_2a!E41","v":0},null,{"$f":"Ren_Table_2a!F41","v":0},null,null,null,null,null,null,{"$f":"Ele_Table_4!E7","v":0},{"$f":"Ele_Table_4!F7","v":0}]
["Oil and gas extraction","EOILGASEX",null,null,null,null,null,null,null,null,null,null,null,null,null,null,null,null,null,null,{"$f":"Oil_Table_3a!E28","v":0},{"$f":"Oil_Table_3a!F28","v":0},null,null,null,{"$f":"Oil_Table_3a!G28","v":0},{"$f":"Oil_Table_3a!H28","v":0},{"$f":"Oil_Table_3a!I28","v":0},{"$f":"(Oil_Table_3a!M28)","v":0},{"$f":"Oil_Table_3a!N28","v":0},{"$f":"Oil_Table_3a!O28","v":0},{"$f":"Oil_Table_3a!R28","v":0},{"$f":"Oil_Table_3a!S28","v":0},{"$f":"Oil_Table_3a!X28","v":0},{"$f":"Oil_Table_3a!Y28","v":0},{"$f":"Oil_Table_3a!J28","v":0},{"$f":"Oil_Table_3a!AB28","v":0},{"$f":"Oil_Table_3a!AC28","v":0},{"$f":"Oil_Table_3a!AD28","v":0},{"$f":"Oil_Table_3a!AE28","v":0},{"$f":"Oil_Table_3a!AF28-Oil_Table_3a!AJ28","v":0},{"$f":"Oil_Table_3a!AG28-Oil_Table_3a!AK28","v":0},{"$f":"Gas_Table_2a!E22","v":0},null,null,null,null,null,{"$f":"ROUND(Oil_Table_3a!L28,3)","v":0},{"$f":"ROUND(Oil_Table_3a!Q28,3)","v":0},{"$f":"ROUND(Oil_Table_3a!W28,3)","v":0},null,null,null,null,null,null,null,null,null,null,null,null,null,null,{"$f":"Ele_Table_4!E8","v":0},{"$f":"Ele_Table_4!F8","v":0}]
["Patent fuel plants","EPATFUEL",{"$f":"Coal_Table_1!E43","v":0},{"$f":"Coal_Table_1!F43","v":0},{"$f":"Coal_Table_1!G43","v":0},{"$f":"Coal_Table_1!H43","v":0},{"$f":"Coal_Table_1!I43","v":0},{"$f":"Coal_Table_1!J43","v":0},{"$f":"Coal_Table_1!K43","v":0},{"$f":"Coal_Table_1!L43","v":0},{"$f":"Coal_Table_1!M43","v":0},{"$f":"Coal_Table_1!N43","v":0},{"$f":"Coal_Table_1!O43","v":0},{"$f":"Coal_Table_1!P43","v":0},{"$f":"Coal_Table_1!Q43","v":0},{"$f":"Coal_Table_1!R43","v":0},null,{"$f":"Coal_Table_1!S43","v":0},{"$f":"Coal_Table_1!T43","v":0},{"$f":"Coal_Table_1!U43","v":0},null,null,null,null,null,null,null,null,null,null,null,null,null,null,null,null,null,null,null,null,null,null,null,{"$f":"Ren_Table_2a!G42","v":0},{"$f":"Ren_Table_2a!H42","v":0},{"$f":"Ren_Table_2a!I42","v":0},{"$f":"Ren_Table_2a!J42","v":0},{"$f":"Ren_Table_2a!L42","v":0},{"$f":"ROUND(+Ren_Table_2a!M42,3)","v":0},{"$f":"ROUND(+Ren_Table_2a!O42,3)","v":0},{"$f":"ROUND(+Ren_Table_2a!P42,3)","v":0},{"$f":"ROUND(+Ren_Table_2a!Q42,3)","v":0},null,{"$f":"Ren_Table_2a!K42","v":0},null,null,{"$f":"Ren_Table_2a!E42","v":0},null,{"$f":"Ren_Table_2a!F42","v":0},null,null,null,null,null,null,{"$f":"Ele_Table_4!E9","v":0},{"$f":"Ele_Table_4!F9","v":0}]
["Coke ovens","ECOKEOVS",{"$f":"Coal_Table_1!E44","v":0},{"$f":"Coal_Table_1!F44","v":0},{"$f":"Coal_Table_1!G44","v":0},{"$f":"Coal_Table_1!H44","v":0},{"$f":"Coal_Table_1!I44","v":0},{"$f":"Coal_Table_1!J44","v":0},{"$f":"Coal_Table_1!K44","v":0},{"$f":"Coal_Table_1!L44","v":0},{"$f":"Coal_Table_1!M44","v":0},{"$f":"Coal_Table_1!N44","v":0},{"$f":"Coal_Table_1!O44","v":0},{"$f":"Coal_Table_1!P44","v":0},{"$f":"Coal_Table_1!Q44","v":0},{"$f":"Coal_Table_1!R44","v":0},null,{"$f":"Coal_Table_1!S44","v":0},{"$f":"Coal_Table_1!T44","v":0},{"$f":"Coal_Table_1!U44","v":0},{"$f":"Oil_Table_3a!E29","v":0},{"$f":"Oil_Table_3a!F29","v":0},null,null,null,{"$f":"Oil_Table_3a!G29","v":0},{"$f":"Oil_Table_3a!H29","v":0},{"$f":"Oil_Table_3a!I29","v":0},{"$f":"(Oil_Table_3a!M29)","v":0},{"$f":"Oil_Table_3a!N29","v":0},{"$f":"Oil_Table_3a!O29","v":0},{"$f":"Oil_Table_3a!R29","v":0},{"$f":"Oil_Table_3a!S29","v":0},{"$f":"Oil_Table_3a!X29","v":0},{"$f":"Oil_Table_3a!Y29","v":0},{"$f":"Oil_Table_3a!J29","v":0},{"$f":"Oil_Table_3a!AB29","v":0},{"$f":"Oil_Table_3a!AC29","v":0},{"$f":"Oil_Table_3a!AD29","v":0},{"$f":"Oil_Table_3a!AE29","v":0},{"$f":"Oil_Table_3a!AF29-Oil_Table_3a!AJ29","v":0},{"$f":"Oil_Table_3a!AG29-Oil_Table_3a!AK29","v":0},{"$f":"Gas_Table_2a!E24","v":0},{"$f":"Ren_Table_2a!G43","v":0},{"$f":"Ren_Table_2a!H43","v":0},{"$f":"Ren_Table_2a!I43","v":0},{"$f":"Ren_Table_2a!J43","v":0},{"$f":"Ren_Table_2a!L43","v":0},{"$f":"ROUND(Oil_Table_3a!L29+Ren_Table_2a!M43,3)","v":0},{"$f":"ROUND(Oil_Table_3a!Q29+Ren_Table_2a!O43,3)","v":0},{"$f":"ROUND(Oil_Table_3a!W29+Ren_Table_2a!P43,3)","v":0},{"$f":"ROUND(Ren_Table_2a!Q43,3)","v":0},null,{"$f":"Ren_Table_2a!K43","v":0},null,null,{"$f":"Ren_Table_2a!E43","v":0},null,{"$f":"Ren_Table_2a!F43","v":0},null,null,null,null,null,null,{"$f":"Ele_Table_4!E10","v":0},{"$f":"Ele_Table_4!F10","v":0}]
["Gas works","EGASWKS",{"$f":"Coal_Table_1!E46","v":0},{"$f":"Coal_Table_1!F46","v":0},{"$f":"Coal_Table_1!G46","v":0},{"$f":"Coal_Table_1!H46","v":0},{"$f":"Coal_Table_1!I46","v":0},{"$f":"Coal_Table_1!J46","v":0},{"$f":"Coal_Table_1!K46","v":0},{"$f":"Coal_Table_1!L46","v":0},{"$f":"Coal_Table_1!M46","v":0},{"$f":"Coal_Table_1!N46","v":0},{"$f":"Coal_Table_1!O46","v":0},{"$f":"Coal_Table_1!P46","v":0},{"$f":"Coal_Table_1!Q46","v":0},{"$f":"Coal_Table_1!R46","v":0},null,{"$f":"Coal_Table_1!S46","v":0},{"$f":"Coal_Table_1!T46","v":0},{"$f":"Coal_Table_1!U46","v":0},{"$f":"Oil_Table_3a!E31","v":0},{"$f":"Oil_Table_3a!F31","v":0},null,null,null,{"$f":"Oil_Table_3a!G31","v":0},{"$f":"Oil_Table_3a!H31","v":0},{"$f":"Oil_Table_3a!I31","v":0},{"$f":"(Oil_Table_3a!M31)","v":0},{"$f":"Oil_Table_3a!N31","v":0},{"$f":"Oil_Table_3a!O31","v":0},{"$f":"Oil_Table_3a!R31","v":0},{"$f":"Oil_Table_3a!S31","v":0},{"$f":"Oil_Table_3a!X31","v":0},{"$f":"Oil_Table_3a!Y31","v":0},{"$f":"Oil_Table_3a!J31","v":0},{"$f":"Oil_Table_3a!AB31","v":0},{"$f":"Oil_Table_3a!AC31","v":0},{"$f":"Oil_Table_3a!AD31","v":0},{"$f":"Oil_Table_3a!AE31","v":0},{"$f":"Oil_Table_3a!AF31-Oil_Table_3a!AJ31","v":0},{"$f":"Oil_Table_3a!AG31-Oil_Table_3a!AK31","v":0},{"$f":"Gas_Table_2a!E26","v":0},{"$f":"Ren_Table_2a!G46","v":0},{"$f":"Ren_Table_2a!H46","v":0},{"$f":"Ren_Table_2a!I46","v":0},{"$f":"Ren_Table_2a!J46","v":0},{"$f":"Ren_Table_2a!L46","v":0},{"$f":"ROUND(Oil_Table_3a!L31+Ren_Table_2a!M46,3)","v":0},{"$f":"ROUND(Oil_Table_3a!Q31+Ren_Table_2a!O46,3)","v":0},{"$f":"ROUND(Oil_Table_3a!W31+Ren_Table_2a!P46,3)","v":0},{"$f":"ROUND(Ren_Table_2a!Q46,3)","v":0},null,{"$f":"Ren_Table_2a!K46","v":0},null,null,{"$f":"Ren_Table_2a!E46","v":0},null,{"$f":"Ren_Table_2a!F46","v":0},null,null,null,null,null,null,{"$f":"Ele_Table_4!E12","v":0},{"$f":"Ele_Table_4!F12","v":0}]
["Gasification plants for biogases","EBIOGAS",null,null,null,null,null,null,null,null,null,null,null,null,null,null,null,null,null,null,null,null,null,null,null,null,null,null,null,null,null,null,null,null,null,null,null,null,null,null,null,null,null,{"$f":"Ren_Table_2a!G39","v":0},{"$f":"Ren_Table_2a!H39","v":0},{"$f":"Ren_Table_2a!I39","v":0},{"$f":"Ren_Table_2a!J39","v":0},{"$f":"Ren_Table_2a!L39","v":0},{"$f":"ROUND(+Ren_Table_2a!M39,3)","v":0},{"$f":"ROUND(+Ren_Table_2a!O39,3)","v":0},{"$f":"ROUND(+Ren_Table_2a!P39,3)","v":0},{"$f":"ROUND(+Ren_Table_2a!Q39,3)","v":0},null,{"$f":"Ren_Table_2a!K39","v":0},null,null,{"$f":"Ren_Table_2a!E39","v":0},null,{"$f":"Ren_Table_2a!F39","v":0},null,null,null,null,null,null,{"$f":"Ele_Table_4!E18","v":0},{"$f":"Ele_Table_4!F18","v":0}]
["Blast furnaces","EBLASTFUR",{"$f":"Coal_Table_1!E47","v":0},{"$f":"Coal_Table_1!F47","v":0},{"$f":"Coal_Table_1!G47","v":0},{"$f":"Coal_Table_1!H47","v":0},{"$f":"Coal_Table_1!I47","v":0},{"$f":"Coal_Table_1!J47","v":0},{"$f":"Coal_Table_1!K47","v":0},{"$f":"Coal_Table_1!L47","v":0},{"$f":"Coal_Table_1!M47","v":0},{"$f":"Coal_Table_1!N47","v":0},{"$f":"Coal_Table_1!O47","v":0},{"$f":"Coal_Table_1!P47","v":0},{"$f":"Coal_Table_1!Q47","v":0},{"$f":"Coal_Table_1!R47","v":0},null,{"$f":"Coal_Table_1!S47","v":0},{"$f":"Coal_Table_1!T47","v":0},{"$f":"Coal_Table_1!U47","v":0},{"$f":"Oil_Table_3a!E30","v":0},{"$f":"Oil_Table_3a!F30","v":0},null,null,null,{"$f":"Oil_Table_3a!G30","v":0},{"$f":"Oil_Table_3a!H30","v":0},{"$f":"Oil_Table_3a!I30","v":0},{"$f":"(Oil_Table_3a!M30)","v":0},{"$f":"Oil_Table_3a!N30","v":0},{"$f":"Oil_Table_3a!O30","v":0},{"$f":"Oil_Table_3a!R30","v":0},{"$f":"Oil_Table_3a!S30","v":0},{"$f":"Oil_Table_3a!X30","v":0},{"$f":"Oil_Table_3a!Y30","v":0},{"$f":"Oil_Table_3a!J30","v":0},{"$f":"Oil_Table_3a!AB30","v":0},{"$f":"Oil_Table_3a!AC30","v":0},{"$f":"Oil_Table_3a!AD30","v":0},{"$f":"Oil_Table_3a!AE30","v":0},{"$f":"Oil_Table_3a!AF30-Oil_Table_3a!AJ30","v":0},{"$f":"Oil_Table_3a!AG30-Oil_Table_3a!AK30","v":0},{"$f":"Gas_Table_2a!E25","v":0},{"$f":"Ren_Table_2a!G47","v":0},{"$f":"Ren_Table_2a!H47","v":0},{"$f":"Ren_Table_2a!I47","v":0},{"$f":"Ren_Table_2a!J47","v":0},{"$f":"Ren_Table_2a!L47","v":0},{"$f":"ROUND(Oil_Table_3a!L30+Ren_Table_2a!M47,3)","v":0},{"$f":"ROUND(Oil_Table_3a!Q30+Ren_Table_2a!O47,3)","v":0},{"$f":"ROUND(Oil_Table_3a!W30+Ren_Table_2a!P47,3)","v":0},{"$f":"ROUND(Ren_Table_2a!Q47,3)","v":0},null,{"$f":"Ren_Table_2a!K47","v":0},null,null,{"$f":"Ren_Table_2a!E47","v":0},null,{"$f":"Ren_Table_2a!F47","v":0},null,null,null,null,null,null,{"$f":"Ele_Table_4!E13","v":0},{"$f":"Ele_Table_4!F13","v":0}]
["BKB / peat briquette plants","EBKB",{"$f":"Coal_Table_1!E45","v":0},{"$f":"Coal_Table_1!F45","v":0},{"$f":"Coal_Table_1!G45","v":0},{"$f":"Coal_Table_1!H45","v":0},{"$f":"Coal_Table_1!I45","v":0},{"$f":"Coal_Table_1!J45","v":0},{"$f":"Coal_Table_1!K45","v":0},{"$f":"Coal_Table_1!L45","v":0},{"$f":"Coal_Table_1!M45","v":0},{"$f":"Coal_Table_1!N45","v":0},{"$f":"Coal_Table_1!O45","v":0},{"$f":"Coal_Table_1!P45","v":0},{"$f":"Coal_Table_1!Q45","v":0},{"$f":"Coal_Table_1!R45","v":0},null,{"$f":"Coal_Table_1!S45","v":0},{"$f":"Coal_Table_1!T45","v":0},{"$f":"Coal_Table_1!U45","v":0},null,null,null,null,null,null,null,null,null,null,null,null,null,null,null,null,null,null,null,null,null,null,null,{"$f":"Ren_Table_2a!G45","v":0},{"$f":"Ren_Table_2a!H45","v":0},{"$f":"Ren_Table_2a!I45","v":0},{"$f":"Ren_Table_2a!J45","v":0},{"$f":"Ren_Table_2a!L45","v":0},{"$f":"ROUND(+Ren_Table_2a!M45,3)","v":0},{"$f":"ROUND(+Ren_Table_2a!O45,3)","v":0},{"$f":"ROUND(+Ren_Table_2a!P45,3)","v":0},{"$f":"ROUND(+Ren_Table_2a!Q45,3)","v":0},null,{"$f":"Ren_Table_2a!K45","v":0},null,null,{"$f":"Ren_Table_2a!E45","v":0},null,{"$f":"Ren_Table_2a!F45","v":0},null,null,null,null,null,null,{"$f":"Ele_Table_4!E11","v":0},{"$f":"Ele_Table_4!F11","v":0}]
["Oil refineries","EREFINER",{"$f":"Coal_Table_1!E48","v":0},{"$f":"Coal_Table_1!F48","v":0},{"$f":"Coal_Table_1!G48","v":0},{"$f":"Coal_Table_1!H48","v":0},{"$f":"Coal_Table_1!I48","v":0},{"$f":"Coal_Table_1!J48","v":0},{"$f":"Coal_Table_1!K48","v":0},{"$f":"Coal_Table_1!L48","v":0},{"$f":"Coal_Table_1!M48","v":0},{"$f":"Coal_Table_1!N48","v":0},{"$f":"Coal_Table_1!O48","v":0},{"$f":"Coal_Table_1!P48","v":0},{"$f":"Coal_Table_1!Q48","v":0},{"$f":"Coal_Table_1!R48","v":0},null,{"$f":"Coal_Table_1!S48","v":0},{"$f":"Coal_Table_1!T48","v":0},{"$f":"Coal_Table_1!U48","v":0},null,null,null,null,null,{"$f":"Oil_Table_2a!G14-(Oil_Table_2a!G28+Oil_Table_2a!G29+Oil_Table_2a!G30)","v":0},{"$f":"Oil_Table_2a!H14-(Oil_Table_2a!H28+Oil_Table_2a!H29+Oil_Table_2a!H30)","v":0},{"$f":"Oil_Table_2a!I14-(Oil_Table_2a!I28+Oil_Table_2a!I29+Oil_Table_2a!I30)","v":0},{"$f":"Oil_Table_2a!M14-(Oil_Table_2a!M28+Oil_Table_2a!M29+Oil_Table_2a!M30)","v":0},{"$f":"Oil_Table_2a!N14-(Oil_Table_2a!N28+Oil_Table_2a!N29+Oil_Table_2a!N30)","v":0},{"$f":"Oil_Table_2a!O14-(Oil_Table_2a!O28+Oil_Table_2a!O29+Oil_Table_2a!O30)","v":0},{"$f":"Oil_Table_2a!R14-(Oil_Table_2a!R28+Oil_Table_2a!R29+Oil_Table_2a!R30)","v":0},{"$f":"Oil_Table_2a!S14-(Oil_Table_2a!S28+Oil_Table_2a!S29+Oil_Table_2a!S30)","v":0},{"$f":"Oil_Table_2a!X14-(Oil_Table_2a!X28+Oil_Table_2a!X29+Oil_Table_2a!X30)","v":0},{"$f":"Oil_Table_2a!Y14-(Oil_Table_2a!Y28+Oil_Table_2a!Y29+Oil_Table_2a!Y30)","v":0},{"$f":"Oil_Table_2a!J14-(Oil_Table_2a!J28+Oil_Table_2a!J29+Oil_Table_2a!J30)","v":0},{"$f":"Oil_Table_2a!AB14-(Oil_Table_2a!AB28+Oil_Table_2a!AB29+Oil_Table_2a!AB30)","v":0},{"$f":"Oil_Table_2a!AC14-(Oil_Table_2a!AC28+Oil_Table_2a!AC29+Oil_Table_2a!AC30)","v":0},{"$f":"Oil_Table_2a!AD14-(Oil_Table_2a!AD28+Oil_Table_2a!AD29+Oil_Table_2a!AD30)","v":0},{"$f":"Oil_Table_2a!AE14-(Oil_Table_2a!AE28+Oil_Table_2a!AE29+Oil_Table_2a!AE30)","v":0},{"$f":"Oil_Table_2a!AF14-(Oil_Table_2a!AF28+Oil_Table_2a!AF29+Oil_Table_2a!AF30)","v":0},{"$f":"Oil_Table_2a!AG14-(Oil_Table_2a!AG28+Oil_Table_2a!AG29+Oil_Table_2a!AG30)","v":0},{"$f":"Gas_Table_2a!E23","v":0},{"$f":"Ren_Table_2a!G44","v":0},{"$f":"Ren_Table_2a!H44","v":0},{"$f":"Ren_Table_2a!I44","v":0},{"$f":"Ren_Table_2a!J44","v":0},{"$f":"Ren_Table_2a!L44","v":0},{"$f":"ROUND(Oil_Table_2a!L28+Oil_Table_2a!L29+Ren_Table_2a!M44,3)","v":0},{"$f":"ROUND(Oil_Table_2a!Q28+Oil_Table_2a!Q29+Ren_Table_2a!O44,3)","v":0},{"$f":"ROUND(Oil_Table_2a!W28+Oil_Table_2a!W29+Ren_Table_2a!P44,3)","v":0},{"$f":"ROUND(Ren_Table_2a!Q44,3)","v":0},null,{"$f":"Ren_Table_2a!K44","v":0},null,null,{"$f":"Ren_Table_2a!E44","v":0},null,{"$f":"Ren_Table_2a!F44","v":0},null,null,null,null,null,null,{"$f":"Ele_Table_4!E14","v":0},{"$f":"Ele_Table_4!F14","v":0}]
["Coal liquefaction plants","ECOALLIQ",{"$f":"Coal_Table_1!E49","v":0},{"$f":"Coal_Table_1!F49","v":0},{"$f":"Coal_Table_1!G49","v":0},{"$f":"Coal_Table_1!H49","v":0},{"$f":"Coal_Table_1!I49","v":0},{"$f":"Coal_Table_1!J49","v":0},{"$f":"Coal_Table_1!K49","v":0},{"$f":"Coal_Table_1!L49","v":0},{"$f":"Coal_Table_1!M49","v":0},{"$f":"Coal_Table_1!N49","v":0},{"$f":"Coal_Table_1!O49","v":0},{"$f":"Coal_Table_1!P49","v":0},{"$f":"Coal_Table_1!Q49","v":0},{"$f":"Coal_Table_1!R49","v":0},null,{"$f":"Coal_Table_1!S49","v":0},{"$f":"Coal_Table_1!T49","v":0},{"$f":"Coal_Table_1!U49","v":0},null,null,null,null,null,null,null,null,null,null,null,null,null,null,null,null,null,null,null,null,null,null,null,null,null,null,null,null,null,null,null,null,null,null,null,null,null,null,null,null,null,null,null,null,null,{"$f":"Ele_Table_4!E16","v":0},{"$f":"Ele_Table_4!F16","v":0}]
["Liquefaction (LNG) / regasification plants","ELNG",null,null,null,null,null,null,null,null,null,null,null,null,null,null,null,null,null,null,null,null,null,null,null,null,null,null,null,null,null,null,null,null,null,null,null,null,null,null,null,null,{"$f":"Gas_Table_2a!E28","v":0},null,null,null,null,null,null,null,null,null,null,null,null,null,null,null,null,null,null,null,null,null,null,{"$f":"Ele_Table_4!E17","v":0},{"$f":"Ele_Table_4!F17","v":0}]
["Gas-to-liquids (GTL) plants","EGTL",null,null,null,null,null,null,null,null,null,null,null,null,null,null,null,null,null,null,null,null,null,null,null,null,null,null,null,null,null,null,null,null,null,null,null,null,null,null,null,null,{"$f":"Gas_Table_2a!E29","v":0},null,null,null,null,null,null,null,null,null,null,null,null,null,null,null,null,null,null,null,null,null,null,{"$f":"Ele_Table_4!E19","v":0},{"$f":"Ele_Table_4!F19","v":0}]
["Own use in electricity, CHP and heat plants","EPOWERPLT",{"$f":"Coal_Table_1!E41","v":0},{"$f":"Coal_Table_1!F41","v":0},{"$f":"Coal_Table_1!G41","v":0},{"$f":"Coal_Table_1!H41","v":0},{"$f":"Coal_Table_1!I41","v":0},{"$f":"Coal_Table_1!J41","v":0},{"$f":"Coal_Table_1!K41","v":0},{"$f":"Coal_Table_1!L41","v":0},{"$f":"Coal_Table_1!M41","v":0},{"$f":"Coal_Table_1!N41","v":0},{"$f":"Coal_Table_1!O41","v":0},{"$f":"Coal_Table_1!P41","v":0},{"$f":"Coal_Table_1!Q41","v":0},{"$f":"Coal_Table_1!R41","v":0},null,{"$f":"Coal_Table_1!S41","v":0},{"$f":"Coal_Table_1!T41","v":0},{"$f":"Coal_Table_1!U41","v":0},{"$f":"Oil_Table_3a!E32","v":0},{"$f":"Oil_Table_3a!F32","v":0},null,null,null,{"$f":"Oil_Table_3a!G32","v":0},{"$f":"Oil_Table_3a!H32","v":0},{"$f":"Oil_Table_3a!I32","v":0},{"$f":"(Oil_Table_3a!M32)","v":0},{"$f":"Oil_Table_3a!N32","v":0},{"$f":"Oil_Table_3a!O32","v":0},{"$f":"Oil_Table_3a!R32","v":0},{"$f":"Oil_Table_3a!S32","v":0},{"$f":"Oil_Table_3a!X32","v":0},{"$f":"Oil_Table_3a!Y32","v":0},{"$f":"Oil_Table_3a!J32","v":0},{"$f":"Oil_Table_3a!AB32","v":0},{"$f":"Oil_Table_3a!AC32","v":0},{"$f":"Oil_Table_3a!AD32","v":0},{"$f":"Oil_Table_3a!AE32","v":0},{"$f":"Oil_Table_3a!AF32-Oil_Table_3a!AJ32","v":0},{"$f":"Oil_Table_3a!AG32-Oil_Table_3a!AK32","v":0},{"$f":"Gas_Table_2a!E27","v":0},{"$f":"Ren_Table_2a!G40","v":0},{"$f":"Ren_Table_2a!H40","v":0},{"$f":"Ren_Table_2a!I40","v":0},{"$f":"Ren_Table_2a!J40","v":0},{"$f":"Ren_Table_2a!L40","v":0},{"$f":"ROUND(Oil_Table_3a!L32+Ren_Table_2a!M40,3)","v":0},{"$f":"ROUND(Oil_Table_3a!Q32+Ren_Table_2a!O40,3)","v":0},{"$f":"ROUND(Oil_Table_3a!W32+Ren_Table_2a!P40,3)","v":0},{"$f":"ROUND(Ren_Table_2a!Q40,3)","v":0},null,{"$f":"Ren_Table_2a!K40","v":0},null,null,{"$f":"Ren_Table_2a!E40","v":0},null,{"$f":"Ren_Table_2a!F40","v":0},null,null,null,null,null,null,{"$f":"Ele_Table_3!F7","v":0},{"$f":"Ele_Table_3!G7","v":0}]
["Used for pumped storage","EPUMPST",null,null,null,null,null,null,null,null,null,null,null,null,null,null,null,null,null,null,null,null,null,null,null,null,null,null,null,null,null,null,null,null,null,null,null,null,null,null,null,null,null,null,null,null,null,null,null,null,null,null,null,null,null,null,null,null,null,null,null,null,null,null,null,{"$f":"Ele_Table_3!F13+Ele_Table_3!F14","v":0}]
["Nuclear industry","ENUC",null,null,null,null,null,null,null,null,null,null,null,null,null,null,null,null,null,null,null,null,null,null,null,null,null,null,null,null,null,null,null,null,null,null,null,null,null,null,null,null,null,null,null,null,null,null,null,null,null,null,null,null,null,null,null,null,null,null,null,null,null,null,null,{"$f":"Ele_Table_4!E15","v":0},{"$f":"Ele_Table_4!F15","v":0}]
["Charcoal production plants","ECHARCOAL",null,null,null,null,null,null,null,null,null,null,null,null,null,null,null,null,null,null,null,null,null,null,null,null,null,null,null,null,null,null,null,null,null,null,null,null,null,null,null,null,null,{"$f":"Ren_Table_2a!G48","v":0},{"$f":"Ren_Table_2a!H48","v":0},{"$f":"Ren_Table_2a!I48","v":0},{"$f":"Ren_Table_2a!J48","v":0},{"$f":"Ren_Table_2a!L48","v":0},{"$f":"ROUND(+Ren_Table_2a!M48,3)","v":0},{"$f":"ROUND(+Ren_Table_2a!O48,3)","v":0},{"$f":"ROUND(+Ren_Table_2a!P48,3)","v":0},{"$f":"ROUND(+Ren_Table_2a!Q48,3)","v":0},null,{"$f":"Ren_Table_2a!K48","v":0},null,null,{"$f":"Ren_Table_2a!E48","v":0},null,{"$f":"Ren_Table_2a!F48","v":0},null,null,null,null,null,null,{"$f":"Ele_Table_4!E20","v":0},{"$f":"Ele_Table_4!F20","v":0}]
["Non-specified (energy)","ENONSPEC",{"$f":"Coal_Table_1!E50","v":0},{"$f":"Coal_Table_1!F50","v":0},{"$f":"Coal_Table_1!G50","v":0},{"$f":"Coal_Table_1!H50","v":0},{"$f":"Coal_Table_1!I50","v":0},{"$f":"Coal_Table_1!J50","v":0},{"$f":"Coal_Table_1!K50","v":0},{"$f":"Coal_Table_1!L50","v":0},{"$f":"Coal_Table_1!M50","v":0},{"$f":"Coal_Table_1!N50","v":0},{"$f":"Coal_Table_1!O50","v":0},{"$f":"Coal_Table_1!P50","v":0},{"$f":"Coal_Table_1!Q50","v":0},{"$f":"Coal_Table_1!R50","v":0},null,{"$f":"Coal_Table_1!S50","v":0},{"$f":"Coal_Table_1!T50","v":0},{"$f":"Coal_Table_1!U50","v":0},{"$f":"Oil_Table_3a!E33","v":0},{"$f":"Oil_Table_3a!F33","v":0},null,null,null,{"$f":"Oil_Table_3a!G33","v":0},{"$f":"Oil_Table_3a!H33","v":0},{"$f":"Oil_Table_3a!I33","v":0},{"$f":"(Oil_Table_3a!M33)","v":0},{"$f":"Oil_Table_3a!N33","v":0},{"$f":"Oil_Table_3a!O33","v":0},{"$f":"Oil_Table_3a!R33","v":0},{"$f":"Oil_Table_3a!S33","v":0},{"$f":"Oil_Table_3a!X33","v":0},{"$f":"Oil_Table_3a!Y33","v":0},{"$f":"Oil_Table_3a!J33","v":0},{"$f":"Oil_Table_3a!AB33","v":0},{"$f":"Oil_Table_3a!AC33","v":0},{"$f":"Oil_Table_3a!AD33","v":0},{"$f":"Oil_Table_3a!AE33","v":0},{"$f":"Oil_Table_3a!AF33-Oil_Table_3a!AJ33","v":0},{"$f":"Oil_Table_3a!AG33-Oil_Table_3a!AK33","v":0},{"$f":"Gas_Table_2a!E31","v":0},{"$f":"Ren_Table_2a!G49","v":0},{"$f":"Ren_Table_2a!H49","v":0},{"$f":"Ren_Table_2a!I49","v":0},{"$f":"Ren_Table_2a!J49","v":0},{"$f":"Ren_Table_2a!L49","v":0},{"$f":"ROUND(Oil_Table_3a!L33+Ren_Table_2a!M49,3)","v":0},{"$f":"ROUND(Oil_Table_3a!Q33+Ren_Table_2a!O49,3)","v":0},{"$f":"ROUND(Oil_Table_3a!W33+Ren_Table_2a!P49,3)","v":0},{"$f":"ROUND(Ren_Table_2a!Q49,3)","v":0},null,{"$f":"Ren_Table_2a!K49","v":0},null,null,{"$f":"Ren_Table_2a!E49","v":0},null,{"$f":"Ren_Table_2a!F49","v":0},null,null,null,null,null,null,{"$f":"Ele_Table_4!E21","v":0},{"$f":"Ele_Table_4!F21","v":0}]
["Losses","DISTLOSS",{"$f":"Coal_Table_1!E52","v":0},{"$f":"Coal_Table_1!F52","v":0},{"$f":"Coal_Table_1!G52","v":0},{"$f":"Coal_Table_1!H52","v":0},{"$f":"Coal_Table_1!I52","v":0},{"$f":"Coal_Table_1!J52","v":0},{"$f":"Coal_Table_1!K52","v":0},{"$f":"Coal_Table_1!L52","v":0},{"$f":"Coal_Table_1!M52","v":0},{"$f":"Coal_Table_1!N52","v":0},{"$f":"Coal_Table_1!O52","v":0},{"$f":"Coal_Table_1!P52","v":0},{"$f":"Coal_Table_1!Q52","v":0},{"$f":"Coal_Table_1!R52","v":0},null,{"$f":"Coal_Table_1!S52","v":0},{"$f":"Coal_Table_1!T52","v":0},{"$f":"Coal_Table_1!U52","v":0},{"$f":"Oil_Table_3a!E34","v":0},{"$f":"Oil_Table_3a!F34","v":0},null,null,null,{"$f":"Oil_Table_3a!G34","v":0},{"$f":"Oil_Table_3a!H34","v":0},{"$f":"Oil_Table_3a!I34","v":0},{"$f":"Oil_Table_3a!M34","v":0},{"$f":"Oil_Table_3a!N34","v":0},{"$f":"Oil_Table_3a!O34","v":0},{"$f":"Oil_Table_3a!R34","v":0},{"$f":"Oil_Table_3a!S34","v":0},{"$f":"Oil_Table_3a!X34","v":0},{"$f":"Oil_Table_3a!Y34","v":0},{"$f":"Oil_Table_3a!J34","v":0},{"$f":"Oil_Table_3a!AB34","v":0},{"$f":"Oil_Table_3a!AC34","v":0},{"$f":"Oil_Table_3a!AD34","v":0},{"$f":"Oil_Table_3a!AE34","v":0},{"$f":"Oil_Table_3a!AF34-Oil_Table_3a!AJ34","v":0},{"$f":"Oil_Table_3a!AG34-Oil_Table_3a!AK34","v":0},{"$f":"Gas_Table_2a!E32","v":0},{"$f":"Ren_Table_2a!G51","v":0},{"$f":"Ren_Table_2a!H51","v":0},{"$f":"Ren_Table_2a!I51","v":0},{"$f":"Ren_Table_2a!J51","v":0},{"$f":"Ren_Table_2a!L51","v":0},{"$f":"ROUND(Oil_Table_3a!L34+Ren_Table_2a!M51,3)","v":0},{"$f":"ROUND(Oil_Table_3a!Q34+Ren_Table_2a!O51,3)","v":0},{"$f":"ROUND(Oil_Table_3a!W34+Ren_Table_2a!P51,3)","v":0},{"$f":"ROUND(Ren_Table_2a!Q51,3)","v":0},null,{"$f":"Ren_Table_2a!K51","v":0},null,null,{"$f":"Ren_Table_2a!E51","v":0},null,{"$f":"Ren_Table_2a!F51","v":0},null,null,null,null,null,null,{"$f":"Ele_Table_3!F18","v":0},{"$f":"Ele_Table_3!G18","v":0}]
["Final consumption","FINCONS",{"$f":"C61+C75+C82+C88","v":0},{"$f":"D61+D75+D82+D88","v":0},{"$f":"E61+E75+E82+E88","v":0},{"$f":"F61+F75+F82+F88","v":0},{"$f":"G61+G75+G82+G88","v":0},{"$f":"H61+H75+H82+H88","v":0},0,0,0,0,0,0,0,0,{"$f":"Q61+Q75+Q82+Q88","v":0},0,0,0,0,0,null,null,null,{"$f":"Z61+Z75+Z82+Z88","v":0},0,0,0,0,0,0,0,0,0,0,0,0,0,0,0,0,{"$f":"AQ61+AQ75+AQ82+AQ88","v":0},0,{"$f":"AS61+AS75+AS82+AS88","v":0},0,0,0,0,0,0,0,null,{"$f":"BB61+BB75+BB82+BB88","v":0},null,null,{"$f":"BE61+BE75+BE82+BE88","v":0},null,{"$f":"BG61+BG75+BG82+BG88","v":0},null,null,null,null,null,null,{"$f":"BN61+BN75+BN82+BN88","v":0},{"$f":"BO61+BO75+BO82+BO88","v":0}]
["Industry","TOTIND",{"$f":"SUM(C62:C74)","v":0},{"$f":"SUM(D62:D74)","v":0},{"$f":"SUM(E62:E74)","v":0},{"$f":"SUM(F62:F74)","v":0},{"$f":"SUM(G62:G74)","v":0},{"$f":"SUM(H62:H74)","v":0},0,0,0,0,0,0,0,0,{"$f":"SUM(Q62:Q74)","v":0},0,0,0,0,0,null,null,null,{"$f":"SUM(Z62:Z74)","v":0},0,0,0,0,0,0,0,0,0,0,0,0,0,0,0,0,{"$f":"SUM(AQ62:AQ74)","v":0},0,{"$f":"SUM(AS62:AS74)","v":0},0,0,0,0,0,0,0,null,{"$f":"SUM(BB62:BB74)","v":0},null,null,{"$f":"SUM(BE62:BE74)","v":0},null,{"$f":"SUM(BG62:BG74)","v":0},null,null,null,null,null,null,{"$f":"SUM(BN62:BN74)","v":0},{"$f":"SUM(BO62:BO74)","v":0}]
["Iron and steel","IRONSTL",{"$f":"Coal_Table_1!E66","v":0},{"$f":"Coal_Table_1!F66","v":0},{"$f":"Coal_Table_1!G66","v":0},{"$f":"Coal_Table_1!H66","v":0},{"$f":"Coal_Table_1!I66","v":0},{"$f":"Coal_Table_1!J66","v":0},{"$f":"Coal_Table_1!K66","v":0},{"$f":"Coal_Table_1!L66","v":0},{"$f":"Coal_Table_1!M66","v":0},{"$f":"Coal_Table_1!N66","v":0},{"$f":"Coal_Table_1!O66","v":0},{"$f":"Coal_Table_1!P66","v":0},{"$f":"Coal_Table_1!Q66","v":0},{"$f":"Coal_Table_1!R66","v":0},null,{"$f":"Coal_Table_1!S66","v":0},{"$f":"Coal_Table_1!T66","v":0},{"$f":"Coal_Table_1!U66","v":0},{"$f":"Oil_Table_3a!E45","v":0},{"$f":"Oil_Table_3a!F45","v":0},null,null,null,{"$f":"Oil_Table_3a!G45","v":0},{"$f":"Oil_Table_3a!H45","v":0},{"$f":"Oil_Table_3a!I45","v":0},{"$f":"(Oil_Table_3a!M45)","v":0},{"$f":"Oil_Table_3a!N45","v":0},{"$f":"Oil_Table_3a!O45","v":0},{"$f":"Oil_Table_3a!R45","v":0},{"$f":"Oil_Table_3a!S45","v":0},{"$f":"Oil_Table_3a!X45","v":0},{"$f":"Oil_Table_3a!Y45","v":0},{"$f":"Oil_Table_3a!J45","v":0},{"$f":"Oil_Table_3a!AB45","v":0},{"$f":"Oil_Table_3a!AC45","v":0},{"$f":"Oil_Table_3a!AD45","v":0},{"$f":"Oil_Table_3a!AE45","v":0},{"$f":"Oil_Table_3a!AF45-Oil_Table_3a!AJ45","v":0},{"$f":"Oil_Table_3a!AG45-Oil_Table_3a!AK45","v":0},{"$f":"Gas_Table_2b!E13","v":0},{"$f":"Ren_Table_2a!G55","v":0},{"$f":"Ren_Table_2a!H55","v":0},{"$f":"Ren_Table_2a!I55","v":0},{"$f":"Ren_Table_2a!J55","v":0},{"$f":"Ren_Table_2a!L55","v":0},{"$f":"ROUND(Oil_Table_3a!L45+Ren_Table_2a!M55,3)","v":0},{"$f":"ROUND(Oil_Table_3a!Q45+Ren_Table_2a!O55,3)","v":0},{"$f":"ROUND(Oil_Table_3a!W45+Ren_Table_2a!P55,3)","v":0},{"$f":"ROUND(Ren_Table_2a!Q55,3)","v":0},null,{"$f":"Ren_Table_2a!K55","v":0},null,null,{"$f":"Ren_Table_2a!E55","v":0},null,{"$f":"Ren_Table_2a!F55","v":0},null,null,null,null,null,null,{"$f":"Ele_Table_4!E24","v":0},{"$f":"Ele_Table_4!F24","v":0}]
["Chemical and petrochemical","CHEMICAL",{"$f":"Coal_Table_1!E67","v":0},{"$f":"Coal_Table_1!F67","v":0},{"$f":"Coal_Table_1!G67","v":0},{"$f":"Coal_Table_1!H67","v":0},{"$f":"Coal_Table_1!I67","v":0},{"$f":"Coal_Table_1!J67","v":0},{"$f":"Coal_Table_1!K67","v":0},{"$f":"Coal_Table_1!L67","v":0},{"$f":"Coal_Table_1!M67","v":0},{"$f":"Coal_Table_1!N67","v":0},{"$f":"Coal_Table_1!O67","v":0},{"$f":"Coal_Table_1!P67","v":0},{"$f":"Coal_Table_1!Q67","v":0},{"$f":"Coal_Table_1!R67","v":0},null,{"$f":"Coal_Table_1!S67","v":0},{"$f":"Coal_Table_1!T67","v":0},{"$f":"Coal_Table_1!U67","v":0},{"$f":"Oil_Table_3a!E46","v":0},{"$f":"Oil_Table_3a!F46","v":0},null,null,null,{"$f":"Oil_Table_3a!G46","v":0},{"$f":"Oil_Table_3a!H46","v":0},{"$f":"Oil_Table_3a!I46","v":0},{"$f":"(Oil_Table_3a!M46)","v":0},{"$f":"Oil_Table_3a!N46","v":0},{"$f":"Oil_Table_3a!O46","v":0},{"$f":"Oil_Table_3a!R46","v":0},{"$f":"Oil_Table_3a!S46","v":0},{"$f":"Oil_Table_3a!X46","v":0},{"$f":"Oil_Table_3a!Y46","v":0},{"$f":"Oil_Table_3a!J46","v":0},{"$f":"Oil_Table_3a!AB46","v":0},{"$f":"Oil_Table_3a!AC46","v":0},{"$f":"Oil_Table_3a!AD46","v":0},{"$f":"Oil_Table_3a!AE46","v":0},{"$f":"Oil_Table_3a!AF46-Oil_Table_3a!AJ46","v":0},{"$f":"Oil_Table_3a!AG46-Oil_Table_3a!AK46","v":0},{"$f":"Gas_Table_2b!E14","v":0},{"$f":"Ren_Table_2a!G56","v":0},{"$f":"Ren_Table_2a!H56","v":0},{"$f":"Ren_Table_2a!I56","v":0},{"$f":"Ren_Table_2a!J56","v":0},{"$f":"Ren_Table_2a!L56","v":0},{"$f":"ROUND(Oil_Table_3a!L46+Ren_Table_2a!M56,3)","v":0},{"$f":"ROUND(Oil_Table_3a!Q46+Ren_Table_2a!O56,3)","v":0},{"$f":"ROUND(Oil_Table_3a!W46+Ren_Table_2a!P56,3)","v":0},{"$f":"ROUND(Ren_Table_2a!Q56,3)","v":0},null,{"$f":"Ren_Table_2a!K56","v":0},null,null,{"$f":"Ren_Table_2a!E56","v":0},null,{"$f":"Ren_Table_2a!F56","v":0},null,null,null,null,null,null,{"$f":"Ele_Table_4!E25","v":0},{"$f":"Ele_Table_4!F25","v":0}]
["Non-ferrous metals","NONFERR",{"$f":"Coal_Table_1!E68","v":0},{"$f":"Coal_Table_1!F68","v":0},{"$f":"Coal_Table_1!G68","v":0},{"$f":"Coal_Table_1!H68","v":0},{"$f":"Coal_Table_1!I68","v":0},{"$f":"Coal_Table_1!J68","v":0},{"$f":"Coal_Table_1!K68","v":0},{"$f":"Coal_Table_1!L68","v":0},{"$f":"Coal_Table_1!M68","v":0},{"$f":"Coal_Table_1!N68","v":0},{"$f":"Coal_Table_1!O68","v":0},{"$f":"Coal_Table_1!P68","v":0},{"$f":"Coal_Table_1!Q68","v":0},{"$f":"Coal_Table_1!R68","v":0},null,{"$f":"Coal_Table_1!S68","v":0},{"$f":"Coal_Table_1!T68","v":0},{"$f":"Coal_Table_1!U68","v":0},{"$f":"Oil_Table_3a!E47","v":0},{"$f":"Oil_Table_3a!F47","v":0},null,null,null,{"$f":"Oil_Table_3a!G47","v":0},{"$f":"Oil_Table_3a!H47","v":0},{"$f":"Oil_Table_3a!I47","v":0},{"$f":"(Oil_Table_3a!M47)","v":0},{"$f":"Oil_Table_3a!N47","v":0},{"$f":"Oil_Table_3a!O47","v":0},{"$f":"Oil_Table_3a!R47","v":0},{"$f":"Oil_Table_3a!S47","v":0},{"$f":"Oil_Table_3a!X47","v":0},{"$f":"Oil_Table_3a!Y47","v":0},{"$f":"Oil_Table_3a!J47","v":0},{"$f":"Oil_Table_3a!AB47","v":0},{"$f":"Oil_Table_3a!AC47","v":0},{"$f":"Oil_Table_3a!AD47","v":0},{"$f":"Oil_Table_3a!AE47","v":0},{"$f":"Oil_Table_3a!AF47-Oil_Table_3a!AJ47","v":0},{"$f":"Oil_Table_3a!AG47-Oil_Table_3a!AK47","v":0},{"$f":"Gas_Table_2b!E15","v":0},{"$f":"Ren_Table_2a!G57","v":0},{"$f":"Ren_Table_2a!H57","v":0},{"$f":"Ren_Table_2a!I57","v":0},{"$f":"Ren_Table_2a!J57","v":0},{"$f":"Ren_Table_2a!L57","v":0},{"$f":"ROUND(Oil_Table_3a!L47+Ren_Table_2a!M57,3)","v":0},{"$f":"ROUND(Oil_Table_3a!Q47+Ren_Table_2a!O57,3)","v":0},{"$f":"ROUND(Oil_Table_3a!W47+Ren_Table_2a!P57,3)","v":0},{"$f":"ROUND(Ren_Table_2a!Q57,3)","v":0},null,{"$f":"Ren_Table_2a!K57","v":0},null,null,{"$f":"Ren_Table_2a!E57","v":0},null,{"$f":"Ren_Table_2a!F57","v":0},null,null,null,null,null,null,{"$f":"Ele_Table_4!E26","v":0},{"$f":"Ele_Table_4!F26","v":0}]
["Non-metallic minerals","NONMET",{"$f":"Coal_Table_1!E69","v":0},{"$f":"Coal_Table_1!F69","v":0},{"$f":"Coal_Table_1!G69","v":0},{"$f":"Coal_Table_1!H69","v":0},{"$f":"Coal_Table_1!I69","v":0},{"$f":"Coal_Table_1!J69","v":0},{"$f":"Coal_Table_1!K69","v":0},{"$f":"Coal_Table_1!L69","v":0},{"$f":"Coal_Table_1!M69","v":0},{"$f":"Coal_Table_1!N69","v":0},{"$f":"Coal_Table_1!O69","v":0},{"$f":"Coal_Table_1!P69","v":0},{"$f":"Coal_Table_1!Q69","v":0},{"$f":"Coal_Table_1!R69","v":0},null,{"$f":"Coal_Table_1!S69","v":0},{"$f":"Coal_Table_1!T69","v":0},{"$f":"Coal_Table_1!U69","v":0},{"$f":"Oil_Table_3a!E48","v":0},{"$f":"Oil_Table_3a!F48","v":0},null,null,null,{"$f":"Oil_Table_3a!G48","v":0},{"$f":"Oil_Table_3a!H48","v":0},{"$f":"Oil_Table_3a!I48","v":0},{"$f":"(Oil_Table_3a!M48)","v":0},{"$f":"Oil_Table_3a!N48","v":0},{"$f":"Oil_Table_3a!O48","v":0},{"$f":"Oil_Table_3a!R48","v":0},{"$f":"Oil_Table_3a!S48","v":0},{"$f":"Oil_Table_3a!X48","v":0},{"$f":"Oil_Table_3a!Y48","v":0},{"$f":"Oil_Table_3a!J48","v":0},{"$f":"Oil_Table_3a!AB48","v":0},{"$f":"Oil_Table_3a!AC48","v":0},{"$f":"Oil_Table_3a!AD48","v":0},{"$f":"Oil_Table_3a!AE48","v":0},{"$f":"Oil_Table_3a!AF48-Oil_Table_3a!AJ48","v":0},{"$f":"Oil_Table_3a!AG48-Oil_Table_3a!AK1450","v":0},{"$f":"Gas_Table_2b!E16","v":0},{"$f":"Ren_Table_2a!G58","v":0},{"$f":"Ren_Table_2a!H58","v":0},{"$f":"Ren_Table_2a!I58","v":0},{"$f":"Ren_Table_2a!J58","v":0},{"$f":"Ren_Table_2a!L58","v":0},{"$f":"ROUND(Oil_Table_3a!L48+Ren_Table_2a!M58,3)","v":0},{"$f":"ROUND(Oil_Table_3a!Q48+Ren_Table_2a!O58,3)","v":0},{"$f":"ROUND(Oil_Table_3a!W48+Ren_Table_2a!P58,3)","v":0},{"$f":"ROUND(Ren_Table_2a!Q58,3)","v":0},null,{"$f":"Ren_Table_2a!K58","v":0},null,null,{"$f":"Ren_Table_2a!E58","v":0},null,{"$f":"Ren_Table_2a!F58","v":0},null,null,null,null,null,null,{"$f":"Ele_Table_4!E27","v":0},{"$f":"Ele_Table_4!F27","v":0}]
["Transport equipment","TRANSEQ",{"$f":"Coal_Table_1!E70","v":0},{"$f":"Coal_Table_1!F70","v":0},{"$f":"Coal_Table_1!G70","v":0},{"$f":"Coal_Table_1!H70","v":0},{"$f":"Coal_Table_1!I70","v":0},{"$f":"Coal_Table_1!J70","v":0},{"$f":"Coal_Table_1!K70","v":0},{"$f":"Coal_Table_1!L70","v":0},{"$f":"Coal_Table_1!M70","v":0},{"$f":"Coal_Table_1!N70","v":0},{"$f":"Coal_Table_1!O70","v":0},{"$f":"Coal_Table_1!P70","v":0},{"$f":"Coal_Table_1!Q70","v":0},{"$f":"Coal_Table_1!R70","v":0},null,{"$f":"Coal_Table_1!S70","v":0},{"$f":"Coal_Table_1!T70","v":0},{"$f":"Coal_Table_1!U70","v":0},{"$f":"Oil_Table_3a!E49","v":0},{"$f":"Oil_Table_3a!F49","v":0},null,null,null,{"$f":"Oil_Table_3a!G49","v":0},{"$f":"Oil_Table_3a!H49","v":0},{"$f":"Oil_Table_3a!I49","v":0},{"$f":"(Oil_Table_3a!M49)","v":0},{"$f":"Oil_Table_3a!N49","v":0},{"$f":"Oil_Table_3a!O49","v":0},{"$f":"Oil_Table_3a!R49","v":0},{"$f":"Oil_Table_3a!S49","v":0},{"$f":"Oil_Table_3a!X49","v":0},{"$f":"Oil_Table_3a!Y49","v":0},{"$f":"Oil_Table_3a!J49","v":0},{"$f":"Oil_Table_3a!AB49","v":0},{"$f":"Oil_Table_3a!AC49","v":0},{"$f":"Oil_Table_3a!AD49","v":0},{"$f":"Oil_Table_3a!AE49","v":0},{"$f":"Oil_Table_3a!AF49-Oil_Table_3a!AJ49","v":0},{"$f":"Oil_Table_3a!AG49-Oil_Table_3a!AK49","v":0},{"$f":"Gas_Table_2b!E17","v":0},{"$f":"Ren_Table_2a!G59","v":0},{"$f":"Ren_Table_2a!H59","v":0},{"$f":"Ren_Table_2a!I59","v":0},{"$f":"Ren_Table_2a!J59","v":0},{"$f":"Ren_Table_2a!L59","v":0},{"$f":"ROUND(Oil_Table_3a!L49+Ren_Table_2a!M59,3)","v":0},{"$f":"ROUND(Oil_Table_3a!Q49+Ren_Table_2a!O59,3)","v":0},{"$f":"ROUND(Oil_Table_3a!W49+Ren_Table_2a!P59,3)","v":0},{"$f":"ROUND(Ren_Table_2a!Q59,3)","v":0},null,{"$f":"Ren_Table_2a!K59","v":0},null,null,{"$f":"Ren_Table_2a!E59","v":0},null,{"$f":"Ren_Table_2a!F59","v":0},null,null,null,null,null,null,{"$f":"Ele_Table_4!E28","v":0},{"$f":"Ele_Table_4!F28","v":0}]
["Machinery","MACHINE",{"$f":"Coal_Table_1!E71","v":0},{"$f":"Coal_Table_1!F71","v":0},{"$f":"Coal_Table_1!G71","v":0},{"$f":"Coal_Table_1!H71","v":0},{"$f":"Coal_Table_1!I71","v":0},{"$f":"Coal_Table_1!J71","v":0},{"$f":"Coal_Table_1!K71","v":0},{"$f":"Coal_Table_1!L71","v":0},{"$f":"Coal_Table_1!M71","v":0},{"$f":"Coal_Table_1!N71","v":0},{"$f":"Coal_Table_1!O71","v":0},{"$f":"Coal_Table_1!P71","v":0},{"$f":"Coal_Table_1!Q71","v":0},{"$f":"Coal_Table_1!R71","v":0},null,{"$f":"Coal_Table_1!S71","v":0},{"$f":"Coal_Table_1!T71","v":0},{"$f":"Coal_Table_1!U71","v":0},{"$f":"Oil_Table_3a!E50","v":0},{"$f":"Oil_Table_3a!F50","v":0},null,null,null,{"$f":"Oil_Table_3a!G50","v":0},{"$f":"Oil_Table_3a!H50","v":0},{"$f":"Oil_Table_3a!I50","v":0},{"$f":"(Oil_Table_3a!M50)","v":0},{"$f":"Oil_Table_3a!N50","v":0},{"$f":"Oil_Table_3a!O50","v":0},{"$f":"Oil_Table_3a!R50","v":0},{"$f":"Oil_Table_3a!S50","v":0},{"$f":"Oil_Table_3a!X50","v":0},{"$f":"Oil_Table_3a!Y50","v":0},{"$f":"Oil_Table_3a!J50","v":0},{"$f":"Oil_Table_3a!AB50","v":0},{"$f":"Oil_Table_3a!AC50","v":0},{"$f":"Oil_Table_3a!AD50","v":0},{"$f":"Oil_Table_3a!AE50","v":0},{"$f":"Oil_Table_3a!AF50-Oil_Table_3a!AJ50","v":0},{"$f":"Oil_Table_3a!AG50-Oil_Table_3a!AK50","v":0},{"$f":"Gas_Table_2b!E18","v":0},{"$f":"Ren_Table_2a!G60","v":0},{"$f":"Ren_Table_2a!H60","v":0},{"$f":"Ren_Table_2a!I60","v":0},{"$f":"Ren_Table_2a!J60","v":0},{"$f":"Ren_Table_2a!L60","v":0},{"$f":"ROUND(Oil_Table_3a!L50+Ren_Table_2a!M60,3)","v":0},{"$f":"ROUND(Oil_Table_3a!Q50+Ren_Table_2a!O60,3)","v":0},{"$f":"ROUND(Oil_Table_3a!W50+Ren_Table_2a!P60,3)","v":0},{"$f":"ROUND(Ren_Table_2a!Q60,3)","v":0},null,{"$f":"Ren_Table_2a!K60","v":0},null,null,{"$f":"Ren_Table_2a!E60","v":0},null,{"$f":"Ren_Table_2a!F60","v":0},null,null,null,null,null,null,{"$f":"Ele_Table_4!E29","v":0},{"$f":"Ele_Table_4!F29","v":0}]
["Mining and quarrying","MINING",{"$f":"Coal_Table_1!E72","v":0},{"$f":"Coal_Table_1!F72","v":0},{"$f":"Coal_Table_1!G72","v":0},{"$f":"Coal_Table_1!H72","v":0},{"$f":"Coal_Table_1!I72","v":0},{"$f":"Coal_Table_1!J72","v":0},{"$f":"Coal_Table_1!K72","v":0},{"$f":"Coal_Table_1!L72","v":0},{"$f":"Coal_Table_1!M72","v":0},{"$f":"Coal_Table_1!N72","v":0},{"$f":"Coal_Table_1!O72","v":0},{"$f":"Coal_Table_1!P72","v":0},{"$f":"Coal_Table_1!Q72","v":0},{"$f":"Coal_Table_1!R72","v":0},null,{"$f":"Coal_Table_1!S72","v":0},{"$f":"Coal_Table_1!T72","v":0},{"$f":"Coal_Table_1!U72","v":0},{"$f":"Oil_Table_3a!E51","v":0},{"$f":"Oil_Table_3a!F51","v":0},null,null,null,{"$f":"Oil_Table_3a!G51","v":0},{"$f":"Oil_Table_3a!H51","v":0},{"$f":"Oil_Table_3a!I51","v":0},{"$f":"(Oil_Table_3a!M51)","v":0},{"$f":"Oil_Table_3a!N51","v":0},{"$f":"Oil_Table_3a!O51","v":0},{"$f":"Oil_Table_3a!R51","v":0},{"$f":"Oil_Table_3a!S51","v":0},{"$f":"Oil_Table_3a!X51","v":0},{"$f":"Oil_Table_3a!Y51","v":0},{"$f":"Oil_Table_3a!J51","v":0},{"$f":"Oil_Table_3a!AB51","v":0},{"$f":"Oil_Table_3a!AC51","v":0},{"$f":"Oil_Table_3a!AD51","v":0},{"$f":"Oil_Table_3a!AE51","v":0},{"$f":"Oil_Table_3a!AF51-Oil_Table_3a!AJ51","v":0},{"$f":"Oil_Table_3a!AG51-Oil_Table_3a!AK51","v":0},{"$f":"Gas_Table_2b!E19","v":0},{"$f":"Ren_Table_2a!G61","v":0},{"$f":"Ren_Table_2a!H61","v":0},{"$f":"Ren_Table_2a!I61","v":0},{"$f":"Ren_Table_2a!J61","v":0},{"$f":"Ren_Table_2a!L61","v":0},{"$f":"ROUND(Oil_Table_3a!L51+Ren_Table_2a!M61,3)","v":0},{"$f":"ROUND(Oil_Table_3a!Q51+Ren_Table_2a!O61,3)","v":0},{"$f":"ROUND(Oil_Table_3a!W51+Ren_Table_2a!P61,3)","v":0},{"$f":"ROUND(Ren_Table_2a!Q61,3)","v":0},null,{"$f":"Ren_Table_2a!K61","v":0},null,null,{"$f":"Ren_Table_2a!E61","v":0},null,{"$f":"Ren_Table_2a!F61","v":0},null,null,null,null,null,null,{"$f":"Ele_Table_4!E30","v":0},{"$f":"Ele_Table_4!F30","v":0}]
["Food and tobacco","FOODPRO",{"$f":"Coal_Table_1!E73","v":0},{"$f":"Coal_Table_1!F73","v":0},{"$f":"Coal_Table_1!G73","v":0},{"$f":"Coal_Table_1!H73","v":0},{"$f":"Coal_Table_1!I73","v":0},{"$f":"Coal_Table_1!J73","v":0},{"$f":"Coal_Table_1!K73","v":0},{"$f":"Coal_Table_1!L73","v":0},{"$f":"Coal_Table_1!M73","v":0},{"$f":"Coal_Table_1!N73","v":0},{"$f":"Coal_Table_1!O73","v":0},{"$f":"Coal_Table_1!P73","v":0},{"$f":"Coal_Table_1!Q73","v":0},{"$f":"Coal_Table_1!R73","v":0},null,{"$f":"Coal_Table_1!S73","v":0},{"$f":"Coal_Table_1!T73","v":0},{"$f":"Coal_Table_1!U73","v":0},{"$f":"Oil_Table_3a!E52","v":0},{"$f":"Oil_Table_3a!F52","v":0},null,null,null,{"$f":"Oil_Table_3a!G52","v":0},{"$f":"Oil_Table_3a!H52","v":0},{"$f":"Oil_Table_3a!I52","v":0},{"$f":"(Oil_Table_3a!M52)","v":0},{"$f":"Oil_Table_3a!N52","v":0},{"$f":"Oil_Table_3a!O52","v":0},{"$f":"Oil_Table_3a!R52","v":0},{"$f":"Oil_Table_3a!S52","v":0},{"$f":"Oil_Table_3a!X52","v":0},{"$f":"Oil_Table_3a!Y52","v":0},{"$f":"Oil_Table_3a!J52","v":0},{"$f":"Oil_Table_3a!AB52","v":0},{"$f":"Oil_Table_3a!AC52","v":0},{"$f":"Oil_Table_3a!AD52","v":0},{"$f":"Oil_Table_3a!AE52","v":0},{"$f":"Oil_Table_3a!AF52-Oil_Table_3a!AJ52","v":0},{"$f":"Oil_Table_3a!AG52-Oil_Table_3a!AK52","v":0},{"$f":"Gas_Table_2b!E20","v":0},{"$f":"Ren_Table_2a!G62","v":0},{"$f":"Ren_Table_2a!H62","v":0},{"$f":"Ren_Table_2a!I62","v":0},{"$f":"Ren_Table_2a!J62","v":0},{"$f":"Ren_Table_2a!L62","v":0},{"$f":"ROUND(Oil_Table_3a!L52+Ren_Table_2a!M62,3)","v":0},{"$f":"ROUND(Oil_Table_3a!Q52+Ren_Table_2a!O62,3)","v":0},{"$f":"ROUND(Oil_Table_3a!W52+Ren_Table_2a!P62,3)","v":0},{"$f":"ROUND(Ren_Table_2a!Q62,3)","v":0},null,{"$f":"Ren_Table_2a!K62","v":0},null,null,{"$f":"Ren_Table_2a!E62","v":0},null,{"$f":"Ren_Table_2a!F62","v":0},null,null,null,null,null,null,{"$f":"Ele_Table_4!E31","v":0},{"$f":"Ele_Table_4!F31","v":0}]
["Paper, pulp and print","PAPERPRO",{"$f":"Coal_Table_1!E74","v":0},{"$f":"Coal_Table_1!F74","v":0},{"$f":"Coal_Table_1!G74","v":0},{"$f":"Coal_Table_1!H74","v":0},{"$f":"Coal_Table_1!I74","v":0},{"$f":"Coal_Table_1!J74","v":0},{"$f":"Coal_Table_1!K74","v":0},{"$f":"Coal_Table_1!L74","v":0},{"$f":"Coal_Table_1!M74","v":0},{"$f":"Coal_Table_1!N74","v":0},{"$f":"Coal_Table_1!O74","v":0},{"$f":"Coal_Table_1!P74","v":0},{"$f":"Coal_Table_1!Q74","v":0},{"$f":"Coal_Table_1!R74","v":0},null,{"$f":"Coal_Table_1!S74","v":0},{"$f":"Coal_Table_1!T74","v":0},{"$f":"Coal_Table_1!U74","v":0},{"$f":"Oil_Table_3a!E53","v":0},{"$f":"Oil_Table_3a!F53","v":0},null,null,null,{"$f":"Oil_Table_3a!G53","v":0},{"$f":"Oil_Table_3a!H53","v":0},{"$f":"Oil_Table_3a!I53","v":0},{"$f":"(Oil_Table_3a!M53)","v":0},{"$f":"Oil_Table_3a!N53","v":0},{"$f":"Oil_Table_3a!O53","v":0},{"$f":"Oil_Table_3a!R53","v":0},{"$f":"Oil_Table_3a!S53","v":0},{"$f":"Oil_Table_3a!X53","v":0},{"$f":"Oil_Table_3a!Y53","v":0},{"$f":"Oil_Table_3a!J53","v":0},{"$f":"Oil_Table_3a!AB53","v":0},{"$f":"Oil_Table_3a!AC53","v":0},{"$f":"Oil_Table_3a!AD53","v":0},{"$f":"Oil_Table_3a!AE53","v":0},{"$f":"Oil_Table_3a!AF53-Oil_Table_3a!AJ53","v":0},{"$f":"Oil_Table_3a!AG53-Oil_Table_3a!AK53","v":0},{"$f":"Gas_Table_2b!E21","v":0},{"$f":"Ren_Table_2a!G63","v":0},{"$f":"Ren_Table_2a!H63","v":0},{"$f":"Ren_Table_2a!I63","v":0},{"$f":"Ren_Table_2a!J63","v":0},{"$f":"Ren_Table_2a!L63","v":0},{"$f":"ROUND(Oil_Table_3a!L53+Ren_Table_2a!M63,3)","v":0},{"$f":"ROUND(Oil_Table_3a!Q53+Ren_Table_2a!O63,3)","v":0},{"$f":"ROUND(Oil_Table_3a!W53+Ren_Table_2a!P63,3)","v":0},{"$f":"ROUND(Ren_Table_2a!Q63,3)","v":0},null,{"$f":"Ren_Table_2a!K63","v":0},null,null,{"$f":"Ren_Table_2a!E63","v":0},null,{"$f":"Ren_Table_2a!F63","v":0},null,null,null,null,null,null,{"$f":"Ele_Table_4!E32","v":0},{"$f":"Ele_Table_4!F32","v":0}]
["Wood and wood products","WOODPRO",{"$f":"Coal_Table_1!E75","v":0},{"$f":"Coal_Table_1!F75","v":0},{"$f":"Coal_Table_1!G75","v":0},{"$f":"Coal_Table_1!H75","v":0},{"$f":"Coal_Table_1!I75","v":0},{"$f":"Coal_Table_1!J75","v":0},{"$f":"Coal_Table_1!K75","v":0},{"$f":"Coal_Table_1!L75","v":0},{"$f":"Coal_Table_1!M75","v":0},{"$f":"Coal_Table_1!N75","v":0},{"$f":"Coal_Table_1!O75","v":0},{"$f":"Coal_Table_1!P75","v":0},{"$f":"Coal_Table_1!Q75","v":0},{"$f":"Coal_Table_1!R75","v":0},null,{"$f":"Coal_Table_1!S75","v":0},{"$f":"Coal_Table_1!T75","v":0},{"$f":"Coal_Table_1!U75","v":0},{"$f":"Oil_Table_3a!E54","v":0},{"$f":"Oil_Table_3a!F54","v":0},null,null,null,{"$f":"Oil_Table_3a!G54","v":0},{"$f":"Oil_Table_3a!H54","v":0},{"$f":"Oil_Table_3a!I54","v":0},{"$f":"(Oil_Table_3a!M54)","v":0},{"$f":"Oil_Table_3a!N54","v":0},{"$f":"Oil_Table_3a!O54","v":0},{"$f":"Oil_Table_3a!R54","v":0},{"$f":"Oil_Table_3a!S54","v":0},{"$f":"Oil_Table_3a!X54","v":0},{"$f":"Oil_Table_3a!Y54","v":0},{"$f":"Oil_Table_3a!J54","v":0},{"$f":"Oil_Table_3a!AB54","v":0},{"$f":"Oil_Table_3a!AC54","v":0},{"$f":"Oil_Table_3a!AD54","v":0},{"$f":"Oil_Table_3a!AE54","v":0},{"$f":"Oil_Table_3a!AF54-Oil_Table_3a!AJ54","v":0},{"$f":"Oil_Table_3a!AG54-Oil_Table_3a!AK54","v":0},{"$f":"Gas_Table_2b!E22","v":0},{"$f":"Ren_Table_2a!G64","v":0},{"$f":"Ren_Table_2a!H64","v":0},{"$f":"Ren_Table_2a!I64","v":0},{"$f":"Ren_Table_2a!J64","v":0},{"$f":"Ren_Table_2a!L64","v":0},{"$f":"ROUND(Oil_Table_3a!L54+Ren_Table_2a!M64,3)","v":0},{"$f":"ROUND(Oil_Table_3a!Q54+Ren_Table_2a!O64,3)","v":0},{"$f":"ROUND(Oil_Table_3a!W54+Ren_Table_2a!P64,3)","v":0},{"$f":"ROUND(Ren_Table_2a!Q64,3)","v":0},null,{"$f":"Ren_Table_2a!K64","v":0},null,null,{"$f":"Ren_Table_2a!E64","v":0},null,{"$f":"Ren_Table_2a!F64","v":0},null,null,null,null,null,null,{"$f":"Ele_Table_4!E33","v":0},{"$f":"Ele_Table_4!F33","v":0}]
["Construction","CONSTRUC",{"$f":"Coal_Table_1!E76","v":0},{"$f":"Coal_Table_1!F76","v":0},{"$f":"Coal_Table_1!G76","v":0},{"$f":"Coal_Table_1!H76","v":0},{"$f":"Coal_Table_1!I76","v":0},{"$f":"Coal_Table_1!J76","v":0},{"$f":"Coal_Table_1!K76","v":0},{"$f":"Coal_Table_1!L76","v":0},{"$f":"Coal_Table_1!M76","v":0},{"$f":"Coal_Table_1!N76","v":0},{"$f":"Coal_Table_1!O76","v":0},{"$f":"Coal_Table_1!P76","v":0},{"$f":"Coal_Table_1!Q76","v":0},{"$f":"Coal_Table_1!R76","v":0},null,{"$f":"Coal_Table_1!S76","v":0},{"$f":"Coal_Table_1!T76","v":0},{"$f":"Coal_Table_1!U76","v":0},{"$f":"Oil_Table_3a!E55","v":0},{"$f":"Oil_Table_3a!F55","v":0},null,null,null,{"$f":"Oil_Table_3a!G55","v":0},{"$f":"Oil_Table_3a!H55","v":0},{"$f":"Oil_Table_3a!I55","v":0},{"$f":"(Oil_Table_3a!M55)","v":0},{"$f":"Oil_Table_3a!N55","v":0},{"$f":"Oil_Table_3a!O55","v":0},{"$f":"Oil_Table_3a!R55","v":0},{"$f":"Oil_Table_3a!S55","v":0},{"$f":"Oil_Table_3a!X55","v":0},{"$f":"Oil_Table_3a!Y55","v":0},{"$f":"Oil_Table_3a!J55","v":0},{"$f":"Oil_Table_3a!AB55","v":0},{"$f":"Oil_Table_3a!AC55","v":0},{"$f":"Oil_Table_3a!AD55","v":0},{"$f":"Oil_Table_3a!AE55","v":0},{"$f":"Oil_Table_3a!AF55-Oil_Table_3a!AJ55","v":0},{"$f":"Oil_Table_3a!AG55-Oil_Table_3a!AK55","v":0},{"$f":"Gas_Table_2b!E23","v":0},{"$f":"Ren_Table_2a!G65","v":0},{"$f":"Ren_Table_2a!H65","v":0},{"$f":"Ren_Table_2a!I65","v":0},{"$f":"Ren_Table_2a!J65","v":0},{"$f":"Ren_Table_2a!L65","v":0},{"$f":"ROUND(Oil_Table_3a!L55+Ren_Table_2a!M65,3)","v":0},{"$f":"ROUND(Oil_Table_3a!Q55+Ren_Table_2a!O65,3)","v":0},{"$f":"ROUND(Oil_Table_3a!W55+Ren_Table_2a!P65,3)","v":0},{"$f":"ROUND(Ren_Table_2a!Q65,3)","v":0},null,{"$f":"Ren_Table_2a!K65","v":0},null,null,{"$f":"Ren_Table_2a!E65","v":0},null,{"$f":"Ren_Table_2a!F65","v":0},null,null,null,null,null,null,{"$f":"Ele_Table_4!E34","v":0},{"$f":"Ele_Table_4!F34","v":0}]
["Textile and leather","TEXTILES",{"$f":"Coal_Table_1!E77","v":0},{"$f":"Coal_Table_1!F77","v":0},{"$f":"Coal_Table_1!G77","v":0},{"$f":"Coal_Table_1!H77","v":0},{"$f":"Coal_Table_1!I77","v":0},{"$f":"Coal_Table_1!J77","v":0},{"$f":"Coal_Table_1!K77","v":0},{"$f":"Coal_Table_1!L77","v":0},{"$f":"Coal_Table_1!M77","v":0},{"$f":"Coal_Table_1!N77","v":0},{"$f":"Coal_Table_1!O77","v":0},{"$f":"Coal_Table_1!P77","v":0},{"$f":"Coal_Table_1!Q77","v":0},{"$f":"Coal_Table_1!R77","v":0},null,{"$f":"Coal_Table_1!S77","v":0},{"$f":"Coal_Table_1!T77","v":0},{"$f":"Coal_Table_1!U77","v":0},{"$f":"Oil_Table_3a!E56","v":0},{"$f":"Oil_Table_3a!F56","v":0},null,null,null,{"$f":"Oil_Table_3a!G56","v":0},{"$f":"Oil_Table_3a!H56","v":0},{"$f":"Oil_Table_3a!I56","v":0},{"$f":"(Oil_Table_3a!M56)","v":0},{"$f":"Oil_Table_3a!N56","v":0},{"$f":"Oil_Table_3a!O56","v":0},{"$f":"Oil_Table_3a!R56","v":0},{"$f":"Oil_Table_3a!S56","v":0},{"$f":"Oil_Table_3a!X56","v":0},{"$f":"Oil_Table_3a!Y56","v":0},{"$f":"Oil_Table_3a!J56","v":0},{"$f":"Oil_Table_3a!AB56","v":0},{"$f":"Oil_Table_3a!AC56","v":0},{"$f":"Oil_Table_3a!AD56","v":0},{"$f":"Oil_Table_3a!AE56","v":0},{"$f":"Oil_Table_3a!AF56-Oil_Table_3a!AJ56","v":0},{"$f":"Oil_Table_3a!AG56-Oil_Table_3a!AK56","v":0},{"$f":"Gas_Table_2b!E24","v":0},{"$f":"Ren_Table_2a!G66","v":0},{"$f":"Ren_Table_2a!H66","v":0},{"$f":"Ren_Table_2a!I66","v":0},{"$f":"Ren_Table_2a!J66","v":0},{"$f":"Ren_Table_2a!L66","v":0},{"$f":"ROUND(Oil_Table_3a!L56+Ren_Table_2a!M66,3)","v":0},{"$f":"ROUND(Oil_Table_3a!Q56+Ren_Table_2a!O66,3)","v":0},{"$f":"ROUND(Oil_Table_3a!W56+Ren_Table_2a!P66,3)","v":0},{"$f":"ROUND(Ren_Table_2a!Q66,3)","v":0},null,{"$f":"Ren_Table_2a!K66","v":0},null,null,{"$f":"Ren_Table_2a!E66","v":0},null,{"$f":"Ren_Table_2a!F66","v":0},null,null,null,null,null,null,{"$f":"Ele_Table_4!E35","v":0},{"$f":"Ele_Table_4!F35","v":0}]
["Non-specified (industry)","INONSPEC",{"$f":"Coal_Table_1!E78","v":0},{"$f":"Coal_Table_1!F78","v":0},{"$f":"Coal_Table_1!G78","v":0},{"$f":"Coal_Table_1!H78","v":0},{"$f":"Coal_Table_1!I78","v":0},{"$f":"Coal_Table_1!J78","v":0},{"$f":"Coal_Table_1!K78","v":0},{"$f":"Coal_Table_1!L78","v":0},{"$f":"Coal_Table_1!M78","v":0},{"$f":"Coal_Table_1!N78","v":0},{"$f":"Coal_Table_1!O78","v":0},{"$f":"Coal_Table_1!P78","v":0},{"$f":"Coal_Table_1!Q78","v":0},{"$f":"Coal_Table_1!R78","v":0},null,{"$f":"Coal_Table_1!S78","v":0},{"$f":"Coal_Table_1!T78","v":0},{"$f":"Coal_Table_1!U78","v":0},{"$f":"Oil_Table_3a!E57","v":0},{"$f":"Oil_Table_3a!F57","v":0},null,null,null,{"$f":"Oil_Table_3a!G57","v":0},{"$f":"Oil_Table_3a!H57","v":0},{"$f":"Oil_Table_3a!I57","v":0},{"$f":"(Oil_Table_3a!M57)","v":0},{"$f":"Oil_Table_3a!N57","v":0},{"$f":"Oil_Table_3a!O57","v":0},{"$f":"Oil_Table_3a!R57","v":0},{"$f":"Oil_Table_3a!S57","v":0},{"$f":"Oil_Table_3a!X57","v":0},{"$f":"Oil_Table_3a!Y57","v":0},{"$f":"Oil_Table_3a!J57","v":0},{"$f":"Oil_Table_3a!AB57","v":0},{"$f":"Oil_Table_3a!AC57","v":0},{"$f":"Oil_Table_3a!AD57","v":0},{"$f":"Oil_Table_3a!AE57","v":0},{"$f":"Oil_Table_3a!AF57-Oil_Table_3a!AJ57","v":0},{"$f":"Oil_Table_3a!AG57-Oil_Table_3a!AK57","v":0},{"$f":"Gas_Table_2b!E25","v":0},{"$f":"Ren_Table_2a!G67","v":0},{"$f":"Ren_Table_2a!H67","v":0},{"$f":"Ren_Table_2a!I67","v":0},{"$f":"Ren_Table_2a!J67","v":0},{"$f":"Ren_Table_2a!L67","v":0},{"$f":"ROUND(Oil_Table_3a!L57+Ren_Table_2a!M67,3)","v":0},{"$f":"ROUND(Oil_Table_3a!Q57+Ren_Table_2a!O67,3)","v":0},{"$f":"ROUND(Oil_Table_3a!W57+Ren_Table_2a!P67,3)","v":0},{"$f":"ROUND(Ren_Table_2a!Q67,3)","v":0},null,{"$f":"Ren_Table_2a!K67","v":0},null,null,{"$f":"Ren_Table_2a!E67","v":0},null,{"$f":"Ren_Table_2a!F67","v":0},null,null,null,null,null,null,{"$f":"Ele_Table_4!E36","v":0},{"$f":"Ele_Table_4!F36","v":0}]
["Transport","TOTTRANS",{"$f":"SUM(C76:C81)","v":0},{"$f":"SUM(D76:D81)","v":0},{"$f":"SUM(E76:E81)","v":0},{"$f":"SUM(F76:F81)","v":0},{"$f":"SUM(G76:G81)","v":0},{"$f":"SUM(H76:H81)","v":0},0,0,0,0,0,0,0,0,{"$f":"SUM(Q76:Q81)","v":0},0,0,0,0,0,null,null,null,{"$f":"SUM(Z76:Z81)","v":0},0,0,0,0,0,0,0,{"$f":"SUM(AH76:AH81)","v":0},0,0,0,0,0,0,0,0,{"$f":"SUM(AQ76:AQ81)","v":0},0,{"$f":"SUM(AS76:AS81)","v":0},0,0,0,0,0,0,0,null,{"$f":"SUM(BB76:BB81)","v":0},null,null,{"$f":"SUM(BE76:BE81)","v":0},null,{"$f":"SUM(BG76:BG81)","v":0},null,null,null,null,null,null,{"$f":"SUM(BN76:BN81)","v":0}]
["Road","ROAD",null,null,null,null,null,null,null,null,null,null,null,null,null,null,null,null,null,null,{"$f":"Oil_Table_3a!E39","v":0},{"$f":"Oil_Table_3a!F39","v":0},null,null,null,{"$f":"Oil_Table_3a!G39","v":0},{"$f":"Oil_Table_3a!H39","v":0},{"$f":"Oil_Table_3a!I39","v":0},{"$f":"(Oil_Table_3a!M39)","v":0},{"$f":"Oil_Table_3a!N39","v":0},{"$f":"Oil_Table_3a!O39","v":0},{"$f":"Oil_Table_3a!R39","v":0},{"$f":"Oil_Table_3a!S39","v":0},{"$f":"Oil_Table_3a!X39","v":0},{"$f":"Oil_Table_3a!Y39","v":0},{"$f":"Oil_Table_3a!J39","v":0},{"$f":"Oil_Table_3a!AB39","v":0},{"$f":"Oil_Table_3a!AC39","v":0},{"$f":"Oil_Table_3a!AD39","v":0},{"$f":"Oil_Table_3a!AE39","v":0},{"$f":"Oil_Table_3a!AF39-Oil_Table_3a!AJ39","v":0},{"$f":"Oil_Table_3a!AG39-Oil_Table_3a!AK39","v":0},{"$f":"Gas_Table_2b!E8","v":0},{"$f":"Ren_Table_2a!G70","v":0},{"$f":"Ren_Table_2a!H70","v":0},{"$f":"Ren_Table_2a!I70","v":0},{"$f":"Ren_Table_2a!J70","v":0},{"$f":"Ren_Table_2a!L70","v":0},{"$f":"ROUND(Oil_Table_3a!L39+Ren_Table_2a!M70,3)","v":0},{"$f":"ROUND(Oil_Table_3a!Q39+Ren_Table_2a!O70,3)","v":0},{"$f":"ROUND(Oil_Table_3a!W39+Ren_Table_2a!P70,3)","v":0},{"$f":"ROUND(Ren_Table_2a!Q70,3)","v":0},null,{"$f":"Ren_Table_2a!K70","v":0},null,null,{"$f":"Ren_Table_2a!E70","v":0},null,{"$f":"Ren_Table_2a!F70","v":0},null,null,null,null,null,null,{"$f":"+Ele_Table_3!F30","v":0}]
["Domestic aviation","DOMESAIR",null,null,null,null,null,null,null,null,null,null,null,null,null,null,null,null,null,null,{"$f":"Oil_Table_3a!E38","v":0},{"$f":"Oil_Table_3a!F38","v":0},null,null,null,{"$f":"Oil_Table_3a!G38","v":0},{"$f":"Oil_Table_3a!H38","v":0},{"$f":"Oil_Table_3a!I38","v":0},{"$f":"(Oil_Table_3a!M38)","v":0},{"$f":"Oil_Table_3a!N38","v":0},{"$f":"Oil_Table_3a!O38","v":0},{"$f":"Oil_Table_3a!R38","v":0},{"$f":"Oil_Table_3a!S38","v":0},{"$f":"Oil_Table_3a!X38","v":0},{"$f":"Oil_Table_3a!Y38","v":0},{"$f":"Oil_Table_3a!J38","v":0},{"$f":"Oil_Table_3a!AB38","v":0},{"$f":"Oil_Table_3a!AC38","v":0},{"$f":"Oil_Table_3a!AD38","v":0},{"$f":"Oil_Table_3a!AE38","v":0},{"$f":"Oil_Table_3a!AF38-Oil_Table_3a!AJ38","v":0},{"$f":"Oil_Table_3a!AG38-Oil_Table_3a!AK38","v":0},null,{"$f":"Ren_Table_2a!G72","v":0},{"$f":"Ren_Table_2a!H72","v":0},{"$f":"Ren_Table_2a!I72","v":0},{"$f":"Ren_Table_2a!J72","v":0},{"$f":"Ren_Table_2a!L72","v":0},{"$f":"ROUND(Oil_Table_3a!L38+Ren_Table_2a!M72,3)","v":0},{"$f":"ROUND(Oil_Table_3a!Q38+Ren_Table_2a!O72,3)","v":0},{"$f":"ROUND(Oil_Table_3a!W38+Ren_Table_2a!P72,3)","v":0},{"$f":"ROUND(Ren_Table_2a!Q72,3)","v":0},null,{"$f":"Ren_Table_2a!K72","v":0},null,null,{"$f":"Ren_Table_2a!E72","v":0},null,{"$f":"Ren_Table_2a!F72","v":0}]
["Rail","RAIL",{"$f":"Coal_Table_1!E81","v":0},{"$f":"Coal_Table_1!F81","v":0},{"$f":"Coal_Table_1!G81","v":0},{"$f":"Coal_Table_1!H81","v":0},{"$f":"Coal_Table_1!I81","v":0},{"$f":"Coal_Table_1!J81","v":0},{"$f":"Coal_Table_1!K81","v":0},{"$f":"Coal_Table_1!L81","v":0},{"$f":"Coal_Table_1!M81","v":0},{"$f":"Coal_Table_1!N81","v":0},{"$f":"Coal_Table_1!O81","v":0},{"$f":"Coal_Table_1!P81","v":0},{"$f":"Coal_Table_1!Q81","v":0},{"$f":"Coal_Table_1!R81","v":0},null,{"$f":"Coal_Table_1!S81","v":0},{"$f":"Coal_Table_1!T81","v":0},{"$f":"Coal_Table_1!U81","v":0},{"$f":"Oil_Table_3a!E40","v":0},{"$f":"Oil_Table_3a!F40","v":0},null,null,null,{"$f":"Oil_Table_3a!G40","v":0},{"$f":"Oil_Table_3a!H40","v":0},{"$f":"Oil_Table_3a!I40","v":0},{"$f":"(Oil_Table_3a!M40)","v":0},{"$f":"Oil_Table_3a!N40","v":0},{"$f":"Oil_Table_3a!O40","v":0},{"$f":"Oil_Table_3a!R40","v":0},{"$f":"Oil_Table_3a!S40","v":0},{"$f":"Oil_Table_3a!X40","v":0},{"$f":"Oil_Table_3a!Y40","v":0},{"$f":"Oil_Table_3a!J40","v":0},{"$f":"Oil_Table_3a!AB40","v":0},{"$f":"Oil_Table_3a!AC40","v":0},{"$f":"Oil_Table_3a!AD40","v":0},{"$f":"Oil_Table_3a!AE40","v":0},{"$f":"Oil_Table_3a!AF40-Oil_Table_3a!AJ40","v":0},{"$f":"Oil_Table_3a!AG40-Oil_Table_3a!AK40","v":0},null,{"$f":"Ren_Table_2a!G69","v":0},{"$f":"Ren_Table_2a!H69","v":0},{"$f":"Ren_Table_2a!I69","v":0},{"$f":"Ren_Table_2a!J69","v":0},{"$f":"Ren_Table_2a!L69","v":0},{"$f":"ROUND(Oil_Table_3a!L40+Ren_Table_2a!M69,3)","v":0},{"$f":"ROUND(Oil_Table_3a!Q40+Ren_Table_2a!O69,3)","v":0},{"$f":"ROUND(Oil_Table_3a!W40+Ren_Table_2a!P69,3)","v":0},{"$f":"ROUND(Ren_Table_2a!Q69,3)","v":0},null,{"$f":"Ren_Table_2a!K69","v":0},null,null,{"$f":"Ren_Table_2a!E69","v":0},null,{"$f":"Ren_Table_2a!F69","v":0},null,null,null,null,null,null,{"$f":"Ele_Table_3!F28","v":0}]
["Pipeline transport","PIPELINE",null,null,null,null,null,null,null,null,null,null,null,null,null,null,null,null,null,null,{"$f":"Oil_Table_3a!E42","v":0},{"$f":"Oil_Table_3a!F42","v":0},null,null,null,{"$f":"Oil_Table_3a!G42","v":0},{"$f":"Oil_Table_3a!H42","v":0},{"$f":"Oil_Table_3a!I42","v":0},{"$f":"(Oil_Table_3a!M42)","v":0},{"$f":"Oil_Table_3a!N42","v":0},{"$f":"Oil_Table_3a!O42","v":0},{"$f":"Oil_Table_3a!R42","v":0},{"$f":"Oil_Table_3a!S42","v":0},{"$f":"Oil_Table_3a!X42","v":0},{"$f":"Oil_Table_3a!Y42","v":0},{"$f":"Oil_Table_3a!J42","v":0},{"$f":"Oil_Table_3a!AB42","v":0},{"$f":"Oil_Table_3a!AC42","v":0},{"$f":"Oil_Table_3a!AD42","v":0},{"$f":"Oil_Table_3a!AE42","v":0},{"$f":"Oil_Table_3a!AF42-Oil_Table_3a!AJ42","v":0},{"$f":"Oil_Table_3a!AG42-Oil_Table_3a!AK42","v":0},{"$f":"Gas_Table_2b!E10","v":0},null,null,null,null,null,{"$f":"ROUND(Oil_Table_3a!L42,3)","v":0},{"$f":"ROUND(Oil_Table_3a!Q42,3)","v":0},{"$f":"ROUND(Oil_Table_3a!W42,3)","v":0},null,null,null,null,null,null,null,null,null,null,null,null,null,null,{"$f":"Ele_Table_3!F29","v":0}]
["Domestic navigation","DOMESNAV",{"$f":"Coal_Table_1!E82","v":0},{"$f":"Coal_Table_1!F82","v":0},{"$f":"Coal_Table_1!G82","v":0},{"$f":"Coal_Table_1!H82","v":0},{"$f":"Coal_Table_1!I82","v":0},{"$f":"Coal_Table_1!J82","v":0},{"$f":"Coal_Table_1!K82","v":0},{"$f":"Coal_Table_1!L82","v":0},{"$f":"Coal_Table_1!M82","v":0},{"$f":"Coal_Table_1!N82","v":0},{"$f":"Coal_Table_1!O82","v":0},{"$f":"Coal_Table_1!P82","v":0},{"$f":"Coal_Table_1!Q82","v":0},{"$f":"Coal_Table_1!R82","v":0},null,{"$f":"Coal_Table_1!S82","v":0},{"$f":"Coal_Table_1!T82","v":0},{"$f":"Coal_Table_1!U82","v":0},{"$f":"Oil_Table_3a!E41","v":0},{"$f":"Oil_Table_3a!F41","v":0},null,null,null,{"$f":"Oil_Table_3a!G41","v":0},{"$f":"Oil_Table_3a!H41","v":0},{"$f":"Oil_Table_3a!I41","v":0},{"$f":"(Oil_Table_3a!M41)","v":0},{"$f":"Oil_Table_3a!N41","v":0},{"$f":"Oil_Table_3a!O41","v":0},{"$f":"Oil_Table_3a!R41","v":0},{"$f":"Oil_Table_3a!S41","v":0},{"$f":"Oil_Table_3a!X41","v":0},{"$f":"Oil_Table_3a!Y41","v":0},{"$f":"Oil_Table_3a!J41","v":0},{"$f":"Oil_Table_3a!AB41","v":0},{"$f":"Oil_Table_3a!AC41","v":0},{"$f":"Oil_Table_3a!AD41","v":0},{"$f":"Oil_Table_3a!AE41","v":0},{"$f":"Oil_Table_3a!AF41-Oil_Table_3a!AJ41","v":0},{"$f":"Oil_Table_3a!AG41-Oil_Table_3a!AK41","v":0},null,{"$f":"Ren_Table_2a!G71","v":0},{"$f":"Ren_Table_2a!H71","v":0},{"$f":"Ren_Table_2a!I71","v":0},{"$f":"Ren_Table_2a!J71","v":0},{"$f":"Ren_Table_2a!L71","v":0},{"$f":"ROUND(Oil_Table_3a!L41+Ren_Table_2a!M71,3)","v":0},{"$f":"ROUND(Oil_Table_3a!Q41+Ren_Table_2a!O71,3)","v":0},{"$f":"ROUND(Oil_Table_3a!W41+Ren_Table_2a!P71,3)","v":0},{"$f":"ROUND(Ren_Table_2a!Q71,3)","v":0},null,{"$f":"Ren_Table_2a!K71","v":0},null,null,{"$f":"Ren_Table_2a!E71","v":0},null,{"$f":"Ren_Table_2a!F71","v":0}]
["Non-specified (transport)","TRNONSPE",{"$f":"Coal_Table_1!E83","v":0},{"$f":"Coal_Table_1!F83","v":0},{"$f":"Coal_Table_1!G83","v":0},{"$f":"Coal_Table_1!H83","v":0},{"$f":"Coal_Table_1!I83","v":0},{"$f":"Coal_Table_1!J83","v":0},{"$f":"Coal_Table_1!K83","v":0},{"$f":"Coal_Table_1!L83","v":0},{"$f":"Coal_Table_1!M83","v":0},{"$f":"Coal_Table_1!N83","v":0},{"$f":"Coal_Table_1!O83","v":0},{"$f":"Coal_Table_1!P83","v":0},{"$f":"Coal_Table_1!Q83","v":0},{"$f":"Coal_Table_1!R83","v":0},null,{"$f":"Coal_Table_1!S83","v":0},{"$f":"Coal_Table_1!T83","v":0},{"$f":"Coal_Table_1!U83","v":0},{"$f":"Oil_Table_3a!E43","v":0},{"$f":"Oil_Table_3a!F43","v":0},null,null,null,{"$f":"Oil_Table_3a!G43","v":0},{"$f":"Oil_Table_3a!H43","v":0},{"$f":"Oil_Table_3a!I43","v":0},{"$f":"(Oil_Table_3a!M43)","v":0},{"$f":"Oil_Table_3a!N43","v":0},{"$f":"Oil_Table_3a!O43","v":0},{"$f":"Oil_Table_3a!R43","v":0},{"$f":"Oil_Table_3a!S43","v":0},{"$f":"Oil_Table_3a!X43","v":0},{"$f":"Oil_Table_3a!Y43","v":0},{"$f":"Oil_Table_3a!J43","v":0},{"$f":"Oil_Table_3a!AB43","v":0},{"$f":"Oil_Table_3a!AC43","v":0},{"$f":"Oil_Table_3a!AD43","v":0},{"$f":"Oil_Table_3a!AE43","v":0},{"$f":"Oil_Table_3a!AF43-Oil_Table_3a!AJ43","v":0},{"$f":"Oil_Table_3a!AG43-Oil_Table_3a!AK43","v":0},{"$f":"Gas_Table_2b!E11","v":0},{"$f":"Ren_Table_2a!G74","v":0},{"$f":"Ren_Table_2a!H74","v":0},{"$f":"Ren_Table_2a!I74","v":0},{"$f":"Ren_Table_2a!J74","v":0},{"$f":"Ren_Table_2a!L74","v":0},{"$f":"ROUND(Oil_Table_3a!L43+Ren_Table_2a!M74,3)","v":0},{"$f":"ROUND(Oil_Table_3a!Q43+Ren_Table_2a!O74,3)","v":0},{"$f":"ROUND(Oil_Table_3a!W43+Ren_Table_2a!P74,3)","v":0},{"$f":"ROUND(Ren_Table_2a!Q74,3)","v":0},null,{"$f":"Ren_Table_2a!K74","v":0},null,null,{"$f":"Ren_Table_2a!E74","v":0},null,{"$f":"Ren_Table_2a!F74","v":0},null,null,null,null,null,null,{"$f":"Ele_Table_3!F31","v":0}]
["Other","TOTOTHER",{"$f":"SUM(C83:C87)","v":0},{"$f":"SUM(D83:D87)","v":0},{"$f":"SUM(E83:E87)","v":0},{"$f":"SUM(F83:F87)","v":0},{"$f":"SUM(G83:G87)","v":0},{"$f":"SUM(H83:H87)","v":0},0,0,0,0,0,0,0,0,{"$f":"SUM(Q83:Q87)","v":0},0,0,0,0,0,null,null,null,{"$f":"SUM(Z83:Z87)","v":0},0,0,0,0,0,0,0,{"$f":"SUM(AH83:AH87)","v":0},0,0,0,0,0,0,0,0,{"$f":"SUM(AQ83:AQ87)","v":0},0,{"$f":"SUM(AS83:AS87)","v":0},0,0,0,0,0,0,0,null,{"$f":"SUM(BB83:BB87)","v":0},null,null,{"$f":"SUM(BE83:BE87)","v":0},null,{"$f":"SUM(BG83:BG87)","v":0},null,null,null,null,null,null,{"$f":"SUM(BN83:BN87)","v":0},{"$f":"SUM(BO83:BO87)","v":0}]
["Residential","RESIDENT",{"$f":"Coal_Table_1!E87","v":0},{"$f":"Coal_Table_1!F87","v":0},{"$f":"Coal_Table_1!G87","v":0},{"$f":"Coal_Table_1!H87","v":0},{"$f":"Coal_Table_1!I87","v":0},{"$f":"Coal_Table_1!J87","v":0},{"$f":"Coal_Table_1!K87","v":0},{"$f":"Coal_Table_1!L87","v":0},{"$f":"Coal_Table_1!M87","v":0},{"$f":"Coal_Table_1!N87","v":0},{"$f":"Coal_Table_1!O87","v":0},{"$f":"Coal_Table_1!P87","v":0},{"$f":"Coal_Table_1!Q87","v":0},{"$f":"Coal_Table_1!R87","v":0},null,{"$f":"Coal_Table_1!S87","v":0},{"$f":"Coal_Table_1!T87","v":0},{"$f":"Coal_Table_1!U87","v":0},{"$f":"Oil_Table_3a!E60","v":0},{"$f":"Oil_Table_3a!F60","v":0},null,null,null,{"$f":"Oil_Table_3a!G60","v":0},{"$f":"Oil_Table_3a!H60","v":0},{"$f":"Oil_Table_3a!I60","v":0},{"$f":"(Oil_Table_3a!M60)","v":0},{"$f":"Oil_Table_3a!N60","v":0},{"$f":"Oil_Table_3a!O60","v":0},{"$f":"Oil_Table_3a!R60","v":0},{"$f":"Oil_Table_3a!S60","v":0},{"$f":"Oil_Table_3a!X60","v":0},{"$f":"Oil_Table_3a!Y60","v":0},{"$f":"Oil_Table_3a!J60","v":0},{"$f":"Oil_Table_3a!AB60","v":0},{"$f":"Oil_Table_3a!AC60","v":0},{"$f":"Oil_Table_3a!AD60","v":0},{"$f":"Oil_Table_3a!AE60","v":0},{"$f":"Oil_Table_3a!AF60-Oil_Table_3a!AJ60","v":0},{"$f":"Oil_Table_3a!AG60-Oil_Table_3a!AK60","v":0},{"$f":"Gas_Table_2b!E28","v":0},{"$f":"Ren_Table_2a!G77","v":0},{"$f":"Ren_Table_2a!H77","v":0},{"$f":"Ren_Table_2a!I77","v":0},{"$f":"Ren_Table_2a!J77","v":0},{"$f":"Ren_Table_2a!L77","v":0},{"$f":"ROUND(Oil_Table_3a!L60+Ren_Table_2a!M77,3)","v":0},{"$f":"ROUND(Oil_Table_3a!Q60+Ren_Table_2a!O77,3)","v":0},{"$f":"ROUND(Oil_Table_3a!W60+Ren_Table_2a!P77,3)","v":0},{"$f":"ROUND(Ren_Table_2a!Q77,3)","v":0},null,{"$f":"Ren_Table_2a!K77","v":0},null,null,{"$f":"Ren_Table_2a!E77","v":0},null,{"$f":"Ren_Table_2a!F77","v":0},null,null,null,null,null,null,{"$f":"Ele_Table_3!F32","v":0},{"$f":"Ele_Table_3!G32","v":0}]
["Commercial and public services","COMMPUB",{"$f":"Coal_Table_1!E86","v":0},{"$f":"Coal_Table_1!F86","v":0},{"$f":"Coal_Table_1!G86","v":0},{"$f":"Coal_Table_1!H86","v":0},{"$f":"Coal_Table_1!I86","v":0},{"$f":"Coal_Table_1!J86","v":0},{"$f":"Coal_Table_1!K86","v":0},{"$f":"Coal_Table_1!L86","v":0},{"$f":"Coal_Table_1!M86","v":0},{"$f":"Coal_Table_1!N86","v":0},{"$f":"Coal_Table_1!O86","v":0},{"$f":"Coal_Table_1!P86","v":0},{"$f":"Coal_Table_1!Q86","v":0},{"$f":"Coal_Table_1!R86","v":0},null,{"$f":"Coal_Table_1!S86","v":0},{"$f":"Coal_Table_1!T86","v":0},{"$f":"Coal_Table_1!U86","v":0},{"$f":"Oil_Table_3a!E59","v":0},{"$f":"Oil_Table_3a!F59","v":0},null,null,null,{"$f":"Oil_Table_3a!G59","v":0},{"$f":"Oil_Table_3a!H59","v":0},{"$f":"Oil_Table_3a!I59","v":0},{"$f":"(Oil_Table_3a!M59)","v":0},{"$f":"Oil_Table_3a!N59","v":0},{"$f":"Oil_Table_3a!O59","v":0},{"$f":"Oil_Table_3a!R59","v":0},{"$f":"Oil_Table_3a!S59","v":0},{"$f":"Oil_Table_3a!X59","v":0},{"$f":"Oil_Table_3a!Y59","v":0},{"$f":"Oil_Table_3a!J59","v":0},{"$f":"Oil_Table_3a!AB59","v":0},{"$f":"Oil_Table_3a!AC59","v":0},{"$f":"Oil_Table_3a!AD59","v":0},{"$f":"Oil_Table_3a!AE59","v":0},{"$f":"Oil_Table_3a!AF59-Oil_Table_3a!AJ59","v":0},{"$f":"Oil_Table_3a!AG59-Oil_Table_3a!AK59","v":0},{"$f":"Gas_Table_2b!E27","v":0},{"$f":"Ren_Table_2a!G76","v":0},{"$f":"Ren_Table_2a!H76","v":0},{"$f":"Ren_Table_2a!I76","v":0},{"$f":"Ren_Table_2a!J76","v":0},{"$f":"Ren_Table_2a!L76","v":0},{"$f":"ROUND(Oil_Table_3a!L59+Ren_Table_2a!M76,3)","v":0},{"$f":"ROUND(Oil_Table_3a!Q59+Ren_Table_2a!O76,3)","v":0},{"$f":"ROUND(Oil_Table_3a!W59+Ren_Table_2a!P76,3)","v":0},{"$f":"ROUND(Ren_Table_2a!Q76,3)","v":0},null,{"$f":"Ren_Table_2a!K76","v":0},null,null,{"$f":"Ren_Table_2a!E76","v":0},null,{"$f":"Ren_Table_2a!F76","v":0},null,null,null,null,null,null,{"$f":"Ele_Table_3!F33","v":0},{"$f":"Ele_Table_3!G33","v":0}]
["Agriculture/forestry","AGRICULT",{"$f":"Coal_Table_1!E88","v":0},{"$f":"Coal_Table_1!F88","v":0},{"$f":"Coal_Table_1!G88","v":0},{"$f":"Coal_Table_1!H88","v":0},{"$f":"Coal_Table_1!I88","v":0},{"$f":"Coal_Table_1!J88","v":0},{"$f":"Coal_Table_1!K88","v":0},{"$f":"Coal_Table_1!L88","v":0},{"$f":"Coal_Table_1!M88","v":0},{"$f":"Coal_Table_1!N88","v":0},{"$f":"Coal_Table_1!O88","v":0},{"$f":"Coal_Table_1!P88","v":0},{"$f":"Coal_Table_1!Q88","v":0},{"$f":"Coal_Table_1!R88","v":0},null,{"$f":"Coal_Table_1!S88","v":0},{"$f":"Coal_Table_1!T88","v":0},{"$f":"Coal_Table_1!U88","v":0},{"$f":"Oil_Table_3a!E61","v":0},{"$f":"Oil_Table_3a!F61","v":0},null,null,null,{"$f":"Oil_Table_3a!G61","v":0},{"$f":"Oil_Table_3a!H61","v":0},{"$f":"Oil_Table_3a!I61","v":0},{"$f":"(Oil_Table_3a!M61)","v":0},{"$f":"Oil_Table_3a!N61","v":0},{"$f":"Oil_Table_3a!O61","v":0},{"$f":"Oil_Table_3a!R61","v":0},{"$f":"Oil_Table_3a!S61","v":0},{"$f":"Oil_Table_3a!X61","v":0},{"$f":"Oil_Table_3a!Y61","v":0},{"$f":"Oil_Table_3a!J61","v":0},{"$f":"Oil_Table_3a!AB61","v":0},{"$f":"Oil_Table_3a!AC61","v":0},{"$f":"Oil_Table_3a!AD61","v":0},{"$f":"Oil_Table_3a!AE61","v":0},{"$f":"Oil_Table_3a!AF61-Oil_Table_3a!AJ61","v":0},{"$f":"Oil_Table_3a!AG61-Oil_Table_3a!AK61","v":0},{"$f":"Gas_Table_2b!E29","v":0},{"$f":"Ren_Table_2a!G78","v":0},{"$f":"Ren_Table_2a!H78","v":0},{"$f":"Ren_Table_2a!I78","v":0},{"$f":"Ren_Table_2a!J78","v":0},{"$f":"Ren_Table_2a!L78","v":0},{"$f":"ROUND(Oil_Table_3a!L61+Ren_Table_2a!M78,3)","v":0},{"$f":"ROUND(Oil_Table_3a!Q61+Ren_Table_2a!O78,3)","v":0},{"$f":"ROUND(Oil_Table_3a!W61+Ren_Table_2a!P78,3)","v":0},{"$f":"ROUND(Ren_Table_2a!Q78,3)","v":0},null,{"$f":"Ren_Table_2a!K78","v":0},null,null,{"$f":"Ren_Table_2a!E78","v":0},null,{"$f":"Ren_Table_2a!F78","v":0},null,null,null,null,null,null,{"$f":"Ele_Table_3!F34","v":0},{"$f":"Ele_Table_3!G34","v":0}]
["Fishing","FISHING",{"$f":"Coal_Table_1!E91","v":0},{"$f":"Coal_Table_1!F91","v":0},{"$f":"Coal_Table_1!G91","v":0},{"$f":"Coal_Table_1!H91","v":0},{"$f":"Coal_Table_1!I91","v":0},{"$f":"Coal_Table_1!J91","v":0},{"$f":"Coal_Table_1!K91","v":0},{"$f":"Coal_Table_1!L91","v":0},{"$f":"Coal_Table_1!M91","v":0},{"$f":"Coal_Table_1!N91","v":0},{"$f":"Coal_Table_1!O91","v":0},{"$f":"Coal_Table_1!P91","v":0},{"$f":"Coal_Table_1!Q91","v":0},{"$f":"Coal_Table_1!R91","v":0},null,{"$f":"Coal_Table_1!S91","v":0},{"$f":"Coal_Table_1!T91","v":0},{"$f":"Coal_Table_1!U91","v":0},{"$f":"Oil_Table_3a!E64","v":0},{"$f":"Oil_Table_3a!F64","v":0},null,null,null,{"$f":"Oil_Table_3a!G64","v":0},{"$f":"Oil_Table_3a!H64","v":0},{"$f":"Oil_Table_3a!I64","v":0},{"$f":"(Oil_Table_3a!M64)","v":0},{"$f":"Oil_Table_3a!N64","v":0},{"$f":"Oil_Table_3a!O64","v":0},{"$f":"Oil_Table_3a!R64","v":0},{"$f":"Oil_Table_3a!S64","v":0},{"$f":"Oil_Table_3a!X64","v":0},{"$f":"Oil_Table_3a!Y64","v":0},{"$f":"Oil_Table_3a!J64","v":0},{"$f":"Oil_Table_3a!AB64","v":0},{"$f":"Oil_Table_3a!AC64","v":0},{"$f":"Oil_Table_3a!AD64","v":0},{"$f":"Oil_Table_3a!AE64","v":0},{"$f":"Oil_Table_3a!AF64-Oil_Table_3a!AJ64","v":0},{"$f":"Oil_Table_3a!AG64-Oil_Table_3a!AK64","v":0},{"$f":"Gas_Table_2b!E32","v":0},{"$f":"Ren_Table_2a!G81","v":0},{"$f":"Ren_Table_2a!H81","v":0},{"$f":"Ren_Table_2a!I81","v":0},{"$f":"Ren_Table_2a!J81","v":0},{"$f":"Ren_Table_2a!L81","v":0},{"$f":"ROUND(Oil_Table_3a!L64+Ren_Table_2a!M81,3)","v":0},{"$f":"ROUND(Oil_Table_3a!Q64+Ren_Table_2a!O81,3)","v":0},{"$f":"ROUND(Oil_Table_3a!W64+Ren_Table_2a!P81,3)","v":0},{"$f":"ROUND(Ren_Table_2a!Q81,3)","v":0},null,{"$f":"Ren_Table_2a!K81","v":0},null,null,{"$f":"Ren_Table_2a!E81","v":0},null,{"$f":"Ren_Table_2a!F81","v":0},null,null,null,null,null,null,{"$f":"Ele_Table_3!F37","v":0},{"$f":"Ele_Table_3!G37","v":0}]
["Non-specified (other)","ONONSPEC",{"$f":"Coal_Table_1!E92","v":0},{"$f":"Coal_Table_1!F92","v":0},{"$f":"Coal_Table_1!G92","v":0},{"$f":"Coal_Table_1!H92","v":0},{"$f":"Coal_Table_1!I92","v":0},{"$f":"Coal_Table_1!J92","v":0},{"$f":"Coal_Table_1!K92","v":0},{"$f":"Coal_Table_1!L92","v":0},{"$f":"Coal_Table_1!M92","v":0},{"$f":"Coal_Table_1!N92","v":0},{"$f":"Coal_Table_1!O92","v":0},{"$f":"Coal_Table_1!P92","v":0},{"$f":"Coal_Table_1!Q92","v":0},{"$f":"Coal_Table_1!R92","v":0},null,{"$f":"Coal_Table_1!S92","v":0},{"$f":"Coal_Table_1!T92","v":0},{"$f":"Coal_Table_1!U92","v":0},{"$f":"Oil_Table_3a!E65","v":0},{"$f":"Oil_Table_3a!F65","v":0},null,null,null,{"$f":"Oil_Table_3a!G65","v":0},{"$f":"Oil_Table_3a!H65","v":0},{"$f":"Oil_Table_3a!I65","v":0},{"$f":"(Oil_Table_3a!M65)","v":0},{"$f":"Oil_Table_3a!N65","v":0},{"$f":"Oil_Table_3a!O65","v":0},{"$f":"Oil_Table_3a!R65","v":0},{"$f":"Oil_Table_3a!S65","v":0},{"$f":"Oil_Table_3a!X65","v":0},{"$f":"Oil_Table_3a!Y65","v":0},{"$f":"Oil_Table_3a!J65","v":0},{"$f":"Oil_Table_3a!AB65","v":0},{"$f":"Oil_Table_3a!AC65","v":0},{"$f":"Oil_Table_3a!AD65","v":0},{"$f":"Oil_Table_3a!AE65","v":0},{"$f":"Oil_Table_3a!AF65-Oil_Table_3a!AJ65","v":0},{"$f":"Oil_Table_3a!AG65-Oil_Table_3a!AK65","v":0},{"$f":"Gas_Table_2b!E33","v":0},{"$f":"Ren_Table_2a!G82","v":0},{"$f":"Ren_Table_2a!H82","v":0},{"$f":"Ren_Table_2a!I82","v":0},{"$f":"Ren_Table_2a!J82","v":0},{"$f":"Ren_Table_2a!L82","v":0},{"$f":"ROUND(Oil_Table_3a!L65+Ren_Table_2a!M82,3)","v":0},{"$f":"ROUND(Oil_Table_3a!Q65+Ren_Table_2a!O82,3)","v":0},{"$f":"ROUND(Oil_Table_3a!W65+Ren_Table_2a!P82,3)","v":0},{"$f":"ROUND(Ren_Table_2a!Q82,3)","v":0},null,{"$f":"Ren_Table_2a!K82","v":0},null,null,{"$f":"Ren_Table_2a!E82","v":0},null,{"$f":"Ren_Table_2a!F82","v":0},null,null,null,null,null,null,{"$f":"Ele_Table_3!F38","v":0},{"$f":"Ele_Table_3!G38","v":0}]
["Non-energy use","NONENUSE",{"$f":"SUM(C89:C91)","v":0},{"$f":"SUM(D89:D91)","v":0},{"$f":"SUM(E89:E91)","v":0},{"$f":"SUM(F89:F91)","v":0},{"$f":"SUM(G89:G91)","v":0},{"$f":"SUM(H89:H91)","v":0},0,0,0,0,0,0,0,0,{"$f":"SUM(Q89:Q91)","v":0},0,0,0,0,0,null,null,null,{"$f":"SUM(Z89:Z91)","v":0},0,0,0,0,0,0,0,0,0,0,0,0,0,0,0,0,{"$f":"SUM(AQ89:AQ91)","v":0},null,{"$f":"SUM(AS89:AS91)","v":0},null,0,0,{"$f":"SUM(AW89:AW91)","v":0},{"$f":"SUM(AX89:AX91)","v":0},{"$f":"SUM(AY89:AY91)","v":0},{"$f":"SUM(AZ89:AZ91)","v":0}]
["Non-energy use industry/transformation/energy","NEINTREN",{"$f":"Coal_Table_1!E57","v":0},{"$f":"Coal_Table_1!F57","v":0},{"$f":"Coal_Table_1!G57","v":0},{"$f":"Coal_Table_1!H57","v":0},{"$f":"Coal_Table_1!I57","v":0},{"$f":"Coal_Table_1!J57","v":0},{"$f":"Coal_Table_1!K57","v":0},{"$f":"Coal_Table_1!L57","v":0},{"$f":"Coal_Table_1!M57","v":0},{"$f":"Coal_Table_1!N57","v":0},{"$f":"Coal_Table_1!O57","v":0},{"$f":"Coal_Table_1!P57","v":0},{"$f":"Coal_Table_1!Q57","v":0},{"$f":"Coal_Table_1!R57","v":0},null,{"$f":"Coal_Table_1!S57","v":0},{"$f":"Coal_Table_1!T57","v":0},{"$f":"Coal_Table_1!U57","v":0},{"$f":"SUM(Oil_Table_3b!E13:E25,Oil_Table_3b!E27:E33,Oil_Table_3b!E45:E57)","v":0},{"$f":"SUM(Oil_Table_3b!F13:F25,Oil_Table_3b!F27:F33,Oil_Table_3b!F45:F57)","v":0},null,null,null,{"$f":"SUM(Oil_Table_3b!G13:G25,Oil_Table_3b!G27:G33,Oil_Table_3b!G45:G57)","v":0},{"$f":"SUM(Oil_Table_3b!H13:H25,Oil_Table_3b!H27:H33,Oil_Table_3b!H45:H57)","v":0},{"$f":"SUM(Oil_Table_3b!I13:I25,Oil_Table_3b!I27:I33,Oil_Table_3b!I45:I57)","v":0},{"$f":"SUM(Oil_Table_3b!M13:M25,Oil_Table_3b!M27:M33,Oil_Table_3b!M45:M57)","v":0},{"$f":"SUM(Oil_Table_3b!N13:N25,Oil_Table_3b!N27:N33,Oil_Table_3b!N45:N57)","v":0},{"$f":"SUM(Oil_Table_3b!O13:O25,Oil_Table_3b!O27:O33,Oil_Table_3b!O45:O57)","v":0},{"$f":"SUM(Oil_Table_3b!R13:R25,Oil_Table_3b!R27:R33,Oil_Table_3b!R45:R57)","v":0},{"$f":"SUM(Oil_Table_3b!S13:S25,Oil_Table_3b!S27:S33,Oil_Table_3b!S45:S57)","v":0},{"$f":"SUM(Oil_Table_3b!X13:X25,Oil_Table_3b!X27:X33,Oil_Table_3b!X45:X57)","v":0},{"$f":"SUM(Oil_Table_3b!Y13:Y25,Oil_Table_3b!Y27:Y33,Oil_Table_3b!Y45:Y57)","v":0},{"$f":"SUM(Oil_Table_3b!J13:J25,Oil_Table_3b!J27:J33,Oil_Table_3b!J45:J57)","v":0},{"$f":"SUM(Oil_Table_3b!AB13:AB25,Oil_Table_3b!AB27:AB33,Oil_Table_3b!AB45:AB57)","v":0},{"$f":"SUM(Oil_Table_3b!AC13:AC25,Oil_Table_3b!AC27:AC33,Oil_Table_3b!AC45:AC57)","v":0},{"$f":"SUM(Oil_Table_3b!AD13:AD25,Oil_Table_3b!AD27:AD33,Oil_Table_3b!AD45:AD57)","v":0},{"$f":"SUM(Oil_Table_3b!AE13:AE25,Oil_Table_3b!AE27:AE33,Oil_Table_3b!AE45:AE57)","v":0},{"$f":"SUM(Oil_Table_3b!AF13:AF25,Oil_Table_3b!AF27:AF33,Oil_Table_3b!AF45:AF57)","v":0},{"$f":"SUM(Oil_Table_3b!AG13:AG25,Oil_Table_3b!AG27:AG33,Oil_Table_3b!AG45:AG57)","v":0},{"$f":"SUM(Gas_Table_2b!F13:F25)","v":0},null,{"$f":"Ren_Table_2a!H83","v":0},null,{"$f":"Ren_Table_2a!J83","v":0},{"$f":"Ren_Table_2a!L83","v":0},{"$f":"SUM(Oil_Table_3b!L13:L25,Oil_Table_3b!L27:L33,Oil_Table_3b!L45:L57)+Ren_Table_2a!M83","v":0},{"$f":"SUM(Oil_Table_3b!Q13:Q25,Oil_Table_3b!Q27:Q33,Oil_Table_3b!Q45:Q57)+Ren_Table_2a!O83","v":0},{"$f":"SUM(Oil_Table_3b!W13:W25,Oil_Table_3b!W27:W33,Oil_Table_3b!W45:W57)+Ren_Table_2a!P83","v":0},{"$f":"+Ren_Table_2a!Q83","v":0}]
["Non-energy use in transport","NETRANS",{"$f":"Coal_Table_1!E59","v":0},{"$f":"Coal_Table_1!F59","v":0},{"$f":"Coal_Table_1!G59","v":0},{"$f":"Coal_Table_1!H59","v":0},{"$f":"Coal_Table_1!I59","v":0},{"$f":"Coal_Table_1!J59","v":0},{"$f":"Coal_Table_1!K59","v":0},{"$f":"Coal_Table_1!L59","v":0},{"$f":"Coal_Table_1!M59","v":0},{"$f":"Coal_Table_1!N59","v":0},{"$f":"Coal_Table_1!O59","v":0},{"$f":"Coal_Table_1!P59","v":0},{"$f":"Coal_Table_1!Q59","v":0},{"$f":"Coal_Table_1!R59","v":0},null,{"$f":"Coal_Table_1!S59","v":0},{"$f":"Coal_Table_1!T59","v":0},{"$f":"Coal_Table_1!U59","v":0},{"$f":"SUM(Oil_Table_3b!E37:E43)","v":0},{"$f":"SUM(Oil_Table_3b!F37:F43)","v":0},null,null,null,{"$f":"SUM(Oil_Table_3b!G37:G43)","v":0},{"$f":"SUM(Oil_Table_3b!H37:H43)","v":0},{"$f":"SUM(Oil_Table_3b!I37:I43)","v":0},{"$f":"SUM(Oil_Table_3b!M37:M43)","v":0},{"$f":"SUM(Oil_Table_3b!N37:N43)","v":0},{"$f":"SUM(Oil_Table_3b!O37:O43)","v":0},{"$f":"SUM(Oil_Table_3b!R37:R43)","v":0},{"$f":"SUM(Oil_Table_3b!S37:S43)","v":0},{"$f":"SUM(Oil_Table_3b!X37:X43)","v":0},{"$f":"SUM(Oil_Table_3b!Y37:Y43)","v":0},{"$f":"SUM(Oil_Table_3b!J37:J43)","v":0},{"$f":"SUM(Oil_Table_3b!AB37:AB43)","v":0},{"$f":"SUM(Oil_Table_3b!AC37:AC43)","v":0},{"$f":"SUM(Oil_Table_3b!AD37:AD43)","v":0},{"$f":"SUM(Oil_Table_3b!AE37:AE43)","v":0},{"$f":"SUM(Oil_Table_3b!AF37:AF43)","v":0},{"$f":"SUM(Oil_Table_3b!AG37:AG43)","v":0},{"$f":"SUM(Gas_Table_2b!F8:F11)","v":0},null,null,null,null,null,{"$f":"SUM(Oil_Table_3b!L37:L43)","v":0},{"$f":"SUM(Oil_Table_3b!Q37:Q43)","v":0},{"$f":"SUM(Oil_Table_3b!W37:W43)","v":0}]
["Non-energy use in other","NEOTHER",{"$f":"Coal_Table_1!E60","v":0},{"$f":"Coal_Table_1!F60","v":0},{"$f":"Coal_Table_1!G60","v":0},{"$f":"Coal_Table_1!H60","v":0},{"$f":"Coal_Table_1!I60","v":0},{"$f":"Coal_Table_1!J60","v":0},{"$f":"Coal_Table_1!K60","v":0},{"$f":"Coal_Table_1!L60","v":0},{"$f":"Coal_Table_1!M60","v":0},{"$f":"Coal_Table_1!N60","v":0},{"$f":"Coal_Table_1!O60","v":0},{"$f":"Coal_Table_1!P60","v":0},{"$f":"Coal_Table_1!Q60","v":0},{"$f":"Coal_Table_1!R60","v":0},null,{"$f":"Coal_Table_1!S60","v":0},{"$f":"Coal_Table_1!T60","v":0},{"$f":"Coal_Table_1!U60","v":0},{"$f":"SUM(Oil_Table_3b!E34,Oil_Table_3b!E59:E65)","v":0},{"$f":"SUM(Oil_Table_3b!F34,Oil_Table_3b!F59:F65)","v":0},null,null,null,{"$f":"SUM(Oil_Table_3b!G34,Oil_Table_3b!G59:G65)","v":0},{"$f":"SUM(Oil_Table_3b!H34,Oil_Table_3b!H59:H65)","v":0},{"$f":"SUM(Oil_Table_3b!I34,Oil_Table_3b!I59:I65)","v":0},{"$f":"SUM(Oil_Table_3b!M34,Oil_Table_3b!M59:M65)","v":0},{"$f":"SUM(Oil_Table_3b!N34,Oil_Table_3b!N59:N65)","v":0},{"$f":"SUM(Oil_Table_3b!O34,Oil_Table_3b!O59:O65)","v":0},{"$f":"SUM(Oil_Table_3b!R34,Oil_Table_3b!R59:R65)","v":0},{"$f":"SUM(Oil_Table_3b!S34,Oil_Table_3b!S59:S65)","v":0},{"$f":"SUM(Oil_Table_3b!X34,Oil_Table_3b!X59:X65)","v":0},{"$f":"SUM(Oil_Table_3b!Y34,Oil_Table_3b!Y59:Y65)","v":0},{"$f":"SUM(Oil_Table_3b!J34,Oil_Table_3b!J59:J65)","v":0},{"$f":"SUM(Oil_Table_3b!AB34,Oil_Table_3b!AB59:AB65)","v":0},{"$f":"SUM(Oil_Table_3b!AC34,Oil_Table_3b!AC59:AC65)","v":0},{"$f":"SUM(Oil_Table_3b!AD34,Oil_Table_3b!AD59:AD65)","v":0},{"$f":"SUM(Oil_Table_3b!AE34,Oil_Table_3b!AE59:AE65)","v":0},{"$f":"SUM(Oil_Table_3b!AF34,Oil_Table_3b!AF59:AF65)","v":0},{"$f":"SUM(Oil_Table_3b!AG34,Oil_Table_3b!AG59:AG65)","v":0},{"$f":"SUM(Gas_Table_2b!F27:F33)","v":0},null,null,null,null,null,{"$f":"SUM(Oil_Table_3b!L34,Oil_Table_3b!L59:L65)","v":0},{"$f":"SUM(Oil_Table_3b!Q34,Oil_Table_3b!Q59:Q65)","v":0},{"$f":"SUM(Oil_Table_3b!W34,Oil_Table_3b!W59:W65)","v":0}]
["Memo: Non-energy use chemical/petrochemical","NECHEM",{"$f":"Coal_Table_1!E58","v":0},{"$f":"Coal_Table_1!F58","v":0},{"$f":"Coal_Table_1!G58","v":0},{"$f":"Coal_Table_1!H58","v":0},{"$f":"Coal_Table_1!I58","v":0},{"$f":"Coal_Table_1!J58","v":0},{"$f":"Coal_Table_1!K58","v":0},{"$f":"Coal_Table_1!L58","v":0},{"$f":"Coal_Table_1!M58","v":0},{"$f":"Coal_Table_1!N58","v":0},{"$f":"Coal_Table_1!O58","v":0},{"$f":"Coal_Table_1!P58","v":0},{"$f":"Coal_Table_1!Q58","v":0},{"$f":"Coal_Table_1!R58","v":0},null,{"$f":"Coal_Table_1!S58","v":0},{"$f":"Coal_Table_1!T58","v":0},{"$f":"Coal_Table_1!U58","v":0},{"$f":"Oil_Table_3b!E46","v":0},{"$f":"Oil_Table_3b!F46","v":0},null,null,null,{"$f":"Oil_Table_3b!G46","v":0},{"$f":"Oil_Table_3b!H46","v":0},{"$f":"Oil_Table_3b!I46","v":0},{"$f":"Oil_Table_3b!M46","v":0},{"$f":"Oil_Table_3b!N46","v":0},{"$f":"Oil_Table_3b!O46","v":0},{"$f":"Oil_Table_3b!R46","v":0},{"$f":"Oil_Table_3b!S46","v":0},{"$f":"Oil_Table_3b!X46","v":0},{"$f":"Oil_Table_3b!Y46","v":0},{"$f":"Oil_Table_3b!J46","v":0},{"$f":"Oil_Table_3b!AB46","v":0},{"$f":"Oil_Table_3b!AC46","v":0},{"$f":"Oil_Table_3b!AD46","v":0},{"$f":"Oil_Table_3b!AE46","v":0},{"$f":"Oil_Table_3b!AF46","v":0},{"$f":"Oil_Table_3b!AG46","v":0},{"$f":"Gas_Table_2b!F14","v":0},null,null,null,null,null,{"$f":"Oil_Table_3b!L46","v":0},{"$f":"Oil_Table_3b!Q46","v":0},{"$f":"Oil_Table_3b!W46","v":0}]
["Elect. output in GWh","ELOUTPUT",{"$f":"SUM(C94:C97)","v":0},{"$f":"SUM(D94:D97)","v":0},{"$f":"SUM(E94:E97)","v":0},{"$f":"SUM(F94:F97)","v":0},{"$f":"SUM(G94:G97)","v":0},{"$f":"SUM(H94:H97)","v":0},0,0,0,0,0,0,0,0,{"$f":"SUM(Q94:Q97)","v":0},0,0,0,0,0,null,null,null,{"$f":"SUM(Z94:Z97)","v":0},null,{"$f":"SUM(AB94:AB97)","v":0},null,null,null,{"$f":"SUM(AF94:AF97)","v":0},{"$f":"SUM(AG94:AG97)","v":0},{"$f":"SUM(AH94:AH97)","v":0},{"$f":"SUM(AI94:AI97)","v":0},{"$f":"SUM(AJ94:AJ97)","v":0},null,null,{"$f":"SUM(AM94:AM97)","v":0},null,{"$f":"SUM(AO94:AO97)","v":0},0,{"$f":"SUM(AQ94:AQ97)","v":0},0,0,0,0,0,0,null,null,{"$f":"SUM(AZ94:AZ97)","v":0},null,null,{"$f":"SUM(BC94:BC97)","v":0},0,0,0,0,0,0,null,null,{"$f":"SUM(BL94:BL97)","v":0},{"$f":"SUM(BM94:BM97)","v":0},{"$f":"SUM(BN94:BN97)","v":0}]
["Elec output-main activity producer ele plants","ELMAINE",{"$f":"Ele_Table_6a!$G9","v":0},{"$f":"Ele_Table_6a!$G13","v":0},{"$f":"Ele_Table_6a!$G17","v":0},{"$f":"Ele_Table_6a!$G21","v":0},{"$f":"Ele_Table_6a!$G25","v":0},{"$f":"Ele_Table_6a!$G29","v":0},{"$f":"Ele_Table_6a!$G33","v":0},{"$f":"Ele_Table_6a!$G37","v":0},{"$f":"Ele_Table_6a!$G41","v":0},{"$f":"Ele_Table_6a!$G45","v":0},{"$f":"Ele_Table_6a!$G48","v":0},{"$f":"Ele_Table_6a!$G51","v":0},{"$f":"Ele_Table_6a!$G54","v":0},{"$f":"Ele_Table_6a!$G57","v":0},null,{"$f":"Ele_Table_6a!$G61","v":0},{"$f":"Ele_Table_6a!$G65","v":0},{"$f":"Ele_Table_6a!$G69","v":0},{"$f":"Ele_Table_6b!$G9","v":0},{"$f":"Ele_Table_6b!$G13","v":0},null,null,null,{"$f":"Ele_Table_6b!$G17","v":0},null,{"$f":"Ele_Table_6b!$G21","v":0},null,null,null,{"$f":"Ele_Table_6b!$G29","v":0},{"$f":"Ele_Table_6b!$G33","v":0},{"$f":"Ele_Table_6b!$G37","v":0},{"$f":"Ele_Table_6b!$G41","v":0},{"$f":"Ele_Table_6b!$G25","v":0},null,null,{"$f":"Ele_Table_6b!$G45","v":0},null,{"$f":"Ele_Table_6b!$G49","v":0},{"$f":"Ele_Table_6b!$G53","v":0},{"$f":"Ele_Table_6c!$G8","v":0},{"$f":"Ele_Table_6d!$G8","v":0},{"$f":"Ele_Table_6d!$G11","v":0},{"$f":"Ele_Table_6d!$G14","v":0},{"$f":"Ele_Table_6d!$G17","v":0},{"$f":"Ele_Table_6d!$G20","v":0},{"$f":"Ele_Table_6d!$G28","v":0},null,{"$f":"Ele_Table_6d!$G24","v":0},{"$f":"Ele_Table_6d!$G32","v":0},null,null,{"$f":"Ele_Table_1!$E7","v":0},{"$f":"Ele_Table_1!$E8","v":0},{"$f":"Ele_Table_1!$E10","v":0},{"$f":"ROUND(Ren_Table_1!E16,3)","v":0},{"$f":"ROUND(Ren_Table_1!E29, 3)","v":0},{"$f":"Ele_Table_1!E12","v":0},{"$f":"Ele_Table_1!E13","v":0},null,null,null,{"$f":"Ele_Table_1!$E16","v":0},{"$f":"Ele_Table_1!E6","v":0}]
["Elec output-autoproducer electricity plants","ELAUTOE",{"$f":"Ele_Table_6a!$J9","v":0},{"$f":"Ele_Table_6a!$J13","v":0},{"$f":"Ele_Table_6a!$J17","v":0},{"$f":"Ele_Table_6a!$J21","v":0},{"$f":"Ele_Table_6a!$J25","v":0},{"$f":"Ele_Table_6a!$J29","v":0},{"$f":"Ele_Table_6a!$J33","v":0},{"$f":"Ele_Table_6a!$J37","v":0},{"$f":"Ele_Table_6a!$J41","v":0},{"$f":"Ele_Table_6a!$J45","v":0},{"$f":"Ele_Table_6a!$J48","v":0},{"$f":"Ele_Table_6a!$J51","v":0},{"$f":"Ele_Table_6a!$J54","v":0},{"$f":"Ele_Table_6a!$J57","v":0},null,{"$f":"Ele_Table_6a!$J61","v":0},{"$f":"Ele_Table_6a!$J65","v":0},{"$f":"Ele_Table_6a!$J69","v":0},{"$f":"Ele_Table_6b!$J9","v":0},{"$f":"Ele_Table_6b!$J13","v":0},null,null,null,{"$f":"Ele_Table_6b!$J17","v":0},null,{"$f":"Ele_Table_6b!$J21","v":0},null,null,null,{"$f":"Ele_Table_6b!$J29","v":0},{"$f":"Ele_Table_6b!$J33","v":0},{"$f":"Ele_Table_6b!$J37","v":0},{"$f":"Ele_Table_6b!$J41","v":0},{"$f":"Ele_Table_6b!$J25","v":0},null,null,{"$f":"Ele_Table_6b!$J45","v":0},null,{"$f":"Ele_Table_6b!$J49","v":0},{"$f":"Ele_Table_6b!$J53","v":0},{"$f":"Ele_Table_6c!$J8","v":0},{"$f":"Ele_Table_6d!$J8","v":0},{"$f":"Ele_Table_6d!$J11","v":0},{"$f":"Ele_Table_6d!$J14","v":0},{"$f":"Ele_Table_6d!$J17","v":0},{"$f":"Ele_Table_6d!$J20","v":0},{"$f":"Ele_Table_6d!$J28","v":0},null,{"$f":"Ele_Table_6d!$J24","v":0},{"$f":"Ele_Table_6d!$J32","v":0},null,null,{"$f":"Ele_Table_1!$I7","v":0},{"$f":"Ele_Table_1!$I8","v":0},{"$f":"Ele_Table_1!$I10","v":0},{"$f":"ROUND(Ren_Table_1!H16,3)","v":0},{"$f":"ROUND(Ren_Table_1!H29,3)","v":0},{"$f":"Ele_Table_1!I12","v":0},{"$f":"Ele_Table_1!I13","v":0},null,null,{"$f":"Ele_Table_1!$I15","v":0},{"$f":"Ele_Table_1!$I16","v":0},{"$f":"Ele_Table_1!I6","v":0}]
["Elec output-main activity producer CHP plants","ELMAINC",{"$f":"Ele_Table_6a!$H9","v":0},{"$f":"Ele_Table_6a!$H13","v":0},{"$f":"Ele_Table_6a!$H17","v":0},{"$f":"Ele_Table_6a!$H21","v":0},{"$f":"Ele_Table_6a!$H25","v":0},{"$f":"Ele_Table_6a!$H29","v":0},{"$f":"Ele_Table_6a!$H33","v":0},{"$f":"Ele_Table_6a!$H37","v":0},{"$f":"Ele_Table_6a!$H41","v":0},{"$f":"Ele_Table_6a!$H45","v":0},{"$f":"Ele_Table_6a!$H48","v":0},{"$f":"Ele_Table_6a!$H51","v":0},{"$f":"Ele_Table_6a!$H54","v":0},{"$f":"Ele_Table_6a!$H57","v":0},null,{"$f":"Ele_Table_6a!$H61","v":0},{"$f":"Ele_Table_6a!$H65","v":0},{"$f":"Ele_Table_6a!$H69","v":0},{"$f":"Ele_Table_6b!$H9","v":0},{"$f":"Ele_Table_6b!$H13","v":0},null,null,null,{"$f":"Ele_Table_6b!$H17","v":0},null,{"$f":"Ele_Table_6b!$H21","v":0},null,null,null,{"$f":"Ele_Table_6b!$H29","v":0},{"$f":"Ele_Table_6b!$H33","v":0},{"$f":"Ele_Table_6b!$H37","v":0},{"$f":"Ele_Table_6b!$H41","v":0},{"$f":"Ele_Table_6b!$H25","v":0},null,null,{"$f":"Ele_Table_6b!$H45","v":0},null,{"$f":"Ele_Table_6b!$H49","v":0},{"$f":"Ele_Table_6b!$H53","v":0},{"$f":"Ele_Table_6c!$H8","v":0},{"$f":"Ele_Table_6d!$H8","v":0},{"$f":"Ele_Table_6d!$H11","v":0},{"$f":"Ele_Table_6d!$H14","v":0},{"$f":"Ele_Table_6d!$H17","v":0},{"$f":"Ele_Table_6d!$H20","v":0},{"$f":"Ele_Table_6d!$H28","v":0},null,{"$f":"Ele_Table_6d!$H24","v":0},{"$f":"Ele_Table_6d!$H32","v":0},null,null,{"$f":"Ele_Table_1!$F7","v":0},null,{"$f":"Ele_Table_1!$F10","v":0},null,{"$f":"ROUND(Ren_Table_1!F29,3)","v":0},null,null,null,null,null,{"$f":"Ele_Table_1!$F16","v":0},{"$f":"Ele_Table_1!F6","v":0}]
["Elec output-autoproducer CHP plants","ELAUTOC",{"$f":"Ele_Table_6a!$K9","v":0},{"$f":"Ele_Table_6a!$K13","v":0},{"$f":"Ele_Table_6a!$K17","v":0},{"$f":"Ele_Table_6a!$K21","v":0},{"$f":"Ele_Table_6a!$K25","v":0},{"$f":"Ele_Table_6a!$K29","v":0},{"$f":"Ele_Table_6a!$K33","v":0},{"$f":"Ele_Table_6a!$K37","v":0},{"$f":"Ele_Table_6a!$K41","v":0},{"$f":"Ele_Table_6a!$K45","v":0},{"$f":"Ele_Table_6a!$K48","v":0},{"$f":"Ele_Table_6a!$K51","v":0},{"$f":"Ele_Table_6a!$K54","v":0},{"$f":"Ele_Table_6a!$K57","v":0},null,{"$f":"Ele_Table_6a!$K61","v":0},{"$f":"Ele_Table_6a!$K65","v":0},{"$f":"Ele_Table_6a!$K69","v":0},{"$f":"Ele_Table_6b!$K9","v":0},{"$f":"Ele_Table_6b!$K13","v":0},null,null,null,{"$f":"Ele_Table_6b!$K17","v":0},null,{"$f":"Ele_Table_6b!$K21","v":0},null,null,null,{"$f":"Ele_Table_6b!$K29","v":0},{"$f":"Ele_Table_6b!$K33","v":0},{"$f":"Ele_Table_6b!$K37","v":0},{"$f":"Ele_Table_6b!$K41","v":0},{"$f":"Ele_Table_6b!$K25","v":0},null,null,{"$f":"Ele_Table_6b!$K45","v":0},null,{"$f":"Ele_Table_6b!$K49","v":0},{"$f":"Ele_Table_6b!$K53","v":0},{"$f":"Ele_Table_6c!$K8","v":0},{"$f":"Ele_Table_6d!$K8","v":0},{"$f":"Ele_Table_6d!$K11","v":0},{"$f":"Ele_Table_6d!$K14","v":0},{"$f":"Ele_Table_6d!$K17","v":0},{"$f":"Ele_Table_6d!$K20","v":0},{"$f":"Ele_Table_6d!$K28","v":0},null,{"$f":"Ele_Table_6d!$K24","v":0},{"$f":"Ele_Table_6d!$K32","v":0},null,null,{"$f":"Ele_Table_1!$J7","v":0},null,{"$f":"Ele_Table_1!$J10","v":0},null,{"$f":"ROUND(Ren_Table_1!I29,3)","v":0},null,null,null,null,{"$f":"Ele_Table_1!$J15","v":0},{"$f":"Ele_Table_1!$J16","v":0},{"$f":"Ele_Table_1!J6","v":0}]
["Heat output-main activity producer CHP plants","HEMAINC",{"$f":"Ele_Table_6a!$H10","v":0},{"$f":"Ele_Table_6a!$H14","v":0},{"$f":"Ele_Table_6a!$H18","v":0},{"$f":"Ele_Table_6a!$H22","v":0},{"$f":"Ele_Table_6a!$H26","v":0},{"$f":"Ele_Table_6a!$H30","v":0},{"$f":"Ele_Table_6a!$H34","v":0},{"$f":"Ele_Table_6a!$H38","v":0},{"$f":"Ele_Table_6a!$H42","v":0},{"$f":"Ele_Table_6a!$H46","v":0},{"$f":"Ele_Table_6a!$H49","v":0},{"$f":"Ele_Table_6a!$H52","v":0},{"$f":"Ele_Table_6a!$H55","v":0},{"$f":"Ele_Table_6a!$H58","v":0},null,{"$f":"Ele_Table_6a!$H62","v":0},{"$f":"Ele_Table_6a!$H66","v":0},{"$f":"Ele_Table_6a!$H70","v":0},{"$f":"Ele_Table_6b!$H10","v":0},{"$f":"Ele_Table_6b!$H14","v":0},null,null,null,{"$f":"Ele_Table_6b!$H18","v":0},null,{"$f":"Ele_Table_6b!$H22","v":0},null,null,null,{"$f":"Ele_Table_6b!$H30","v":0},{"$f":"Ele_Table_6b!$H34","v":0},{"$f":"Ele_Table_6b!$H38","v":0},{"$f":"Ele_Table_6b!$H42","v":0},{"$f":"Ele_Table_6b!$H26","v":0},null,null,{"$f":"Ele_Table_6b!$H46","v":0},null,{"$f":"Ele_Table_6b!$H50","v":0},{"$f":"Ele_Table_6b!$H54","v":0},{"$f":"Ele_Table_6c!$H9","v":0},{"$f":"Ele_Table_6d!$H9","v":0},{"$f":"Ele_Table_6d!$H12","v":0},{"$f":"Ele_Table_6d!$H15","v":0},{"$f":"Ele_Table_6d!$H18","v":0},{"$f":"Ele_Table_6d!$H21","v":0},{"$f":"Ele_Table_6d!$H29","v":0},null,{"$f":"Ele_Table_6d!$H25","v":0},{"$f":"Ele_Table_6d!$H33","v":0},null,null,{"$f":"Ele_Table_1!$F21","v":0},null,{"$f":"Ele_Table_1!$F22","v":0},null,{"$f":"Ren_Table_1!F51","v":0},null,null,{"$f":"Ele_Table_1!$F25","v":0},{"$f":"Ele_Table_1!$F26","v":0},null,{"$f":"Ele_Table_1!$F28","v":0},null,{"$f":"Ele_Table_1!F20","v":0}]
["Heat output-autoproducer CHP plants","HEAUTOC",{"$f":"Ele_Table_6a!$K10","v":0},{"$f":"Ele_Table_6a!$K14","v":0},{"$f":"Ele_Table_6a!$K18","v":0},{"$f":"Ele_Table_6a!$K22","v":0},{"$f":"Ele_Table_6a!$K26","v":0},{"$f":"Ele_Table_6a!$K30","v":0},{"$f":"Ele_Table_6a!$K34","v":0},{"$f":"Ele_Table_6a!$K38","v":0},{"$f":"Ele_Table_6a!$K42","v":0},{"$f":"Ele_Table_6a!$K46","v":0},{"$f":"Ele_Table_6a!$K49","v":0},{"$f":"Ele_Table_6a!$K52","v":0},{"$f":"Ele_Table_6a!$K55","v":0},{"$f":"Ele_Table_6a!$K58","v":0},null,{"$f":"Ele_Table_6a!$K62","v":0},{"$f":"Ele_Table_6a!$K66","v":0},{"$f":"Ele_Table_6a!$K70","v":0},{"$f":"Ele_Table_6b!$K10","v":0},{"$f":"Ele_Table_6b!$K14","v":0},null,null,null,{"$f":"Ele_Table_6b!$K18","v":0},null,{"$f":"Ele_Table_6b!$K22","v":0},null,null,null,{"$f":"Ele_Table_6b!$K30","v":0},{"$f":"Ele_Table_6b!$K34","v":0},{"$f":"Ele_Table_6b!$K38","v":0},{"$f":"Ele_Table_6b!$K42","v":0},{"$f":"Ele_Table_6b!$K26","v":0},null,null,{"$f":"Ele_Table_6b!$K46","v":0},null,{"$f":"Ele_Table_6b!$K50","v":0},{"$f":"Ele_Table_6b!$K54","v":0},{"$f":"Ele_Table_6c!$K9","v":0},{"$f":"Ele_Table_6d!$K9","v":0},{"$f":"Ele_Table_6d!$K12","v":0},{"$f":"Ele_Table_6d!$K15","v":0},{"$f":"Ele_Table_6d!$K18","v":0},{"$f":"Ele_Table_6d!$K21","v":0},{"$f":"Ele_Table_6d!$K29","v":0},null,{"$f":"Ele_Table_6d!$K25","v":0},{"$f":"Ele_Table_6d!$K33","v":0},null,null,{"$f":"Ele_Table_1!$J21","v":0},null,{"$f":"Ele_Table_1!$J22","v":0},null,{"$f":"Ren_Table_1!I51","v":0},null,null,{"$f":"Ele_Table_1!$J25","v":0},{"$f":"Ele_Table_1!$J26","v":0},{"$f":"Ele_Table_1!$J27","v":0},{"$f":"Ele_Table_1!$J28","v":0},null,{"$f":"Ele_Table_1!J20","v":0}]
["Heat output-main activity producer heat plant","HEMAINH",{"$f":"Ele_Table_6a!$I10","v":0},{"$f":"Ele_Table_6a!$I14","v":0},{"$f":"Ele_Table_6a!$I18","v":0},{"$f":"Ele_Table_6a!$I22","v":0},{"$f":"Ele_Table_6a!$I26","v":0},{"$f":"Ele_Table_6a!$I30","v":0},{"$f":"Ele_Table_6a!$I34","v":0},{"$f":"Ele_Table_6a!$I38","v":0},{"$f":"Ele_Table_6a!$I42","v":0},{"$f":"Ele_Table_6a!$I46","v":0},{"$f":"Ele_Table_6a!$I49","v":0},{"$f":"Ele_Table_6a!$I52","v":0},{"$f":"Ele_Table_6a!$I55","v":0},{"$f":"Ele_Table_6a!$I58","v":0},null,{"$f":"Ele_Table_6a!$I62","v":0},{"$f":"Ele_Table_6a!$I66","v":0},{"$f":"Ele_Table_6a!$I70","v":0},{"$f":"Ele_Table_6b!$I10","v":0},{"$f":"Ele_Table_6b!$I14","v":0},null,null,null,{"$f":"Ele_Table_6b!$I18","v":0},null,{"$f":"Ele_Table_6b!$I22","v":0},null,null,null,{"$f":"Ele_Table_6b!$I30","v":0},{"$f":"Ele_Table_6b!$I34","v":0},{"$f":"Ele_Table_6b!$I38","v":0},{"$f":"Ele_Table_6b!$I42","v":0},{"$f":"Ele_Table_6b!$I26","v":0},null,null,{"$f":"Ele_Table_6b!$I46","v":0},null,{"$f":"Ele_Table_6b!$I50","v":0},{"$f":"Ele_Table_6b!$I54","v":0},{"$f":"Ele_Table_6c!$I9","v":0},{"$f":"Ele_Table_6d!$I9","v":0},{"$f":"Ele_Table_6d!$I12","v":0},{"$f":"Ele_Table_6d!$I15","v":0},{"$f":"Ele_Table_6d!$I18","v":0},{"$f":"Ele_Table_6d!$I21","v":0},{"$f":"Ele_Table_6d!$I29","v":0},null,{"$f":"Ele_Table_6d!$I25","v":0},{"$f":"Ele_Table_6d!$I33","v":0},null,null,{"$f":"Ele_Table_1!$H21","v":0},null,{"$f":"Ele_Table_1!$H22","v":0},null,{"$f":"Ren_Table_1!G51","v":0},null,null,{"$f":"Ele_Table_1!$H25","v":0},{"$f":"Ele_Table_1!$H26","v":0},null,{"$f":"Ele_Table_1!$H28","v":0},null,{"$f":"Ele_Table_1!H20","v":0}]
["Heat output-autoproducer heat plants","HEAUTOH",{"$f":"Ele_Table_6a!$L10","v":0},{"$f":"Ele_Table_6a!$L14","v":0},{"$f":"Ele_Table_6a!$L18","v":0},{"$f":"Ele_Table_6a!$L22","v":0},{"$f":"Ele_Table_6a!$L26","v":0},{"$f":"Ele_Table_6a!$L30","v":0},{"$f":"Ele_Table_6a!$L34","v":0},{"$f":"Ele_Table_6a!$L38","v":0},{"$f":"Ele_Table_6a!$L42","v":0},{"$f":"Ele_Table_6a!$L46","v":0},{"$f":"Ele_Table_6a!$L49","v":0},{"$f":"Ele_Table_6a!$L52","v":0},{"$f":"Ele_Table_6a!$L55","v":0},{"$f":"Ele_Table_6a!$L58","v":0},null,{"$f":"Ele_Table_6a!$L62","v":0},{"$f":"Ele_Table_6a!$L66","v":0},{"$f":"Ele_Table_6a!$L70","v":0},{"$f":"Ele_Table_6b!$L10","v":0},{"$f":"Ele_Table_6b!$L14","v":0},null,null,null,{"$f":"Ele_Table_6b!$L18","v":0},null,{"$f":"Ele_Table_6b!$L22","v":0},null,null,null,{"$f":"Ele_Table_6b!$L30","v":0},{"$f":"Ele_Table_6b!$L34","v":0},{"$f":"Ele_Table_6b!$L38","v":0},{"$f":"Ele_Table_6b!$L42","v":0},{"$f":"Ele_Table_6b!$L26","v":0},null,null,{"$f":"Ele_Table_6b!$L46","v":0},null,{"$f":"Ele_Table_6b!$L50","v":0},{"$f":"Ele_Table_6b!$L54","v":0},{"$f":"Ele_Table_6c!$L9","v":0},{"$f":"Ele_Table_6d!$L9","v":0},{"$f":"Ele_Table_6d!$L12","v":0},{"$f":"Ele_Table_6d!$L15","v":0},{"$f":"Ele_Table_6d!$L18","v":0},{"$f":"Ele_Table_6d!$L21","v":0},{"$f":"Ele_Table_6d!$L29","v":0},null,{"$f":"Ele_Table_6d!$L25","v":0},{"$f":"Ele_Table_6d!$L33","v":0},null,null,{"$f":"Ele_Table_1!$L21","v":0},null,{"$f":"Ele_Table_1!$L22","v":0},null,{"$f":"Ren_Table_1!J51","v":0},null,null,{"$f":"Ele_Table_1!$L25","v":0},{"$f":"Ele_Table_1!$L26","v":0},{"$f":"Ele_Table_1!$L27","v":0},{"$f":"Ele_Table_1!$L28","v":0},null,{"$f":"Ele_Table_1!L20","v":0}]
["Heat output in TJ","HEATOUT",{"$f":"SUM(C98:C101)","v":0},{"$f":"SUM(D98:D101)","v":0},{"$f":"SUM(E98:E101)","v":0},{"$f":"SUM(F98:F101)","v":0},{"$f":"SUM(G98:G101)","v":0},{"$f":"SUM(H98:H101)","v":0},0,0,0,0,0,0,0,0,{"$f":"SUM(Q98:Q101)","v":0},0,0,0,0,0,null,null,null,{"$f":"SUM(Z98:Z101)","v":0},null,{"$f":"SUM(AB98:AB101)","v":0},null,null,null,{"$f":"SUM(AF98:AF101)","v":0},{"$f":"SUM(AG98:AG101)","v":0},{"$f":"SUM(AH98:AH101)","v":0},{"$f":"SUM(AI98:AI101)","v":0},{"$f":"SUM(AJ98:AJ101)","v":0},null,null,{"$f":"SUM(AM98:AM101)","v":0},null,{"$f":"SUM(AO98:AO101)","v":0},0,{"$f":"SUM(AQ98:AQ101)","v":0},0,0,0,0,0,0,null,{"$f":"SUM(AY98:AY101)","v":0},{"$f":"SUM(AZ98:AZ101)","v":0},null,null,{"$f":"SUM(BC98:BC101)","v":0},null,{"$f":"SUM(BE98:BE101)","v":0},null,{"$f":"SUM(BG98:BG101)","v":0},null,null,{"$f":"SUM(BJ98:BJ101)","v":0},{"$f":"SUM(BK98:BK101)","v":0},{"$f":"SUM(BL98:BL101)","v":0},{"$f":"SUM(BM98:BM101)","v":0},null,{"$f":"SUM(BO98:BO101)","v":0}]
["Memo: main activity producer - pumped hydro","MHYDPUMP",null,null,null,null,null,null,null,null,null,null,null,null,null,null,null,null,null,null,null,null,null,null,null,null,null,null,null,null,null,null,null,null,null,null,null,null,null,null,null,null,null,null,null,null,null,null,null,null,null,null,null,null,null,{"$f":"Ele_Table_1!E9","v":0}]
["Memo: autoproducer - pumped hydro","AHYDPUMP",null,null,null,null,null,null,null,null,null,null,null,null,null,null,null,null,null,null,null,null,null,null,null,null,null,null,null,null,null,null,null,null,null,null,null,null,null,null,null,null,null,null,null,null,null,null,null,null,null,null,null,null,null,{"$f":"Ele_Table_1!I9","v":0}]
["Memo: gas vented","VENTED",null,null,null,null,null,null,null,null,null,null,null,null,null,null,null,null,null,null,null,null,null,null,null,null,null,null,null,null,null,null,null,null,null,null,null,null,null,null,null,null,{"$f":"Gas_Table_1!F27","v":0}]
["Memo: gas flared","FLARED",null,null,null,null,null,null,null,null,null,null,null,null,null,null,null,null,null,null,null,null,null,null,null,null,null,null,null,null,null,null,null,null,null,null,null,null,null,null,null,null,{"$f":"Gas_Table_1!F28","v":0}]

{"sheet":"Published Balance","index":13,"n_rows":75,"n_cols":43,"rows_kept":75,"cut":false,"hidden":false,"merged":[[0,0,0,11],[2,0,2,11],[4,0,4,11],[2,27,2,29],[60,0,60,11]]}
[{"$f":"HLOOKUP(LangChoice,$AB$4:$AD$79,$AA74+1) & \" \" & TEXT(NOW(),\"DD/MM/YY HH:MM\")&\" (\" & HLOOKUP(LangChoice,$AB$4:$AD$79,$AA75+1)  &\": \"&'Main Menu'!E2&\").\"","v":"Energy balance created with IEA balance builder tool based on data provided by the user 05/12/24 17:26 (Version: November 2024.1)."},null,null,null,null,null,null,null,null,null,null,null,null,null,null,null,null,null,null,null,null,null,null,null,null,null,"Hide -->",null,null,null,null,null,null,null,null,null,null,null,null,null,null,null,"<-- Hide"]
[]
[{"$f":"CountryName","v":"Statisland"},null,null,null,null,null,null,null,null,null,null,null,null,null,null,null,null,null,null,null,null,null,null,null,null,null,null,"Flow name",null,null," ","Product name"]
[{"$f":"DataYear","v":2023},null,null,null,null,null,null,null,null,null,null,"UNOFFICIAL",null,null,null,null,null,null,null,null,null,null,null,null,null,null,null,"English","Pусский","CHN"," ",null,1,2,3,4,5,6,7,8,9,10,11]
[{"$f":"SUBSTITUTE(HLOOKUP(LangChoice,$AB$4:$AD$67,$AA5+1),\"Thousand tonnes of oil equivalent (ktoe)\",\"Terajoules (TJ)\")","v":"Terajoules (TJ)"},null,null,null,null,null,null,null,null,null,null,null,null,null,null,null,null,null,null,null,null,null,null,null,null,null,1,"Thousand tonnes of oil equivalent (ktoe)","Тысяч тонн нефтяного эквивалента (1000 тнэ)","千吨油当量"," ","English","Coal","Crude oil","Oil\nproducts","Natural gas","Nuclear","Hydro","Geo-therm./\nSolar/\netc.","Biofuels/\nWaste","Electri-city","Heat","Total"]
[{"$f":"HLOOKUP(LangChoice,$AB$4:$AD$67,$AA6+1)","v":"SUPPLY AND\nCONSUMPTION"},{"$f":"VLOOKUP(LangChoice,$AF$4:$AQ$7,AG4+1)","v":"Coal"},"Crude oil","Oil\nproducts","Natural gas","Nuclear","Hydro","Geo-therm./\nSolar/\netc.","Biofuels/\nWaste","Electri-city","Heat","Total",null,null,null,null,null,null,null,null,null,null,null,null,null,null,2,"SUPPLY AND\nCONSUMPTION","ПОСТАВКА И\nПОТРЕБЛЕНИЕ","[missing Chinese]"," ","Pусский","Уголь","Сырая нефть","Нефтепродукты",{"$f":"Definitions_ProdLang!D48","v":"Природный газ"},"Атомная энергия",{"$f":"Definitions_ProdLang!D63","v":"Гидроэнергия"},"Геотерм./\nсолн./\nт.д","Биотопливо/\nотходы",{"$f":"Definitions_ProdLang!D73","v":"Электричество"},{"$f":"Definitions_ProdLang!D74","v":"Тепло"},"Всего"]
["Production",{"$f":"SUM('Aggregated Balance'!$B3:$D3)","v":0},{"$f":"'Aggregated Balance'!E3","v":46.53},{"$f":"'Aggregated Balance'!F3","v":0},{"$f":"'Aggregated Balance'!G3","v":0},{"$f":"'Aggregated Balance'!H3","v":0},{"$f":"'Aggregated Balance'!I3","v":2160},{"$f":"SUM('Aggregated Balance'!$J3:$K3)","v":176.4},{"$f":"'Aggregated Balance'!L3","v":117.7},{"$f":"'Aggregated Balance'!M3","v":0},{"$f":"'Aggregated Balance'!N3","v":0},{"$f":"SUM(B7:K7)","v":2500.63},null,null,null,null,null,null,null,null,null,null,null,null,null,null,3,{"$f":"Definitions_FlowLang!C5","v":"Production"},{"$f":"Definitions_FlowLang!D5","v":"Производство"},{"$f":"Definitions_FlowLang!E5","v":"产量"}," ","CHN","煤炭","原油","石油产品","天然气","核能","水能","地热能、太阳能、风能和其他","生物燃料和废弃物","电力","热力","总计"]
["Imports",{"$f":"SUM('Aggregated Balance'!$B4:$D4)","v":0},{"$f":"'Aggregated Balance'!E4","v":0},{"$f":"'Aggregated Balance'!F4","v":124700},{"$f":"'Aggregated Balance'!G4","v":0},{"$f":"'Aggregated Balance'!H4","v":0},{"$f":"'Aggregated Balance'!I4","v":0},{"$f":"SUM('Aggregated Balance'!$J4:$K4)","v":0},{"$f":"'Aggregated Balance'!L4","v":0},{"$f":"'Aggregated Balance'!M4","v":162},{"$f":"'Aggregated Balance'!N4","v":0},124862,null,null,null,null,null,null,null,null,null,null,null,null,null,null,4,{"$f":"Definitions_FlowLang!C12","v":"Imports"},{"$f":"Definitions_FlowLang!D12","v":"Импорт"},{"$f":"Definitions_FlowLang!E12","v":"进口量"}," "]
["Exports",{"$f":"SUM('Aggregated Balance'!$B5:$D5)","v":0},{"$f":"'Aggregated Balance'!E5","v":29610},{"$f":"'Aggregated Balance'!F5","v":0},{"$f":"'Aggregated Balance'!G5","v":0},{"$f":"'Aggregated Balance'!H5","v":0},{"$f":"'Aggregated Balance'!I5","v":0},{"$f":"SUM('Aggregated Balance'!$J5:$K5)","v":0},{"$f":"'Aggregated Balance'!L5","v":0},{"$f":"'Aggregated Balance'!M5","v":-79.2},{"$f":"'Aggregated Balance'!N5","v":0},29530.799999999999,null,null,null,null,null,null,null,null,null,null,null,null,null,null,5,{"$f":"Definitions_FlowLang!C13","v":"Exports"},{"$f":"Definitions_FlowLang!D13","v":"Экспорт"},{"$f":"Definitions_FlowLang!E13","v":"出口量"}," "]
["Intl. marine bunkers",{"$f":"SUM('Aggregated Balance'!$B6:$D6)","v":0},{"$f":"'Aggregated Balance'!E6","v":0},{"$f":"'Aggregated Balance'!F6","v":-1720},{"$f":"'Aggregated Balance'!G6","v":0},{"$f":"'Aggregated Balance'!H6","v":0},{"$f":"'Aggregated Balance'!I6","v":0},{"$f":"SUM('Aggregated Balance'!$J6:$K6)","v":0},{"$f":"'Aggregated Balance'!L6","v":0},{"$f":"'Aggregated Balance'!M6","v":0},{"$f":"'Aggregated Balance'!N6","v":0},-1720,null,null,null,null,null,null,null,null,null,null,null,null,null,null,6,"Intl. marine bunkers",{"$f":"Definitions_FlowLang!D14","v":"международный бункер водных перевозок"},{"$f":"Definitions_FlowLang!E14","v":"国际海运船舶燃料"}," "]
["Intl. aviation bunkers",{"$f":"SUM('Aggregated Balance'!$B7:$D7)","v":0},{"$f":"'Aggregated Balance'!E7","v":0},{"$f":"'Aggregated Balance'!F7","v":0},{"$f":"'Aggregated Balance'!G7","v":0},{"$f":"'Aggregated Balance'!H7","v":0},{"$f":"'Aggregated Balance'!I7","v":0},{"$f":"SUM('Aggregated Balance'!$J7:$K7)","v":0},{"$f":"'Aggregated Balance'!L7","v":0},{"$f":"'Aggregated Balance'!M7","v":0},{"$f":"'Aggregated Balance'!N7","v":0},0,null,null,null,null,null,null,null,null,null,null,null,null,null,null,7,"Intl. aviation bunkers",{"$f":"Definitions_FlowLang!D15","v":"международный бункер авиационных перевозок"},{"$f":"Definitions_FlowLang!E15","v":"国际航空燃料"}," ",null,null,null,null,null,null,null,"Геотермальная/\nсолнечная/\nи т.д"]
["Stock changes",{"$f":"SUM('Aggregated Balance'!$B8:$D8)","v":0},{"$f":"'Aggregated Balance'!E8","v":4800},{"$f":"'Aggregated Balance'!F8","v":-645},{"$f":"'Aggregated Balance'!G8","v":0},{"$f":"'Aggregated Balance'!H8","v":0},{"$f":"'Aggregated Balance'!I8","v":0},{"$f":"SUM('Aggregated Balance'!$J8:$K8)","v":0},{"$f":"'Aggregated Balance'!L8","v":0},{"$f":"'Aggregated Balance'!M8","v":0},{"$f":"'Aggregated Balance'!N8","v":0},4155,null,null,null,null,null,null,null,null,null,null,null,null,null,null,8,{"$f":"Definitions_FlowLang!C16","v":"Stock changes"},{"$f":"Definitions_FlowLang!D16","v":"Изменение остатков"},{"$f":"Definitions_FlowLang!E16","v":"库存变化"}," "]
["TES",{"$f":"SUM(B7:B12)","v":0},{"$f":"SUM(C7:C12)","v":34456.53},122335,0,0,2160,176.4,117.7,82.8,0,159328.43,null,null,null,null,null,null,null,null,null,null,null,null,null,null,9,"TES",{"$f":"Definitions_FlowLang!D18","v":"ОБЩЕЕ ПРЕДЛОЖЕНИЕ ПЕРВИЧНОЙ ЭНЕРГИИ (ОППЭ)"},{"$f":"Definitions_FlowLang!E18","v":"初级能源供应总量"}," "]
["Transfers",{"$f":"SUM('Aggregated Balance'!$B10:$D10)","v":0},{"$f":"'Aggregated Balance'!E10","v":0},{"$f":"'Aggregated Balance'!F10","v":0},{"$f":"'Aggregated Balance'!G10","v":0},{"$f":"'Aggregated Balance'!H10","v":0},{"$f":"'Aggregated Balance'!I10","v":0},{"$f":"SUM('Aggregated Balance'!$J10:$K10)","v":0},{"$f":"'Aggregated Balance'!L10","v":0},{"$f":"'Aggregated Balance'!M10","v":0},{"$f":"'Aggregated Balance'!N10","v":0},{"$f":"SUM(B14:K14)","v":0},null,null,null,null,null,null,null,null,null,null,null,null,null,null,10,{"$f":"Definitions_FlowLang!C19","v":"Transfers"},{"$f":"Definitions_FlowLang!D19","v":"Передачи"},{"$f":"Definitions_FlowLang!E19","v":"转换产出量"}," "]
["Statistical differences",{"$f":"SUM('Aggregated Balance'!$B11:$D11)","v":0},{"$f":"'Aggregated Balance'!E11","v":-13856.529999999999},{"$f":"'Aggregated Balance'!F11","v":-4730},{"$f":"'Aggregated Balance'!G11","v":0},{"$f":"'Aggregated Balance'!H11","v":0},{"$f":"'Aggregated Balance'!I11","v":0},{"$f":"SUM('Aggregated Balance'!$J11:$K11)","v":0},{"$f":"'Aggregated Balance'!L11","v":0},{"$f":"'Aggregated Balance'!M11","v":0},{"$f":"'Aggregated Balance'!N11","v":0},-18586.53,null,null,null,null,null,null,null,null,null,null,null,null,null,null,11,{"$f":"Definitions_FlowLang!C20","v":"Statistical differences"},{"$f":"Definitions_FlowLang!D20","v":"Статистическое расхождение"},{"$f":"Definitions_FlowLang!E20","v":"统计差异"}," "]
["Electricity plants",{"$f":"SUM('Aggregated Balance'!$B12:$D13)+SUM('Aggregated Balance'!$B20:$D20)","v":0},{"$f":"('Aggregated Balance'!E12)+('Aggregated Balance'!E13)+('Aggregated Balance'!E20)","v":0},{"$f":"('Aggregated Balance'!F12)+('Aggregated Balance'!F13)+('Aggregated Balance'!F20)","v":-116100},{"$f":"('Aggregated Balance'!G12)+('Aggregated Balance'!G13)+('Aggregated Balance'!G20)","v":0},{"$f":"('Aggregated Balance'!H12)+('Aggregated Balance'!H13)+('Aggregated Balance'!H20)","v":0},{"$f":"('Aggregated Balance'!I12)+('Aggregated Balance'!I13)+('Aggregated Balance'!I20)","v":-2160},{"$f":"SUM('Aggregated Balance'!$J12:$K13)+SUM('Aggregated Balance'!$J20:$K20)","v":-176.4},{"$f":"('Aggregated Balance'!L12)+('Aggregated Balance'!L13)+('Aggregated Balance'!L20)","v":0},{"$f":"('Aggregated Balance'!M12)+('Aggregated Balance'!M13)+('Aggregated Balance'!M20)","v":37796.400000000001},{"$f":"SUM('Aggregated Balance'!N12,'Aggregated Balance'!N13,'Aggregated Balance'!N20)","v":0},-80640,null,null,null,null,null,null,null,null,null,null,null,null,null,null,12,"Electricity plants","Электростанции","热电联产厂"," "]
["CHP plants",{"$f":"SUM('Aggregated Balance'!$B14:$D14)+SUM('Aggregated Balance'!$B15:$D15)","v":0},{"$f":"('Aggregated Balance'!E14)+('Aggregated Balance'!E15)","v":0},{"$f":"('Aggregated Balance'!F14)+('Aggregated Balance'!F15)","v":0},{"$f":"('Aggregated Balance'!G14)+('Aggregated Balance'!G15)","v":0},{"$f":"('Aggregated Balance'!H14)+('Aggregated Balance'!H15)","v":0},{"$f":"('Aggregated Balance'!I14)+('Aggregated Balance'!I15)","v":0},{"$f":"SUM('Aggregated Balance'!$J14:$K15)","v":0},{"$f":"('Aggregated Balance'!L14)+('Aggregated Balance'!L15)","v":0},{"$f":"('Aggregated Balance'!M14)+('Aggregated Balance'!M15)","v":0},{"$f":"('Aggregated Balance'!N14)+('Aggregated Balance'!N15)","v":0},0,null,null,null,null,null,null,null,null,null,null,null,null,null,null,13,"CHP plants","Тепло-электроцентрали","热力厂"," "]
["Heat plants",{"$f":"SUM('Aggregated Balance'!$B16:$D19)","v":0},{"$f":"SUM('Aggregated Balance'!E16:E19)","v":0},{"$f":"SUM('Aggregated Balance'!F16:F19)","v":0},{"$f":"SUM('Aggregated Balance'!G16:G19)","v":0},{"$f":"SUM('Aggregated Balance'!H16:H19)","v":0},{"$f":"SUM('Aggregated Balance'!I16:I19)","v":0},{"$f":"SUM('Aggregated Balance'!$J16:$K19)","v":0},{"$f":"SUM('Aggregated Balance'!L16:L19)","v":0},{"$f":"SUM('Aggregated Balance'!M16:M19)","v":0},{"$f":"SUM('Aggregated Balance'!N16:N19)","v":0},0,null,null,null,null,null,null,null,null,null,null,null,null,null,null,14,"Heat plants","Теплоцентрали","高炉气厂 "," "]
["Blast furnaces",{"$f":"SUM('Disaggregated Balance'!E27:V27)","v":0},{"$f":"SUM('Disaggregated Balance'!W27:AA27)","v":0},{"$f":"SUM('Disaggregated Balance'!AB27:AR27)","v":0},{"$f":"SUM('Disaggregated Balance'!AS27)","v":0},{"$f":"SUM('Disaggregated Balance'!BE27)","v":0},{"$f":"SUM('Disaggregated Balance'!BF27)","v":0},{"$f":"SUM('Disaggregated Balance'!BG27:BL27)","v":0},{"$f":"SUM('Disaggregated Balance'!AT27:BD27)","v":0},{"$f":"SUM('Disaggregated Balance'!BM27)","v":0},{"$f":"'Disaggregated Balance'!BN27","v":0},0,null,null,null,null,null,null,null,null,null,null,null,null,null,null,15,{"$f":"Definitions_FlowLang!C35","v":"Blast furnaces"},{"$f":"Definitions_FlowLang!D35","v":"Доменные печи"},{"$f":"Definitions_FlowLang!E35","v":"高炉"}," "]
["Gas works",{"$f":"SUM('Aggregated Balance'!B21:D21)","v":0},{"$f":"'Aggregated Balance'!E21","v":0},{"$f":"'Aggregated Balance'!F21","v":0},{"$f":"'Aggregated Balance'!G21","v":0},{"$f":"'Aggregated Balance'!H21","v":0},{"$f":"'Aggregated Balance'!I21","v":0},{"$f":"SUM('Aggregated Balance'!J21,'Aggregated Balance'!K21)","v":0},{"$f":"'Aggregated Balance'!L21","v":0},{"$f":"'Aggregated Balance'!M21","v":0},{"$f":"'Aggregated Balance'!N21","v":0},0,null,null,null,null,null,null,null,null,null,null,null,null,null,null,16,{"$f":"Definitions_FlowLang!C34","v":"Gas works"},{"$f":"Definitions_FlowLang!D34","v":"Газовые заводы"},{"$f":"Definitions_FlowLang!E34","v":"煤气厂"}," "]
["Coke/pat. fuel/BKB/PB plants",{"$f":"SUM('Disaggregated Balance'!E24:V25,'Disaggregated Balance'!E29:V29)","v":0},{"$f":"SUM('Disaggregated Balance'!W24:AA25,'Disaggregated Balance'!W29:AA29)","v":0},{"$f":"SUM('Disaggregated Balance'!AB24:AR25,'Disaggregated Balance'!AB29:AR29)","v":0},{"$f":"SUM('Disaggregated Balance'!AS24:AS25,'Disaggregated Balance'!AS29)","v":0},{"$f":"SUM('Disaggregated Balance'!BE24:BE25,'Disaggregated Balance'!BE29)","v":0},{"$f":"SUM('Disaggregated Balance'!BF24:BF25,'Disaggregated Balance'!BF29)","v":0},{"$f":"SUM('Disaggregated Balance'!BG24:BH25,'Disaggregated Balance'!BG29:BH29)","v":0},{"$f":"SUM('Disaggregated Balance'!AT24:BD25,'Disaggregated Balance'!AT29:BD29)","v":0},{"$f":"SUM('Disaggregated Balance'!BM24:BM25,'Disaggregated Balance'!BM29)","v":0},{"$f":"SUM('Disaggregated Balance'!BN24:BN25,'Disaggregated Balance'!BN29)","v":0},0,null,null,null,null,null,null,null,null,null,null,null,null,null,null,17,"Coke/pat. fuel/BKB/PB plants","Кокс. печи/Предпр-ия по пр-ву каменноуг./буроуг. Брик./торф. брикеты","炼焦 / 专用燃料 / 褐煤型煤厂"," "]
["Oil refineries",{"$f":"SUM('Aggregated Balance'!B22:D22)","v":0},{"$f":"'Aggregated Balance'!E22","v":-20600},{"$f":"'Aggregated Balance'!F22","v":21500},{"$f":"'Aggregated Balance'!G22","v":0},{"$f":"'Aggregated Balance'!H22","v":0},{"$f":"'Aggregated Balance'!I22","v":0},{"$f":"SUM('Aggregated Balance'!J22,'Aggregated Balance'!K22)","v":0},{"$f":"'Aggregated Balance'!L22","v":0},{"$f":"'Aggregated Balance'!M22","v":0},{"$f":"'Aggregated Balance'!N22","v":0},900,null,null,null,null,null,null,null,null,null,null,null,null,null,null,18,{"$f":"Definitions_FlowLang!C38","v":"Oil refineries"},{"$f":"Definitions_FlowLang!D38","v":"Нефтеперерабатывающие заводы"},{"$f":"Definitions_FlowLang!E38","v":"炼油厂"}," "]
["Petrochemical plants",{"$f":"SUM('Disaggregated Balance'!E28:V28)","v":0},{"$f":"SUM('Disaggregated Balance'!W28:AA28)","v":0},{"$f":"SUM('Disaggregated Balance'!AB28:AR28)","v":0},{"$f":"SUM('Disaggregated Balance'!AS28)","v":0},{"$f":"SUM('Disaggregated Balance'!BE28)","v":0},{"$f":"SUM('Disaggregated Balance'!BF28)","v":0},{"$f":"SUM('Disaggregated Balance'!BG28:BL28)","v":0},{"$f":"SUM('Disaggregated Balance'!AT28:BD28)","v":0},{"$f":"SUM('Disaggregated Balance'!BM28)","v":0},{"$f":"'Disaggregated Balance'!BN28","v":0},0,null,null,null,null,null,null,null,null,null,null,null,null,null,null,19,{"$f":"Definitions_FlowLang!C36","v":"Petrochemical plants"},{"$f":"Definitions_FlowLang!D36","v":"Нефтехимические заводы"},{"$f":"Definitions_FlowLang!E36","v":"石化厂"}," "]
["Liquefaction plants",{"$f":"SUM('Aggregated Balance'!B24:D24)","v":0},{"$f":"'Aggregated Balance'!E24","v":0},{"$f":"'Aggregated Balance'!F24","v":0},{"$f":"'Aggregated Balance'!G24","v":0},{"$f":"'Aggregated Balance'!H24","v":0},{"$f":"'Aggregated Balance'!I24","v":0},{"$f":"SUM('Aggregated Balance'!J24,'Aggregated Balance'!K24)","v":0},{"$f":"'Aggregated Balance'!L24","v":0},{"$f":"'Aggregated Balance'!M24","v":0},{"$f":"'Aggregated Balance'!N24","v":0},0,null,null,null,null,null,null,null,null,null,null,null,null,null,null,20,"Liquefaction plants","Ожижение","液化厂\n"," "]
["Other transformation",{"$f":"SUM('Aggregated Balance'!B25:D25)","v":0},{"$f":"SUM('Disaggregated Balance'!W34:AA35)","v":0},{"$f":"SUM('Disaggregated Balance'!AB34:AR35)","v":0},{"$f":"'Aggregated Balance'!G25","v":0},{"$f":"'Aggregated Balance'!H25","v":0},{"$f":"'Aggregated Balance'!I25","v":0},{"$f":"SUM('Aggregated Balance'!J25,'Aggregated Balance'!K25)","v":0},{"$f":"'Aggregated Balance'!L25","v":0},{"$f":"'Aggregated Balance'!M25","v":0},{"$f":"'Aggregated Balance'!N25","v":0},0,null,null,null,null,null,null,null,null,null,null,null,null,null,null,21,"Other transformation","Др. преобразование и переработка топлива",{"$f":"Definitions_FlowLang!E43","v":"未列明的产业（转换）"}," "]
["Energy industry own use",{"$f":"SUM('Aggregated Balance'!B26:D26)","v":0},{"$f":"'Aggregated Balance'!E26","v":0},{"$f":"'Aggregated Balance'!F26","v":0},{"$f":"'Aggregated Balance'!G26","v":0},{"$f":"'Aggregated Balance'!H26","v":0},{"$f":"'Aggregated Balance'!I26","v":0},{"$f":"SUM('Aggregated Balance'!J26,'Aggregated Balance'!K26)","v":0},{"$f":"'Aggregated Balance'!L26","v":0},{"$f":"'Aggregated Balance'!M26","v":-1080},{"$f":"'Aggregated Balance'!N26","v":0},-1080,null,null,null,null,null,null,null,null,null,null,null,null,null,null,22,{"$f":"Definitions_FlowLang!C45","v":"Energy industry own use"},{"$f":"Definitions_FlowLang!D45","v":"Собственное использование сектором энергетики"},{"$f":"Definitions_FlowLang!E45","v":"能源行业自用"}," "]
["Losses",{"$f":"SUM('Aggregated Balance'!B27:D27)","v":0},{"$f":"'Aggregated Balance'!E27","v":0},{"$f":"'Aggregated Balance'!F27","v":0},{"$f":"'Aggregated Balance'!G27","v":0},{"$f":"'Aggregated Balance'!H27","v":0},{"$f":"'Aggregated Balance'!I27","v":0},{"$f":"SUM('Aggregated Balance'!J27,'Aggregated Balance'!K27)","v":0},{"$f":"'Aggregated Balance'!L27","v":0},{"$f":"'Aggregated Balance'!M27","v":-4161.6000000000004},{"$f":"'Aggregated Balance'!N27","v":0},-4161.6000000000004,null,null,null,null,null,null,null,null,null,null,null,null,null,null,23,{"$f":"Definitions_FlowLang!C63","v":"Losses"},{"$f":"Definitions_FlowLang!D63","v":"Потери"},{"$f":"Definitions_FlowLang!E63","v":"损耗"}," "]
["TFC",{"$f":"SUM(B29,B43,B50,B56)","v":0},0,23005,0,0,0,0,117.7,32637.599999999999,0,55760.3,null,null,null,null,null,null,null,null,null,null,null,null,null,null,24,"TFC",{"$f":"UPPER(Definitions_FlowLang!D65)","v":"ОБЩЕЕ ПОТРЕБЛЕНИЕ"},{"$f":"UPPER(Definitions_FlowLang!E65)","v":"终端消费量"}," "]
["INDUSTRY",{"$f":"SUM(B30:B42)","v":0},{"$f":"SUM(C30:C42)","v":0},0,0,0,0,0,0,15840,0,15840,null,null,null,null,null,null,null,null,null,null,null,null,null,null,25,{"$f":"UPPER(Definitions_FlowLang!C66)","v":"INDUSTRY"},{"$f":"UPPER(Definitions_FlowLang!D66)","v":"СЕКТОР ПРОМЫШЛЕННОСТИ"},{"$f":"UPPER(Definitions_FlowLang!E66)","v":"工业部门"}," "]
["Iron and steel",{"$f":"SUM('Aggregated Balance'!B30:D30)","v":0},{"$f":"'Aggregated Balance'!E30","v":0},{"$f":"'Aggregated Balance'!F30","v":0},{"$f":"'Aggregated Balance'!G30","v":0},{"$f":"'Aggregated Balance'!H30","v":0},{"$f":"'Aggregated Balance'!I30","v":0},{"$f":"SUM('Aggregated Balance'!J30,'Aggregated Balance'!K30)","v":0},{"$f":"'Aggregated Balance'!L30","v":0},{"$f":"'Aggregated Balance'!M30","v":0},{"$f":"'Aggregated Balance'!N30","v":0},0,null,null,null,null,null,null,null,null,null,null,null,null,null,null,26,{"$f":"Definitions_FlowLang!C67","v":"Iron and steel"},{"$f":"Definitions_FlowLang!D67","v":"Черная металлургия"},{"$f":"Definitions_FlowLang!E67","v":"钢铁"}," "]
["Chemical and petrochemical",{"$f":"SUM('Aggregated Balance'!B31:D31)","v":0},{"$f":"'Aggregated Balance'!E31","v":0},{"$f":"'Aggregated Balance'!F31","v":0},{"$f":"'Aggregated Balance'!G31","v":0},{"$f":"'Aggregated Balance'!H31","v":0},{"$f":"'Aggregated Balance'!I31","v":0},{"$f":"SUM('Aggregated Balance'!J31,'Aggregated Balance'!K31)","v":0},{"$f":"'Aggregated Balance'!L31","v":0},{"$f":"'Aggregated Balance'!M31","v":0},{"$f":"'Aggregated Balance'!N31","v":0},0,null,null,null,null,null,null,null,null,null,null,null,null,null,null,27,{"$f":"Definitions_FlowLang!C68","v":"Chemical and petrochemical"},{"$f":"Definitions_FlowLang!D68","v":"Химическая (в т.ч. нефтехимическая) промышленность"},{"$f":"Definitions_FlowLang!E68","v":"化学和石油化工"}," "]
["Non-ferrous metals",{"$f":"SUM('Aggregated Balance'!B32:D32)","v":0},{"$f":"'Aggregated Balance'!E32","v":0},{"$f":"'Aggregated Balance'!F32","v":0},{"$f":"'Aggregated Balance'!G32","v":0},{"$f":"'Aggregated Balance'!H32","v":0},{"$f":"'Aggregated Balance'!I32","v":0},{"$f":"SUM('Aggregated Balance'!J32,'Aggregated Balance'!K32)","v":0},{"$f":"'Aggregated Balance'!L32","v":0},{"$f":"'Aggregated Balance'!M32","v":0},{"$f":"'Aggregated Balance'!N32","v":0},0,null,null,null,null,null,null,null,null,null,null,null,null,null,null,28,{"$f":"Definitions_FlowLang!C69","v":"Non-ferrous metals"},{"$f":"Definitions_FlowLang!D69","v":"Цветная металлургия"},{"$f":"Definitions_FlowLang!E69","v":"有色金属"}," "]
["Non-metallic minerals",{"$f":"SUM('Aggregated Balance'!B33:D33)","v":0},{"$f":"'Aggregated Balance'!E33","v":0},{"$f":"'Aggregated Balance'!F33","v":0},{"$f":"'Aggregated Balance'!G33","v":0},{"$f":"'Aggregated Balance'!H33","v":0},{"$f":"'Aggregated Balance'!I33","v":0},{"$f":"SUM('Aggregated Balance'!J33,'Aggregated Balance'!K33)","v":0},{"$f":"'Aggregated Balance'!L33","v":0},{"$f":"'Aggregated Balance'!M33","v":0},{"$f":"'Aggregated Balance'!N33","v":0},0,null,null,null,null,null,null,null,null,null,null,null,null,null,null,29,{"$f":"Definitions_FlowLang!C70","v":"Non-metallic minerals"},{"$f":"Definitions_FlowLang!D70","v":"Неметаллические минеральные продукты"},{"$f":"Definitions_FlowLang!E70","v":"非金属矿物"}," "]
["Transport equipment",{"$f":"SUM('Aggregated Balance'!B34:D34)","v":0},{"$f":"'Aggregated Balance'!E34","v":0},{"$f":"'Aggregated Balance'!F34","v":0},{"$f":"'Aggregated Balance'!G34","v":0},{"$f":"'Aggregated Balance'!H34","v":0},{"$f":"'Aggregated Balance'!I34","v":0},{"$f":"SUM('Aggregated Balance'!J34,'Aggregated Balance'!K34)","v":0},{"$f":"'Aggregated Balance'!L34","v":0},{"$f":"'Aggregated Balance'!M34","v":0},{"$f":"'Aggregated Balance'!N34","v":0},0,null,null,null,null,null,null,null,null,null,null,null,null,null,null,30,{"$f":"Definitions_FlowLang!C71","v":"Transport equipment"},{"$f":"Definitions_FlowLang!D71","v":"Транспортное оборудование"},{"$f":"Definitions_FlowLang!E71","v":"交通运输设备"}," "]
["Machinery",{"$f":"SUM('Aggregated Balance'!B35:D35)","v":0},{"$f":"'Aggregated Balance'!E35","v":0},{"$f":"'Aggregated Balance'!F35","v":0},{"$f":"'Aggregated Balance'!G35","v":0},{"$f":"'Aggregated Balance'!H35","v":0},{"$f":"'Aggregated Balance'!I35","v":0},{"$f":"SUM('Aggregated Balance'!J35,'Aggregated Balance'!K35)","v":0},{"$f":"'Aggregated Balance'!L35","v":0},{"$f":"'Aggregated Balance'!M35","v":0},{"$f":"'Aggregated Balance'!N35","v":0},0,null,null,null,null,null,null,null,null,null,null,null,null,null,null,31,{"$f":"Definitions_FlowLang!C72","v":"Machinery"},{"$f":"Definitions_FlowLang!D72","v":"Машиностроение"},{"$f":"Definitions_FlowLang!E72","v":"机器设备"}," "]
["Mining and quarrying",{"$f":"SUM('Aggregated Balance'!B36:D36)","v":0},{"$f":"'Aggregated Balance'!E36","v":0},{"$f":"'Aggregated Balance'!F36","v":0},{"$f":"'Aggregated Balance'!G36","v":0},{"$f":"'Aggregated Balance'!H36","v":0},{"$f":"'Aggregated Balance'!I36","v":0},{"$f":"SUM('Aggregated Balance'!J36,'Aggregated Balance'!K36)","v":0},{"$f":"'Aggregated Balance'!L36","v":0},{"$f":"'Aggregated Balance'!M36","v":0},{"$f":"'Aggregated Balance'!N36","v":0},0,null,null,null,null,null,null,null,null,null,null,null,null,null,null,32,{"$f":"Definitions_FlowLang!C73","v":"Mining and quarrying"},{"$f":"Definitions_FlowLang!D73","v":"Горнодобыв. промышленность и разраб. карьеров"},{"$f":"Definitions_FlowLang!E73","v":"采矿和采石"}," "]
[{"$f":"HLOOKUP(LangChoice,$AB$4:$AD$67,$AA37+1)","v":"Food and tobacco"},{"$f":"SUM('Aggregated Balance'!B37:D37)","v":0},{"$f":"'Aggregated Balance'!E37","v":0},{"$f":"'Aggregated Balance'!F37","v":0},{"$f":"'Aggregated Balance'!G37","v":0},{"$f":"'Aggregated Balance'!H37","v":0},{"$f":"'Aggregated Balance'!I37","v":0},{"$f":"SUM('Aggregated Balance'!J37,'Aggregated Balance'!K37)","v":0},{"$f":"'Aggregated Balance'!L37","v":0},{"$f":"'Aggregated Balance'!M37","v":0},{"$f":"'Aggregated Balance'!N37","v":0},0,null,null,null,null,null,null,null,null,null,null,null,null,null,null,33,"Food and tobacco",{"$f":"Definitions_FlowLang!D74","v":"Пищевая промышленность, производство напитков и табачных изделий"},{"$f":"Definitions_FlowLang!E74","v":"食品和烟草"}," "]
["Paper, pulp and printing",{"$f":"SUM('Aggregated Balance'!B38:D38)","v":0},{"$f":"'Aggregated Balance'!E38","v":0},{"$f":"'Aggregated Balance'!F38","v":0},{"$f":"'Aggregated Balance'!G38","v":0},{"$f":"'Aggregated Balance'!H38","v":0},{"$f":"'Aggregated Balance'!I38","v":0},{"$f":"SUM('Aggregated Balance'!J38,'Aggregated Balance'!K38)","v":0},{"$f":"'Aggregated Balance'!L38","v":0},{"$f":"'Aggregated Balance'!M38","v":0},{"$f":"'Aggregated Balance'!N38","v":0},0,null,null,null,null,null,null,null,null,null,null,null,null,null,null,34,"Paper, pulp and printing",{"$f":"Definitions_FlowLang!D75","v":"Целлюлозно-бумажная и полиграфическая промышленность"},{"$f":"Definitions_FlowLang!E75","v":"纸、纸浆和印刷"}," "]
["Wood and wood products",{"$f":"SUM('Aggregated Balance'!B39:D39)","v":0},{"$f":"'Aggregated Balance'!E39","v":0},{"$f":"'Aggregated Balance'!F39","v":0},{"$f":"'Aggregated Balance'!G39","v":0},{"$f":"'Aggregated Balance'!H39","v":0},{"$f":"'Aggregated Balance'!I39","v":0},{"$f":"SUM('Aggregated Balance'!J39,'Aggregated Balance'!K39)","v":0},{"$f":"'Aggregated Balance'!L39","v":0},{"$f":"'Aggregated Balance'!M39","v":0},{"$f":"'Aggregated Balance'!N39","v":0},0,null,null,null,null,null,null,null,null,null,null,null,null,null,null,35,{"$f":"Definitions_FlowLang!C76","v":"Wood and wood products"},{"$f":"Definitions_FlowLang!D76","v":"Производство древесины и деревянных изделий"},{"$f":"Definitions_FlowLang!E76","v":"木材和木材制品"}," "]
["Construction",{"$f":"SUM('Aggregated Balance'!B40:D40)","v":0},{"$f":"'Aggregated Balance'!E40","v":0},{"$f":"'Aggregated Balance'!F40","v":0},{"$f":"'Aggregated Balance'!G40","v":0},{"$f":"'Aggregated Balance'!H40","v":0},{"$f":"'Aggregated Balance'!I40","v":0},{"$f":"SUM('Aggregated Balance'!J40,'Aggregated Balance'!K40)","v":0},{"$f":"'Aggregated Balance'!L40","v":0},{"$f":"'Aggregated Balance'!M40","v":0},{"$f":"'Aggregated Balance'!N40","v":0},0,null,null,null,null,null,null,null,null,null,null,null,null,null,null,36,{"$f":"Definitions_FlowLang!C77","v":"Construction"},{"$f":"Definitions_FlowLang!D77","v":"Строительство"},{"$f":"Definitions_FlowLang!E77","v":"建筑"}," "]
["Textile and leather",{"$f":"SUM('Aggregated Balance'!B41:D41)","v":0},{"$f":"'Aggregated Balance'!E41","v":0},{"$f":"'Aggregated Balance'!F41","v":0},{"$f":"'Aggregated Balance'!G41","v":0},{"$f":"'Aggregated Balance'!H41","v":0},{"$f":"'Aggregated Balance'!I41","v":0},{"$f":"SUM('Aggregated Balance'!J41,'Aggregated Balance'!K41)","v":0},{"$f":"'Aggregated Balance'!L41","v":0},{"$f":"'Aggregated Balance'!M41","v":0},{"$f":"'Aggregated Balance'!N41","v":0},0,null,null,null,null,null,null,null,null,null,null,null,null,null,null,37,"Textile and leather",{"$f":"Definitions_FlowLang!D78","v":"Текстильная и кожевенная промышленность"},{"$f":"Definitions_FlowLang!E78","v":"纺织品和皮革"}," "]
["Non-specified",{"$f":"SUM('Aggregated Balance'!B42:D42)","v":0},{"$f":"'Aggregated Balance'!E42","v":0},{"$f":"'Aggregated Balance'!F42","v":0},{"$f":"'Aggregated Balance'!G42","v":0},{"$f":"'Aggregated Balance'!H42","v":0},{"$f":"'Aggregated Balance'!I42","v":0},{"$f":"SUM('Aggregated Balance'!J42,'Aggregated Balance'!K42)","v":0},{"$f":"'Aggregated Balance'!L42","v":0},{"$f":"'Aggregated Balance'!M42","v":15840},{"$f":"'Aggregated Balance'!N42","v":0},15840,null,null,null,null,null,null,null,null,null,null,null,null,null,null,38,"Non-specified","Неспецифицированные","未列明的产业"," "]
["TRANSPORT",{"$f":"SUM(B44:B49)","v":0},0,23005,0,0,0,0,55.2,36,0,23096.2,null,null,null,null,null,null,null,null,null,null,null,null,null,null,39,{"$f":"UPPER(Definitions_FlowLang!C80)","v":"TRANSPORT"},{"$f":"UPPER(Definitions_FlowLang!D80)","v":"СЕКТОР ТРАНСПОРТА"},{"$f":"UPPER(Definitions_FlowLang!E80)","v":"交通运输部门"}," "]
["Domestic aviation",{"$f":"SUM('Aggregated Balance'!B45:D45)","v":0},{"$f":"'Aggregated Balance'!E45","v":0},{"$f":"'Aggregated Balance'!F45","v":0},{"$f":"'Aggregated Balance'!G45","v":0},{"$f":"'Aggregated Balance'!H45","v":0},{"$f":"'Aggregated Balance'!I45","v":0},{"$f":"SUM('Aggregated Balance'!J45,'Aggregated Balance'!K45)","v":0},{"$f":"'Aggregated Balance'!L45","v":0},{"$f":"'Aggregated Balance'!M45","v":0},{"$f":"'Aggregated Balance'!N45","v":0},0,null,null,null,null,null,null,null,null,null,null,null,null,null,null,40,{"$f":"Definitions_FlowLang!C81","v":"Domestic aviation"},{"$f":"Definitions_FlowLang!D81","v":"Внутренний воздушный транспорт"},{"$f":"Definitions_FlowLang!E81","v":"国内航空"}," "]
["Road",{"$f":"SUM('Aggregated Balance'!B44:D44)","v":0},{"$f":"'Aggregated Balance'!E44","v":0},{"$f":"'Aggregated Balance'!F44","v":22575},{"$f":"'Aggregated Balance'!G44","v":0},{"$f":"'Aggregated Balance'!H44","v":0},{"$f":"'Aggregated Balance'!I44","v":0},{"$f":"SUM('Aggregated Balance'!J44,'Aggregated Balance'!K44)","v":0},{"$f":"'Aggregated Balance'!L44","v":55.2},{"$f":"'Aggregated Balance'!M44","v":0},{"$f":"'Aggregated Balance'!N44","v":0},22630.2,null,null,null,null,null,null,null,null,null,null,null,null,null,null,41,{"$f":"Definitions_FlowLang!C82","v":"Road"},{"$f":"Definitions_FlowLang!D82","v":"Автоперевозки"},{"$f":"Definitions_FlowLang!E82","v":"公路"}," "]
["Rail",{"$f":"SUM('Aggregated Balance'!B46:D46)","v":0},{"$f":"'Aggregated Balance'!E46","v":0},{"$f":"'Aggregated Balance'!F46","v":0},{"$f":"'Aggregated Balance'!G46","v":0},{"$f":"'Aggregated Balance'!H46","v":0},{"$f":"'Aggregated Balance'!I46","v":0},{"$f":"SUM('Aggregated Balance'!J46,'Aggregated Balance'!K46)","v":0},{"$f":"'Aggregated Balance'!L46","v":0},{"$f":"'Aggregated Balance'!M46","v":36},{"$f":"'Aggregated Balance'!N46","v":0},36,null,null,null,null,null,null,null,null,null,null,null,null,null,null,42,{"$f":"Definitions_FlowLang!C83","v":"Rail"},{"$f":"Definitions_FlowLang!D83","v":"Железные дороги"},{"$f":"Definitions_FlowLang!E83","v":"铁路"}," "]
["Pipeline transport",{"$f":"SUM('Aggregated Balance'!B47:D47)","v":0},{"$f":"'Aggregated Balance'!E47","v":0},{"$f":"'Aggregated Balance'!F47","v":0},{"$f":"'Aggregated Balance'!G47","v":0},{"$f":"'Aggregated Balance'!H47","v":0},{"$f":"'Aggregated Balance'!I47","v":0},{"$f":"SUM('Aggregated Balance'!J47,'Aggregated Balance'!K47)","v":0},{"$f":"'Aggregated Balance'!L47","v":0},{"$f":"'Aggregated Balance'!M47","v":0},{"$f":"'Aggregated Balance'!N47","v":0},0,null,null,null,null,null,null,null,null,null,null,null,null,null,null,43,{"$f":"Definitions_FlowLang!C84","v":"Pipeline transport"},{"$f":"Definitions_FlowLang!D84","v":"Транспортировк а по трубопроводам"},{"$f":"Definitions_FlowLang!E84","v":"管道运输"}," "]
["Domestic navigation",{"$f":"SUM('Aggregated Balance'!B48:D48)","v":0},{"$f":"'Aggregated Balance'!E48","v":0},{"$f":"'Aggregated Balance'!F48","v":430},{"$f":"'Aggregated Balance'!G48","v":0},{"$f":"'Aggregated Balance'!H48","v":0},{"$f":"'Aggregated Balance'!I48","v":0},{"$f":"SUM('Aggregated Balance'!J48,'Aggregated Balance'!K48)","v":0},{"$f":"'Aggregated Balance'!L48","v":0},{"$f":"'Aggregated Balance'!M48","v":0},{"$f":"'Aggregated Balance'!N48","v":0},430,null,null,null,null,null,null,null,null,null,null,null,null,null,null,44,{"$f":"Definitions_FlowLang!C85","v":"Domestic navigation"},{"$f":"Definitions_FlowLang!D85","v":"Внутренний водный транспорт"},{"$f":"Definitions_FlowLang!E85","v":"国内航运"}," "]
["Non-specified",{"$f":"SUM('Aggregated Balance'!B49:D49)","v":0},{"$f":"'Aggregated Balance'!E49","v":0},{"$f":"'Aggregated Balance'!F49","v":0},{"$f":"'Aggregated Balance'!G49","v":0},{"$f":"'Aggregated Balance'!H49","v":0},{"$f":"'Aggregated Balance'!I49","v":0},{"$f":"SUM('Aggregated Balance'!J49,'Aggregated Balance'!K49)","v":0},{"$f":"'Aggregated Balance'!L49","v":0},{"$f":"'Aggregated Balance'!M49","v":0},{"$f":"'Aggregated Balance'!N49","v":0},0,null,null,null,null,null,null,null,null,null,null,null,null,null,null,45,"Non-specified","Неспецифицированные","未列明的产业"," "]
["OTHER",{"$f":"SUM(B51:B55)","v":0},0,0,0,0,0,0,62.5,16761.599999999999,0,16824.099999999999,null,null,null,null,null,null,null,null,null,null,null,null,null,null,46,{"$f":"UPPER(Definitions_FlowLang!C87)","v":"OTHER"},{"$f":"UPPER(Definitions_FlowLang!D87)","v":"ДРУГИЕ"},{"$f":"UPPER(Definitions_FlowLang!E87)","v":"其他部门"}," "]
["Residential",{"$f":"SUM('Aggregated Balance'!B51:D51)","v":0},{"$f":"'Aggregated Balance'!E51","v":0},{"$f":"'Aggregated Balance'!F51","v":0},{"$f":"'Aggregated Balance'!G51","v":0},{"$f":"'Aggregated Balance'!H51","v":0},{"$f":"'Aggregated Balance'!I51","v":0},{"$f":"SUM('Aggregated Balance'!J51,'Aggregated Balance'!K51)","v":0},{"$f":"'Aggregated Balance'!L51","v":62.5},{"$f":"'Aggregated Balance'!M51","v":8103.6},{"$f":"'Aggregated Balance'!N51","v":0},8166.1,null,null,null,null,null,null,null,null,null,null,null,null,null,null,47,{"$f":"Definitions_FlowLang!C88","v":"Residential"},{"$f":"Definitions_FlowLang!D88","v":"Жилищный сектор"},{"$f":"Definitions_FlowLang!E88","v":"居民生活"}," "]
["Comm. and public services",{"$f":"SUM('Aggregated Balance'!B52:D52)","v":0},{"$f":"'Aggregated Balance'!E52","v":0},{"$f":"'Aggregated Balance'!F52","v":0},{"$f":"'Aggregated Balance'!G52","v":0},{"$f":"'Aggregated Balance'!H52","v":0},{"$f":"'Aggregated Balance'!I52","v":0},{"$f":"SUM('Aggregated Balance'!J52,'Aggregated Balance'!K52)","v":0},{"$f":"'Aggregated Balance'!L52","v":0},{"$f":"'Aggregated Balance'!M52","v":8298},{"$f":"'Aggregated Balance'!N52","v":0},8298,null,null,null,null,null,null,null,null,null,null,null,null,null,null,48,"Comm. and public services",{"$f":"Definitions_FlowLang!D89","v":"Коммерческие предприятия и государственные учреждения"},{"$f":"Definitions_FlowLang!E89","v":"商业和公共服务"}," "]
["Agriculture/forestry",{"$f":"SUM('Aggregated Balance'!B53:D53)","v":0},{"$f":"'Aggregated Balance'!E53","v":0},{"$f":"'Aggregated Balance'!F53","v":0},{"$f":"'Aggregated Balance'!G53","v":0},{"$f":"'Aggregated Balance'!H53","v":0},{"$f":"'Aggregated Balance'!I53","v":0},{"$f":"SUM('Aggregated Balance'!J53,'Aggregated Balance'!K53)","v":0},{"$f":"'Aggregated Balance'!L53","v":0},{"$f":"'Aggregated Balance'!M53","v":360},{"$f":"'Aggregated Balance'!N53","v":0},360,null,null,null,null,null,null,null,null,null,null,null,null,null,null,49,{"$f":"Definitions_FlowLang!C90","v":"Agriculture/forestry"},{"$f":"Definitions_FlowLang!D90","v":"Сельское хозяйство"},{"$f":"Definitions_FlowLang!E90","v":"农业/林业"}," "]
["Fishing",{"$f":"SUM('Aggregated Balance'!B54:D54)","v":0},{"$f":"'Aggregated Balance'!E54","v":0},{"$f":"'Aggregated Balance'!F54","v":0},{"$f":"'Aggregated Balance'!G54","v":0},{"$f":"'Aggregated Balance'!H54","v":0},{"$f":"'Aggregated Balance'!I54","v":0},{"$f":"SUM('Aggregated Balance'!J54,'Aggregated Balance'!K54)","v":0},{"$f":"'Aggregated Balance'!L54","v":0},{"$f":"'Aggregated Balance'!M54","v":0},{"$f":"'Aggregated Balance'!N54","v":0},0,null,null,null,null,null,null,null,null,null,null,null,null,null,null,50,{"$f":"Definitions_FlowLang!C91","v":"Fishing"},{"$f":"Definitions_FlowLang!D91","v":"Рыболовство"},{"$f":"Definitions_FlowLang!E91","v":"渔业"}," "]
["Non-specified",{"$f":"SUM('Aggregated Balance'!B55:D55)","v":0},{"$f":"'Aggregated Balance'!E55","v":0},{"$f":"'Aggregated Balance'!F55","v":0},{"$f":"'Aggregated Balance'!G55","v":0},{"$f":"'Aggregated Balance'!H55","v":0},{"$f":"'Aggregated Balance'!I55","v":0},{"$f":"SUM('Aggregated Balance'!J55,'Aggregated Balance'!K55)","v":0},{"$f":"'Aggregated Balance'!L55","v":0},{"$f":"'Aggregated Balance'!M55","v":0},{"$f":"'Aggregated Balance'!N55","v":0},0,null,null,null,null,null,null,null,null,null,null,null,null,null,null,51,"Non-specified","Неспецифицированные","未列明的产业"," "]
["NON-ENERGY USE",{"$f":"SUM(B57:B60)-B58","v":0},0,0,0,0,0,0,0,0,0,0,null,null,null,null,null,null,null,null,null,null,null,null,null,null,52,{"$f":"UPPER(Definitions_FlowLang!C93)","v":"NON-ENERGY USE"},{"$f":"UPPER(Definitions_FlowLang!D93)","v":"НЕЭНЕРГЕТИЧЕСКОЕ ИСПОЛЬЗОВАНИЕ"},{"$f":"UPPER(Definitions_FlowLang!E93)","v":"非能源使用"}," "]
["in industry/transf./energy",{"$f":"SUM('Aggregated Balance'!B57:D57)","v":0},{"$f":"'Aggregated Balance'!E57","v":0},{"$f":"'Aggregated Balance'!F57","v":0},{"$f":"'Aggregated Balance'!G57","v":0},{"$f":"'Aggregated Balance'!H57","v":0},{"$f":"'Aggregated Balance'!I57","v":0},{"$f":"SUM('Aggregated Balance'!J57,'Aggregated Balance'!K57)","v":0},{"$f":"'Aggregated Balance'!L57","v":0},{"$f":"'Aggregated Balance'!M57","v":0},{"$f":"'Aggregated Balance'!N57","v":0},0,null,null,null,null,null,null,null,null,null,null,null,null,null,null,53,"in industry/transf./energy",{"$f":"Definitions_FlowLang!D94","v":"в промышленности/преобраз.-переработке/топл. энергетике"},{"$f":"Definitions_FlowLang!E94","v":"工业/转换/能源部门非能源使用"}," "]
["of which: chem./petrochem.",{"$f":"SUM('Aggregated Balance'!B60:D60)","v":0},{"$f":"'Aggregated Balance'!E60","v":0},{"$f":"'Aggregated Balance'!F60","v":0},{"$f":"'Aggregated Balance'!G60","v":0},{"$f":"'Aggregated Balance'!H60","v":0},{"$f":"'Aggregated Balance'!I60","v":0},{"$f":"SUM('Aggregated Balance'!J60,'Aggregated Balance'!K60)","v":0},{"$f":"'Aggregated Balance'!L60","v":0},{"$f":"'Aggregated Balance'!M60","v":0},{"$f":"'Aggregated Balance'!N60","v":0},0,null,null,null,null,null,null,null,null,null,null,null,null,null,null,54,"of which: chem./petrochem.",{"$f":"Definitions_FlowLang!D97","v":"в т.ч. химикаты / нефтехимия"},{"$f":"Definitions_FlowLang!E97","v":"备忘项化学/石化产业非能源使用 "}," "]
["in transport",{"$f":"SUM('Aggregated Balance'!B58:D58)","v":0},{"$f":"'Aggregated Balance'!E58","v":0},{"$f":"'Aggregated Balance'!F58","v":0},{"$f":"'Aggregated Balance'!G58","v":0},{"$f":"'Aggregated Balance'!H58","v":0},{"$f":"'Aggregated Balance'!I58","v":0},{"$f":"SUM('Aggregated Balance'!J58,'Aggregated Balance'!K58)","v":0},{"$f":"'Aggregated Balance'!L58","v":0},{"$f":"'Aggregated Balance'!M58","v":0},{"$f":"'Aggregated Balance'!N58","v":0},0,null,null,null,null,null,null,null,null,null,null,null,null,null,null,55,"in transport",{"$f":"Definitions_FlowLang!D95","v":"в транспорте"},{"$f":"Definitions_FlowLang!E95","v":"交通运输部门非能源用途            "}," "]
["in other",{"$f":"SUM('Aggregated Balance'!B59:D59)","v":0},{"$f":"'Aggregated Balance'!E59","v":0},{"$f":"'Aggregated Balance'!F59","v":0},{"$f":"'Aggregated Balance'!G59","v":0},{"$f":"'Aggregated Balance'!H59","v":0},{"$f":"'Aggregated Balance'!I59","v":0},{"$f":"SUM('Aggregated Balance'!J59,'Aggregated Balance'!K59)","v":0},{"$f":"'Aggregated Balance'!L59","v":0},{"$f":"'Aggregated Balance'!M59","v":0},{"$f":"'Aggregated Balance'!N59","v":0},0,null,null,null,null,null,null,null,null,null,null,null,null,null,null,56,"in other",{"$f":"Definitions_FlowLang!D96","v":"в других секторах"},{"$f":"Definitions_FlowLang!E96","v":"其他部门的非能源用途             "}," "]
["Electricity and heat output",{"$f":"HLOOKUP(LangChoice,$AB$4:$AD$67,$AA61+1)","v":"Electricity and heat output"},"Electricity and heat output","Electricity and heat output","Electricity and heat output","Electricity and heat output","Electricity and heat output","Electricity and heat output","Electricity and heat output","Electricity and heat output","Electricity and heat output","Electricity and heat output",null,null,null,null,null,null,null,null,null,null,null,null,null,null,57,{"$f":"Definitions_FlowLang!C98","v":"Electricity and heat output"},{"$f":"Definitions_FlowLang!D98","v":"Производство электроэнерги и тепла"},{"$f":"Definitions_FlowLang!E98","v":"电力和热力产量"}," "]
["Electr. Generated - GWh",{"$f":"SUM(B63:B64)","v":0},0,9850,0,0,600,49,0,0,0,{"$f":"SUM(B62:K62)","v":10499},null,null,null,null,null,null,null,null,null,null,null,null,null,null,58,"Electr. Generated - GWh",{"$f":"Definitions_FlowLang!D99","v":"Производство электроэнергии ● ГВт-ч"},{"$f":"Definitions_FlowLang!E99","v":"电力产量（单位：吉瓦时）"}," "]
["Electricity plants",{"$f":"SUM('Aggregated Balance'!B62:D63)","v":0},{"$f":"SUM('Aggregated Balance'!E62:E63)","v":0},{"$f":"SUM('Aggregated Balance'!F62:F63)","v":9850},{"$f":"SUM('Aggregated Balance'!G62:G63)","v":0},{"$f":"SUM('Aggregated Balance'!H62:H63)","v":0},{"$f":"SUM('Aggregated Balance'!I62:I63)","v":600},{"$f":"SUM('Aggregated Balance'!J62:K63)","v":49},{"$f":"SUM('Aggregated Balance'!L62:L63)","v":0},{"$f":"SUM('Aggregated Balance'!M62:M63)","v":0},{"$f":"SUM('Aggregated Balance'!N62:N63)","v":0},10499,null,null,null,null,null,null,null,null,null,null,null,null,null,null,59,"Electricity plants","Электростанции","  发电厂"," "]
["CHP plants",{"$f":"SUM('Aggregated Balance'!B64:D65)","v":0},{"$f":"SUM('Aggregated Balance'!E64:E65)","v":0},{"$f":"SUM('Aggregated Balance'!F64:F65)","v":0},{"$f":"SUM('Aggregated Balance'!G64:G65)","v":0},{"$f":"SUM('Aggregated Balance'!H64:H65)","v":0},{"$f":"SUM('Aggregated Balance'!I64:I65)","v":0},{"$f":"SUM('Aggregated Balance'!J64:K65)","v":0},{"$f":"SUM('Aggregated Balance'!L64:L65)","v":0},{"$f":"SUM('Aggregated Balance'!M64:M65)","v":0},{"$f":"SUM('Aggregated Balance'!N64:N65)","v":0},0,null,null,null,null,null,null,null,null,null,null,null,null,null,null,60,"CHP plants","Тепло-электроцентрали","  热电联产厂"," "]
["Heat generated - TJ",{"$f":"SUM(B66:B67)","v":0},0,0,0,0,0,0,0,0,0,0,null,null,null,null,null,null,null,null,null,null,null,null,null,null,61,"Heat generated - TJ",{"$f":"Definitions_FlowLang!D108","v":"Производство тепла ● ТДж"},{"$f":"Definitions_FlowLang!E108","v":"热力产量（单位：太焦耳）"}," "]
["CHP plants",{"$f":"SUM('Aggregated Balance'!B66:D67)","v":0},{"$f":"SUM('Aggregated Balance'!E66:E67)","v":0},{"$f":"SUM('Aggregated Balance'!F66:F67)","v":0},{"$f":"SUM('Aggregated Balance'!G66:G67)","v":0},{"$f":"SUM('Aggregated Balance'!H66:H67)","v":0},{"$f":"SUM('Aggregated Balance'!I66:I67)","v":0},{"$f":"SUM('Aggregated Balance'!J66:K67)","v":0},{"$f":"SUM('Aggregated Balance'!L66:L67)","v":0},{"$f":"SUM('Aggregated Balance'!M66:M67)","v":0},{"$f":"SUM('Aggregated Balance'!N66:N67)","v":0},0,null,null,null,null,null,null,null,null,null,null,null,null,null,null,62,"CHP plants","Тепло-электроцентрали","  热电联产厂"," "]
["Heat plants",{"$f":"SUM('Aggregated Balance'!B68:D69)","v":0},{"$f":"SUM('Aggregated Balance'!E68:E69)","v":0},{"$f":"SUM('Aggregated Balance'!F68:F69)","v":0},{"$f":"SUM('Aggregated Balance'!G68:G69)","v":0},{"$f":"SUM('Aggregated Balance'!H68:H69)","v":0},{"$f":"SUM('Aggregated Balance'!I68:I69)","v":0},{"$f":"SUM('Aggregated Balance'!J68:K69)","v":0},{"$f":"SUM('Aggregated Balance'!L68:L69)","v":0},{"$f":"SUM('Aggregated Balance'!M68:M69)","v":0},{"$f":"SUM('Aggregated Balance'!N68:N69)","v":0},0,null,null,null,null,null,null,null,null,null,null,null,null,null,null,63,"Heat plants","Теплоцентрали","  热力厂"," "]
[null,null,null,null,null,null,null,null,null,null,null,null,null,null,null,null,null,null,null,null,null,null,null,null,null,null,64,null,null,null," "]
[null,null,null,null,null,null,null,null,null,null,null,null,null,null,null,null,null,null,null,null,null,null,null,null,null,null,65,null,null,null," "]
[null,null,null,null,null,null,null,null,null,null,null,null,null,null,null,null,null,null,null,null,null,null,null,null,null,null,66,null,null,null," "]
[null,null,null,null,null,null,null,null,null,null,null,null,null,null,null,null,null,null,null,null,null,null,null,null,null,null,67,null,null,null," "]
[null,null,null,null,null,null,null,null,null,null,null,null,null,null,null,null,null,null,null,null,null,null,null,null,null,null,68,null,null,null," "]
[null,null,null,null,null,null,null,null,null,null,null,null,null,null,null,null,null,null,null,null,null,null,null,null,null,null,69,null,null,null," "]
[null,null,null,null,null,null,null,null,null,null,null,null,null,null,null,null,null,null,null,null,null,null,null,null,null,null,70,"Energy balance created with IEA balance builder tool based on data provided by the user","Энергетический баланс, созданный при помощи инструмента МЭА для построения балансов на основе предоставленных пользователем данных","[missing Chinese]"," "]
[null,null,null,null,null,null,null,null,null,null,null,null,null,null,null,null,null,null,null,null,null,null,null,null,null,null,71,"Version","версия",null," "]

{"sheet":"BAL_Reading_Exercise","index":14,"n_rows":60,"n_cols":37,"rows_kept":60,"cut":false,"hidden":true,"merged":[]}
[1,{"$f":"HLOOKUP(LangChoice,$AH$2:$AJ$63,$A1+1)","v":"WHAT CAN WE LEARN FROM AN ENERGY BALANCE?"},null,"(Hide answers)","HIDE",null,null,null,null,null,null,null,null,null,null,null,null,null,null,null,null,null,null,null,null,null,"HIDE",null,null,null,null,"If need for variables in the strings:",null,"(Hide answers)","(Show answers)",null,"HIDE"]
[2,{"$f":"HLOOKUP(LangChoice,$AH$2:$AJ$63,$A2+1)& CountryName","v":"Country: Statisland"},null,null,null,null,null,null,null,null,null,null,null,null,null,null,null,null,null,null,null,null,null,null,null,null,null,null,null,null,null,null,"Row","English","Pусский","中文"]
[3,{"$f":"HLOOKUP(LangChoice,$AH$2:$AJ$63,$A3+1)& DataYear","v":"Year: 2023"},null,null,null,null,null,null,null,null,null,null,null,null,null,null,null,null,null,null,null,null,null,null,null,null,null,null,null,null,null,null,1,"WHAT CAN WE LEARN FROM AN ENERGY BALANCE?","ЧТО МОЖНО ИЗУЧИТЬ ИЗ ЭНЕРГЕТИЧЕСКОГО-ТЕПЛОВОГО БАЛАНСА?"]
[4,{"$f":"HLOOKUP(LangChoice,$AH$2:$AJ$63,$A4+1) & \"IEA (2017), World Energy Statistics and Balances 2017, www.iea.org/statistics/.\"","v":"Source: IEA (2017), World Energy Statistics and Balances 2017, www.iea.org/statistics/."},null,null,null,null,null,null,null,null,null,null,null,null,null,null,null,null,null,null,null,null,null,null,null,null,null,null,null,null,null,null,2,"Country: ","Страна: "]
[5,null,null,null,null,null,null,null,null,null,null,null,null,null,null,null,null,null,null,null,null,null,null,null,null,null,null,null,null,null,null,null,3,"Year: ","Год: "]
[6,null,null,null,null,null,null,null,null,null,null,null,null,null,null,null,null,null,null,null,null,null,null,null,null,null,null,null,null,null,null,null,4,"Source: ","источник: "]
[7,null,null,{"$f":"IF($D$1=$AI$1,$E7,\"\")","v":""},"Answers",null,null,null,null,null,null,null,null,null,null,null,null,null,null,null,null,null,null,null,null,null,null,null,null,null,null,null,5]
[8,1,{"$f":"HLOOKUP(LangChoice,$AH$2:$AJ$63,$A8+1)","v":"What is the total energy demand of this country (measured by TPES)?"},{"$f":"IF($D$1=$AI$1,$E8,\"\")","v":""},{"$f":"ROUND('Published Balance'!L13/1000,)& \" Mtoe\"","v":"159 Mtoe"},null,null,null,null,null,null,null,null,null,null,null,null,null,null,null,null,null,null,null,null,null,null,null,null,null,null,null,6]
[9,2,"How large is the energy demand in this country (measured by TPES) compared to:",null,null,null,null,null,null,null,null,null,null,null,null,null,null,null,null,null,null,null,null,null,null,null,null,null,null,null,null,null,7]
[10,"A)","World total? (13647 Mtoe in 2023)",{"$f":"IF($D$1=$AI$1,$E10,\"\")","v":""},{"$f":"'Published Balance'!$L$13/1000/AF12","v":1.1674978383527514E-2},null,null,null,null,null,null,null,null,null,null,null,null,null,null,null,null,null,null,null,null,null,null,null,null,null,null,null,8,"What is the total energy demand of this country (measured by TPES)?","Какой общий спрос на энергетику этой страны (измеряется в общей первичной поставке топлива и энергии)?"]
[11,"B)","China? (2973 Mtoe in 2023)","",{"$f":"'Published Balance'!$L$13/1000/AF13","v":5.3591802892700977E-2},null,null,null,null,null,null,null,null,null,null,null,null,null,null,null,null,null,null,null,null,null,null,null,null,null,null,null,9,"How large is the energy demand in this country (measured by TPES) compared to:","Насколько велики был спрос топлива и энергии в этой стране (измеряется в общей первичной поставке топлива и энергии) по сравнению с:"]
[12,"C)","Ukraine? (90 Mtoe in 2023)","",{"$f":"'Published Balance'!$L$13/1000/AF14","v":1.7703158888888888},null,null,null,null,null,null,null,null,null,null,null,null,null,null,null,null,null,null,null,null,null,null,null,null,null,null,13647,10,{"$f":"\"World total? (\"& $AF12 & \" Mtoe in \" & DataYear & \")\"","v":"World total? (13647 Mtoe in 2023)"},{"$f":"\"С потребностью во всем мире? (\" & $AF12 &\" Мтнэ в \" & DataYear & \" году)\"","v":"С потребностью во всем мире? (13647 Мтнэ в 2023 году)"}]
[13,3,"Can the production cover the energy demand of the country (measured by TPES)? ¹","",{"$f":"IFERROR('Published Balance'!L7/'Published Balance'!L13,\"..\")","v":1.5694813537044206E-2},null,null,null,null,null,null,null,null,null,null,null,null,null,null,null,null,null,null,null,null,null,null,null,null,null,null,2973,11,{"$f":"\"China? (\"& $AF13 & \" Mtoe in \" & DataYear & \")\"","v":"China? (2973 Mtoe in 2023)"},{"$f":"\"Китем? (\" & $AF13 &\" Мтнэ в \" & DataYear & \" году)\"","v":"Китем? (2973 Мтнэ в 2023 году)"}]
[14,4,"What is the energy source most used in this country (measured by TPES)? ",{"$f":"IF($D$1=$AI$1,$E14,\"\")","v":""},{"$f":"INDEX('Balance Summary'!$AH$3:$AH$8,MATCH(MAX('Balance Summary'!$AJ$3:$AJ$8),'Balance Summary'!$AJ$3:$AJ$8,0))","v":"Oil"},null,null,null,null,null,null,null,null,null,null,null,null,null,null,null,null,null,null,null,null,null,null,null,null,null,null,90,12,{"$f":"\"Ukraine? (\"& $AF14 & \" Mtoe in \" & DataYear & \")\"","v":"Ukraine? (90 Mtoe in 2023)"},{"$f":"\"Украиной? (\" & $AF14 &\" Мтнэ в \" & DataYear & \" году)\"","v":"Украиной? (90 Мтнэ в 2023 году)"}]
[15,5,"What is the share of this energy source in the energy mix (measured by TPES)?",{"$f":"IF($D$1=$AI$1,$E15,\"\")","v":""},{"$f":"IFERROR(MAX('Balance Summary'!AJ3:AJ9)/'Balance Summary'!AJ13,\"..\")","v":0.98407754347419352},null,null,null,null,null,null,null,null,null,null,null,null,null,null,null,null,null,null,null,null,null,null,null,null,null,null,null,13,"Can the production cover the energy demand of the country (measured by TPES)? ¹","Может ли эта страна покрывать спрос на топлио и энергию своим производством (измеряется в общей первичной поставке топлива и энергии)? ¹"]
[16,6,"Which sector has the largest share in the total final consumption (TFC)?","",{"$f":"IFERROR(PROPER(INDEX('Published Balance'!$A$29:$A$56,MATCH(MAX('Published Balance'!L29,'Published Balance'!L43,'Published Balance'!L51:L56),'Published Balance'!L29:L56,0),1))& \", \" &TEXT(MAX('Published Balance'!L29,'Published Balance'!L43,'Published Balance'!L51:L56)/'Published Balance'!L28,\"0%\"),\"..\")","v":"Transport, 41%"},null,null,null,null,null,null,null,null,null,null,null,null,null,null,null,null,null,null,null,null,null,null,null,null,null,null,null,14,"What is the energy source most used in this country (measured by TPES)? ","Какое топливо используется более в этой стране (измерено общая первичная поставка топлива и энергии)?"]
[17,7,"Which sectors are the biggest consumers of natural gas?","",{"$f":"IFERROR(PROPER(INDEX('Published Balance'!$A$29:$A$56,MATCH(MAX('Published Balance'!E29,'Published Balance'!E43,'Published Balance'!E51:E56),'Published Balance'!E29:E56,0),1))& \", \" &TEXT(MAX('Published Balance'!E29,'Published Balance'!E43,'Published Balance'!E51:E56)/'Published Balance'!E28,\"0%\"),\"..\")","v":".."},null,null,null,null,null,null,null,null,null,null,null,null,null,null,null,null,null,null,null,null,null,null,null,null,null,null,null,15,"What is the share of this energy source in the energy mix (measured by TPES)?","Какова доля этого топлива в энергетической смеси (измеренная общая первичная поставка топлива и энергии)?"]
[18,8,"What is the main source for electricity in the country? ²","",{"$f":"INDEX('Published Balance'!B$6:K$6,1,MATCH(MAX('Published Balance'!B62:I62),'Published Balance'!B62:I62,0))&\" (\"&IFERROR(TEXT(MAX('Published Balance'!B62:I62)/'Published Balance'!L62,\"0%\"),\"..\")&\")\"","v":"Oil\nproducts (94%)"},null,null,null,null,null,null,null,null,null,null,null,null,null,null,null,null,null,null,null,null,null,null,null,null,null,null,null,16,"Which sector has the largest share in the total final consumption (TFC)?","Какой сектор имеет наибольшую долю в полном конечном потреблению?"]
[19,null,null,null,null,null,null,null,null,null,null,null,null,null,null,null,null,null,null,null,null,null,null,null,null,null,null,null,null,null,null,null,17,"Which sectors are the biggest consumers of natural gas?"," Какие сектора являются самыми тяжелыми потребителями природного газа?"]
[20,{"$f":"HLOOKUP(LangChoice,$AH$2:$AJ$63,$A40+1)","v":"Notes:"},null,null,null,null,null,null,null,null,null,null,null,null,null,null,null,null,null,null,null,null,null,null,null,null,null,null,null,null,null,null,18,"What is the main source for electricity in the country? ²","Каков основной источник производства электроэнергии в стране? ²"]
[21,1,{"$f":"HLOOKUP(LangChoice,$AH$2:$AJ$63,$A41+1)","v":"Calculate the energy self-sufficiency ratio (production divided by TPES)"},null,null,null,null,null,null,null,null,null,null,null,null,null,null,null,null,null,null,null,null,null,null,null,null,null,null,null,null,null,19]
[22,2,{"$f":"HLOOKUP(LangChoice,$AH$2:$AJ$63,$A42+1)","v":"Largest share of the electricity output"},null,null,null,null,null,null,null,null,null,null,null,null,null,null,null,null,null,null,null,null,null,null,null,null,null,null,null,null,null,20]
[23,null,null,null,null,null,null,null,null,null,null,null,null,null,null,null,null,null,null,null,null,null,null,null,null,null,null,null,null,null,null,null,21]
[24,null,null,null,null,null,null,null,null,null,null,null,null,null,null,null,null,null,null,null,null,null,null,null,null,null,null,null,null,null,null,null,22]
[25,null,null,null,null,null,null,null,null,null,null,null,null,null,null,null,null,null,null,null,null,null,null,null,null,null,null,null,null,null,null,null,23]
[26,null,null,null,null,null,null,null,null,null,null,null,null,null,null,null,null,null,null,null,null,null,null,null,null,null,null,null,null,null,null,null,24]
[27,null,null,null,null,null,null,null,null,null,null,null,null,null,null,null,null,null,null,null,null,null,null,null,null,null,null,null,null,null,null,null,25]
[28,null,null,null,null,null,null,null,null,null,null,null,null,null,null,null,null,null,null,null,null,null,null,null,null,null,null,null,null,null,null,null,26]
[29,null,null,null,null,null,null,null,null,null,null,null,null,null,null,null,null,null,null,null,null,null,null,null,null,null,null,null,null,null,null,null,27]
[30,null,null,null,null,null,null,null,null,null,null,null,null,null,null,null,null,null,null,null,null,null,null,null,null,null,null,null,null,null,null,null,28]
[31,null,null,null,null,null,null,null,null,null,null,null,null,null,null,null,null,null,null,null,null,null,null,null,null,null,null,null,null,null,null,null,29]
[32,null,null,null,null,null,null,null,null,null,null,null,null,null,null,null,null,null,null,null,null,null,null,null,null,null,null,null,null,null,null,null,30]
[33,null,null,null,null,null,null,null,null,null,null,null,null,null,null,null,null,null,null,null,null,null,null,null,null,null,null,null,null,null,null,null,31]
[34,null,null,null,null,null,null,null,null,null,null,null,null,null,null,null,null,null,null,null,null,null,null,null,null,null,null,null,null,null,null,null,32]
[35,null,null,null,null,null,null,null,null,null,null,null,null,null,null,null,null,null,null,null,null,null,null,null,null,null,null,null,null,null,null,null,33]
[36,null,null,null,null,null,null,null,null,null,null,null,null,null,null,null,null,null,null,null,null,null,null,null,null,null,null,null,null,null,null,null,34]
[37,null,null,null,null,null,null,null,null,null,null,null,null,null,null,null,null,null,null,null,null,null,null,null,null,null,null,null,null,null,null,null,35]
[38,null,null,null,null,null,null,null,null,null,null,null,null,null,null,null,null,null,null,null,null,null,null,null,null,null,null,null,null,null,null,null,36]
[39,null,null,null,null,null,null,null,null,null,null,null,null,null,null,null,null,null,null,null,null,null,null,null,null,null,null,null,null,null,null,null,37]
[40,null,null,null,null,null,null,null,null,null,null,null,null,null,null,null,null,null,null,null,null,null,null,null,null,null,null,null,null,null,null,null,38]
[41,null,null,null,null,null,null,null,null,null,null,null,null,null,null,null,null,null,null,null,null,null,null,null,null,null,null,null,null,null,null,null,39]
[42,null,null,null,null,null,null,null,null,null,null,null,null,null,null,null,null,null,null,null,null,null,null,null,null,null,null,null,null,null,null,null,40,"Notes:","нота:"]
[43,null,null,null,null,null,null,null,null,null,null,null,null,null,null,null,null,null,null,null,null,null,null,null,null,null,null,null,null,null,null,null,41,"Calculate the energy self-sufficiency ratio (production divided by TPES)","Рассчитате коэффициент самообеспеченности энергетики (измеряется в общей первичной поставке топлива и энергии)."]
[44,null,null,null,null,null,null,null,null,null,null,null,null,null,null,null,null,null,null,null,null,null,null,null,null,null,null,null,null,null,null,null,42,"Largest share of the electricity output","наибольшую долю производства электроэнергии"]
[45,null,null,null,null,null,null,null,null,null,null,null,null,null,null,null,null,null,null,null,null,null,null,null,null,null,null,null,null,null,null,null,43]
[46,null,null,null,null,null,null,null,null,null,null,null,null,null,null,null,null,null,null,null,null,null,null,null,null,null,null,null,null,null,null,null,44]
[47,null,null,null,null,null,null,null,null,null,null,null,null,null,null,null,null,null,null,null,null,null,null,null,null,null,null,null,null,null,null,null,45]
[48,null,null,null,null,null,null,null,null,null,null,null,null,null,null,null,null,null,null,null,null,null,null,null,null,null,null,null,null,null,null,null,46]
[49,null,null,null,null,null,null,null,null,null,null,null,null,null,null,null,null,null,null,null,null,null,null,null,null,null,null,null,null,null,null,null,47]
[50,null,null,null,null,null,null,null,null,null,null,null,null,null,null,null,null,null,null,null,null,null,null,null,null,null,null,null,null,null,null,null,48]
[51,null,null,null,null,null,null,null,null,null,null,null,null,null,null,null,null,null,null,null,null,null,null,null,null,null,null,null,null,null,null,null,49]
[52,null,null,null,null,null,null,null,null,null,null,null,null,null,null,null,null,null,null,null,null,null,null,null,null,null,null,null,null,null,null,null,50]
[53,null,null,null,null,null,null,null,null,null,null,null,null,null,null,null,null,null,null,null,null,null,null,null,null,null,null,null,null,null,null,null,51]
[54,null,null,null,null,null,null,null,null,null,null,null,null,null,null,null,null,null,null,null,null,null,null,null,null,null,null,null,null,null,null,null,52]
[55,null,null,null,null,null,null,null,null,null,null,null,null,null,null,null,null,null,null,null,null,null,null,null,null,null,null,null,null,null,null,null,53]
[56,null,null,null,null,null,null,null,null,null,null,null,null,null,null,null,null,null,null,null,null,null,null,null,null,null,null,null,null,null,null,null,54]
[57]
[58]
[59]
[60]

{"sheet":"BAL_Checking_Exercise","index":15,"n_rows":70,"n_cols":65,"rows_kept":70,"cut":false,"hidden":true,"merged":[[1,0,1,11],[6,13,7,13],[8,13,10,13],[27,13,29,13],[25,13,26,13],[60,0,60,11],[2,0,2,11],[4,0,4,11],[2,13,4,13],[50,13,52,13],[48,13,49,13]]}
[{"$f":"HLOOKUP(LangChoice,$AB$3:$AD$49,$AA4+1)","v":"HOW TO CHECK AN ENERGY BALANCE?"},null,null,null,null,null,null,null,null,null,null,null,null,{"$f":"HLOOKUP(LangChoice,$AB$3:$AD$49,$AA5+1)","v":"Instructions"},"HIDE",null,null,null,null,null,null,null,null,null,null,null,null,"(Hide answers)","(Show answers)"]
["Scenario 1: High statistical difference",null,null,null,null,null,null,null,null,null,null,null,null,"(Hide answers)",null,null,null,null,null,null,null,null,null,null,null,null,null,null,null,null,null,null,"Scenario 1: High statistical difference","Scenario 2: Transformation efficiencies","Scenario 3: Unusual data points"]
["Statisland",null,null,null,null,null,null,null,null,null,null,null,null,{"$f":"HLOOKUP(LangChoice,$AB$3:$AD$49,$AA6+1)","v":"Reply to questions for each scenario. You can change the scenario from the drop-down menu on top of the energy balance table (click the yellow cell in the row 2)."},null,null,null,null,null,null,null,null,null,null,null,null,"Row","English","Pусский","中文",null,null,null,null,null,null,null,null,"Final numbers are bolded!"]
[{"$f":"DataYear","v":2023},null,null,null,null,null,null,null,null,null,null,null,null,null,null,null,null,null,null,null,null,null,null,null,null,null,1,"HOW TO CHECK AN ENERGY BALANCE?","КАК ПРОВЕРИТЬ ЭНЕРГЕТИЧЕСКИЙ БАЛАНС?",null,null,{"$f":"MATCH(A2,AG2:AI2,0)","v":1},{"$f":"AG2","v":"Scenario 1: High statistical difference"},null,null,null,null,null,null,null,null,null,null,{"$f":"AH2","v":"Scenario 2: Transformation efficiencies"},null,null,null,null,null,null,null,null,null,null,{"$f":"AI2","v":"Scenario 3: Unusual data points"}]
[{"$f":"'Published Balance'!A5:L5","v":"Terajoules (TJ)"},null,null,null,null,null,null,null,null,null,null,null,null,null,null,null,null,null,null,null,null,null,null,null,null,null,2,"Instructions","ИНСТРУКЦИИ",null,null,"Orientation row",1,2,3,4,5,6,7,8,9,10,11,null,null,null,null,null,null,null,null,null,null,null,"In red: impossible data points",null,null,null,null,"In yellow: suspicious data points"]
[{"$f":"'Published Balance'!A6","v":"SUPPLY AND\nCONSUMPTION"},{"$f":"'Published Balance'!B6","v":"Coal"},{"$f":"'Published Balance'!C6","v":"Crude oil"},{"$f":"'Published Balance'!D6","v":"Oil\nproducts"},{"$f":"'Published Balance'!E6","v":"Natural gas"},{"$f":"'Published Balance'!F6","v":"Nuclear"},{"$f":"'Published Balance'!G6","v":"Hydro"},{"$f":"'Published Balance'!H6","v":"Geo-therm./\nSolar/\netc."},{"$f":"'Published Balance'!I6","v":"Biofuels/\nWaste"},{"$f":"'Published Balance'!J6","v":"Electri-city"},{"$f":"'Published Balance'!K6","v":"Heat"},{"$f":"'Published Balance'!L6","v":"Total"},null,null,null,null,null,null,null,null,null,null,null,null,null,null,3,"Reply to questions for each scenario. You can change the scenario from the drop-down menu on top of the energy balance table (click the yellow cell in the row 2).","Ответьте на вопросы для каждого сценария. Вы можете изменить сценарий при помощи выпадающего меню в верхней части таблицы энергетического баланса (кликните желтую ячейку в строке 2).",null,null,"Orientation column",{"$f":"B6","v":"Coal"},"Crude oil","Oil\nproducts","Natural gas","Nuclear","Hydro","Geo-therm./\nSolar/\netc.","Biofuels/\nWaste","Electri-city","Heat","Total",{"$f":"AG6","v":"Coal"},{"$f":"AH6","v":"Crude oil"},"Oil\nproducts","Natural gas","Nuclear","Hydro","Geo-therm./\nSolar/\netc.","Biofuels/\nWaste","Electri-city","Heat","Total","Coal","Crude oil","Oil\nproducts",{"$f":"AU6","v":"Natural gas"},{"$f":"AV6","v":"Nuclear"},{"$f":"AW6","v":"Hydro"},{"$f":"AX6","v":"Geo-therm./\nSolar/\netc."},{"$f":"AY6","v":"Biofuels/\nWaste"},{"$f":"AZ6","v":"Electri-city"},{"$f":"BA6","v":"Heat"},"Total"]
[{"$f":"'Published Balance'!A7","v":"Production"},{"$f":"OFFSET($AF7,0,($AF$4-1)*$AQ$5+AG$5)","v":15000},{"$f":"OFFSET($AF7,0,($AF$4-1)*$AQ$5+AH$5)","v":1000},{"$f":"OFFSET($AF7,0,($AF$4-1)*$AQ$5+AI$5)","v":0},{"$f":"OFFSET($AF7,0,($AF$4-1)*$AQ$5+AJ$5)","v":0},{"$f":"OFFSET($AF7,0,($AF$4-1)*$AQ$5+AK$5)","v":0},{"$f":"OFFSET($AF7,0,($AF$4-1)*$AQ$5+AL$5)","v":0},{"$f":"OFFSET($AF7,0,($AF$4-1)*$AQ$5+AM$5)","v":0},{"$f":"OFFSET($AF7,0,($AF$4-1)*$AQ$5+AN$5)","v":0},{"$f":"OFFSET($AF7,0,($AF$4-1)*$AQ$5+AO$5)","v":0},{"$f":"OFFSET($AF7,0,($AF$4-1)*$AQ$5+AP$5)","v":0},{"$f":"OFFSET($AF7,0,($AF$4-1)*$AQ$5+AQ$5)","v":16000},null,{"$f":"HLOOKUP(LangChoice,$AB$3:$AD$49,$AA15+1)","v":"Scenario 1: High statistical difference"},null,null,null,null,null,null,null,null,null,null,null,null,4,null,null,null,null,null,15000,1000,0,0,0,0,0,0,0,0,{"$f":"SUM(AG7:AP7)","v":16000},30000,10000,0,7000,0,0,0,0,0,0,{"$f":"SUM(AR7:BA7)","v":47000},15550,10600,0,7000,0,0,0,100,0,0,{"$f":"SUM(BC7:BL7)","v":33250}]
[{"$f":"'Published Balance'!A8","v":"Imports"},0,0,10000,5000,0,0,0,0,2000,0,17000,null,null,null,null,null,null,null,null,null,null,null,null,null,null,5,null,null,null,null,null,0,0,10000,5000,0,0,0,0,2000,0,{"$f":"SUM(AG8:AP8)","v":17000},0,0,950,5000,0,0,0,0,2000,0,{"$f":"SUM(AR8:BA8)","v":7950},0,2000,1950,5000,0,0,0,0,2200,0,{"$f":"SUM(BC8:BL8)","v":11150}]
[{"$f":"'Published Balance'!A9","v":"Exports"},0,0,0,0,0,0,0,0,0,0,0,null,{"$f":"HLOOKUP(LangChoice,$AB$3:$AD$49,$AA16+1)","v":"Look at the row “Statistical differences”. Can you spot discrepancies? What could explain them?"},null,null,null,null,null,null,null,null,null,null,null,null,6,null,null,null,null,null,0,0,0,0,0,0,0,0,0,0,0,0,0,0,0,0,0,0,0,0,0,0,0,-2000,0,0,0,0,0,0,0,0,-2000]
[{"$f":"'Published Balance'!A10","v":"Intl. marine bunkers"},0,0,0,0,0,0,0,0,0,0,0,null,null,null,null,null,null,null,null,null,null,null,null,null,null,7,null,null,null,null,null,0,0,0,0,0,0,0,0,0,0,0,0,0,0,0,0,0,0,0,0,0,0,0,0,0,0,0,0,0,0,0,0,0]
[{"$f":"'Published Balance'!A11","v":"Intl. aviation bunkers"},0,0,0,0,0,0,0,0,0,0,0,null,null,"Answers",null,null,null,null,null,null,null,null,null,null,null,8,null,null,null,null,null,0,0,0,0,0,0,0,0,0,0,0,0,0,0,0,0,0,0,0,0,0,0,0,0,0,0,0,0,0,0,0,0,0]
[{"$f":"'Published Balance'!A12","v":"Stock changes"},0,0,0,250,0,0,0,0,0,0,250,{"$f":"IF($N$2=$AC$1,\"    \"&$O12,\"\")","v":""},null,"Coal: 2500 ktoe missing from residential.",null,null,null,null,null,null,null,null,null,null,null,9,null,null,null,null,null,0,0,0,250,0,0,0,0,0,0,250,0,0,0,250,0,0,0,0,0,0,250,0,0,0,250,0,0,0,0,-200,0,50]
[{"$f":"'Published Balance'!A13","v":"TES"},15000,1000,10000,5250,0,0,0,0,2000,0,33250,{"$f":"IF($N$2=$AC$1,\"    \"&$O13,\"\")","v":""},null,"Oil products: 5000 ktoe missing from road transport.",null,null,null,null,null,null,null,null,null,null,null,10,null,null,null,null,null,{"$f":"SUM(AG7:AG12)","v":15000},{"$f":"SUM(AH7:AH12)","v":1000},10000,5250,0,0,0,0,2000,0,33250,{"$f":"SUM(AR7:AR12)","v":30000},{"$f":"SUM(AS7:AS12)","v":10000},950,12250,0,0,0,0,2000,0,55200,{"$f":"SUM(BC7:BC12)","v":15550},{"$f":"SUM(BD7:BD12)","v":10600},1950,12250,0,0,0,100,2000,0,42450]
[{"$f":"'Published Balance'!A14","v":"Transfers"},0,0,0,0,0,0,0,0,0,0,0,"",null,"Natural gas: 7000 ktoe missing from production",null,null,null,null,null,null,null,null,null,null,null,11,null,null,null,null,null,0,0,0,0,0,0,0,0,0,0,{"$f":"SUM(AG14:AP14)","v":0},0,0,0,0,0,0,0,0,0,0,{"$f":"SUM(AR14:BA14)","v":0},0,0,0,0,0,0,0,0,0,0,{"$f":"SUM(BC14:BL14)","v":0}]
[{"$f":"'Published Balance'!A15","v":"Statistical differences"},2500,5,5000,-7000,0,0,0,0,700,0,1205,"",null,"Electricity: 700 ktoe (negative value!) missing from losses.",null,null,null,null,null,null,null,null,null,null,null,12,"Scenario 1: High statistical difference",{"$f":"AB15","v":"Scenario 1: High statistical difference"},null,null,null,{"$f":"AG13+SUM(AG14,AG16:AG27)-AG28","v":2500},{"$f":"AH13+SUM(AH14,AH16:AH27)-AH28","v":5},5000,-7000,0,0,0,0,700,0,1205,{"$f":"AR13+SUM(AR14,AR16:AR27)-AR28","v":0},{"$f":"AS13+SUM(AS14,AS16:AS27)-AS28","v":0},{"$f":"AT13+SUM(AT14,AT16:AT27)-AT28","v":0},{"$f":"AU13+SUM(AU14,AU16:AU27)-AU28","v":0},{"$f":"AV13+SUM(AV14,AV16:AV27)-AV28","v":0},{"$f":"AW13+SUM(AW14,AW16:AW27)-AW28","v":0},{"$f":"AX13+SUM(AX14,AX16:AX27)-AX28","v":0},{"$f":"AY13+SUM(AY14,AY16:AY27)-AY28","v":0},{"$f":"AZ13+SUM(AZ14,AZ16:AZ27)-AZ28","v":1000},{"$f":"BA13+SUM(BA14,BA16:BA27)-BA28","v":0},{"$f":"BB13+SUM(BB14,BB16:BB27)-BB28","v":1000},{"$f":"BC13+SUM(BC14,BC16:BC27)-BC28","v":0},{"$f":"BD13+SUM(BD14,BD16:BD27)-BD28","v":0},{"$f":"BE13+SUM(BE14,BE16:BE27)-BE28","v":0},{"$f":"BF13+SUM(BF14,BF16:BF27)-BF28","v":0},{"$f":"BG13+SUM(BG14,BG16:BG27)-BG28","v":0},{"$f":"BH13+SUM(BH14,BH16:BH27)-BH28","v":0},{"$f":"BI13+SUM(BI14,BI16:BI27)-BI28","v":0},{"$f":"BJ13+SUM(BJ14,BJ16:BJ27)-BJ28","v":0},{"$f":"BK13+SUM(BK14,BK16:BK27)-BK28","v":0},{"$f":"BL13+SUM(BL14,BL16:BL27)-BL28","v":0},{"$f":"BM13+SUM(BM14,BM16:BM27)-BM28","v":0}]
[{"$f":"'Published Balance'!A16","v":"Electricity plants"},-7500,0,0,0,0,0,0,0,2500,0,-5000,"",null,null,null,null,null,null,null,null,null,null,null,null,null,13,"Look at the row “Statistical differences”. Can you spot discrepancies? What could explain them?","Посмотрите на строку «Статистические различия». Можете заметить расхождения? Как бы вы их объяснили?",null,null,null,-7500,0,0,0,0,0,0,0,2500,0,{"$f":"SUM(AG16:AP16)","v":-5000},-22500,0,0,0,0,0,0,0,2500,0,{"$f":"SUM(AR16:BA16)","v":-20000},-7500,0,0,0,0,0,0,0,2500,0,{"$f":"SUM(BC16:BL16)","v":-5000}]
[{"$f":"'Published Balance'!A17","v":"CHP plants"},0,0,0,-5000,0,0,0,0,1300,2700,-1000,"",null,null,null,null,null,null,null,null,null,null,null,null,null,14,"Hints:","Подсказки:",null,null,null,0,0,0,-5000,0,0,0,0,1300,2700,-1000,0,0,0,-5000,0,0,0,0,2300,2700,0,0,0,0,-5000,0,0,0,0,1300,2700,-1000]
[{"$f":"'Published Balance'!A18","v":"Heat plants"},0,0,0,0,0,0,0,0,0,0,0,"",null,null,null,null,null,null,null,null,null,null,null,null,null,15,"Calculate the ratio Statistical difference / TPES for each fuel to evaluate the size of the problem","Рассчитайте соотношение «Статистические различия / ОППЭ» для каждого вида топлива, чтобы оценить размер проблемы",null,null,null,0,0,0,0,0,0,0,0,0,0,0,0,0,0,0,0,0,0,0,0,0,0,0,0,0,0,0,0,0,0,0,0,0]
[{"$f":"'Published Balance'!A19","v":"Blast furnaces"},0,0,0,0,0,0,0,0,0,0,0,null,{"$f":"HLOOKUP(LangChoice,$AB$3:$AD$49,$AA17+1)","v":"Hints:"},null,null,null,null,null,null,null,null,null,null,null,null,16,"There is only one issue for each fuel","Для каждого вида топлива есть только одна проблема",null,null,null,0,0,0,0,0,0,0,0,0,0,0,0,0,0,0,0,0,0,0,0,0,0,0,0,0,0,0,0,0,0,0,0,0]
[{"$f":"'Published Balance'!A20","v":"Gas works"},0,0,0,0,0,0,0,0,0,0,0,null,{"$f":"HLOOKUP(LangChoice,$AB$3:$AD$49,$AA18+1)","v":"Calculate the ratio Statistical difference / TPES for each fuel to evaluate the size of the problem"},null,null,null,null,null,null,null,null,null,null,null,null,17,"Scenario 2: Transformation efficiencies",{"$f":"AB20","v":"Scenario 2: Transformation efficiencies"},null,null,null,0,0,0,0,0,0,0,0,0,0,0,0,0,0,0,0,0,0,0,0,0,0,0,0,0,0,0,0,0,0,0,0,0]
[{"$f":"'Published Balance'!A21","v":"Coke/pat. fuel/BKB/PB plants"},0,0,0,0,0,0,0,0,0,0,0,null,{"$f":"HLOOKUP(LangChoice,$AB$3:$AD$49,$AA19+1)","v":"There is only one issue for each fuel"},null,null,null,null,null,null,null,null,null,null,null,null,18,"Look at rows below “TPES” (16-25). They represent the transformation sector. Can you find out why some numbers are negative? Can you spot any discrepancies with transformation inputs and outputs?","Посмотрите на строки ниже «ОППЭ» (16–25). Они представляют сектор преобразования энергии. Можете выяснить, почему некоторые цифры имеют отрицательное значение? Можете найти какие-либо расхождения с входящими ресурсами для преобразования и выработкой преобразования?",null,null,null,0,0,0,0,0,0,0,0,0,0,0,0,0,0,0,0,0,0,0,0,0,0,0,0,0,0,0,0,0,0,0,0,0]
[{"$f":"'Published Balance'!A22","v":"Oil refineries"},0,-995,950,0,0,0,0,0,0,0,-45,null,null,null,null,null,null,null,null,null,null,null,null,null,null,19,"Hints:","Подсказки:",null,null,null,0,-995,950,0,0,0,0,0,0,0,-45,0,-10000,11000,0,0,0,0,0,0,0,1000,0,-10000,9750,0,0,0,0,0,0,0,-250]
[{"$f":"'Published Balance'!A23","v":"Petrochemical plants"},0,0,0,0,0,0,0,0,0,0,0,null,null,null,null,null,null,null,null,null,null,null,null,null,null,20,"Efficiency = Output(s) / Input(s)","Эффективность = выработка / вход",null,null,null,0,0,0,0,0,0,0,0,0,0,0,0,0,0,0,0,0,0,0,0,0,0,0,0,0,0,0,0,0,0,0,0,0]
[{"$f":"'Published Balance'!A24","v":"Liquefaction plants"},0,0,0,0,0,0,0,0,0,0,0,null,null,null,null,null,null,null,null,null,null,null,null,null,null,21,"Losses are reported in the total column","Потери приведены в столбце «Всего»",null,null,null,0,0,0,0,0,0,0,0,0,0,0,0,0,0,0,0,0,0,0,0,0,0,-400,0,250,0,0,0,0,0,0,0,-150]
[{"$f":"'Published Balance'!A25","v":"Other transformation"},0,0,0,0,0,0,0,0,0,0,0,null,null,null,null,null,null,null,null,null,null,null,null,null,null,22,"Efficiency ranges:","Диапазоны эффективности:",null,null,null,0,0,0,0,0,0,0,0,0,0,0,0,0,0,0,0,0,0,0,0,0,0,0,0,0,0,0,0,0,0,0,0,0]
[{"$f":"'Published Balance'!A26","v":"Energy industry own use"},0,0,0,0,0,0,0,0,0,0,0,null,{"$f":"HLOOKUP(LangChoice,$AB$3:$AD$49,$AA20+1)","v":"Scenario 2: Transformation efficiencies"},null,null,null,null,null,null,null,null,null,null,null,null,23,"Electricity-only plants: 30-40%","Станции, вырабатывающие только электроэнергию: 30–40 %",null,null,null,0,0,0,0,0,0,0,0,0,0,0,0,0,0,0,0,0,0,0,0,0,0,0,0,0,0,0,0,0,0,0,0,0]
[{"$f":"'Published Balance'!A27","v":"Losses"},0,0,0,0,0,0,0,0,0,0,0,null,null,null,null,null,null,null,null,null,null,null,null,null,null,24,"CHP plants: 75-90%","ТЭЦ: 75–90 %",null,null,null,0,0,0,0,0,0,0,0,0,0,0,0,0,0,0,0,0,0,0,-700,0,-700,0,0,0,0,0,0,0,0,-700,0,-700]
[{"$f":"'Published Balance'!A28","v":"TFC"},5000,0,5950,7250,0,0,0,0,5100,2700,26000,null,{"$f":"HLOOKUP(LangChoice,$AB$3:$AD$49,$AA21+1)","v":"Look at rows below “TPES” (16-25). They represent the transformation sector. Can you find out why some numbers are negative? Can you spot any discrepancies with transformation inputs and outputs?"},null,null,null,null,null,null,null,null,null,null,null,null,25,"Refinery losses: 0-5%","Потери при нефтепереработке: 0–5 %",null,null,null,{"$f":"SUM(AG29,AG43,AG50,AG56)","v":5000},{"$f":"SUM(AH29,AH43,AH50,AH56)","v":0},5950,7250,0,0,0,0,5100,2700,26000,{"$f":"SUM(AR29,AR43,AR50,AR56)","v":7500},{"$f":"SUM(AS29,AS43,AS50,AS56)","v":0},11950,7250,0,0,0,0,5100,2700,34500,{"$f":"SUM(BC29,BC43,BC50,BC56)","v":7650},{"$f":"SUM(BD29,BD43,BD50,BD56)","v":600},11950,7250,0,0,0,100,5100,2700,35350]
[{"$f":"'Published Balance'!A29","v":"INDUSTRY"},5000,0,3950,3750,0,0,0,0,3515,1710,17925,null,null,null,null,null,null,null,null,null,null,null,null,null,null,26,"Scenario 3: Unusual data points",{"$f":"AB29","v":"Scenario 3: Unusual data points"},null,null,null,{"$f":"SUM(AG30:AG42)","v":5000},{"$f":"SUM(AH30:AH42)","v":0},3950,3750,0,0,0,0,3515,1710,17925,{"$f":"SUM(AR30:AR42)","v":5000},{"$f":"SUM(AS30:AS42)","v":0},3950,3750,0,0,0,0,3515,1710,17925,{"$f":"SUM(BC30:BC42)","v":5000},{"$f":"SUM(BD30:BD42)","v":500},3900,3750,0,0,0,0,3415,1710,18275]
[{"$f":"'Published Balance'!A30","v":"Iron and steel"},2500,0,1700,0,0,0,0,0,1250,627,6077,null,null,"Answers",null,null,null,null,null,null,null,null,null,null,null,27,"Look at the values in the balance. Can you find figures requiring double-checking? Can you find figures that are clearly wrong?","Посмотрите на значения в балансе. Можете найти цифры, которые требуют повторной проверки? Можете найти явно ошибочные цифры?",null,null,null,2500,0,1700,0,0,0,0,0,1250,627,6077,2500,0,1700,0,0,0,0,0,1250,627,6077,2500,0,1700,0,0,0,0,0,250,627,5077]
[{"$f":"'Published Balance'!A31","v":"Chemical and petrochemical"},0,0,1200,2500,0,0,0,0,450,555,4705,{"$f":"IF($N$2=$AC$1,\"    \"&$O31,\"\")","v":""},null,"Coal: Production figure is accidentally doubled (should be 15000 instead of 30000), and statdiff is allocated to electricity generation.",null,null,null,null,null,null,null,null,null,null,null,28,"Hints:","Подсказки:",null,null,null,0,0,1200,2500,0,0,0,0,450,555,4705,0,0,1200,2500,0,0,0,0,450,555,4705,0,0,1150,2500,0,0,0,0,450,555,4655]
[{"$f":"'Published Balance'!A32","v":"Non-ferrous metals"},1500,0,700,0,0,0,0,0,350,291,2841,"",null,"This value should be -7500 ktoe instead (eff. 33%).",null,null,null,null,null,null,null,null,null,null,null,29,"There are at least eight (8) figures requiring double-checking","Есть как минимум восемь (8) цифр, требующих повторной проверки",null,null,null,1500,0,700,0,0,0,0,0,350,291,2841,1500,0,700,0,0,0,0,0,350,291,2841,1500,0,700,0,0,0,0,0,350,291,2841]
[{"$f":"'Published Balance'!A33","v":"Non-metallic minerals"},0,0,250,0,0,0,0,0,63,100,413,"",null,null,null,null,null,null,null,null,null,null,null,null,null,30,"There are at least five (5) incorrect figures","Есть как минимум пять (5) ошибочных цифр",null,null,null,0,0,250,0,0,0,0,0,63,100,413,0,0,250,0,0,0,0,0,63,100,413,0,0,250,0,0,0,0,0,63,100,413]
[{"$f":"'Published Balance'!A34","v":"Transport equipment"},0,0,100,500,0,0,0,0,32,56,688,"",null,"Oil products: Refinery output value too high, correct value is 9750 ktoe. (Ignore the statdiff that appears.)",null,null,null,null,null,null,null,null,null,null,null,null,null,null,null,null,null,0,0,100,500,0,0,0,0,32,56,688,0,0,100,500,0,0,0,0,32,56,688,0,0,100,500,0,0,0,0,32,56,688]
[{"$f":"'Published Balance'!A35","v":"Machinery"},0,0,0,0,0,0,0,0,250,18,268,"",null,null,null,null,null,null,null,null,null,null,null,null,null,null,null,null,null,null,null,0,0,0,0,0,0,0,0,250,18,268,0,0,0,0,0,0,0,0,250,18,268,0,0,0,0,0,0,0,0,250,18,268]
[{"$f":"'Published Balance'!A36","v":"Mining and quarrying"},1000,0,0,500,0,0,0,0,644,32,2176,"",null,"Electricity: Correct output value for CHP is 1300 ktoe (eff. 80%).",null,null,null,null,null,null,null,null,null,null,null,null,null,null,null,null,null,1000,0,0,500,0,0,0,0,644,32,2176,1000,0,0,500,0,0,0,0,644,32,2176,1000,0,0,500,0,0,0,0,552,32,2084]
[{"$f":"'Published Balance'!A37","v":"Food and tobacco"},0,0,0,0,0,0,0,0,250,16,266,"",null,null,null,null,null,null,null,null,null,null,null,null,null,null,null,null,null,null,null,0,0,0,0,0,0,0,0,250,16,266,0,0,0,0,0,0,0,0,250,16,266,0,0,0,0,0,0,0,0,250,16,266]
[{"$f":"'Published Balance'!A38","v":"Paper, pulp and printing"},0,0,0,250,0,0,0,0,76,8,334,null,{"$f":"HLOOKUP(LangChoice,$AB$3:$AD$49,$AA22+1)","v":"Hints:"},null,null,null,null,null,null,null,null,null,null,null,null,null,null,null,null,null,null,0,0,0,250,0,0,0,0,76,8,334,0,0,0,250,0,0,0,0,76,8,334,0,0,0,250,0,0,0,0,76,8,334]
[{"$f":"'Published Balance'!A39","v":"Wood and wood products"},{"$f":"OFFSET($AF39,0,($AF$4-1)*$AQ$5+AG$5)","v":0},{"$f":"OFFSET($AF39,0,($AF$4-1)*$AQ$5+AH$5)","v":0},{"$f":"OFFSET($AF39,0,($AF$4-1)*$AQ$5+AI$5)","v":0},{"$f":"OFFSET($AF39,0,($AF$4-1)*$AQ$5+AJ$5)","v":0},{"$f":"OFFSET($AF39,0,($AF$4-1)*$AQ$5+AK$5)","v":0},{"$f":"OFFSET($AF39,0,($AF$4-1)*$AQ$5+AL$5)","v":0},{"$f":"OFFSET($AF39,0,($AF$4-1)*$AQ$5+AM$5)","v":0},{"$f":"OFFSET($AF39,0,($AF$4-1)*$AQ$5+AN$5)","v":0},{"$f":"OFFSET($AF39,0,($AF$4-1)*$AQ$5+AO$5)","v":52},{"$f":"OFFSET($AF39,0,($AF$4-1)*$AQ$5+AP$5)","v":4},{"$f":"OFFSET($AF39,0,($AF$4-1)*$AQ$5+AQ$5)","v":56},null,"Efficiency = Output(s) / Input(s)",null,null,null,null,null,null,null,null,null,null,null,null,null,null,null,null,null,null,0,0,0,0,0,0,0,0,52,4,56,0,0,0,0,0,0,0,0,52,4,56,0,0,0,0,0,0,0,0,52,4,56]
[{"$f":"'Published Balance'!A40","v":"Construction"},0,0,0,0,0,0,0,0,64,2,66,null,"Losses are reported in the total column",null,null,null,null,null,null,null,null,null,null,null,null,null,null,null,null,null,null,0,0,0,0,0,0,0,0,64,2,66,0,0,0,0,0,0,0,0,64,2,66,0,0,0,0,0,0,0,0,64,2,66]
[{"$f":"'Published Balance'!A41","v":"Textile and leather"},0,0,0,0,0,0,0,0,26,1,27,null,"Efficiency ranges:",null,null,null,null,null,null,null,null,null,null,null,null,null,null,null,null,null,null,0,0,0,0,0,0,0,0,26,1,27,0,0,0,0,0,0,0,0,26,1,27,0,0,0,0,0,0,0,0,26,1,27]
[{"$f":"'Published Balance'!A42","v":"Non-specified"},0,0,0,0,0,0,0,0,8,0,8,null,"Electricity-only plants: 30-40%",null,null,null,null,null,null,null,null,null,null,null,null,null,null,null,null,null,null,0,0,0,0,0,0,0,0,8,0,8,0,0,0,0,0,0,0,0,8,0,8,0,500,0,0,0,0,0,0,1000,0,1500]
[{"$f":"'Published Balance'!A43","v":"TRANSPORT"},0,0,0,0,0,0,0,0,406,0,406,null,"CHP plants: 75-90%",null,null,null,null,null,null,null,null,null,null,null,null,null,null,null,null,null,null,{"$f":"SUM(AG44:AG49)","v":0},{"$f":"SUM(AH44:AH49)","v":0},0,0,0,0,0,0,406,0,406,{"$f":"SUM(AR44:AR49)","v":0},{"$f":"SUM(AS44:AS49)","v":0},6000,0,0,0,0,0,406,0,6406,{"$f":"SUM(BC44:BC49)","v":150},{"$f":"SUM(BD44:BD49)","v":100},6000,0,0,0,0,0,406,0,6656]
[{"$f":"'Published Balance'!A44","v":"Domestic aviation"},0,0,0,0,0,0,0,0,0,0,0,null,"Refinery losses: 0-5%",null,null,null,null,null,null,null,null,null,null,null,null,null,null,null,null,null,null,0,0,0,0,0,0,0,0,0,0,0,0,0,0,0,0,0,0,0,0,0,0,50,0,0,0,0,0,0,0,0,0,50]
[{"$f":"'Published Balance'!A45","v":"Road"},0,0,0,0,0,0,0,0,50,0,50,null,null,null,null,null,null,null,null,null,null,null,null,null,null,null,null,null,null,null,null,0,0,0,0,0,0,0,0,50,0,50,0,0,6000,0,0,0,0,0,50,0,6050,0,100,6000,0,0,0,0,0,50,0,6150]
[{"$f":"'Published Balance'!A46","v":"Rail"},0,0,0,0,0,0,0,0,356,0,356,null,null,null,null,null,null,null,null,null,null,null,null,null,null,null,null,null,null,null,null,0,0,0,0,0,0,0,0,356,0,356,0,0,0,0,0,0,0,0,356,0,356,50,0,0,0,0,0,0,0,356,0,406]
[{"$f":"'Published Balance'!A47","v":"Pipeline transport"},0,0,0,0,0,0,0,0,0,0,0,null,null,null,null,null,null,null,null,null,null,null,null,null,null,null,null,null,null,null,null,0,0,0,0,0,0,0,0,0,0,0,0,0,0,0,0,0,0,0,0,0,0,0,0,0,0,0,0,0,0,0,0,0]
[{"$f":"'Published Balance'!A48","v":"Domestic navigation"},0,0,0,0,0,0,0,0,0,0,0,null,null,null,null,null,null,null,null,null,null,null,null,null,null,null,null,null,null,null,null,0,0,0,0,0,0,0,0,0,0,0,0,0,0,0,0,0,0,0,0,0,0,50,0,0,0,0,0,0,0,0,0,50]
[{"$f":"'Published Balance'!A49","v":"Non-specified"},0,0,0,0,0,0,0,0,0,0,0,null,{"$f":"HLOOKUP(LangChoice,$AB$3:$AD$49,$AA29+1)","v":"Scenario 3: Unusual data points"},null,null,null,null,null,null,null,null,null,null,null,null,null,null,null,null,null,null,0,0,0,0,0,0,0,0,0,0,0,0,0,0,0,0,0,0,0,0,0,0,0,0,0,0,0,0,0,0,0,0,0]
[{"$f":"'Published Balance'!A50","v":"OTHER"},0,0,2000,2500,0,0,0,0,1179,990,6669,null,null,null,null,null,null,null,null,null,null,null,null,null,null,null,null,null,null,null,null,{"$f":"SUM(AG51:AG55)","v":0},{"$f":"SUM(AH51:AH55)","v":0},2000,2500,0,0,0,0,1179,990,6669,{"$f":"SUM(AR51:AR55)","v":2500},{"$f":"SUM(AS51:AS55)","v":0},2000,2500,0,0,0,0,1179,990,9169,{"$f":"SUM(BC51:BC55)","v":2500},{"$f":"SUM(BD51:BD55)","v":0},2000,2500,0,0,0,0,1179,990,9169]
[{"$f":"'Published Balance'!A51","v":"Residential"},0,0,1000,2500,0,0,0,0,782,740,5022,null,{"$f":"HLOOKUP(LangChoice,$AB$3:$AD$49,$AA30+1)","v":"Look at the values in the balance. Can you find figures requiring double-checking? Can you find figures that are clearly wrong?"},null,null,null,null,null,null,null,null,null,null,null,null,null,null,null,null,null,null,0,0,1000,2500,0,0,0,0,782,740,5022,2500,0,1000,2500,0,0,0,0,782,740,7522,2500,0,1000,2500,0,0,0,0,782,740,7522]
[{"$f":"'Published Balance'!A52","v":"Comm. and public services"},0,0,0,0,0,0,0,0,397,250,647,null,null,null,null,null,null,null,null,null,null,null,null,null,null,null,null,null,null,null,null,0,0,0,0,0,0,0,0,397,250,647,0,0,0,0,0,0,0,0,397,250,647,0,0,0,0,0,0,0,0,397,250,647]
[{"$f":"'Published Balance'!A53","v":"Agriculture/forestry"},0,0,1000,0,0,0,0,0,0,0,1000,null,null,"Answers",null,null,null,null,null,null,null,null,null,null,null,null,null,null,null,null,null,0,0,1000,0,0,0,0,0,0,0,1000,0,0,1000,0,0,0,0,0,0,0,1000,0,0,1000,0,0,0,0,0,0,0,1000]
[{"$f":"'Published Balance'!A54","v":"Fishing"},0,0,0,0,0,0,0,0,0,0,0,{"$f":"IF($N$2=$AC$1,\"    \"&$O54,\"\")","v":""},null,"Worth a question:",null,null,null,null,null,null,null,null,null,null,null,null,null,null,null,null,null,0,0,0,0,0,0,0,0,0,0,0,0,0,0,0,0,0,0,0,0,0,0,0,0,0,0,0,0,0,0,0,0,0]
[{"$f":"'Published Balance'!A55","v":"Non-specified"},0,0,0,0,0,0,0,0,0,0,0,"",null,"Crude oil trade: Is it transit?",null,null,null,null,null,null,null,null,null,null,null,null,null,null,null,null,null,0,0,0,0,0,0,0,0,0,0,0,0,0,0,0,0,0,0,0,0,0,0,0,0,0,0,0,0,0,0,0,0,0]
[{"$f":"'Published Balance'!A56","v":"NON-ENERGY USE"},0,0,0,1000,0,0,0,0,0,0,1000,"",null,"Coal & Oil products: Is this CTL? Process outputs & efficiency?",null,null,null,null,null,null,null,null,null,null,null,null,null,null,null,null,null,{"$f":"SUM(AG57,AG59:AG60)","v":0},{"$f":"SUM(AH57,AH59:AH60)","v":0},0,1000,0,0,0,0,0,{"$f":"SUM(AP57,AP59:AP60)","v":0},1000,{"$f":"SUM(AR57,AR59:AR60)","v":0},{"$f":"SUM(AS57,AS59:AS60)","v":0},0,1000,0,0,0,0,0,{"$f":"SUM(BA57,BA59:BA60)","v":0},1000,{"$f":"SUM(BC57,BC59:BC60)","v":0},{"$f":"SUM(BD57,BD59:BD60)","v":0},50,1000,0,0,0,100,100,{"$f":"SUM(BL57,BL59:BL60)","v":0},1250]
[{"$f":"'Published Balance'!A57","v":"in industry/transf./energy"},0,0,0,1000,0,0,0,0,0,0,1000,"",null,"Crude oil final consumption: What is it?",null,null,null,null,null,null,null,null,null,null,null,null,null,null,null,null,null,0,0,0,1000,0,0,0,0,0,0,1000,0,0,0,1000,0,0,0,0,0,0,1000,0,0,0,1000,0,0,0,100,0,0,1100]
[{"$f":"'Published Balance'!A58","v":"of which: chem./petrochem."},0,0,0,0,0,0,0,0,0,0,0,"",null,"Electricity non-specified industry: What is it?",null,null,null,null,null,null,null,null,null,null,null,null,null,null,null,null,null,0,0,0,0,0,0,0,0,0,0,0,0,0,0,0,0,0,0,0,0,0,0,0,0,0,0,0,0,0,0,0,0,0]
[{"$f":"'Published Balance'!A59","v":"in transport"},0,0,0,0,0,0,0,0,0,0,0,"",null,"Coal use in rail & domestic navigation: Rare use, confirmation needed",null,null,null,null,null,null,null,null,null,null,null,null,null,null,null,null,null,0,0,0,0,0,0,0,0,0,0,0,0,0,0,0,0,0,0,0,0,0,0,0,0,50,0,0,0,0,0,0,0,50]
[{"$f":"'Published Balance'!A60","v":"in other"},0,0,0,0,0,0,0,0,0,0,0,"",null,null,null,null,null,null,null,null,null,null,null,null,null,null,null,null,null,null,null,0,0,0,0,0,0,0,0,0,0,0,0,0,0,0,0,0,0,0,0,0,0,0,0,0,0,0,0,0,0,100,0,100]
[{"$f":"'Published Balance'!A61","v":"Electricity and heat output"},{"$f":"'Published Balance'!B61","v":"Electricity and heat output"},{"$f":"'Published Balance'!C61","v":"Electricity and heat output"},{"$f":"'Published Balance'!D61","v":"Electricity and heat output"},{"$f":"'Published Balance'!E61","v":"Electricity and heat output"},{"$f":"'Published Balance'!F61","v":"Electricity and heat output"},{"$f":"'Published Balance'!G61","v":"Electricity and heat output"},{"$f":"'Published Balance'!H61","v":"Electricity and heat output"},{"$f":"'Published Balance'!I61","v":"Electricity and heat output"},{"$f":"'Published Balance'!J61","v":"Electricity and heat output"},{"$f":"'Published Balance'!K61","v":"Electricity and heat output"},{"$f":"'Published Balance'!L61","v":"Electricity and heat output"},"",null,"Incorrect:"]
[{"$f":"'Published Balance'!A62","v":"Electr. Generated - GWh"},{"$f":"OFFSET($AF62,0,($AF$4-1)*$AQ$5+AG$5)","v":29069.767441860469},0,0,15116.279069767443,0,0,0,0,0,0,44186.046511627908,"",null,"Electricity stock change",null,null,null,null,null,null,null,null,null,null,null,null,null,null,null,null,null,{"$f":"SUM(AG63:AG64)","v":29069.767441860469},{"$f":"SUM(AH63:AH64)","v":0},0,15116.279069767443,0,0,0,0,0,0,44186.046511627908,{"$f":"SUM(AR63:AR64)","v":29069.767441860469},{"$f":"SUM(AS63:AS64)","v":0},{"$f":"SUM(AT63:AT64)","v":0},{"$f":"SUM(AU63:AU64)","v":26744.18604651163},{"$f":"SUM(AV63:AV64)","v":0},{"$f":"SUM(AW63:AW64)","v":0},{"$f":"SUM(AX63:AX64)","v":0},{"$f":"SUM(AY63:AY64)","v":0},{"$f":"SUM(AZ63:AZ64)","v":0},{"$f":"SUM(BA63:BA64)","v":0},{"$f":"SUM(AR62:BA62)","v":55813.953488372099},{"$f":"SUM(BC63:BC64)","v":29069.767441860469},{"$f":"SUM(BD63:BD64)","v":0},{"$f":"SUM(BE63:BE64)","v":0},{"$f":"SUM(BF63:BF64)","v":15116.279069767443},{"$f":"SUM(BG63:BG64)","v":0},{"$f":"SUM(BH63:BH64)","v":0},{"$f":"SUM(BI63:BI64)","v":0},{"$f":"SUM(BJ63:BJ64)","v":0},{"$f":"SUM(BK63:BK64)","v":0},{"$f":"SUM(BL63:BL64)","v":0},{"$f":"SUM(BC62:BL62)","v":44186.046511627908}]
[{"$f":"'Published Balance'!A63","v":"Electricity plants"},29069.767441860469,0,0,0,0,0,0,0,0,0,29069.767441860469,"",null,"Coal cannot have aviation use.",null,null,null,null,null,null,null,null,null,null,null,null,null,null,null,null,null,{"$f":"1/0.086*AO16","v":29069.767441860469},0,0,0,0,0,0,0,0,0,29069.767441860469,{"$f":"1/0.086*AZ16","v":29069.767441860469},0,0,0,0,0,0,0,0,0,29069.767441860469,{"$f":"1/0.086*BK16","v":29069.767441860469},0,0,0,0,0,0,0,0,0,29069.767441860469]
[{"$f":"'Published Balance'!A64","v":"CHP plants"},0,0,0,15116.279069767443,0,0,0,0,0,0,15116.279069767443,"",null,"Crude oil cannot be used in road transport.",null,null,null,null,null,null,null,null,null,null,null,null,null,null,null,null,null,0,0,0,{"$f":"1/0.086*AO17","v":15116.279069767443},0,0,0,0,0,0,15116.279069767443,0,0,0,{"$f":"1/0.086*AZ17","v":26744.18604651163},0,0,0,0,0,0,26744.18604651163,0,0,0,{"$f":"1/0.086*BK17","v":15116.279069767443},0,0,0,0,0,0,15116.279069767443]
[{"$f":"'Published Balance'!A65","v":"Heat generated - TJ"},0,0,0,113065.32663316582,0,0,0,0,0,0,113065.32663316582,"",null,"Biofuels cannot have non-energy use.",null,null,null,null,null,null,null,null,null,null,null,null,null,null,null,null,null,{"$f":"SUM(AG66:AG67)","v":0},{"$f":"SUM(AH66:AH67)","v":0},0,113065.32663316582,0,0,0,0,0,0,113065.32663316582,{"$f":"SUM(AR66:AR67)","v":0},{"$f":"SUM(AS66:AS67)","v":0},{"$f":"SUM(AT66:AT67)","v":0},{"$f":"SUM(AU66:AU67)","v":113065.32663316582},{"$f":"SUM(AV66:AV67)","v":0},{"$f":"SUM(AW66:AW67)","v":0},{"$f":"SUM(AX66:AX67)","v":0},{"$f":"SUM(AY66:AY67)","v":0},{"$f":"SUM(AZ66:AZ67)","v":0},{"$f":"SUM(BA66:BA67)","v":0},113065.32663316582,{"$f":"SUM(BC66:BC67)","v":0},{"$f":"SUM(BD66:BD67)","v":0},{"$f":"SUM(BE66:BE67)","v":0},{"$f":"SUM(BF66:BF67)","v":113065.32663316582},{"$f":"SUM(BG66:BG67)","v":0},{"$f":"SUM(BH66:BH67)","v":0},{"$f":"SUM(BI66:BI67)","v":0},{"$f":"SUM(BJ66:BJ67)","v":0},{"$f":"SUM(BK66:BK67)","v":0},{"$f":"SUM(BL66:BL67)","v":0},113065.32663316582]
[{"$f":"'Published Balance'!A66","v":"CHP plants"},0,0,0,113065.32663316582,0,0,0,0,0,0,113065.32663316582,"",null,"Electricity cannot have non-energy use.",null,null,null,null,null,null,null,null,null,null,null,null,null,null,null,null,null,0,0,0,{"$f":"1/0.02388*AP17","v":113065.32663316582},0,0,0,0,0,0,113065.32663316582,0,0,0,{"$f":"1/0.02388*BA17","v":113065.32663316582},0,0,0,0,0,0,113065.32663316582,0,0,0,{"$f":"1/0.02388*BL17","v":113065.32663316582},0,0,0,0,0,0,113065.32663316582]
[{"$f":"'Published Balance'!A67","v":"Heat plants"},0,0,0,0,0,0,0,0,0,0,0,"",null,null,null,null,null,null,null,null,null,null,null,null,null,null,null,null,null,null,null,0,0,0,0,0,0,0,0,0,0,0,0,0,0,0,0,0,0,0,0,0,0,0,0,0,0,0,0,0,0,0,0,0]
[null,null,null,null,null,null,null,null,null,null,null,null,null,{"$f":"HLOOKUP(LangChoice,$AB$3:$AD$49,$AA31+1)","v":"Hints:"}]
[null,null,null,null,null,null,null,null,null,null,null,null,null,{"$f":"HLOOKUP(LangChoice,$AB$3:$AD$49,$AA32+1)","v":"There are at least eight (8) figures requiring double-checking"}]
[null,null,null,null,null,null,null,null,null,null,null,null,null,{"$f":"HLOOKUP(LangChoice,$AB$3:$AD$49,$AA33+1)","v":"There are at least five (5) incorrect figures"}]

{"sheet":"BAL_Comparison","index":16,"n_rows":75,"n_cols":64,"rows_kept":75,"cut":false,"hidden":true,"merged":[[2,48,2,50]]}
[null,null,null,null,null,null,null,null,null,null,null,null,null,null,null,null,null,null,null,null,null,null,null,null,null,null,null,null,null,null,null,null,null,null,null,null,null,null,null,null,null,null,null,null,null,null,null,"Hide -->",null,null,null,null,null,null,null,null,null,null,null,null,null,null,null,"<-- Hide"]
[]
[{"$f":"CountryName","v":"Statisland"},null,null,null,"Main figure to check",null,null,null,null,null,null,null,null,null,null,null,null,null,null,null,null,null,null,null,null,null,null,null,null,null,null,null,null,null,null,null,null,null,null,null,null,null,null,null,null,null,null,null,"Flow name",null,null," ","Product name"]
[{"$f":"\"Comparison: \" &DataYear &\" - \"& LatestYear","v":"Comparison: 2023 - 2024"},null,null,null,null,null,null,null,null,null,null,null,null,null,null,null,null,null,null,null,null,null,null,null,null,null,null,null,null,null,null,null,null,null,null,null,null,null,null,null,null,null,null,null,null,null,null,null,"English","Pусский","CHN"," ",null,1,2,3,4,5,6,7,8,9,10,11]
[null,{"$f":"DataYear","v":2023},{"$f":"LatestYear","v":2024},"Δ",{"$f":"DataYear","v":2023},{"$f":"LatestYear","v":2024},"Δ",{"$f":"DataYear","v":2023},{"$f":"LatestYear","v":2024},"Δ","Δ",{"$f":"DataYear","v":2023},{"$f":"LatestYear","v":2024},"Δ",{"$f":"DataYear","v":2023},{"$f":"LatestYear","v":2024},"Δ",{"$f":"DataYear","v":2023},{"$f":"LatestYear","v":2024},"Δ",{"$f":"DataYear","v":2023},{"$f":"LatestYear","v":2024},"Δ",{"$f":"DataYear","v":2023},{"$f":"LatestYear","v":2024},"Δ",{"$f":"DataYear","v":2023},{"$f":"LatestYear","v":2024},"Δ",{"$f":"DataYear","v":2023},{"$f":"LatestYear","v":2024},"Δ",{"$f":"DataYear","v":2023},{"$f":"LatestYear","v":2024},"Δ",null,null,null,null,null,null,null,null,null,null,null,null,1,"Thousand tonnes of oil equivalent (ktoe)","Тысяч тонн нефтяного эквивалента (1000 тнэ)","千吨油当量"," ","English","Coal","Crude oil","Oil\nproducts","Natural gas","Nuclear","Hydro","Geo-therm./\nSolar/\netc.","Biofuels/\nWaste","Electri-city","Heat","Total"]
[{"$f":"HLOOKUP(LangChoice,$AW$4:$AY$67,$AV6+1)","v":"SUPPLY AND\nCONSUMPTION"},{"$f":"VLOOKUP(LangChoice,$BA$4:$BL$7,BB4+1)","v":"Coal"},null,null,{"$f":"VLOOKUP(LangChoice,$BA$4:$BL$7,BC4+1)","v":"Crude oil"},null,null,{"$f":"VLOOKUP(LangChoice,$BA$4:$BL$7,BD4+1)","v":"Oil\nproducts"},null,null,"(Oil)",{"$f":"VLOOKUP(LangChoice,$BA$4:$BL$7,BE4+1)","v":"Natural gas"},null,null,{"$f":"VLOOKUP(LangChoice,$BA$4:$BL$7,BF4+1)","v":"Nuclear"},null,null,{"$f":"VLOOKUP(LangChoice,$BA$4:$BL$7,BG4+1)","v":"Hydro"},null,null,{"$f":"VLOOKUP(LangChoice,$BA$4:$BL$7,BH4+1)","v":"Geo-therm./\nSolar/\netc."},null,null,{"$f":"VLOOKUP(LangChoice,$BA$4:$BL$7,BI4+1)","v":"Biofuels/\nWaste"},null,null,{"$f":"VLOOKUP(LangChoice,$BA$4:$BL$7,BJ4+1)","v":"Electri-city"},null,null,{"$f":"VLOOKUP(LangChoice,$BA$4:$BL$7,BK4+1)","v":"Heat"},null,null,{"$f":"VLOOKUP(LangChoice,$BA$4:$BL$7,BL4+1)","v":"Total"},null,null,null,null,null,null,null,null,null,null,null,null,null,null,2,"SUPPLY AND\nCONSUMPTION","ПОСТАВКА И\nПОТРЕБЛЕНИЕ","[missing Chinese]"," ","Pусский","Уголь","Сырая нефть","Нефтепродукты",{"$f":"Definitions_ProdLang!D48","v":"Природный газ"},"Атомная энергия",{"$f":"Definitions_ProdLang!D63","v":"Гидроэнергия"},"Геотерм./\nсолн./\nт.д","Биотопливо/\nотходы",{"$f":"Definitions_ProdLang!D73","v":"Электричество"},{"$f":"Definitions_ProdLang!D74","v":"Тепло"},"Всего"]
["Production",null,null,{"$f":"IFERROR((C7-B7)/B7,\"..\")","v":".."},null,null,{"$f":"IFERROR((F7-E7)/E7,\"..\")","v":".."},null,null,{"$f":"IFERROR((I7-H7)/H7,\"..\")","v":".."},{"$f":"IFERROR(((F7+I7)-(E7+H7))/(E7+H7),\"..\")","v":".."},null,null,{"$f":"IFERROR((M7-L7)/L7,\"..\")","v":".."},null,null,{"$f":"IFERROR((P7-O7)/O7,\"..\")","v":".."},null,null,{"$f":"IFERROR((S7-R7)/R7,\"..\")","v":".."},null,null,{"$f":"IFERROR((V7-U7)/U7,\"..\")","v":".."},null,null,{"$f":"IFERROR((Y7-X7)/X7,\"..\")","v":".."},null,null,{"$f":"IFERROR((AB7-AA7)/AA7,\"..\")","v":".."},null,null,{"$f":"IFERROR((AE7-AD7)/AD7,\"..\")","v":".."},null,null,{"$f":"IFERROR((AH7-AG7)/AG7,\"..\")","v":".."},null,null,null,null,null,null,null,null,null,null,null,null,3,{"$f":"Definitions_FlowLang!C5","v":"Production"},{"$f":"Definitions_FlowLang!D5","v":"Производство"},{"$f":"Definitions_FlowLang!E5","v":"产量"}," ","CHN","煤炭","原油","石油产品","天然气","核能","水能","地热能、太阳能、风能和其他","生物燃料和废弃物","电力","热力","总计"]
["Imports",null,null,{"$f":"IFERROR((C8-B8)/B8,\"..\")","v":".."},null,null,{"$f":"IFERROR((F8-E8)/E8,\"..\")","v":".."},null,null,{"$f":"IFERROR((I8-H8)/H8,\"..\")","v":".."},{"$f":"IFERROR(((F8+I8)-(E8+H8))/(E8+H8),\"..\")","v":".."},null,null,{"$f":"IFERROR((M8-L8)/L8,\"..\")","v":".."},null,null,{"$f":"IFERROR((P8-O8)/O8,\"..\")","v":".."},null,null,{"$f":"IFERROR((S8-R8)/R8,\"..\")","v":".."},null,null,{"$f":"IFERROR((V8-U8)/U8,\"..\")","v":".."},null,null,{"$f":"IFERROR((Y8-X8)/X8,\"..\")","v":".."},null,null,{"$f":"IFERROR((AB8-AA8)/AA8,\"..\")","v":".."},null,null,{"$f":"IFERROR((AE8-AD8)/AD8,\"..\")","v":".."},null,null,{"$f":"IFERROR((AH8-AG8)/AG8,\"..\")","v":".."},null,null,null,null,null,null,null,null,null,null,null,null,4,{"$f":"Definitions_FlowLang!C12","v":"Imports"},{"$f":"Definitions_FlowLang!D12","v":"Импорт"},{"$f":"Definitions_FlowLang!E12","v":"进口量"}," "]
["Exports",null,null,"..",null,null,"..",null,null,"..","..",null,null,"..",null,null,"..",null,null,"..",null,null,"..",null,null,"..",null,null,"..",null,null,"..",null,null,"..",null,null,null,null,null,null,null,null,null,null,null,null,5,{"$f":"Definitions_FlowLang!C13","v":"Exports"},{"$f":"Definitions_FlowLang!D13","v":"Экспорт"},{"$f":"Definitions_FlowLang!E13","v":"出口量"}," "]
["Intl. marine bunkers",null,null,"..",null,null,"..",null,null,"..","..",null,null,"..",null,null,"..",null,null,"..",null,null,"..",null,null,"..",null,null,"..",null,null,"..",null,null,"..",null,null,null,null,null,null,null,null,null,null,null,null,6,"Intl. marine bunkers",{"$f":"Definitions_FlowLang!D14","v":"международный бункер водных перевозок"},{"$f":"Definitions_FlowLang!E14","v":"国际海运船舶燃料"}," "]
["Intl. aviation bunkers",null,null,"..",null,null,"..",null,null,"..","..",null,null,"..",null,null,"..",null,null,"..",null,null,"..",null,null,"..",null,null,"..",null,null,"..",null,null,"..",null,null,null,null,null,null,null,null,null,null,null,null,7,"Intl. aviation bunkers",{"$f":"Definitions_FlowLang!D15","v":"международный бункер авиационных перевозок"},{"$f":"Definitions_FlowLang!E15","v":"国际航空燃料"}," ",null,null,null,null,null,null,null,"Геотермальная/\nсолнечная/\nи т.д"]
["Stock changes",null,null,"..",null,null,"..",null,null,"..","..",null,null,"..",null,null,"..",null,null,"..",null,null,"..",null,null,"..",null,null,"..",null,null,"..",null,null,"..",null,null,null,null,null,null,null,null,null,null,null,null,8,{"$f":"Definitions_FlowLang!C16","v":"Stock changes"},{"$f":"Definitions_FlowLang!D16","v":"Изменение остатков"},{"$f":"Definitions_FlowLang!E16","v":"库存变化"}," "]
["TPES",null,null,"..",null,null,"..",null,null,"..","..",null,null,"..",null,null,"..",null,null,"..",null,null,"..",null,null,"..",null,null,"..",null,null,"..",null,null,"..",null,null,null,null,null,null,null,null,null,null,null,null,9,"TPES",{"$f":"Definitions_FlowLang!D18","v":"ОБЩЕЕ ПРЕДЛОЖЕНИЕ ПЕРВИЧНОЙ ЭНЕРГИИ (ОППЭ)"},{"$f":"Definitions_FlowLang!E18","v":"初级能源供应总量"}," "]
["Transfers",null,null,"..",null,null,"..",null,null,"..","..",null,null,"..",null,null,"..",null,null,"..",null,null,"..",null,null,"..",null,null,"..",null,null,"..",null,null,"..",null,null,null,null,null,null,null,null,null,null,null,null,10,{"$f":"Definitions_FlowLang!C19","v":"Transfers"},{"$f":"Definitions_FlowLang!D19","v":"Передачи"},{"$f":"Definitions_FlowLang!E19","v":"转换产出量"}," "]
["Statistical differences",null,null,"..",null,null,"..",null,null,"..","..",null,null,"..",null,null,"..",null,null,"..",null,null,"..",null,null,"..",null,null,"..",null,null,"..",null,null,"..",null,null,null,null,null,null,null,null,null,null,null,null,11,{"$f":"Definitions_FlowLang!C20","v":"Statistical differences"},{"$f":"Definitions_FlowLang!D20","v":"Статистическое расхождение"},{"$f":"Definitions_FlowLang!E20","v":"统计差异"}," "]
["Electricity plants",null,null,"..",null,null,"..",null,null,"..","..",null,null,"..",null,null,"..",null,null,"..",null,null,"..",null,null,"..",null,null,"..",null,null,"..",null,null,"..",null,null,null,null,null,null,null,null,null,null,null,null,12,"Electricity plants","Электростанции","热电联产厂"," "]
["CHP plants",null,null,"..",null,null,"..",null,null,"..","..",null,null,"..",null,null,"..",null,null,"..",null,null,"..",null,null,"..",null,null,"..",null,null,"..",null,null,"..",null,null,null,null,null,null,null,null,null,null,null,null,13,"CHP plants","Тепло-электроцентрали","热力厂"," "]
["Heat plants",null,null,"..",null,null,"..",null,null,"..","..",null,null,"..",null,null,"..",null,null,"..",null,null,"..",null,null,"..",null,null,"..",null,null,"..",null,null,"..",null,null,null,null,null,null,null,null,null,null,null,null,14,"Heat plants","Теплоцентрали","高炉气厂 "," "]
["Blast furnaces",null,null,"..",null,null,"..",null,null,"..","..",null,null,"..",null,null,"..",null,null,"..",null,null,"..",null,null,"..",null,null,"..",null,null,"..",null,null,"..",null,null,null,null,null,null,null,null,null,null,null,null,15,{"$f":"Definitions_FlowLang!C35","v":"Blast furnaces"},{"$f":"Definitions_FlowLang!D35","v":"Доменные печи"},{"$f":"Definitions_FlowLang!E35","v":"高炉"}," "]
["Gas works",null,null,"..",null,null,"..",null,null,"..","..",null,null,"..",null,null,"..",null,null,"..",null,null,"..",null,null,"..",null,null,"..",null,null,"..",null,null,"..",null,null,null,null,null,null,null,null,null,null,null,null,16,{"$f":"Definitions_FlowLang!C34","v":"Gas works"},{"$f":"Definitions_FlowLang!D34","v":"Газовые заводы"},{"$f":"Definitions_FlowLang!E34","v":"煤气厂"}," "]
["Coke/pat. fuel/BKB/PB plants",null,null,"..",null,null,"..",null,null,"..","..",null,null,"..",null,null,"..",null,null,"..",null,null,"..",null,null,"..",null,null,"..",null,null,"..",null,null,"..",null,null,null,null,null,null,null,null,null,null,null,null,17,"Coke/pat. fuel/BKB/PB plants","Кокс. печи/Предпр-ия по пр-ву каменноуг./буроуг. Брик./торф. брикеты","炼焦 / 专用燃料 / 褐煤型煤厂"," "]
["Oil refineries",null,null,"..",null,null,"..",null,null,"..","..",null,null,"..",null,null,"..",null,null,"..",null,null,"..",null,null,"..",null,null,"..",null,null,"..",null,null,"..",null,null,null,null,null,null,null,null,null,null,null,null,18,{"$f":"Definitions_FlowLang!C38","v":"Oil refineries"},{"$f":"Definitions_FlowLang!D38","v":"Нефтеперерабатывающие заводы"},{"$f":"Definitions_FlowLang!E38","v":"炼油厂"}," "]
["Petrochemical plants",null,null,"..",null,null,"..",null,null,"..","..",null,null,"..",null,null,"..",null,null,"..",null,null,"..",null,null,"..",null,null,"..",null,null,"..",null,null,"..",null,null,null,null,null,null,null,null,null,null,null,null,19,{"$f":"Definitions_FlowLang!C36","v":"Petrochemical plants"},{"$f":"Definitions_FlowLang!D36","v":"Нефтехимические заводы"},{"$f":"Definitions_FlowLang!E36","v":"石化厂"}," "]
["Liquefaction plants",null,null,"..",null,null,"..",null,null,"..","..",null,null,"..",null,null,"..",null,null,"..",null,null,"..",null,null,"..",null,null,"..",null,null,"..",null,null,"..",null,null,null,null,null,null,null,null,null,null,null,null,20,"Liquefaction plants","Ожижение","液化厂\n"," "]
["Other transformation",null,null,"..",null,null,"..",null,null,"..","..",null,null,"..",null,null,"..",null,null,"..",null,null,"..",null,null,"..",null,null,"..",null,null,"..",null,null,"..",null,null,null,null,null,null,null,null,null,null,null,null,21,"Other transformation","Др. преобразование и переработка топлива",{"$f":"Definitions_FlowLang!E43","v":"未列明的产业（转换）"}," "]
["Energy industry own use",null,null,"..",null,null,"..",null,null,"..","..",null,null,"..",null,null,"..",null,null,"..",null,null,"..",null,null,"..",null,null,"..",null,null,"..",null,null,"..",null,null,null,null,null,null,null,null,null,null,null,null,22,{"$f":"Definitions_FlowLang!C45","v":"Energy industry own use"},{"$f":"Definitions_FlowLang!D45","v":"Собственное использование сектором энергетики"},{"$f":"Definitions_FlowLang!E45","v":"能源行业自用"}," "]
["Losses",null,null,"..",null,null,"..",null,null,"..","..",null,null,"..",null,null,"..",null,null,"..",null,null,"..",null,null,"..",null,null,"..",null,null,"..",null,null,"..",null,null,null,null,null,null,null,null,null,null,null,null,23,{"$f":"Definitions_FlowLang!C63","v":"Losses"},{"$f":"Definitions_FlowLang!D63","v":"Потери"},{"$f":"Definitions_FlowLang!E63","v":"损耗"}," "]
["TFC",null,null,"..",null,null,"..",null,null,"..","..",null,null,"..",null,null,"..",null,null,"..",null,null,"..",null,null,"..",null,null,"..",null,null,"..",null,null,"..",null,null,null,null,null,null,null,null,null,null,null,null,24,"TFC",{"$f":"UPPER(Definitions_FlowLang!D65)","v":"ОБЩЕЕ ПОТРЕБЛЕНИЕ"},{"$f":"UPPER(Definitions_FlowLang!E65)","v":"终端消费量"}," "]
["INDUSTRY",null,null,"..",null,null,"..",null,null,"..","..",null,null,"..",null,null,"..",null,null,"..",null,null,"..",null,null,"..",null,null,"..",null,null,"..",null,null,"..",null,null,null,null,null,null,null,null,null,null,null,null,25,{"$f":"UPPER(Definitions_FlowLang!C66)","v":"INDUSTRY"},{"$f":"UPPER(Definitions_FlowLang!D66)","v":"СЕКТОР ПРОМЫШЛЕННОСТИ"},{"$f":"UPPER(Definitions_FlowLang!E66)","v":"工业部门"}," "]
["Iron and steel",null,null,"..",null,null,"..",null,null,"..","..",null,null,"..",null,null,"..",null,null,"..",null,null,"..",null,null,"..",null,null,"..",null,null,"..",null,null,"..",null,null,null,null,null,null,null,null,null,null,null,null,26,{"$f":"Definitions_FlowLang!C67","v":"Iron and steel"},{"$f":"Definitions_FlowLang!D67","v":"Черная металлургия"},{"$f":"Definitions_FlowLang!E67","v":"钢铁"}," "]
["Chemical and petrochemical",null,null,"..",null,null,"..",null,null,"..","..",null,null,"..",null,null,"..",null,null,"..",null,null,"..",null,null,"..",null,null,"..",null,null,"..",null,null,"..",null,null,null,null,null,null,null,null,null,null,null,null,27,{"$f":"Definitions_FlowLang!C68","v":"Chemical and petrochemical"},{"$f":"Definitions_FlowLang!D68","v":"Химическая (в т.ч. нефтехимическая) промышленность"},{"$f":"Definitions_FlowLang!E68","v":"化学和石油化工"}," "]
["Non-ferrous metals",null,null,"..",null,null,"..",null,null,"..","..",null,null,"..",null,null,"..",null,null,"..",null,null,"..",null,null,"..",null,null,"..",null,null,"..",null,null,"..",null,null,null,null,null,null,null,null,null,null,null,null,28,{"$f":"Definitions_FlowLang!C69","v":"Non-ferrous metals"},{"$f":"Definitions_FlowLang!D69","v":"Цветная металлургия"},{"$f":"Definitions_FlowLang!E69","v":"有色金属"}," "]
["Non-metallic minerals",null,null,"..",null,null,"..",null,null,"..","..",null,null,"..",null,null,"..",null,null,"..",null,null,"..",null,null,"..",null,null,"..",null,null,"..",null,null,"..",null,null,null,null,null,null,null,null,null,null,null,null,29,{"$f":"Definitions_FlowLang!C70","v":"Non-metallic minerals"},{"$f":"Definitions_FlowLang!D70","v":"Неметаллические минеральные продукты"},{"$f":"Definitions_FlowLang!E70","v":"非金属矿物"}," "]
["Transport equipment",null,null,"..",null,null,"..",null,null,"..","..",null,null,"..",null,null,"..",null,null,"..",null,null,"..",null,null,"..",null,null,"..",null,null,"..",null,null,"..",null,null,null,null,null,null,null,null,null,null,null,null,30,{"$f":"Definitions_FlowLang!C71","v":"Transport equipment"},{"$f":"Definitions_FlowLang!D71","v":"Транспортное оборудование"},{"$f":"Definitions_FlowLang!E71","v":"交通运输设备"}," "]
["Machinery",null,null,"..",null,null,"..",null,null,"..","..",null,null,"..",null,null,"..",null,null,"..",null,null,"..",null,null,"..",null,null,"..",null,null,"..",null,null,"..",null,null,null,null,null,null,null,null,null,null,null,null,31,{"$f":"Definitions_FlowLang!C72","v":"Machinery"},{"$f":"Definitions_FlowLang!D72","v":"Машиностроение"},{"$f":"Definitions_FlowLang!E72","v":"机器设备"}," "]
["Mining and quarrying",null,null,"..",null,null,"..",null,null,"..","..",null,null,"..",null,null,"..",null,null,"..",null,null,"..",null,null,"..",null,null,"..",null,null,"..",null,null,"..",null,null,null,null,null,null,null,null,null,null,null,null,32,{"$f":"Definitions_FlowLang!C73","v":"Mining and quarrying"},{"$f":"Definitions_FlowLang!D73","v":"Горнодобыв. промышленность и разраб. карьеров"},{"$f":"Definitions_FlowLang!E73","v":"采矿和采石"}," "]
["Food and tobacco",null,null,"..",null,null,"..",null,null,"..","..",null,null,"..",null,null,"..",null,null,"..",null,null,"..",null,null,"..",null,null,"..",null,null,"..",null,null,"..",null,null,null,null,null,null,null,null,null,null,null,null,33,"Food and tobacco",{"$f":"Definitions_FlowLang!D74","v":"Пищевая промышленность, производство напитков и табачных изделий"},{"$f":"Definitions_FlowLang!E74","v":"食品和烟草"}," "]
[{"$f":"HLOOKUP(LangChoice,$AW$4:$AY$67,$AV38+1)","v":"Paper, pulp and printing"},null,null,"..",null,null,"..",null,null,"..","..",null,null,"..",null,null,"..",null,null,"..",null,null,"..",null,null,"..",null,null,"..",null,null,"..",null,null,"..",null,null,null,null,null,null,null,null,null,null,null,null,34,"Paper, pulp and printing",{"$f":"Definitions_FlowLang!D75","v":"Целлюлозно-бумажная и полиграфическая промышленность"},{"$f":"Definitions_FlowLang!E75","v":"纸、纸浆和印刷"}," "]
["Wood and wood products",null,null,"..",null,null,"..",null,null,"..","..",null,null,"..",null,null,"..",null,null,"..",null,null,"..",null,null,"..",null,null,"..",null,null,"..",null,null,"..",null,null,null,null,null,null,null,null,null,null,null,null,35,{"$f":"Definitions_FlowLang!C76","v":"Wood and wood products"},{"$f":"Definitions_FlowLang!D76","v":"Производство древесины и деревянных изделий"},{"$f":"Definitions_FlowLang!E76","v":"木材和木材制品"}," "]
["Construction",null,null,"..",null,null,"..",null,null,"..","..",null,null,"..",null,null,"..",null,null,"..",null,null,"..",null,null,"..",null,null,"..",null,null,"..",null,null,"..",null,null,null,null,null,null,null,null,null,null,null,null,36,{"$f":"Definitions_FlowLang!C77","v":"Construction"},{"$f":"Definitions_FlowLang!D77","v":"Строительство"},{"$f":"Definitions_FlowLang!E77","v":"建筑"}," "]
["Textile and leather",null,null,"..",null,null,"..",null,null,"..","..",null,null,"..",null,null,"..",null,null,"..",null,null,"..",null,null,"..",null,null,"..",null,null,"..",null,null,"..",null,null,null,null,null,null,null,null,null,null,null,null,37,"Textile and leather",{"$f":"Definitions_FlowLang!D78","v":"Текстильная и кожевенная промышленность"},{"$f":"Definitions_FlowLang!E78","v":"纺织品和皮革"}," "]
["Non-specified",null,null,"..",null,null,"..",null,null,"..","..",null,null,"..",null,null,"..",null,null,"..",null,null,"..",null,null,"..",null,null,"..",null,null,"..",null,null,"..",null,null,null,null,null,null,null,null,null,null,null,null,38,"Non-specified","Неспецифицированные","未列明的产业"," "]
["TRANSPORT",null,null,"..",null,null,"..",null,null,"..","..",null,null,"..",null,null,"..",null,null,"..",null,null,"..",null,null,"..",null,null,"..",null,null,"..",null,null,"..",null,null,null,null,null,null,null,null,null,null,null,null,39,{"$f":"UPPER(Definitions_FlowLang!C80)","v":"TRANSPORT"},{"$f":"UPPER(Definitions_FlowLang!D80)","v":"СЕКТОР ТРАНСПОРТА"},{"$f":"UPPER(Definitions_FlowLang!E80)","v":"交通运输部门"}," "]
["Domestic aviation",null,null,"..",null,null,"..",null,null,"..","..",null,null,"..",null,null,"..",null,null,"..",null,null,"..",null,null,"..",null,null,"..",null,null,"..",null,null,"..",null,null,null,null,null,null,null,null,null,null,null,null,40,{"$f":"Definitions_FlowLang!C81","v":"Domestic aviation"},{"$f":"Definitions_FlowLang!D81","v":"Внутренний воздушный транспорт"},{"$f":"Definitions_FlowLang!E81","v":"国内航空"}," "]
["Road",null,null,"..",null,null,"..",null,null,"..","..",null,null,"..",null,null,"..",null,null,"..",null,null,"..",null,null,"..",null,null,"..",null,null,"..",null,null,"..",null,null,null,null,null,null,null,null,null,null,null,null,41,{"$f":"Definitions_FlowLang!C82","v":"Road"},{"$f":"Definitions_FlowLang!D82","v":"Автоперевозки"},{"$f":"Definitions_FlowLang!E82","v":"公路"}," "]
["Rail",null,null,"..",null,null,"..",null,null,"..","..",null,null,"..",null,null,"..",null,null,"..",null,null,"..",null,null,"..",null,null,"..",null,null,"..",null,null,"..",null,null,null,null,null,null,null,null,null,null,null,null,42,{"$f":"Definitions_FlowLang!C83","v":"Rail"},{"$f":"Definitions_FlowLang!D83","v":"Железные дороги"},{"$f":"Definitions_FlowLang!E83","v":"铁路"}," "]
["Pipeline transport",null,null,"..",null,null,"..",null,null,"..","..",null,null,"..",null,null,"..",null,null,"..",null,null,"..",null,null,"..",null,null,"..",null,null,"..",null,null,"..",null,null,null,null,null,null,null,null,null,null,null,null,43,{"$f":"Definitions_FlowLang!C84","v":"Pipeline transport"},{"$f":"Definitions_FlowLang!D84","v":"Транспортировк а по трубопроводам"},{"$f":"Definitions_FlowLang!E84","v":"管道运输"}," "]
["Domestic navigation",null,null,"..",null,null,"..",null,null,"..","..",null,null,"..",null,null,"..",null,null,"..",null,null,"..",null,null,"..",null,null,"..",null,null,"..",null,null,"..",null,null,null,null,null,null,null,null,null,null,null,null,44,{"$f":"Definitions_FlowLang!C85","v":"Domestic navigation"},{"$f":"Definitions_FlowLang!D85","v":"Внутренний водный транспорт"},{"$f":"Definitions_FlowLang!E85","v":"国内航运"}," "]
["Non-specified",null,null,"..",null,null,"..",null,null,"..","..",null,null,"..",null,null,"..",null,null,"..",null,null,"..",null,null,"..",null,null,"..",null,null,"..",null,null,"..",null,null,null,null,null,null,null,null,null,null,null,null,45,"Non-specified","Неспецифицированные","未列明的产业"," "]
["OTHER",null,null,"..",null,null,"..",null,null,"..","..",null,null,"..",null,null,"..",null,null,"..",null,null,"..",null,null,"..",null,null,"..",null,null,"..",null,null,"..",null,null,null,null,null,null,null,null,null,null,null,null,46,{"$f":"UPPER(Definitions_FlowLang!C87)","v":"OTHER"},{"$f":"UPPER(Definitions_FlowLang!D87)","v":"ДРУГИЕ"},{"$f":"UPPER(Definitions_FlowLang!E87)","v":"其他部门"}," "]
["Residential",null,null,"..",null,null,"..",null,null,"..","..",null,null,"..",null,null,"..",null,null,"..",null,null,"..",null,null,"..",null,null,"..",null,null,"..",null,null,"..",null,null,null,null,null,null,null,null,null,null,null,null,47,{"$f":"Definitions_FlowLang!C88","v":"Residential"},{"$f":"Definitions_FlowLang!D88","v":"Жилищный сектор"},{"$f":"Definitions_FlowLang!E88","v":"居民生活"}," "]
["Comm. and public services",null,null,"..",null,null,"..",null,null,"..","..",null,null,"..",null,null,"..",null,null,"..",null,null,"..",null,null,"..",null,null,"..",null,null,"..",null,null,"..",null,null,null,null,null,null,null,null,null,null,null,null,48,"Comm. and public services",{"$f":"Definitions_FlowLang!D89","v":"Коммерческие предприятия и государственные учреждения"},{"$f":"Definitions_FlowLang!E89","v":"商业和公共服务"}," "]
["Agriculture/forestry",null,null,"..",null,null,"..",null,null,"..","..",null,null,"..",null,null,"..",null,null,"..",null,null,"..",null,null,"..",null,null,"..",null,null,"..",null,null,"..",null,null,null,null,null,null,null,null,null,null,null,null,49,{"$f":"Definitions_FlowLang!C90","v":"Agriculture/forestry"},{"$f":"Definitions_FlowLang!D90","v":"Сельское хозяйство"},{"$f":"Definitions_FlowLang!E90","v":"农业/林业"}," "]
["Fishing",null,null,"..",null,null,"..",null,null,"..","..",null,null,"..",null,null,"..",null,null,"..",null,null,"..",null,null,"..",null,null,"..",null,null,"..",null,null,"..",null,null,null,null,null,null,null,null,null,null,null,null,50,{"$f":"Definitions_FlowLang!C91","v":"Fishing"},{"$f":"Definitions_FlowLang!D91","v":"Рыболовство"},{"$f":"Definitions_FlowLang!E91","v":"渔业"}," "]
["Non-specified",null,null,"..",null,null,"..",null,null,"..","..",null,null,"..",null,null,"..",null,null,"..",null,null,"..",null,null,"..",null,null,"..",null,null,"..",null,null,"..",null,null,null,null,null,null,null,null,null,null,null,null,51,"Non-specified","Неспецифицированные","未列明的产业"," "]
["NON-ENERGY USE",null,null,"..",null,null,"..",null,null,"..","..",null,null,"..",null,null,"..",null,null,"..",null,null,"..",null,null,"..",null,null,"..",null,null,"..",null,null,"..",null,null,null,null,null,null,null,null,null,null,null,null,52,{"$f":"UPPER(Definitions_FlowLang!C93)","v":"NON-ENERGY USE"},{"$f":"UPPER(Definitions_FlowLang!D93)","v":"НЕЭНЕРГЕТИЧЕСКОЕ ИСПОЛЬЗОВАНИЕ"},{"$f":"UPPER(Definitions_FlowLang!E93)","v":"非能源使用"}," "]
["in industry/transf./energy",null,null,"..",null,null,"..",null,null,"..","..",null,null,"..",null,null,"..",null,null,"..",null,null,"..",null,null,"..",null,null,"..",null,null,"..",null,null,"..",null,null,null,null,null,null,null,null,null,null,null,null,53,"in industry/transf./energy",{"$f":"Definitions_FlowLang!D94","v":"в промышленности/преобраз.-переработке/топл. энергетике"},{"$f":"Definitions_FlowLang!E94","v":"工业/转换/能源部门非能源使用"}," "]
["of which: chem./petrochem.",null,null,"..",null,null,"..",null,null,"..","..",null,null,"..",null,null,"..",null,null,"..",null,null,"..",null,null,"..",null,null,"..",null,null,"..",null,null,"..",null,null,null,null,null,null,null,null,null,null,null,null,54,"of which: chem./petrochem.",{"$f":"Definitions_FlowLang!D97","v":"в т.ч. химикаты / нефтехимия"},{"$f":"Definitions_FlowLang!E97","v":"备忘项化学/石化产业非能源使用 "}," "]
["in transport",null,null,"..",null,null,"..",null,null,"..","..",null,null,"..",null,null,"..",null,null,"..",null,null,"..",null,null,"..",null,null,"..",null,null,"..",null,null,"..",null,null,null,null,null,null,null,null,null,null,null,null,55,"in transport",{"$f":"Definitions_FlowLang!D95","v":"в транспорте"},{"$f":"Definitions_FlowLang!E95","v":"交通运输部门非能源用途            "}," "]
["in other",null,null,"..",null,null,"..",null,null,"..","..",null,null,"..",null,null,"..",null,null,"..",null,null,"..",null,null,"..",null,null,"..",null,null,"..",null,null,"..",null,null,null,null,null,null,null,null,null,null,null,null,56,"in other",{"$f":"Definitions_FlowLang!D96","v":"в других секторах"},{"$f":"Definitions_FlowLang!E96","v":"其他部门的非能源用途             "}," "]
["Electricity and heat output",null,null,null,null,null,null,null,null,null,"..",null,null,null,null,null,null,null,null,null,null,null,null,null,null,null,null,null,null,null,null,null,null,null,null,null,null,null,null,null,null,null,null,null,null,null,null,57,{"$f":"Definitions_FlowLang!C98","v":"Electricity and heat output"},{"$f":"Definitions_FlowLang!D98","v":"Производство электроэнерги и тепла"},{"$f":"Definitions_FlowLang!E98","v":"电力和热力产量"}," "]
[{"$f":"HLOOKUP(LangChoice,$AW$4:$AY$67,$AV62+1)","v":"Electr. Generated - GWh"},null,null,"..",null,null,"..",null,null,"..","..",null,null,"..",null,null,"..",null,null,"..",null,null,"..",null,null,"..",null,null,"..",null,null,"..",null,null,"..",null,null,null,null,null,null,null,null,null,null,null,null,58,"Electr. Generated - GWh",{"$f":"Definitions_FlowLang!D99","v":"Производство электроэнергии ● ГВт-ч"},{"$f":"Definitions_FlowLang!E99","v":"电力产量（单位：吉瓦时）"}," "]
["Electricity plants",null,null,"..",null,null,"..",null,null,"..","..",null,null,"..",null,null,"..",null,null,"..",null,null,"..",null,null,"..",null,null,"..",null,null,"..",null,null,"..",null,null,null,null,null,null,null,null,null,null,null,null,59,"Electricity plants","Электростанции","  发电厂"," "]
["CHP plants",null,null,"..",null,null,"..",null,null,"..","..",null,null,"..",null,null,"..",null,null,"..",null,null,"..",null,null,"..",null,null,"..",null,null,"..",null,null,"..",null,null,null,null,null,null,null,null,null,null,null,null,60,"CHP plants","Тепло-электроцентрали","  热电联产厂"," "]
["Heat generated - TJ",null,null,"..",null,null,"..",null,null,"..","..",null,null,"..",null,null,"..",null,null,"..",null,null,"..",null,null,"..",null,null,"..",null,null,"..",null,null,"..",null,null,null,null,null,null,null,null,null,null,null,null,61,"Heat generated - TJ",{"$f":"Definitions_FlowLang!D108","v":"Производство тепла ● ТДж"},{"$f":"Definitions_FlowLang!E108","v":"热力产量（单位：太焦耳）"}," "]
["CHP plants",null,null,"..",null,null,"..",null,null,"..","..",null,null,"..",null,null,"..",null,null,"..",null,null,"..",null,null,"..",null,null,"..",null,null,"..",null,null,"..",null,null,null,null,null,null,null,null,null,null,null,null,62,"CHP plants","Тепло-электроцентрали","  热电联产厂"," "]
["Heat plants",null,null,"..",null,null,"..",null,null,"..","..",null,null,"..",null,null,"..",null,null,"..",null,null,"..",null,null,"..",null,null,"..",null,null,"..",null,null,"..",null,null,null,null,null,null,null,null,null,null,null,null,63,"Heat plants","Теплоцентрали","  热力厂"," "]
[null,null,null,null,null,null,null,null,null,null,null,null,null,null,null,null,null,null,null,null,null,null,null,null,null,null,null,null,null,null,null,null,null,null,null,null,null,null,null,null,null,null,null,null,null,null,null,64,null,null,null," "]
[null,null,null,null,null,null,null,null,null,null,null,null,null,null,null,null,null,null,null,null,null,null,null,null,null,null,null,null,null,null,null,null,null,null,null,null,null,null,null,null,null,null,null,null,null,null,null,65,null,null,null," "]
[null,null,null,null,null,null,null,null,null,null,null,null,null,null,null,null,null,null,null,null,null,null,null,null,null,null,null,null,null,null,null,null,null,null,null,null,null,null,null,null,null,null,null,null,null,null,null,66,null,null,null," "]
[null,null,null,null,null,null,null,null,null,null,null,null,null,null,null,null,null,null,null,null,null,null,null,null,null,null,null,null,null,null,null,null,null,null,null,null,null,null,null,null,null,null,null,null,null,null,null,67,null,null,null," "]
[null,null,null,null,null,null,null,null,null,null,null,null,null,null,null,null,null,null,null,null,null,null,null,null,null,null,null,null,null,null,null,null,null,null,null,null,null,null,null,null,null,null,null,null,null,null,null,68,null,null,null," "]
[null,null,null,null,null,null,null,null,null,null,null,null,null,null,null,null,null,null,null,null,null,null,null,null,null,null,null,null,null,null,null,null,null,null,null,null,null,null,null,null,null,null,null,null,null,null,null,69,null,null,null," "]
[null,null,null,null,null,null,null,null,null,null,null,null,null,null,null,null,null,null,null,null,null,null,null,null,null,null,null,null,null,null,null,null,null,null,null,null,null,null,null,null,null,null,null,null,null,null,null,70,"Energy balance created with IEA balance builder tool based on data provided by the user","Энергетический баланс, созданный при помощи инструмента МЭА для построения балансов на основе предоставленных пользователем данных","[missing Chinese]"," "]
[null,null,null,null,null,null,null,null,null,null,null,null,null,null,null,null,null,null,null,null,null,null,null,null,null,null,null,null,null,null,null,null,null,null,null,null,null,null,null,null,null,null,null,null,null,null,null,71,"Version","версия",null," "]

{"sheet":"Balance Summary","index":17,"n_rows":94,"n_cols":43,"rows_kept":94,"cut":false,"hidden":false,"merged":[[19,0,23,1],[5,0,9,1],[12,0,16,1],[28,0,32,1]]}
[{"$f":"HLOOKUP(LangChoice,$AC$2:$AE$50,$AB3+1,FALSE) & \", \" & CountryName","v":"Summary of the energy balance, Statisland"},null,null,null,null,null,null,null,null,null,null,null,null,null,null,null,null,null,null,null,null,null,null,null,null,null,"Hide -->:"," ","Data for the text portions",null,null,null,null,"Data for charts",null,null,null,null,null,null,null,null,"<-- Hide"]
[null,null,null,null,null,null,null,null,null,null,null,null,null,null,null,null,null,null,null,null,null,null,null,null,null,null,"Selection","Row","English","Pусский","中文",null,null,"By product:",{"$f":"C18","v":"Graph 2: Energy production by fuel"},{"$f":"C11","v":"Graph 1: Total energy supply by fuel¹"},{"$f":"C37","v":""},{"$f":"C25","v":"Graph 3: Electricity production by source"},"Self-sufficiency-ratio"]
[{"$f":"HLOOKUP(LangChoice,$AC$2:$AE$50,$AB6+1,FALSE)","v":"SUPPLY"},null,null,null,null,null,null,null,null,null,null,null,null,null,null,null,null,null,null,null,null,null,null,null,null,null,null,1,"Summary of the energy balance","Резюме энергетического баланса","[missing Chinese]",null,null,{"$f":"'Aggregated Balance'!B2","v":"Coal"},{"$f":"SUM('Aggregated Balance'!$B3:$D3)","v":0},{"$f":"SUM('Aggregated Balance'!$B9:$D9)","v":0},{"$f":"SUM('Aggregated Balance'!$B28:$D28)","v":0},{"$f":"SUM('Aggregated Balance'!$B61:$D61)","v":0},{"$f":"AI3/AJ3","v":{"$error":"#DIV/0!"}}]
[null,null,null,null,null,null,null,null,null,null,null,null,null,null,null,null,null,null,null,null,null,null,null,null,null,null,null,2,null,null,null,null,null,{"$f":"HLOOKUP(LangChoice,$AC$2:$AE$50,$AB39+1,FALSE)","v":"Oil"},{"$f":"SUM('Aggregated Balance'!$E3,'Aggregated Balance'!$F3)","v":46.53},{"$f":"SUM('Aggregated Balance'!$E9,'Aggregated Balance'!$F9)","v":156791.53},{"$f":"SUM('Aggregated Balance'!$E28,'Aggregated Balance'!$F28)","v":23005},{"$f":"SUM('Aggregated Balance'!$E61,'Aggregated Balance'!$F61)","v":9850},{"$f":"AI4/AJ4","v":2.9676347950683308E-4}]
[{"$f":"HLOOKUP(LangChoice,$AC$2:$AE$50,$AB7+1,FALSE)","v":"TES"},null,null,null,null,null,null,null,null,null,null,null,null,null,null,null,null,null,null,null,null,null,null,null,null,null,null,3,null,null,null,null,null,{"$f":"'Aggregated Balance'!G2","v":"Natural gas"},{"$f":"'Aggregated Balance'!$G3","v":0},{"$f":"'Aggregated Balance'!$G9","v":0},{"$f":"'Aggregated Balance'!$G28","v":0},{"$f":"'Aggregated Balance'!$G61","v":0},{"$f":"AI5/AJ5","v":{"$error":"#DIV/0!"}}]
[{"$f":"AA8&$AB$1&AA9&$AB$1&AA10&$AB$1&AA11","v":"Total energy supply (TES) was 159 petajoules (PJ) in 2023. Oil is the main fuel in the country's energy mix, accounting for 98% of TES. It is followed by hydro (1%) and other ² (0%). Renewable share of the TES is 2%."},null,null,null,null,null,null,null,null,null,null,null,null,null,null,null,null,null,null,null,null,null,null,null,null,null,null,4,"SUPPLY","ПРЕДЛОЖЕНИЕ","[missing Chinese]",null,null,{"$f":"'Aggregated Balance'!H2","v":"Nuclear"},{"$f":"'Aggregated Balance'!$H3","v":0},{"$f":"'Aggregated Balance'!$H9","v":0},{"$f":"'Aggregated Balance'!$H28","v":0},{"$f":"'Aggregated Balance'!$H61","v":0}]
[null,null,null,null,null,null,null,null,null,null,null,null,null,null,null,null,null,null,null,null,null,null,null,null,null,null,null,5,"TES","ОППЭ","[missing Chinese]",null,null,{"$f":"'Aggregated Balance'!I2","v":"Hydro"},{"$f":"'Aggregated Balance'!$I3","v":2160},{"$f":"'Aggregated Balance'!$I9","v":2160},{"$f":"'Aggregated Balance'!$I28","v":0},{"$f":"'Aggregated Balance'!$I61","v":600}]
[null,null,null,null,null,null,null,null,null,null,null,null,null,null,null,null,null,null,null,null,null,null,null,null,null,null,{"$f":"HLOOKUP(LangChoice,$AC$2:$AE$65,$AB8+1)","v":"Total energy supply (TES) was 159 petajoules (PJ) in 2023."},6,{"$f":"\"Total energy supply (TES) was \" &ROUND($AJ$13/1000,0) & \" petajoules (PJ) in \" & DataYear &\".\"","v":"Total energy supply (TES) was 159 petajoules (PJ) in 2023."},{"$f":"\"Общее предложение первичной энергии (ОППЭ) в \" & DataYear & \" году составило \" & ROUND($AJ$13/1000,0) & \" Мт н. э. (мегатонн нефтяного эквивалента).\"","v":"Общее предложение первичной энергии (ОППЭ) в 2023 году составило 159 Мт н. э. (мегатонн нефтяного эквивалента)."},"[missing Chinese]",null,null,{"$f":"'Aggregated Balance'!L2","v":"Biofuels and waste"},{"$f":"'Aggregated Balance'!$L3","v":117.7},{"$f":"'Aggregated Balance'!$L9","v":117.7},{"$f":"'Aggregated Balance'!$L28","v":117.7},{"$f":"'Aggregated Balance'!$L61","v":0}]
[null,null,null,null,null,null,null,null,null,null,null,null,null,null,null,null,null,null,null,null,null,null,null,null,null,null,{"$f":"HLOOKUP(LangChoice,$AC$2:$AE$65,$AB9+1)","v":"Oil is the main fuel in the country's energy mix, accounting for 98% of TES."},7,{"$f":"AJ22 & \" is the main fuel in the country's energy mix, accounting for \" & IF(TEXT(AL22,\"0%\")=\"100%\",TEXT(AL22,\"0.0%\"),TEXT(AL22,\"0%\")) &\" of TES.\"","v":"Oil is the main fuel in the country's energy mix, accounting for 98% of TES."},{"$f":"AJ22 & \" является основным видом топлива в структуре энергетики страны и его доля составила \" &  IF(TEXT(AL22,\"0%\")=\"100%\",TEXT(AL22,\"0.0%\"),TEXT(AL22,\"0%\"))  & \" ОППЭ.\"","v":"Oil является основным видом топлива в структуре энергетики страны и его доля составила 98% ОППЭ."},"[missing Chinese]",null,null,{"$f":"HLOOKUP(LangChoice,$AC$2:$AE$50,$AB40+1,FALSE)","v":"Other ²"},{"$f":"SUM(AI10,AI12)","v":176.4},{"$f":"SUM(AJ10,AJ12)","v":176.4},{"$f":"SUM(AK10:AK12)","v":32637.599999999999},{"$f":"SUM(AL10:AL12)","v":49}]
[null,null,null,null,null,null,null,null,null,null,null,null,null,null,null,null,null,null,null,null,null,null,null,null,null,null,{"$f":"HLOOKUP(LangChoice,$AC$2:$AE$65,$AB10+1)","v":"It is followed by hydro (1%) and other ² (0%)."},8,{"$f":"\"It is followed by \" & LOWER(AJ23) & \" (\" & TEXT(AL23,\"0%\") & \") and \" & LOWER(AJ24) & \" (\" & TEXT(AL24,\"0%\") & \").\"","v":"It is followed by hydro (1%) and other ² (0%)."},{"$f":"\"Следующими по значимости видами топлива являются \" & LOWER(AJ23) & \" (\" & TEXT(AL23,\"0%\") & \") и \" & LOWER(AJ24) & \" (\" & TEXT(AL24,\"0%\") & \").\"","v":"Следующими по значимости видами топлива являются hydro (1%) и other ² (0%)."},"[missing Chinese]",null,null,{"$f":"'Aggregated Balance'!J2&\", \"&'Aggregated Balance'!K2","v":"Geothermal, Solar, Wind, Others"},{"$f":"SUM('Aggregated Balance'!$J3,'Aggregated Balance'!$K3)","v":176.4},{"$f":"SUM('Aggregated Balance'!$J9,'Aggregated Balance'!$K9)","v":176.4},{"$f":"SUM('Aggregated Balance'!$J28,'Aggregated Balance'!$K28)","v":0},{"$f":"SUM('Aggregated Balance'!$J61,'Aggregated Balance'!$K61)","v":49}]
[null,null,{"$f":"HLOOKUP(LangChoice,$AC$2:$AE$50,$AB12+1,FALSE)","v":"Graph 1: Total energy supply by fuel¹"},null,null,null,null,null,null,null,null,null,null,null,null,null,null,null,null,null,null,null,null,null,null,null,{"$f":"HLOOKUP(LangChoice,$AC$2:$AE$65,$AB11+1)","v":"Renewable share of the TES is 2%."},9,{"$f":"\"Renewable share of the TES is \" &TEXT(AJ16,\"0%\") & \".\"","v":"Renewable share of the TES is 2%."},{"$f":"\"Доля возобновляемых источников энергии в ОППЭ составляет \" & TEXT(AJ16,\"0%\") & \".\"","v":"Доля возобновляемых источников энергии в ОППЭ составляет 2%."},"[missing Chinese]",null,null,{"$f":"'Aggregated Balance'!M2","v":"Electricity"},{"$f":"'Aggregated Balance'!$M3","v":0},{"$f":"'Aggregated Balance'!$M9","v":82.8},{"$f":"'Aggregated Balance'!$M28","v":32637.599999999999},{"$f":"'Aggregated Balance'!$M61","v":0}]
[{"$f":"HLOOKUP(LangChoice,$AC$2:$AE$50,$AB15+1,FALSE)","v":"PRODUCTION"},null,null,null,null,null,null,null,null,null,null,null,null,null,null,null,null,null,null,null,null,null,null,null,null,null,null,10,"Graph 1: Total energy supply by fuel¹","Диаграмма 1: Общее предложение первичной энергии по видам топлива¹","[missing Chinese]",null,null,{"$f":"'Aggregated Balance'!N2","v":"Heat"},{"$f":"'Aggregated Balance'!$N3","v":0},{"$f":"'Aggregated Balance'!$N9","v":0},{"$f":"'Aggregated Balance'!$N28","v":0},{"$f":"'Aggregated Balance'!$N61","v":0}]
[{"$f":"AA16&$AB$1&AA17&$AB$1&AA18&$AB$1&AA19","v":"Total energy production was 3 PJ in 2023. In the domestic production, hydro has the largest share (86%). Fossil fuels represent 2% of the total energy production. The overall self-sufficiency (ratio between production and TES) of is 2%."},null,null,null,null,null,null,null,null,null,null,null,null,null,null,null,null,null,null,null,null,null,null,null,null,null,null,11,null,null,null,null,null,{"$f":"'Aggregated Balance'!P2","v":"Total"},{"$f":"'Aggregated Balance'!$P3","v":2500.63},{"$f":"'Aggregated Balance'!$P9","v":159328.43},{"$f":"'Aggregated Balance'!$P28","v":55760.299999999996},{"$f":"'Aggregated Balance'!$P61","v":10499},{"$f":"AI13/AJ13","v":1.5694813537044206E-2}]
[null,null,null,null,null,null,null,null,null,null,null,null,null,null,null,null,null,null,null,null,null,null,null,null,null,null,null,12,null,null,null,null,null,"Check:",{"$f":"SUM(AI3:AI9)-AI13","v":0},{"$f":"SUM(AJ3:AJ9)-AJ13","v":-82.799999999988358},0,0]
[null,null,null,null,null,null,null,null,null,null,null,null,null,null,null,null,null,null,null,null,null,null,null,null,null,null,null,13,"PRODUCTION","ПРОИЗВОДСТВО","[missing Chinese]",null,null,"Memo: Renewables",{"$f":"SUM(AI$7,AI$8,AI$10)-SUM('Disaggregated Balance'!$AT5,'Disaggregated Balance'!$AV5)","v":2454.1},{"$f":"SUM(AJ$7,AJ$8,AJ$10)-SUM('Disaggregated Balance'!$AT11,'Disaggregated Balance'!$AV11)","v":2454.1},null,{"$f":"SUM(AL$7,AL$8,AL$10)-SUM('Disaggregated Balance'!$AT59,'Disaggregated Balance'!$AV59)","v":649}]
[null,null,null,null,null,null,null,null,null,null,null,null,null,null,null,null,null,null,null,null,null,null,null,null,null,null,{"$f":"HLOOKUP(LangChoice,$AC$2:$AE$65,$AB16+1)","v":"Total energy production was 3 PJ in 2023."},14,{"$f":"\"Total energy production was \" &IF(ROUND($AI$13/1000,0)=0,ROUND($AI$13/1000,1),ROUND($AI$13/1000,0)) & \" PJ in \" & DataYear &\".\"","v":"Total energy production was 3 PJ in 2023."},{"$f":"\"Суммарная выработка энергии в \" & DataYear & \" году составила \" & IF(ROUND($AI$13/1000,0)=0,ROUND($AI$13/1000,1),ROUND($AI$13/1000,0)) & \" Мт н. э.\"","v":"Суммарная выработка энергии в 2023 году составила 3 Мт н. э."},"[missing Chinese]",null,null,"Renewables share",{"$f":"AI15/AI13","v":0.98139268904236121},{"$f":"AJ15/AJ13","v":1.5402775261138266E-2},null,{"$f":"AL15/AL13","v":6.1815410991523004E-2}]
[null,null,null,null,null,null,null,null,null,null,null,null,null,null,null,null,null,null,null,null,null,null,null,null,null,null,{"$f":"HLOOKUP(LangChoice,$AC$2:$AE$65,$AB17+1)","v":"In the domestic production, hydro has the largest share (86%)."},15,{"$f":"\"In the domestic production, \" & LOWER(AJ35) & \" has the largest share (\" & TEXT(AL35,\"0%\") & \").\"","v":"In the domestic production, hydro has the largest share (86%)."},{"$f":"\"Наибольшая доля внутреннего производства энергии приходится на \"& LOWER(AJ35) & \" (\" & TEXT(AL35,\"0%\") & \").\"","v":"Наибольшая доля внутреннего производства энергии приходится на hydro (86%)."},"[missing Chinese]",null,null,"Memo: Fossil fuels",{"$f":"SUM(AI3:AI5)+SUM('Disaggregated Balance'!$AT5,'Disaggregated Balance'!$AV5)","v":46.53},null,null,{"$f":"SUM(AL3:AL5)+SUM('Disaggregated Balance'!$AT88,'Disaggregated Balance'!$AV88)","v":9850}]
[null,null,{"$f":"HLOOKUP(LangChoice,$AC$2:$AE$50,$AB20+1,FALSE)","v":"Graph 2: Energy production by fuel"},null,null,null,null,null,null,null,null,null,null,null,null,null,null,null,null,null,null,null,null,null,null,null,{"$f":"HLOOKUP(LangChoice,$AC$2:$AE$65,$AB18+1)","v":"Fossil fuels represent 2% of the total energy production."},16,{"$f":"\"Fossil fuels represent \"& TEXT(AI18,\"0%\") & \" of the total energy production.\"","v":"Fossil fuels represent 2% of the total energy production."},{"$f":"\"Доля ископаемого топлива составляет \" & TEXT(AI18,\"0%\") & \" от общего производства энергии.\"","v":"Доля ископаемого топлива составляет 2% от общего производства энергии."},"[missing Chinese]",null,null,"Fossil fuel share:",{"$f":"AI17/AI13","v":1.8607310957638675E-2},null,null,{"$f":"AL17/AL13","v":0.93818458900847701}]
[{"$f":"HLOOKUP(LangChoice,$AC$2:$AE$50,$AB23+1,FALSE)","v":"ELECTRICITY GENERATION"},null,null,null,null,null,null,null,null,null,null,null,null,null,null,null,null,null,null,null,null,null,null,null,null,null,{"$f":"HLOOKUP(LangChoice,$AC$2:$AE$65,$AB19+1)","v":"The overall self-sufficiency (ratio between production and TES) of is 2%."},17,{"$f":"\"The overall self-sufficiency (ratio between production and TES) of is \" & TEXT(AM13,\"0%\") & \".\"","v":"The overall self-sufficiency (ratio between production and TES) of is 2%."},{"$f":"\"Общая самообеспеченность (соотношение между производством и ОППЭ) составляет \" & TEXT(AM13,\"0%\") &\".\"","v":"Общая самообеспеченность (соотношение между производством и ОППЭ) составляет 2%."},"[missing Chinese]"]
[{"$f":"AA24&$AB$1&AA25&$AB$1&AA26&$AB$1&AA27","v":"Electricity generation was 10 terawatt hours (TWh) in 2023. Main source for electricity is oil with 94% share. The fossil fuels represent 94% of total electricity generation. Renewable share in the electricity generation is 6%."},null,null,null,null,null,null,null,null,null,null,null,null,null,null,null,null,null,null,null,null,null,null,null,null,null,null,18,"Graph 2: Energy production by fuel","Диаграмма 2: Выработка энергии по видам топлива","[missing Chinese]",null,null,"Sort the fuels for TES:"]
[null,null,null,null,null,null,null,null,null,null,null,null,null,null,null,null,null,null,null,null,null,null,null,null,null,null,null,19,null,null,null,null,null,"Position","Rank in upper table","Labels sorted","Value sorted","Shares"]
[null,null,null,null,null,null,null,null,null,null,null,null,null,null,null,null,null,null,null,null,null,null,null,null,null,null,null,20,null,null,null,null,null,1,{"$f":"RANK($AJ3,$AJ$3:$AJ$12,0)","v":7},{"$f":"INDEX($AH$3:$AH$12,MATCH($AH22,$AI$22:$AI$30,0))","v":"Oil"},{"$f":"INDEX($AJ$3:$AJ$12,MATCH($AH22,$AI$22:$AI$30,0))","v":156791.53},{"$f":"AK22/SUM($AJ$3:$AJ$9)","v":0.98458921604316552}]
[null,null,null,null,null,null,null,null,null,null,null,null,null,null,null,null,null,null,null,null,null,null,null,null,null,null,null,21,"ELECTRICITY GENERATION","ГЕНЕРАЦИЯ ЭЛЕКТРОЭНЕРГИИ","[missing Chinese]",null,null,2,1,"Hydro",2160,1.3563951488025134E-2]
[null,null,null,null,null,null,null,null,null,null,null,null,null,null,null,null,null,null,null,null,null,null,null,null,null,null,{"$f":"HLOOKUP(LangChoice,$AC$2:$AE$65,$AB24+1)","v":"Electricity generation was 10 terawatt hours (TWh) in 2023."},22,{"$f":"\"Electricity generation was \" & ROUND(AL13/1000,0) & \" terawatt hours (TWh) in \" & DataYear & \".\"","v":"Electricity generation was 10 terawatt hours (TWh) in 2023."},{"$f":"\"В \" & DataYear & \" году производство электроэнергии составило \" & ROUND(AL13/1000,0) & \" тераватт-час (ТВт·ч).\"","v":"В 2023 году производство электроэнергии составило 10 тераватт-час (ТВт·ч)."},"[missing Chinese]",null,null,3,7,"Other ²",176.4,1.1077227048553861E-3]
[null,null,{"$f":"HLOOKUP(LangChoice,$AC$2:$AE$50,$AB28+1,FALSE)","v":"Graph 3: Electricity production by source"},null,null,null,null,null,null,null,null,null,null,null,null,null,null,null,null,null,null,null,null,null,null,null,{"$f":"HLOOKUP(LangChoice,$AC$2:$AE$65,$AB25+1)","v":"Main source for electricity is oil with 94% share."},23,{"$f":"\"Main source for electricity is \" &LOWER(AJ48) & \" with \" & TEXT(AL48,\"0%\") & \" share.\"","v":"Main source for electricity is oil with 94% share."},{"$f":"\"Основным источником электроэнергии является \"& LOWER(AJ48) &\" с долей \"& TEXT(AL48,\"0%\")  &\".\"","v":"Основным источником электроэнергии является oil с долей 94%."},"[missing Chinese]",null,null,4,7,{"$error":"#N/A"},{"$error":"#N/A"},{"$error":"#N/A"}]
[{"$f":"HLOOKUP(LangChoice,$AC$2:$AE$50,$AB31+1,FALSE)","v":"DEMAND"},null,null,null,null,null,null,null,null,null,null,null,null,null,null,null,null,null,null,null,null,null,null,null,null,null,{"$f":"HLOOKUP(LangChoice,$AC$2:$AE$65,$AB26+1)","v":"The fossil fuels represent 94% of total electricity generation."},24,{"$f":"\"The fossil fuels represent \"& TEXT(AL18,\"0%\") & \" of total electricity generation.\"","v":"The fossil fuels represent 94% of total electricity generation."},{"$f":"\"Доля ископаемых видов топлива составляет \" & TEXT(AL18,\"0%\") & \" от общего производства электроэнергии.\"","v":"Доля ископаемых видов топлива составляет 94% от общего производства электроэнергии."},"[missing Chinese]",null,null,5,2,"Biofuels and waste",117.7,7.3910976395396221E-4]
[null,null,null,null,null,null,null,null,null,null,null,null,null,null,null,null,null,null,null,null,null,null,null,null,null,null,{"$f":"HLOOKUP(LangChoice,$AC$2:$AE$65,$AB27+1)","v":"Renewable share in the electricity generation is 6%."},25,{"$f":"\"Renewable share in the electricity generation is \" &TEXT(AL16,\"0%\") & \".\"","v":"Renewable share in the electricity generation is 6%."},{"$f":"\"Доля ВИЭ в производстве электроэнергии составляет \" & TEXT(AL16,\"0%\") & \".\"","v":"Доля ВИЭ в производстве электроэнергии составляет 6%."},"[missing Chinese]",null,null,6,5,"Geothermal, Solar, Wind, Others",176.4,1.1077227048553861E-3]
[{"$f":"HLOOKUP(LangChoice,$AC$2:$AE$50,$AB32+1,FALSE)","v":"FINAL ENERGY CONSUMPTION"},null,null,null,null,null,null,null,null,null,null,null,null,null,null,null,null,null,null,null,null,null,null,null,null,null,null,26,"Graph 3: Electricity production by source","Диаграмма 3: Производство электроэнергии по источникам","[missing Chinese]",null,null,7,{"$f":"RANK($AJ10,$AJ$3:$AJ$12,0)","v":3},"Coal",0,0]
[{"$f":"AA33&$AB$1&AA34&$AB$1&AA35&$AB$1&AA36","v":{"$error":"#NAME?"}},null,null,null,null,null,null,null,null,null,null,null,null,null,null,null,null,null,null,null,null,null,null,null,null,null,null,27,null,null,null,null,null,8,{"$f":"RANK($AJ11,$AJ$3:$AJ$12,0)","v":6},{"$error":"#N/A"},{"$error":"#N/A"},{"$error":"#N/A"}]
[null,null,null,null,null,null,null,null,null,null,null,null,null,null,null,null,null,null,null,null,null,null,null,null,null,null,null,28,null,null,null,null,null,9,{"$f":"RANK($AJ12,$AJ$3:$AJ$12,0)","v":7},{"$error":"#N/A"},{"$error":"#N/A"},{"$error":"#N/A"}]
[null,null,null,null,null,null,null,null,null,null,null,null,null,null,null,null,null,null,null,null,null,null,null,null,null,null,null,29,"DEMAND","СПРОС","[missing Chinese]",null,null,null,null,"Others",{"$f":"AJ13-SUM(AK22:AK26)","v":{"$error":"#N/A"}}]
[null,null,null,null,null,null,null,null,null,null,null,null,null,null,null,null,null,null,null,null,null,null,null,null,null,null,null,30,"FINAL ENERGY CONSUMPTION","КОНЕЧНОЕ ПОТРЕБЛЕНИЕ ЭНЕРГИИ","[missing Chinese]"]
[null,null,null,null,null,null,null,null,null,null,null,null,null,null,null,null,null,null,null,null,null,null,null,null,null,null,{"$f":"HLOOKUP(LangChoice,$AC$2:$AE$65,$AB33+1)","v":{"$error":"#NAME?"}},31,{"$f":"\"Total final consumption (TFC) was \" & ROUND(_xlnm.AK13/1000,0) & \" PJ in \"&DataYear & \".\"","v":{"$error":"#NAME?"}},{"$f":"\"В \" & DataYear & \" году общее конечное потребление энергии (ОКПЭ) составило \" & ROUND(AK13/1000,0) & \" Мт н. э.\"","v":"В 2023 году общее конечное потребление энергии (ОКПЭ) составило 56 Мт н. э."},"[missing Chinese]",null,null,"Sort the fuels for production:"]
[null,null,null,null,null,null,null,null,null,null,null,null,null,null,null,null,null,null,null,null,null,null,null,null,null,null,{"$f":"HLOOKUP(LangChoice,$AC$2:$AE$65,$AB34+1)","v":{"$error":"#NAME?"}},32,{"$f":"_xlnm.AH74 & \" is the largest energy-consuming sector at \" & ROUND(_xlnm.AO74/1000,0) & \" PJ.\"","v":{"$error":"#NAME?"}},{"$f":"\"наибольший объем потребления энергии в объеме \" & ROUND(AO74/1000,0) & \" Мт н. э. продемонстрировал сектор \"& AH74 & \".\"","v":"наибольший объем потребления энергии в объеме 23 Мт н. э. продемонстрировал сектор Transport."},"[missing Chinese]",null,null,"Position","Rank in upper table","Labels sorted","Value sorted","Shares"]
[null,null,null,null,null,null,null,null,null,null,null,null,null,null,null,null,null,null,null,null,null,null,null,null,null,null,{"$f":"HLOOKUP(LangChoice,$AC$2:$AE$65,$AB35+1)","v":"It represents 41% of TFC."},33,{"$f":"\"It represents \" & TEXT(AI91,\"0%\") & \" of TFC.\"","v":"It represents 41% of TFC."},{"$f":"\"что составляет \" & TEXT(AI91,\"0%\") & \" от ОКПЭ.\"","v":"что составляет 41% от ОКПЭ."},"[missing Chinese]",null,null,1,{"$f":"RANK($AI3,$AI$3:$AI$12,0)","v":6},{"$f":"INDEX($AH$3:$AH$12,MATCH($AH35,$AI$35:$AI$43,0))","v":"Hydro"},{"$f":"INDEX($AI$3:$AI$12,MATCH($AH35,$AI$35:$AI$43,0))","v":2160},{"$f":"AK35/$AI$13","v":0.86378232685363288}]
[null,null,{"$f":"IF(LangChoice<>\"Pусский\",HLOOKUP(LangChoice,$AC$2:$AE$50,$AB37+1,FALSE),\"\")","v":"Graph 4: Total final consumption, PJ"},null,null,null,null,null,null,null,null,null,null,null,null,null,null,null,null,null,null,null,null,null,null,null,{"$f":"HLOOKUP(LangChoice,$AC$2:$AE$65,$AB36+1)","v":"Residential sector accounted for 15% of TFC in 2023."},34,{"$f":"IF(AH74=AH66,\"\",AH66 & \" sector accounted for \" & TEXT(AQ66,\"0%\") & \" of TFC in \" & DataYear & \".\")","v":"Residential sector accounted for 15% of TFC in 2023."},{"$f":"IF(AH74=AH66,\"\",\"Доля сектора \" & AH66 & \" составила \" & TEXT(AQ66,\"0%\") & \" ОКПЭ в \" & DataYear & \" году.\")","v":"Доля сектора Residential составила 15% ОКПЭ в 2023 году."},"[missing Chinese]",null,null,2,5,"Other ²",176.4,7.0542223359713357E-2]
[null,null,{"$f":"IF(LangChoice=\"Pусский\",HLOOKUP(LangChoice,$AC$2:$AE$50,$AB37+1,FALSE),\"\")","v":""},null,null,null,null,null,null,null,null,null,null,null,null,null,null,null,null,null,null,null,null,null,null,null,null,35,"Graph 4: Total final consumption, PJ","Диаграмма 4: Общее конечное потребление, Мт н. э.","[missing Chinese]",null,null,3,6,{"$error":"#N/A"},{"$error":"#N/A"},{"$error":"#N/A"}]
[{"$f":"HLOOKUP(LangChoice,$AC$2:$AE$50,$AB41+1,FALSE)","v":"1. Excludes electricity trade"},null,null,null,null,null,null,null,null,null,null,null,null,null,null,null,null,null,null,null,null,null,null,null,null,null,null,36,null,null,null,null,null,4,6,"Biofuels and waste",117.7,4.7068138829015088E-2]
[{"$f":"HLOOKUP(LangChoice,$AC$2:$AE$50,$AB42+1,FALSE)","v":"2. Includes geothermal, solar, wind, tide/wave/ocean, heat and other."},null,null,null,null,null,null,null,null,null,null,null,null,null,null,null,null,null,null,null,null,null,null,null,null,null,null,37,"Oil","Нефть","[missing Chinese]",null,null,5,1,"Oil",46.53,1.8607310957638675E-2]
[null,null,null,null,null,null,null,null,null,null,null,null,null,null,null,null,null,null,null,null,null,null,null,null,null,null,null,38,"Other ²","Другое ²","[missing Chinese]",null,null,6,4,"Coal",0,0]
[null,null,null,null,null,null,null,null,null,null,null,null,null,null,null,null,null,null,null,null,null,null,null,null,null,null,null,39,"1. Excludes electricity trade","1. Не включая торговлю электроэнергией","[missing Chinese]",null,null,7,{"$f":"RANK($AI10,$AI$3:$AI$12,0)","v":2},{"$error":"#N/A"},{"$error":"#N/A"},{"$error":"#N/A"}]
[null,null,null,null,null,null,null,null,null,null,null,null,null,null,null,null,null,null,null,null,null,null,null,null,null,null,null,40,"2. Includes geothermal, solar, wind, tide/wave/ocean, heat and other.","2. Включая геотермальную, солнечную, ветровую, тепловую энергию, энергию приливов/волн/океанов и другое.","[missing Chinese]",null,null,8,{"$f":"RANK($AI11,$AI$3:$AI$12,0)","v":6},{"$error":"#N/A"},{"$error":"#N/A"},{"$error":"#N/A"}]
[null,null,null,null,null,null,null,null,null,null,null,null,null,null,null,null,null,null,null,null,null,null,null,null,null,null,null,41,null,null,null,null,null,9,{"$f":"RANK($AI12,$AI$3:$AI$12,0)","v":6},{"$error":"#N/A"},{"$error":"#N/A"},{"$error":"#N/A"}]
[null,null,null,null,null,null,null,null,null,null,null,null,null,null,null,null,null,null,null,null,null,null,null,null,null,null,null,42,"Services","Сервисы",null,null,null,null,null,"Others",{"$f":"AI13-SUM(AK35:AK39)","v":{"$error":"#N/A"}}]
[null,null,null,null,null,null,null,null,null,null,null,null,null,null,null,null,null,null,null,null,null,null,null,null,null,null,null,43,"Non-specified",{"$f":"'Published Balance'!AC55","v":"Неспецифицированные"}]
[null,null,null,null,null,null,null,null,null,null,null,null,null,null,null,null,null,null,null,null,null,null,null,null,null,null,null,44,null,null,null,null,null,"Sort the fuels for ele generation:"]
[null,null,null,null,null,null,null,null,null,null,null,null,null,null,null,null,null,null,null,null,null,null,null,null,null,null,null,45,null,null,null,null,null,"Position","Rank in upper table","Labels sorted","Value sorted","Shares"]
[null,null,null,null,null,null,null,null,null,null,null,null,null,null,null,null,null,null,null,null,null,null,null,null,null,null,null,46,null,null,null,null,null,1,{"$f":"RANK($AL3,$AL$3:$AL$12,0)","v":5},{"$f":"INDEX($AH$3:$AH$12,MATCH($AH48,$AI$48:$AI$56,0))","v":"Oil"},{"$f":"INDEX($AL$3:$AL$12,MATCH($AH48,$AI$48:$AI$56,0))","v":9850},{"$f":"AK48/$AL$13","v":0.93818458900847701}]
[null,null,null,null,null,null,null,null,null,null,null,null,null,null,null,null,null,null,null,null,null,null,null,null,null,null,null,47,null,null,null,null,null,2,1,"Hydro",600,5.714829983807982E-2]
[null,null,null,null,null,null,null,null,null,null,null,null,null,null,null,null,null,null,null,null,null,null,null,null,null,null,null,48,null,null,null,null,null,3,5,"Other ²",49,4.6671111534431851E-3]
[null,null,null,null,null,null,null,null,null,null,null,null,null,null,null,null,null,null,null,null,null,null,null,null,null,null,null,49,null,null,null,null,null,4,5,{"$error":"#N/A"},{"$error":"#N/A"},{"$error":"#N/A"}]
[null,null,null,null,null,null,null,null,null,null,null,null,null,null,null,null,null,null,null,null,null,null,null,null,null,null,null,50,null,null,null,null,null,5,2,"Coal",0,0]
[null,null,null,null,null,null,null,null,null,null,null,null,null,null,null,null,null,null,null,null,null,null,null,null,null,null,null,null,null,null,null,null,null,6,5,{"$error":"#N/A"},{"$error":"#N/A"},{"$error":"#N/A"}]
[null,null,null,null,null,null,null,null,null,null,null,null,null,null,null,null,null,null,null,null,null,null,null,null,null,null,null,null,null,null,null,null,null,7,{"$f":"RANK($AL10,$AL$3:$AL$12,0)","v":3},{"$error":"#N/A"},{"$error":"#N/A"},{"$error":"#N/A"}]
[null,null,null,null,null,null,null,null,null,null,null,null,null,null,null,null,null,null,null,null,null,null,null,null,null,null,null,null,null,null,null,null,null,8,{"$f":"RANK($AL11,$AL$3:$AL$12,0)","v":5},{"$error":"#N/A"},{"$error":"#N/A"},{"$error":"#N/A"}]
[null,null,null,null,null,null,null,null,null,null,null,null,null,null,null,null,null,null,null,null,null,null,null,null,null,null,null,null,null,null,null,null,null,9,{"$f":"RANK($AL12,$AL$3:$AL$12,0)","v":5},{"$error":"#N/A"},{"$error":"#N/A"},{"$error":"#N/A"}]
[null,null,null,null,null,null,null,null,null,null,null,null,null,null,null,null,null,null,null,null,null,null,null,null,null,null,null,null,null,null,null,null,null,null,null,"Others",{"$f":"AL13-SUM(AK48:AK52)","v":{"$error":"#N/A"}}]
[]
[]
[]
[]
[null,null,null,null,null,null,null,null,null,null,null,null,null,null,null,null,null,null,null,null,null,null,null,null,null,null,null,null,null,null,null,null,null,"Sectoral final consumption (non-energy use included in respective sectors):"]
[null,null,null,null,null,null,null,null,null,null,null,null,null,null,null,null,null,null,null,null,null,null,null,null,null,null,null,null,null,null,null,null,null,null,{"$f":"AH3","v":"Coal"},{"$f":"AH4","v":"Oil"},{"$f":"AH5","v":"Natural gas"},{"$f":"AH8","v":"Biofuels and waste"},{"$f":"AH11","v":"Electricity"},{"$f":"AH12","v":"Heat"},{"$f":"AH13","v":"Total"},"Check:","Shares:"]
[null,null,null,null,null,null,null,null,null,null,null,null,null,null,null,null,null,null,null,null,null,null,null,null,null,null,null,null,null,null,null,null,null,{"$f":"'Aggregated Balance'!A29","v":"Industry"},{"$f":"SUM('Aggregated Balance'!B29:D29,'Aggregated Balance'!B57:D57)","v":0},{"$f":"SUM('Aggregated Balance'!E29:F29,'Aggregated Balance'!E57:F57)","v":0},{"$f":"SUM('Aggregated Balance'!G29,'Aggregated Balance'!G57)","v":0},{"$f":"SUM('Aggregated Balance'!L29,'Aggregated Balance'!L57)","v":0},{"$f":"SUM('Aggregated Balance'!M29,'Aggregated Balance'!M57)","v":15840},{"$f":"SUM('Aggregated Balance'!N29,'Aggregated Balance'!N57)+SUM('Aggregated Balance'!J29:K29,'Aggregated Balance'!J57:K57)","v":0},{"$f":"SUM('Aggregated Balance'!P29,'Aggregated Balance'!P57)","v":15840},{"$f":"SUM(AI64:AN64)-AO64","v":0},{"$f":"AO64/$AO$69","v":0.28407307708172302}]
[null,null,null,null,null,null,null,null,null,null,null,null,null,null,null,null,null,null,null,null,null,null,null,null,null,null,null,null,null,null,null,null,null,{"$f":"'Aggregated Balance'!A43","v":"Transport"},{"$f":"SUM('Aggregated Balance'!B43:D43,'Aggregated Balance'!B58:D58)","v":0},{"$f":"SUM('Aggregated Balance'!E43:F43,'Aggregated Balance'!E58:F58)","v":23005},{"$f":"SUM('Aggregated Balance'!G43,'Aggregated Balance'!G58)","v":0},{"$f":"SUM('Aggregated Balance'!L43,'Aggregated Balance'!L58)","v":55.2},{"$f":"SUM('Aggregated Balance'!M43,'Aggregated Balance'!M58)","v":36},{"$f":"SUM('Aggregated Balance'!N43,'Aggregated Balance'!N58)+SUM('Aggregated Balance'!J43:K43,'Aggregated Balance'!J58:K58)","v":0},{"$f":"SUM('Aggregated Balance'!P43,'Aggregated Balance'!P58)","v":23096.2},0,{"$f":"AO65/$AO$69","v":0.41420508856659671}]
[null,null,null,null,null,null,null,null,null,null,null,null,null,null,null,null,null,null,null,null,null,null,null,null,null,null,null,null,null,null,null,null,null,{"$f":"'Aggregated Balance'!A51","v":"Residential"},{"$f":"SUM('Aggregated Balance'!B51:D51)","v":0},{"$f":"SUM('Aggregated Balance'!E51:F51)","v":0},{"$f":"SUM('Aggregated Balance'!G51)","v":0},{"$f":"SUM('Aggregated Balance'!L51)","v":62.5},{"$f":"SUM('Aggregated Balance'!M51)","v":8103.6},{"$f":"SUM('Aggregated Balance'!N51)+SUM('Aggregated Balance'!J51:K51)","v":0},{"$f":"'Aggregated Balance'!P51","v":8166.1},0,{"$f":"AO66/$AO$69","v":0.14645007290132947}]
[null,null,null,null,null,null,null,null,null,null,null,null,null,null,null,null,null,null,null,null,null,null,null,null,null,null,null,null,null,null,null,null,null,{"$f":"HLOOKUP(LangChoice,$AC$2:$AE$50,$AB44+1,FALSE)","v":"Services"},{"$f":"SUM('Aggregated Balance'!B52:D54,'Aggregated Balance'!B59:D59)","v":0},{"$f":"SUM('Aggregated Balance'!E52:F54,'Aggregated Balance'!E59:F59)","v":0},{"$f":"SUM('Aggregated Balance'!G52:G54,'Aggregated Balance'!G59)","v":0},{"$f":"SUM('Aggregated Balance'!L52:L54,'Aggregated Balance'!L59)","v":0},{"$f":"SUM('Aggregated Balance'!M52:M54,'Aggregated Balance'!M59)","v":8658},{"$f":"SUM('Aggregated Balance'!N52:N54,'Aggregated Balance'!N59)+SUM('Aggregated Balance'!J52:K54,'Aggregated Balance'!J59:K59)","v":0},{"$f":"SUM('Aggregated Balance'!P52:P54,'Aggregated Balance'!P59)","v":8658},0,{"$f":"AO67/$AO$69","v":0.15527176145035088}]
[null,null,null,null,null,null,null,null,null,null,null,null,null,null,null,null,null,null,null,null,null,null,null,null,null,null,null,null,null,null,null,null,null,{"$f":"HLOOKUP(LangChoice,$AC$2:$AE$50,$AB45+1,FALSE)","v":"Non-specified"},{"$f":"SUM('Aggregated Balance'!B55:D55)","v":0},{"$f":"SUM('Aggregated Balance'!E55:F55)","v":0},{"$f":"SUM('Aggregated Balance'!G55)","v":0},{"$f":"SUM('Aggregated Balance'!L55)","v":0},{"$f":"SUM('Aggregated Balance'!M55)","v":0},{"$f":"SUM('Aggregated Balance'!N55)+SUM('Aggregated Balance'!J55:K55)","v":0},{"$f":"'Aggregated Balance'!P55","v":0},0,{"$f":"AO68/$AO$69","v":0}]
[null,null,null,null,null,null,null,null,null,null,null,null,null,null,null,null,null,null,null,null,null,null,null,null,null,null,null,null,null,null,null,null,null,{"$f":"'Aggregated Balance'!A28","v":"Final consumption"},{"$f":"AK3","v":0},{"$f":"SUM(AK4:AK4)","v":23005},{"$f":"AK5","v":0},{"$f":"AK8","v":117.7},{"$f":"AK11","v":32637.599999999999},{"$f":"AK12","v":0},{"$f":"'Aggregated Balance'!P28","v":55760.299999999996},0]
[null,null,null,null,null,null,null,null,null,null,null,null,null,null,null,null,null,null,null,null,null,null,null,null,null,null,null,null,null,null,null,null,null,"Check:",{"$f":"SUM(AI64:AI68)-AI69","v":0},0,0,0,0,0,0]
[]
[null,null,null,null,null,null,null,null,null,null,null,null,null,null,null,null,null,null,null,null,null,null,null,null,null,null,null,null,null,null,null,null,null,"Sort chart based on total-column:",1,2,3,4,5,6,7]
[null,null,null,null,null,null,null,null,null,null,null,null,null,null,null,null,null,null,null,null,null,null,null,null,null,null,null,null,null,null,null,null,"Position"," ",{"$f":"AI63","v":"Coal"},"Oil","Natural gas","Biofuels and waste","Electricity","Heat",{"$f":"AO63","v":"Total"},"Check:","Total rank in upper table"]
[null,null,null,null,null,null,null,null,null,null,null,null,null,null,null,null,null,null,null,null,null,null,null,null,null,null,null,null,null,null,null,null,1,{"$f":"INDEX($AH$64:$AH$68,MATCH(AG74,$AQ$74:$AQ$77,0),1)","v":"Transport"},{"$f":"INDEX($AI$64:$AO$67,MATCH($AG74,$AQ$74:$AQ$77,0),AI$72)","v":0},23005,0,55.2,36,0,23096.2,{"$f":"SUM(AH74:AN74)-AO74","v":0},{"$f":"RANK($AO64,$AO$64:$AO$67,0)","v":2}]
[null,null,null,null,null,null,null,null,null,null,null,null,null,null,null,null,null,null,null,null,null,null,null,null,null,null,null,null,null,null,null,null,2,{"$f":"INDEX($AH$64:$AH$68,MATCH(AG75,$AQ$74:$AQ$77,0),1)","v":"Industry"},0,0,0,0,15840,0,15840,0,{"$f":"RANK($AO65,$AO$64:$AO$67,0)","v":1}]
[null,null,null,null,null,null,null,null,null,null,null,null,null,null,null,null,null,null,null,null,null,null,null,null,null,null,null,null,null,null,null,null,3,{"$f":"INDEX($AH$64:$AH$68,MATCH(AG76,$AQ$74:$AQ$77,0),1)","v":"Services"},0,0,0,0,8658,0,8658,0,4]
[null,null,null,null,null,null,null,null,null,null,null,null,null,null,null,null,null,null,null,null,null,null,null,null,null,null,null,null,null,null,null,null,4,{"$f":"INDEX($AH$64:$AH$68,MATCH(AG77,$AQ$74:$AQ$77,0),1)","v":"Residential"},0,0,0,62.5,8103.6,0,8166.1,0,3]
[null,null,null,null,null,null,null,null,null,null,null,null,null,null,null,null,null,null,null,null,null,null,null,null,null,null,null,null,null,null,null,null,null,{"$f":"AH68","v":"Non-specified"},0,0,0,0,0,0,{"$f":"AO68","v":0},0]
[null,null,null,null,null,null,null,null,null,null,null,null,null,null,null,null,null,null,null,null,null,null,null,null,null,null,null,null,null,null,null,null,null,{"$f":"AH69","v":"Final consumption"},{"$f":"SUM(AI74:AI78)","v":0},{"$f":"SUM(AJ74:AJ78)","v":23005},0,117.7,32637.599999999999,0,55760.299999999996,0]
[null,null,null,null,null,null,null,null,null,null,null,null,null,null,null,null,null,null,null,null,null,null,null,null,null,null,null,null,null,null,null,null,null,"Check:",{"$f":"SUM(AI74:AI78)-AI79","v":0},0,0,0,0,0,0]
[]
[null,null,null,null,null,null,null,null,null,null,null,null,null,null,null,null,null,null,null,null,null,null,null,null,null,null,null,null,null,null,null,null,null,"Transpose chart so that largest sector appears in the first column"]
[null,null,null,null,null,null,null,null,null,null,null,null,null,null,null,null,null,null,null,null,null,null,null,null,null,null,null,null,null,null,null,null,null,{"$f":"TRANSPOSE(AH73:AO78)","v":" "},"Transport","Industry","Services","Residential","Non-specified"]
[null,null,null,null,null,null,null,null,null,null,null,null,null,null,null,null,null,null,null,null,null,null,null,null,null,null,null,null,null,null,null,null,null,"Coal",0,0,0,0,0]
[null,null,null,null,null,null,null,null,null,null,null,null,null,null,null,null,null,null,null,null,null,null,null,null,null,null,null,null,null,null,null,null,null,"Oil",23005,0,0,0,0]
[null,null,null,null,null,null,null,null,null,null,null,null,null,null,null,null,null,null,null,null,null,null,null,null,null,null,null,null,null,null,null,null,null,"Natural gas",0,0,0,0,0]
[null,null,null,null,null,null,null,null,null,null,null,null,null,null,null,null,null,null,null,null,null,null,null,null,null,null,null,null,null,null,null,null,null,"Biofuels and waste",55.2,0,0,62.5,0]
[null,null,null,null,null,null,null,null,null,null,null,null,null,null,null,null,null,null,null,null,null,null,null,null,null,null,null,null,null,null,null,null,null,"Electricity",36,15840,8658,8103.6,0]
[null,null,null,null,null,null,null,null,null,null,null,null,null,null,null,null,null,null,null,null,null,null,null,null,null,null,null,null,null,null,null,null,null,"Heat",0,0,0,0,0]
[null,null,null,null,null,null,null,null,null,null,null,null,null,null,null,null,null,null,null,null,null,null,null,null,null,null,null,null,null,null,null,null,null,"Total",23096.2,15840,8658,8166.1,0]
[null,null,null,null,null,null,null,null,null,null,null,null,null,null,null,null,null,null,null,null,null,null,null,null,null,null,null,null,null,null,null,null,null,"Shares:",{"$f":"AI90/$AK$13","v":0.41420508856659671},{"$f":"AJ90/$AK$13","v":0.28407307708172302},{"$f":"AK90/$AK$13","v":0.15527176145035088},{"$f":"AL90/$AK$13","v":0.14645007290132947},{"$f":"AM90/$AK$13","v":0}]
[null,null,null,null,null,null,null,null,null,null,null,null,null,null,null,null,null,null,null,null,null,null,null,null,null,null,null,null,null,null,null,null,null,"Chart title:","[placeholder]"]
[null,null,null,null,null,null,null,null,null,null,null,null,null,null,null,null,null,null,null,null,null,null,null,null,null,null,null,null,null,null,null,null,null,"y-axis title:","Consumption [PJ]"]
[null,null,null,null,null,null,null,null,null,null,null,null,null,null,null,null,null,null,null,null,null,null,null,null,null,null,null,null,null,null,null,null,null,1.6180000000000001]

{"sheet":"Coal_Table_1","index":18,"n_rows":92,"n_cols":21,"rows_kept":92,"cut":false,"hidden":true,"merged":[]}
[null,null,{"$f":"DataYear","v":2023},null,null,"Table 1 SUPPLY AND TRANSFORMATION SECTOR\nENERGY SECTOR AND FINAL CONSUMPTION\nENERGY END USE SPECIFICATION"]
[null,"PRODUCT  è",null,null,"ANTCOAL","COKCOAL","BITCOAL","SUBCOAL","LIGNITE","PATFUEL","OVENCOKE","GASCOKE","COALTAR","BKB","GASWKSGS","COKEOVGS","BLFURGS","OGASES","PEAT","PEATPROD","OILSHALE"]
[null,null,{"$f":"CountryName","v":"Statisland"},null,"Anthracite","Coking coal","Other bituminous coal","Sub-bituminous coal","Lignite","Patent fuel","Coke oven coke","Gas coke","Coal tar","BKB","Gas works gas","Coke oven gas","Blast furnace gas","Other recovered gases","Peat","Peat products","Oil shale and oil sands"]
["DataType","Item1","SUPPLY AND TRANSFORMATION SECTOR",null,"103 t","103 t","103 t","103 t","103 t","103 t","103 t","103 t","103 t","103 t","TJ (gross)","TJ (gross)","TJ (gross)","TJ (gross)","103 t","103 t","103 t"]
[null,null,null,null,"A","B","C","D","E","F","G","H","I","J","K","L","M","N","O","P","Q"]
[null,"INDPROD","Indigenous production",1]
["FLOW","UPROD","Underground production",2]
["FLOW","SPROD","Surface production",3]
["FLOW","OSOURCES","From other sources",4]
["FLOW","TOTIMPSB","Total imports (Balance)",5]
["FLOW","TOTEXPSB","Total exports (Balance)",6]
["FLOW","BUNKERS","International marine bunkers",7]
["FLOW","STCHANAT","Stock changes (National territory)",8]
["FLOW","INDCONC","Inland consumption (Calculated)",9]
["FLOW","STATDIFF","Statistical difference",10]
[]
[null,null,"MEMO ITEM: From other sources"]
["FLOW","OSOIL","From other sources - Oil",11]
["FLOW","OSNATGAS","From other sources - Natural gas",12]
["FLOW","OSRENEW","From other sources - Renewables",13]
[]
[]
["FLOW","TOTTRANF","Transformation Sector",14]
["FLOW","MAINELEC","Main activity producer electricity",15]
["FLOW","MAINCHP","Main activity producer CHP",16]
["FLOW","MAINHEAT","Main activity producer heat",17]
["FLOW","AUTOELEC","Autoproducer electricity",18]
["FLOW","AUTOCHP","Autoproducer CHP",19]
["FLOW","AUTOHEAT","Autoproducer heat",20]
["FLOW","TPATFUEL","Patent fuel plants (Transformation)",21]
["FLOW","TCOKEOVS","Coke ovens (Transformation)",22]
["FLOW","TBKB","BKB/PB plants (Transformation)",23]
["FLOW","TGASWKS","Gas works (Transformation)",24]
["FLOW","TBLASTFUR","Blast furnaces (Transformation)",25]
["FLOW","TCOALLIQ","Coal liquefaction plants (Transformation)",26]
["FLOW","TBLENDGAS","For blended natural gas",27]
["FLOW","TNONSPEC","Not elsewhere specified (Transformation)",28]
[]
[null,null,"ENERGY SECTOR INDUSTRY OWN USE AND FINAL CONSUMPTION"]
["FLOW","TOTENGY","Energy industry own use Sector",29]
["FLOW","EPOWERPLT","Own use in electricity, CHP and heat ",30]
["FLOW","EMINES","Coal mines",31]
["FLOW","EPATFUEL","Patent fuel plants (Energy)",32]
["FLOW","ECOKEOVS","Coke ovens (Energy)",33]
["FLOW","EBKB","BKB/PB plants (Energy)",34]
["FLOW","EGASWKS","Gas works (Energy)",35]
["FLOW","EBLASTFUR","Blast furnaces (Energy)",36]
["FLOW","EREFINER","Oil refineries",37]
["FLOW","ECOALLIQ","Coal liquefaction plants (Energy)",38]
["FLOW","ENONSPEC","Not elsewhere specified (Energy industry own use)",39]
[]
["FLOW","DISTLOSS","Losses",40]
[]
["FLOW","FINCONS","Total final consumption",41]
[]
["FLOW","NONENUSE","Total non-energy use",42]
["FLOW","NEINTREN","Non-energy use Industry/Transformation/Energy",43]
["FLOW","NECHEM","Of which: Non-energy use - Chemical and petrochemical",44]
["FLOW","NETRANS","Non-energy use - (Transport)",45]
["FLOW","NEOTHER","Non-energy use - Other",46]
[]
[null,null,"ENERGY END USE SPECIFICATION"]
["FLOW","FINECONS","Final energy consumption",47]
[]
["FLOW","TOTIND","Industry Sector",48]
["FLOW","IRONSTL","Iron and steel",49]
["FLOW","CHEMICAL","Chemical and petrochemical",50]
["FLOW","NONFERR","Non-ferrous metals",51]
["FLOW","NONMET","Non-metallic minerals",52]
["FLOW","TRANSEQ","Transport equipment",53]
["FLOW","MACHINE","Machinery",54]
["FLOW","MINING","Mining and quarrying",55]
["FLOW","FOODPRO","Food, beverages and tobacco",56]
["FLOW","PAPERPRO","Paper, pulp and printing",57]
["FLOW","WOODPRO","Wood and wood products",58]
["FLOW","CONSTRUC","Construction",59]
["FLOW","TEXTILES","Textiles and leather",60]
["FLOW","INONSPEC","Not elsewhere specified (Industry)",61]
[]
["FLOW","TOTTRANS","Transport Sector",62]
["FLOW","RAIL","Rail",63]
["FLOW","DOMESNAV","Domestic navigation",64]
["FLOW","TRNONSPE","Not elsewhere specified (Transport)",65]
[]
["FLOW","TOTOTHER","Other Sectors",66]
["FLOW","COMMPUB","Commercial and public services",67]
["FLOW","RESIDENT","Residential",68]
["FLOW","AGRICULT","Agriculture/Forestry",69]
[null,null,"   Agriculture",70]
[null,null,"   Forestry",71]
["FLOW","FISHING","Fishing",72]
["FLOW","ONONSPEC","Not elsewhere specified (Other)",73]

{"sheet":"Coal_Table_4","index":19,"n_rows":21,"n_cols":17,"rows_kept":21,"cut":false,"hidden":true,"merged":[[17,2,18,2],[19,2,20,2],[15,2,16,2],[5,2,6,2],[7,2,8,2],[9,2,10,2],[11,2,12,2],[13,2,14,2]]}
[null,null,{"$f":"DataYear","v":2023},null,"Table 4 CALORIFIC VALUES\nNote: The data in this table will be used by the Secretariats to obtain conversion factors for each type of coal and their different end-use"]
[null,"PRODUCT  è",null,null,"ANTCOAL","COKCOAL","BITCOAL","SUBCOAL","LIGNITE","PATFUEL","OVENCOKE","GASCOKE","COALTAR","BKB","PEAT","PEATPROD","OILSHALE"]
[null,null,{"$f":"CountryName","v":"Statisland"},null,"Anthracite","Coking coal","Other bituminous coal","Sub-bituminous coal","Lignite","Patent fuel","Coke oven coke","Gas coke","Coal tar","BKB","Peat","Peat products","Oil shale and oil sands"]
["DataType","Item1",null,null,"MJ/tonne","MJ/tonne","MJ/tonne","MJ/tonne","MJ/tonne","MJ/tonne","MJ/tonne","MJ/tonne","MJ/tonne","MJ/tonne","MJ/tonne","MJ/tonne","MJ/tonne"]
[null,null,null,null,"A","B","C","D","E","F","G","H","I","J","K","L","M"]
["FLOW","GINDPROD","Production","gross -  1"]
["FLOW","NINDPROD",null,"net   -  2"]
["FLOW","GIMPORTS","Imports","gross -  3"]
["FLOW","NIMPORTS",null,"net   -  4"]
["FLOW","GEXPORTS","Exports","gross -  5"]
["FLOW","NEXPORTS",null,"net   -  6"]
["FLOW","GCOKEOVS","Used in coke ovens","gross -  7"]
["FLOW","NCOKEOVS",null,"net   -  8"]
["FLOW","GBLAST","Used in blast furnaces","gross -  9"]
["FLOW","NBLAST",null,"net   - 10"]
["FLOW","GMAIN","Used in main activity plants","gross - 11"]
["FLOW","NMAIN",null,"net   - 12"]
["FLOW","GIND","Used in industry","gross - 13"]
["FLOW","NIND",null,"net   - 14"]
["FLOW","GOTHER","For other uses","gross - 15"]
["FLOW","NOTHER",null,"net   - 16"]

{"sheet":"Gas_Table_1","index":20,"n_rows":36,"n_cols":8,"rows_kept":36,"cut":false,"hidden":true,"merged":[]}
[null,null,{"$f":"DataYear","v":2023},null,"TABLE 1 - SUPPLY OF NATURAL GAS"]
[null,"PRODUCT  è",{"$f":"CountryName","v":"Statisland"},null,"NATGASCM","NATGASTJ","NGGVALJO"]
[]
[null,null,null,null,"Million m3 (at 15°C, 760 mm Hg)","TJ\n(Gross calor. value)","Average GCV    (kJ/m3)","Average NCV    (kJ/m3)"]
["DataType","Item1",null,null,"A","B","C","D"]
["BALANCE","INDPROD","Indigenous production",1]
["BALANCE","AGASPRD","Associated gas",2]
["BALANCE","NAGASPRD","Non-associated gas",3]
["BALANCE","COLLIERY","Colliery gas",4]
["BALANCE","OSOURCES","Receipts from other sources",5]
["BALANCE","TOTIMPSB","Imports (Balance)",6]
["BALANCE","TOTEXPSB","Exports (Balance)",7]
["BALANCE","BUNKERS","International marine bunkers",8]
["BALANCE","STCHANAT","Stock changes (National territory)",9]
[null,null,"Stock changes (Cushion gas)",10]
["BALANCE","INDCONC","Inland consumption (Calculated)",11]
["BALANCE","STATDIFF","Statistical difference",12]
["BALANCE","INDCONO","Inland consumption (Observed)",13]
[]
[null,null,"Recoverable gas"]
["BALANCE","OSNATTER","Opening stock level (National territory)",14]
["BALANCE","CSNATTER","Closing stock level (National territory)",15]
["BALANCE","CSABR","Opening stock level (Held abroad)",16]
["BALANCE","OSABR","Closing stock level (Held abroad)",17]
[]
[null,null,"Memo:"]
["BALANCE","VENTED","Gas vented",18]
["BALANCE","FLARED","Gas flared",19]
[null,null,"Memo: Cushion gas"]
["BALANCE","CUSHCSNAT","Opening stock level",20]
[null,null,"Closing stock level",21]
[]
[null,null,"Memo: Receipts from other sources"]
["BALANCE","OSOIL","Oil",22]
["BALANCE","OSCOAL","Coal",23]
["BALANCE","OSRENEW","Renewables",24]

{"sheet":"Gas_Table_2a","index":21,"n_rows":38,"n_cols":55,"rows_kept":38,"cut":false,"hidden":true,"merged":[[0,3,0,5]]}
[null,null,{"$f":"DataYear","v":2023},"TABLE 2a - CONSUMPTION BY SECTOR",null,null,null,null,null,null,null,null,null,null,null,null,null,null,null,null,null,null,null,null,null,null,"TABLE 2a - CONSUMPTION BY SECTOR",null,null,null,"TABLE 2a - CONSUMPTION BY SECTOR","CONSOMMATION INTERIEURE PAR SECTEUR","ВНУТРЕННЕЕ ПОТРЕБЛЕНИЕ ПО СЕКТОРАМ",null,null,null,null,null,null,null,null,null,null,null,null,null,null,null,null,null,null,null,"CONSOMMATION INTERIEURE PAR SECTEUR"]
[null,"PRODUCT  è",{"$f":"CountryName","v":"Statisland"},null,"NATGASTJ"]
[null,null,null,null,"Unit: TJ (GCV)                                                                                                         ",null,null,null,null,null,null,null,null,null,null,null,null,null,null,null,null,null,null,null,null,null,null,null,"Unit: TJ (GCV)                                                                                                         ",null,"Unit: TJ (GCV)                                                                                                         ","Unité: TJ (PCS)","Ед. измер.: ТДж (ВТС)",null,null,null,null,null,null,null,null,null,null,null,null,null,null,null,null,null,null,null,null,null,"Unité: TJ (PCS)"]
[null,null,null,null,"Consumption",null,null,null,null,null,null,null,null,null,null,null,null,null,null,null,null,null,null,null,null,null,null,null,"Consumption",null,"Consumption","Consommation","Потребление",null,null,null,null,null,null,null,null,null,null,null,null,null,null,null,null,null,null,null,null,null,"Consommation"]
["DataType","Item1",null,null,"A"]
["CONSUMPTION","INDEMCON","Inland demand (Total consumption)",1,null,null,null,null,null,null,null,null,null,null,null,null,null,null,null,null,null,null,null,null,null,null,"Inland demand (Total consumption)","1",0,null,"Inland demand (Total consumption)","Consommation intérieure","Внутреннее потребление",null,null,null,null,null,null,null,null,null,null,null,null,null,null,null,null,null,null,null,"Consommation intérieure"]
["CONSUMPTION","TOTTRANF","Transformation sector",2,null,null,null,null,null,null,null,null,null,null,null,null,null,null,null,null,null,null,null,null,null,null,"Transformation sector","2",0,null,"Transformation sector","Secteur Transformation - Total","СЕКТОР ПРЕОБРАЗОВАНИЯ - Всего",null,null,null,null,null,null,null,null,null,null,null,null,null,null,null,null,null,null,null,"Secteur Transformation - Total"]
["CONSUMPTION","MAINELEC","Main activity producer electricity",3,null,null,null,null,null,null,null,null,null,null,null,null,null,null,null,null,null,null,null,null,null,null,"Main activity producer electricity plants","3",null,null,"Main activity producer electricity plants","Centrales électriques dont c’est l’activité principale","Электрост. произв. энергии (основной вид деятельности)",null,null,null,null,null,null,null,null,null,null,null,null,null,null,null,null,null,null,null,"Centrales électriques dont c’est l’activité principale"]
["CONSUMPTION","AUTOELEC","Autoproducer electricity",4,null,null,null,null,null,null,null,null,null,null,null,null,null,null,null,null,null,null,null,null,null,null,"Autoproducer electricity plants","4",null,null,"Autoproducer electricity plants","Centrales autoproductrices d’électricité","Электрост. предпр., производ. энергию для собственных нужд",null,null,null,null,null,null,null,null,null,null,null,null,null,null,null,null,null,null,null,"Centrales autoproductrices d’électricité"]
["CONSUMPTION","MAINCHP","Main activity producer CHP",5,null,null,null,null,null,null,null,null,null,null,null,null,null,null,null,null,null,null,null,null,null,null,"Main activity producer CHP plants","5",null,null,"Main activity producer CHP plants","Centrales de cogénération dont c’est l’activité principale","ТЭЦ произв. энергии (основной вид деятельности)",null,null,null,null,null,null,null,null,null,null,null,null,null,null,null,null,null,null,null,"Centrales de cogénération dont c’est l’activité principale"]
["CONSUMPTION","AUTOCHP","Autoproducer CHP",6,null,null,null,null,null,null,null,null,null,null,null,null,null,null,null,null,null,null,null,null,null,null,"Autoproducer CHP plants","6",null,null,"Autoproducer CHP plants","Centrales autoproductrices de cogénération","ТЭЦ предпр., производ. энергию для собственных нужд",null,null,null,null,null,null,null,null,null,null,null,null,null,null,null,null,null,null,null,"Centrales autoproductrices de cogénération"]
["CONSUMPTION","MAINHEAT","Main activity producer heat",7,null,null,null,null,null,null,null,null,null,null,null,null,null,null,null,null,null,null,null,null,null,null,"Main activity producer heat plants","7",null,null,"Main activity producer heat plants","Centrales calogènes dont c’est l’activité principale","Теплоцентр. производителей энергии (основной вид деятельности)",null,null,null,null,null,null,null,null,null,null,null,null,null,null,null,null,null,null,null,"Centrales calogènes dont c’est l’activité principale"]
["CONSUMPTION","AUTOHEAT","Autoproducer heat",8,null,null,null,null,null,null,null,null,null,null,null,null,null,null,null,null,null,null,null,null,null,null,"Autoproducer heat plants","8",null,null,"Autoproducer heat plants","Centrales autoproductrices calogènes","Теплоцентр. предпр., производ. энергию для собственных нужд",null,null,null,null,null,null,null,null,null,null,null,null,null,null,null,null,null,null,null,"Centrales autoproductrices calogènes"]
["CONSUMPTION","TGASWKS","Gas works (Transformation)",9,null,null,null,null,null,null,null,null,null,null,null,null,null,null,null,null,null,null,null,null,null,null,"Gas works (Transformation)","9",null,null,"Gas works (Transformation)","Usines à gaz","Газовые заводы",null,null,null,null,null,null,null,null,null,null,null,null,null,null,null,null,null,null,null,"Usines à gaz"]
["CONSUMPTION","TCOKEOVS","Coke ovens (Transformation)",10,null,null,null,null,null,null,null,null,null,null,null,null,null,null,null,null,null,null,null,null,null,null,"Coke ovens (Transformation)","10",null,null,"Coke ovens (Transformation)","Cokeries","Коксовые печи",null,null,null,null,null,null,null,null,null,null,null,null,null,null,null,null,null,null,null,"Cokeries"]
["CONSUMPTION","TBLASTFUR","Blast furnaces (Transformation)",11,null,null,null,null,null,null,null,null,null,null,null,null,null,null,null,null,null,null,null,null,null,null,"Blast furnaces (Transformation)","11",null,null,"Blast furnaces (Transformation)","Hauts fourneaux","Доменные печи",null,null,null,null,null,null,null,null,null,null,null,null,null,null,null,null,null,null,null,"Hauts fourneaux"]
["CONSUMPTION","TGTL","Gas-to-liquids plants (Transformation)",12,null,null,null,null,null,null,null,null,null,null,null,null,null,null,null,null,null,null,null,null,null,null,"Gas-to-liquids (GTL) plants (Transformation)","12",null,null,"Gas-to-liquids (GTL) plants (Transformation)","Conversion en liquides","Газ-в-жидкость",null,null,null,null,null,null,null,null,null,null,null,null,null,null,null,null,null,null,null,"Conversion en liquides"]
["CONSUMPTION","TGTLTECH","of which GTL technology",13,null,null,null,null,null,null,null,null,null,null,null,null,null,null,null,null,null,null,null,null,null,null,"Not elsewhere specified (Transformation)","13",null,null,"Not elsewhere specified (Transformation)","Non spécifié - Transformation","Прочее - с.преобразования",null,null,null,null,null,null,null,null,null,null,null,null,null,null,null,null,null,null,null,"Non spécifié - Transformation"]
["CONSUMPTION","TNONSPEC","Not elsewhere specified (Transformation)",14,null,null,null,null,null,null,null,null,null,null,null,null,null,null,null,null,null,null,null,null,null,null,"Energy sector","14",0,null,"Energy sector","Secteur Energie - Total","СЕКТОР ЭНЕРГЕТИКИ - Всего",null,null,null,null,null,null,null,null,null,null,null,null,null,null,null,null,null,null,null,"Secteur Energie - Total"]
["CONSUMPTION","TOTENGY","Energy sector",15,null,null,null,null,null,null,null,null,null,null,null,null,null,null,null,null,null,null,null,null,null,null,"Coal mines","15",null,null,"Coal mines","Mines de charbon","Угольные шахты",null,null,null,null,null,null,null,null,null,null,null,null,null,null,null,null,null,null,null,"Mines de charbon"]
["CONSUMPTION","EMINES","Coal mines",16,null,null,null,null,null,null,null,null,null,null,null,null,null,null,null,null,null,null,null,null,null,null,"Oil and gas extraction","16",null,null,"Oil and gas extraction","Extraction de pétrole et de gaz","Добыча нефти и газа",null,null,null,null,null,null,null,null,null,null,null,null,null,null,null,null,null,null,null,"Extraction de pétrole et de gaz"]
["CONSUMPTION","EOILGASEX","Oil and gas extraction",17,null,null,null,null,null,null,null,null,null,null,null,null,null,null,null,null,null,null,null,null,null,null,"Oil refineries","17",null,null,"Oil refineries","Approvisionnement des raffineries","Сырье для нефтеперерабатывающих заводов",null,null,null,null,null,null,null,null,null,null,null,null,null,null,null,null,null,null,null,"Approvisionnement des raffineries"]
["CONSUMPTION","EREFINER","Oil refineries",18,null,null,null,null,null,null,null,null,null,null,null,null,null,null,null,null,null,null,null,null,null,null,"Coke ovens (Energy)","18",null,null,"Coke ovens (Energy)","Cokeries","Коксовые печи",null,null,null,null,null,null,null,null,null,null,null,null,null,null,null,null,null,null,null,"Cokeries"]
["CONSUMPTION","ECOKEOVS","Coke ovens (Energy)",19,null,null,null,null,null,null,null,null,null,null,null,null,null,null,null,null,null,null,null,null,null,null,"Blast furnaces (Energy)","19",null,null,"Blast furnaces (Energy)","Hauts fourneaux","Доменные печи",null,null,null,null,null,null,null,null,null,null,null,null,null,null,null,null,null,null,null,"Hauts fourneaux"]
["CONSUMPTION","EBLASTFUR","Blast furnaces (Energy)",20,null,null,null,null,null,null,null,null,null,null,null,null,null,null,null,null,null,null,null,null,null,null,"Gas works (Energy)","20",null,null,"Gas works (Energy)","Usines à gaz","Газовые заводы",null,null,null,null,null,null,null,null,null,null,null,null,null,null,null,null,null,null,null,"Usines à gaz"]
["CONSUMPTION","EGASWKS","Gas works (Energy)",21,null,null,null,null,null,null,null,null,null,null,null,null,null,null,null,null,null,null,null,null,null,null,"Electricity, CHP and heat plants","21",null,null,"Electricity, CHP and heat plants","Centrales électriques, de cogénération et calogènes","Электростанции, ТЭЦ и теплоцентрали",null,null,null,null,null,null,null,null,null,null,null,null,null,null,null,null,null,null,null,"Centrales électriques, de cogénération et calogènes"]
["CONSUMPTION","EPOWERPLT","Electricity, CHP and heat",22,null,null,null,null,null,null,null,null,null,null,null,null,null,null,null,null,null,null,null,null,null,null,"Liquefaction (LNG) / regasification plants","22",null,null,"Liquefaction (LNG) / regasification plants","Unités de liquéfaction du gaz","Заводы по производству сжиженного газа",null,null,null,null,null,null,null,null,null,null,null,null,null,null,null,null,null,null,null,"Unités de liquéfaction du gaz"]
["CONSUMPTION","ELNG","Liquefaction (LNG) / regasification plants",23,null,null,null,null,null,null,null,null,null,null,null,null,null,null,null,null,null,null,null,null,null,null,"Gas-to-liquids (GTL) plants (Energy)","23",null,null,"Gas-to-liquids (GTL) plants (Energy)","Conversion en liquides","Газ-в-жидкость",null,null,null,null,null,null,null,null,null,null,null,null,null,null,null,null,null,null,null,"Conversion en liquides"]
["CONSUMPTION","EGTL","Gas-to-liquids plants (Energy)",24,null,null,null,null,null,null,null,null,null,null,null,null,null,null,null,null,null,null,null,null,null,null,"Not elsewhere specified (Energy)","24",null,null,"Not elsewhere specified (Energy)","Non spécifié - Energie","Прочее - с.энергетики",null,null,null,null,null,null,null,null,null,null,null,null,null,null,null,null,null,null,null,"Non spécifié - Energie"]
["CONSUMPTION","EGTLTECH","of which GTL technology",25,null,null,null,null,null,null,null,null,null,null,null,null,null,null,null,null,null,null,null,null,null,null,"Distribution losses","25",null,null,"Distribution losses","Pertes de distribution","Потери при распределении",null,null,null,null,null,null,null,null,null,null,null,null,null,null,null,null,null,null,null,"Pertes de distribution"]
["CONSUMPTION","ENONSPEC","Not elsewhere specified (Energy)",26,null,null,null,null,null,null,null,null,null,null,null,null,null,null,null,null,null,null,null,null,null,null,"Total final consumption","26",0,null,"Total final consumption","Consommation finale totale","Конечное потребление всего",null,null,null,null,null,null,null,null,null,null,null,null,null,null,null,null,null,null,null,"Consommation finale totale"]
["CONSUMPTION","DISTLOSS","Transmission and distribution losses",27,null,null,null,null,null,null,null,null,null,null,null,null,null,null,null,null,null,null,null,null,null,null,"Row 1: Equals the sum of rows 2, 14, 25, 26; should correspond to cell 12B on table 1.",null,null,null,"Row 1: Equals the sum of rows 2, 14, 25, 26; should correspond to cell 12B on table 1.","Ligne 1 : Egal à la somme des lignes 2, 14, 25, 26; doit correspondre à la cellule 12B du tableau 1.","Строка 1 : Равна сумме строк 2, 14, 25, 26; должна соответствовать клетке 12B Таблицы 1.",null,null,null,null,null,null,null,null,null,null,null,null,null,null,null,null,null,null,null,"Ligne 1 : Egal à la somme des lignes 2, 12, 25, 26; doit correspondre à la cellule 12B du tableau 1."]
[null,null,"Transmission losses",28]
[null,null,"Distribution losses",29]
[null,null,"of which: non-technical losses",30]
["CONSUMPTION","FINCONS","Total final consumption",31,null,null,null,null,null,null,null,null,null,null,null,null,null,null,null,null,null,null,null,null,null,null,"Rows 3 to 8: Should correspond to quantities in table 6C in the Electricity and heat annual questionnaire.",null,null,null,"Rows 3 to 8: Should correspond to quantities in table 6C in the Electricity and heat annual questionnaire.","Lignes 3 à 8 : Doit correspondre aux quantités du tableau 6C dans le questionnaire annuel Electricité et Chaleur.","Строки с 3 по 8 : Должны соответствовать содержанию Таблицы 6C \"Ежегодного опросника по электроэнергии и теплу\".",null,null,null,null,null,null,null,null,null,null,null,null,null,null,null,null,null,null,null,"Lignes 3 à 8 : Doit correspondre aux quantités du tableau 6C dans le questionnaire annuel Electricité et Chaleur."]
[null,null,null,null,null,null,null,null,null,null,null,null,null,null,null,null,null,null,null,null,null,null,null,null,null,null,"Rows 4, 6, 8: Should correspond to quantities in row 1 in table 6.",null,null,null,"Rows 4, 6, 8: Should correspond to quantities in row 1 in table 6.","Lignes 4, 6, 8 : Doit correspondre aux quantités dans la ligne 1 du tableau 5.","Строки 4,6,8 : Должны соответствовать содержанию строки 1 Таблицы 5.",null,null,null,null,null,null,null,null,null,null,null,null,null,null,null,null,null,null,null,"Lignes 4, 6, 8 : Doit correspondre aux quantités dans la ligne 1 du tableau 5."]
[null,null,null,null,null,null,null,null,null,null,null,null,null,null,null,null,null,null,null,null,null,null,null,null,null,null,"Row 26 : Should correspond to the sum of cells 1A and 1B in table 2b.",null,null,null,"Row 26 : Should correspond to the sum of cells 1A and 1B in table 2b.","Ligne 26 : Doit correspondre à la somme des cellules 1A et 1B dans le tableau 2b.","Строка 26 : Должна соответствовать сумме клеток 1A и 1B Таблицы 2b.",null,null,null,null,null,null,null,null,null,null,null,null,null,null,null,null,null,null,null,"Ligne 26 : Doit correspondre à la somme des cellules 1A et 1B dans le tableau 2b."]

{"sheet":"Gas_Table_2b","index":22,"n_rows":104,"n_cols":34,"rows_kept":104,"cut":false,"hidden":true,"merged":[[0,3,0,5]]}
[null,null,{"$f":"DataYear","v":2023},"TABLE 2b - TOTAL FINAL CONSUMPTION BY SECTOR",null,null,null,null,null,null,null,null,null,null,null,null,null,null,null,null,null,null,null,null,null,null,"TABLE 2b - TOTAL FINAL CONSUMPTION BY SECTOR",null,null,null,null,"TABLE 2b - TOTAL FINAL CONSUMPTION BY SECTOR","CONSOMMATION FINALE TOTALE PAR SECTEUR","ВНУТРЕННЕЕ ПОТРЕБЛЕНИЕ ПО СЕКТОРАМ"]
[null,"PRODUCT  è",{"$f":"CountryName","v":"Statisland"},null,"ENERGUSETJ","NONENUSETJ"]
[null,null,null,null,"Unit: TJ (GCV)",null,null,null,null,null,null,null,null,null,null,null,null,null,null,null,null,null,null,null,null,null,null,null,"Unit: TJ (GCV)",null,null,"Unit: TJ (GCV)","Unité: TJ (PCS)","Единица измерения: ТДж (ВТС)"]
[null,null,null,null,"Energy use","Non-energy use",null,null,null,null,null,null,null,null,null,null,null,null,null,null,null,null,null,null,null,null,null,null,"Energy use","Non-energy use"]
["DataType","Item1",null,null,"A","B"]
["CONSUMPTION","FINCONS","Total final consumption",1,null,null,null,null,null,null,null,null,null,null,null,null,null,null,null,null,null,null,null,null,null,null,"Total final consumption","1",0,0,null,"Total final consumption","Consommation finale totale (1, 3)","Всего - Конечное потребление "]
["CONSUMPTION","TOTTRANS","Transport sector",2,null,null,null,null,null,null,null,null,null,null,null,null,null,null,null,null,null,null,null,null,null,null,"Transport sector","2",0,0,null,"Transport sector","Secteur Transports - Total","СЕКТОР ТРАНСПОРТА - Всего"]
["CONSUMPTION","ROAD","Road",3,null,null,null,null,null,null,null,null,null,null,null,null,null,null,null,null,null,null,null,null,null,null,"Road","3",null,null,null,"Road","Transport  routier","Автодорожный транспорт"]
["CONSUMPTION","ROADBIOGAS","of which biogas",4,null,null,null,null,null,null,null,null,null,null,null,null,null,null,null,null,null,null,null,null,null,null,"of which biogas","4",null,null,null,"of which biogas","dont le biogaz"," В т.ч. Биогаз"]
["CONSUMPTION","PIPELINE","Pipeline transport",5,null,null,null,null,null,null,null,null,null,null,null,null,null,null,null,null,null,null,null,null,null,null,"Pipeline transport","5",null,null,null,"Pipeline transport","Transport par conduites","Трубопроводы"]
["CONSUMPTION","TRNONSPE","Not elsewhere specified (Transport)",6,null,null,null,null,null,null,null,null,null,null,null,null,null,null,null,null,null,null,null,null,null,null,"Not elsewhere specified (Transport)","6",null,null,null,"Not elsewhere specified (Transport)","Non spécifié - Transports","Прочее"]
["CONSUMPTION","TOTIND","Industry sector",7,null,null,null,null,null,null,null,null,null,null,null,null,null,null,null,null,null,null,null,null,null,null,"Industry sector","7",0,0,null,"Industry sector","Secteur Industrie - Total","СЕКТОР ПРОМЫШЛЕННОСТИ - Всего"]
["CONSUMPTION","IRONSTL","Iron and steel",8,null,null,null,null,null,null,null,null,null,null,null,null,null,null,null,null,null,null,null,null,null,null,"Iron and steel","8",null,null,null,"Iron and steel","Sidérurgie","Черная металлургия"]
["CONSUMPTION","CHEMICAL","Chemical and petrochemical",9,null,null,null,null,null,null,null,null,null,null,null,null,null,null,null,null,null,null,null,null,null,null,"Chemical and petrochemical","9",null,null,null,"Chemical and petrochemical","Chimie et pétrochimie (2)","Производство хим. прод., включая нефтехимию"]
["CONSUMPTION","NONFERR","Non-ferrous metals",10,null,null,null,null,null,null,null,null,null,null,null,null,null,null,null,null,null,null,null,null,null,null,"Non-ferrous metals","10",null,null,null,"Non-ferrous metals","Metaux non-ferreux","Цветная металлургия"]
["CONSUMPTION","NONMET","Non-metallic minerals",11,null,null,null,null,null,null,null,null,null,null,null,null,null,null,null,null,null,null,null,null,null,null,"Non-metallic minerals","11",null,null,null,"Non-metallic minerals","Produits minéraux non-métalliques","Производство неметаллических минеральных продуктов"]
["CONSUMPTION","TRANSEQ","Transport equipment",12,null,null,null,null,null,null,null,null,null,null,null,null,null,null,null,null,null,null,null,null,null,null,"Transport equipment","12",null,null,null,"Transport equipment","Matériel de transport","Транспортное оборудование"]
["CONSUMPTION","MACHINE","Machinery",13,null,null,null,null,null,null,null,null,null,null,null,null,null,null,null,null,null,null,null,null,null,null,"Machinery","13",null,null,null,"Machinery","Machines","Машиностроение"]
["CONSUMPTION","MINING","Mining and quarrying",14,null,null,null,null,null,null,null,null,null,null,null,null,null,null,null,null,null,null,null,null,null,null,"Mining and quarrying","14",null,null,null,"Mining and quarrying","Industries extractives","Горнодобываяющая промышленность и разработка карьеров"]
["CONSUMPTION","FOODPRO","Food beverages and tobacco",15,null,null,null,null,null,null,null,null,null,null,null,null,null,null,null,null,null,null,null,null,null,null,"Food beverages and tobacco","15",null,null,null,"Food beverages and tobacco","Produits alimentaires, boissons et tabac","Пищевая пром-сть, производство напитков и табачных изделий"]
["CONSUMPTION","PAPERPRO","Paper, pulp and printing",16,null,null,null,null,null,null,null,null,null,null,null,null,null,null,null,null,null,null,null,null,null,null,"Paper, pulp and printing","16",null,null,null,"Paper, pulp and printing","Pâte à papier, papier et imprimerie","Целлюлозно-бумажная и полиграфическая промышленность"]
["CONSUMPTION","WOODPRO","Wood and wood products",17,null,null,null,null,null,null,null,null,null,null,null,null,null,null,null,null,null,null,null,null,null,null,"Wood and wood products","17",null,null,null,"Wood and wood products","Bois et ouvrages en bois","Производство древесины и изделий из дерева"]
["CONSUMPTION","CONSTRUC","Construction",18,null,null,null,null,null,null,null,null,null,null,null,null,null,null,null,null,null,null,null,null,null,null,"Construction","18",null,null,null,"Construction","Construction ","Строительство"]
["CONSUMPTION","TEXTILES","Textiles and leather",19,null,null,null,null,null,null,null,null,null,null,null,null,null,null,null,null,null,null,null,null,null,null,"Textiles and leather","19",null,null,null,"Textiles and leather","Textiles et cuir","Текстильная и кожевенная промышленность"]
["CONSUMPTION","INONSPEC","Not elsewhere specified (Industry)",20,null,null,null,null,null,null,null,null,null,null,null,null,null,null,null,null,null,null,null,null,null,null,"Not elsewhere specified (Industry)","20",null,null,null,"Not elsewhere specified (Industry)","Non spécifié - Industrie","Прочее"]
["CONSUMPTION","TOTOTHER","Other sectors",21,null,null,null,null,null,null,null,null,null,null,null,null,null,null,null,null,null,null,null,null,null,null,"Other sectors","21",0,0,null,"Other sectors","Autres secteurs - Total","ПРОЧИЕ СЕКТОРЫ - Всего"]
["CONSUMPTION","COMMPUB","Commercial and public services",22,null,null,null,null,null,null,null,null,null,null,null,null,null,null,null,null,null,null,null,null,null,null,"Commercial and public services","22",null,null,null,"Commercial and public services","Commerce et services publics","Коммерческие предприятия и государственные учреждения"]
["CONSUMPTION","RESIDENT","Residential",23,null,null,null,null,null,null,null,null,null,null,null,null,null,null,null,null,null,null,null,null,null,null,"Residential","23",null,null,null,"Residential","Secteur résidentiel","Жилищное хозяйство"]
["CONSUMPTION","AGRICULT","Agriculture/forestry",24,null,null,null,null,null,null,null,null,null,null,null,null,null,null,null,null,null,null,null,null,null,null,"Agriculture/forestry","24",null,null,null,"Agriculture/forestry","Agriculture","Сельское хозяйство"]
[null,null,"Agriculture",25]
[null,null,"Forestry",26]
["CONSUMPTION","FISHING","Fishing",27,null,null,null,null,null,null,null,null,null,null,null,null,null,null,null,null,null,null,null,null,null,null,"Fishing","25",null,null,null,"Fishing","Pêche","Рыболовство"]
["CONSUMPTION","ONONSPEC","Not elsewhere specified (Other)",28,null,null,null,null,null,null,null,null,null,null,null,null,null,null,null,null,null,null,null,null,null,null,"Not elsewhere specified (Other)","26",null,null,null,"Not elsewhere specified (Other)","Non spécifié - Autres","Прочее"]
[null,null,null,null,null,null,null,null,null,null,null,null,null,null,null,null,null,null,null,null,null,null,null,null,null,null,"Row 1: Corresponds to the sum of rows 2, 7, 21.",null,null,null,null,"Row 1: Corresponds to the sum of rows 2, 7, 21.","Ligne 1 : Correspond à la somme des lignes 2, 7, 21.","Строка 1 : Соответствует сумме строк 2,7,21."]
[null,null,null,null,null,null,null,null,null,null,null,null,null,null,null,null,null,null,null,null,null,null,null,null,null,null,"Row 1: The sum of cells 1A and 1B should correspond to cell A26 in table 2a.",null,null,null,null,"Row 1: The sum of cells 1A and 1B should correspond to cell A26 in table 2a.","Ligne 1 : La somme des cellules 1A et 1B doit correspondre à la cellule A26 dans le tableau 2a.","Строка 1 : Сумма клеток 1A и 1B должна соответствовать клетке A26 в Таблице 2a."]
[null,null,null,null,null,null,null,null,null,null,null,null,null,null,null,null,null,null,null,null,null,null,null,null,null,null,"Row 9: Please report fuel use in column A.",null,null,null,null,"Row 9: Please report fuel use in column A.","Ligne 9 : Veuillez reporter l'utilisation en tant que combustible dans la colonne A.","Строка 9 : Сообщите о расходе топлива в колонне A."]
[]
[]
[]
[]
[]
[]
[]
[]
[]
[]
[]
[]
[]
[]
[]
[]
[]
[]
[]
[]
[]
[]
[]
[]
[]
[]
[]
[]
[]
[]
[]
[]
[]
[]
[]
[]
[]
[]
[]
[]
[]
[]
[]
[]
[]
[]
[]
[]
[]
[]
[]
[]
[]
[]
[]
[]
[]
[]
[]
[]
[]
[]
[]
[]
[]
[]
[null,null,null,null,"Utilisations énergétiques","Utilisations non énergétiques"]
[null,null,null,null,"Использование газа для энергетических целей","Использование газа для неэнергетических целей "]

{"sheet":"Oil_Table_1","index":23,"n_rows":36,"n_cols":11,"rows_kept":36,"cut":false,"hidden":true,"merged":[[0,4,0,10]]}
[null,"TABLE = 1",null,null,"SUPPLY OF CRUDE OIL, NGL, REFINERY FEEDSTOCKS,\nADDITIVES AND OTHER HYDROCARBONS"]
["DataType",{"$f":"DataYear","v":2023}]
["BALANCE",{"$f":"CountryName","v":"Statisland"}]
[]
[null,null,null,null,null,null,null,null,null,null,"Unit:  Thousand metric tons"]
["PRODUCT  è",null,null,null,"CRUDEOIL","NGL","REFFEEDS","ADDITIVE","BIOFUELS","NONCRUDE","CRNGFEED"]
[null,null,null,null,"Crude Oil","Natural gas\nliquids","Refinery\nfeedstocks","Additives / oxygenates","Of which\nBiofuels","Other\nhydrocarbons","TOTAL\n(A to F, excl. E)"]
[]
["Item1",null,null,null,"A","B","C","D","E","F","G"]
["INDPROD","Indigenous production",null,"(+) 1"]
["OSOURCES","Receipts from other sources",null,"(+) 2"]
["BACKFLOW","Backflows",null,"(+) 3"]
["PTRANSF","Products transferred",null,"(+) 4"]
["TOTIMPSB","Imports (Balance)",null,"(+) 5"]
["TOTEXPSB","Exports (Balance)",null,"(-) 6"]
["DIRECUSE","Direct use",null,"(-) 7"]
["STCHANAT","Stock changes",null,"(+) 8"]
["REFINCAL","Refinery intake (Calculated)",null,"(=) 9"]
["STATDIFF","Statistical difference",null,"(-) 10"]
["REFINOBS","Refinery intake (Observed)",null,"(=) 11"]
[null,"MEMO ITEMS:"]
["REFLOSS","Refinery losses",null,12]
[null,"STOCK LEVELS:"]
["OSNATTER","Opening stock level (National territory)",null,13]
["CSNATTER","Closing stock level (National territory)",null,14]
["","AVERAGE NET CALORIFIC VALUES:"]
["NCVPROD","Production",null,15]
["NCVIMP","Imports",null,16]
["NCVEXP","Exports",null,17]
["NCVAVG","Average",null,18]
[null,"DENSITY"]
[null,"Average",null,19]
[null,"MEMO ITEMS: RECEIPTS FROM OTHER SOURCES"]
["OSCOAL","Solid fuels",null,20]
["OSNATGAS","Natural gas",null,21]
["OSRENEW","Renewables",null,22]

{"sheet":"Oil_Table_2a","index":24,"n_rows":34,"n_cols":34,"rows_kept":34,"cut":false,"hidden":true,"merged":[]}
[null,"TABLE = 2a",null,null,null,null,"SUPPLY OF OIL PRODUCTS",null,null,null,null,null,null,null,null,null,null,null,null,null,null,null,"SUPPLY OF OIL PRODUCTS",null,null,null,null,null,null,"SUPPLY OF OIL PRODUCTS"]
["DataType",{"$f":"DataYear","v":2023}]
["BALANCE",{"$f":"CountryName","v":"Statisland"}]
[]
[null,null,null,null,null,null,null,null,null,null,null,null,null,null,null,null,null,null,"Unit:  Thousand Metric Tons",null,null,null,null,null,null,null,"Unit:  Thousand Metric Tons",null,null,null,null,null,null,"Unit:  Thousand Metric Tons"]
["PRODUCT  è",null,null,null,"CRUDEOIL","NGL","REFINGAS","ETHANE","LPG","NAPHTHA","MOTORGAS","BIOGASOL","NONBIOGASO","AVGAS","JETGAS","JETKERO","BIOJETKERO","NONBIOJETK","OTHKERO","DIESEL","HEATOIL","GASDIES","BIODIESEL","NONBIODIES","RESFUEL","LOWSULF","HIGHSULF","WHITESP","LUBRIC","BITUMEN","PARWAX","PETCOKE","OPRODS","TOTPRODS"]
[null,null,null,null,"Crude\noil","Natural\ngas\nliquids","Refinery\ngas","Ethane","LPG","Naphtha","Total motor\ngasoline",null,null,"Aviation\ngasoline","Gasoline\ntype\njet fuel","Total kerosene\ntype\njet fuel",null,null,"Other\nkerosene",null,null,"Total gas/diesel\noil",null,null,"Total fuel oil",null,null,"White\nspirit\nand SBP","Lubricants","Bitumen","Paraffin \nwaxes","Petroleum\ncoke","Other oil\nproducts","TOTAL\n(A to AC excl. H,I,M,N,P,Q,S,T,V,W)"]
[null,null,null,null,null,null,null,null,null,null,null,"Biogasoline","Non-biogasoline",null,null,null,"Bio jet kerosene","Non-bio jet kerosene",null,"Road diesel","Heating and\nother gas oil",null,"Biodiesels ","Non-bio gas/diesel oil",null,"Fuel oil-\nlow sulphur\n( < 1%)","Fuel oil-\nhigh sulphur\n(>= 1%)"]
["Item1"]
[null,null,null,null,"A","B","C","D","E","F","G","H","I","J","K","L","M","N","O","P","Q","R","S","T","U","V","W","X","Y","Z","AA","AB","AC","AD"]
["PPRECPTS","Primary product receipts",null,"(+)   1"]
["REFGROUT","Refinery gross output",null,"(+)   2"]
["RECYCLED","Recycled products",null,"(+)   3"]
["REFFUEL","Refinery fuel",null,"(-)   4"]
["TOTIMPSB","Imports (Balance)",null,"(+)   5"]
["TOTEXPSB","Exports (Balance)",null,"(-)   6"]
["BUNKERS","International marine bunkers",null,"(-)   7"]
["IPTRANSF","Interproduct transfers",null,"(+)   8"]
["PTRANSF","Products transferred",null,"(-)   9"]
["STCHANAT","Stock changes",null,"(+) 10"]
["GDINCTRC","Gross inland deliveries (Calculated)",null,"(=) 11"]
["STATDIFF","Statistical difference",null,"(-) 12"]
["GDINCTRO","Gross inland deliveries (Observed)",null,"(=) 13"]
[null,"STOCK LEVELS:"]
["OSNATTER","Opening stock level (National territory)",null,14]
["CSNATTER","Closing stock level (National territory)",null,15]
[null,"MEMO ITEMS: REFINERY FUEL USED FOR"]
["REFFUELE","Electricity production",null,16]
["REFFUCHP","CHP production",null,17]
["REFFUHEAT","Heat production (Heat sold)",null,18]
[null,"MEMO:"]
["PUBUTSTK","Stock changes at main activity utilities",null,19]
["NCVAVG","Net calorific value - average (kJ/kg)",null,20]
[null,"Density - average (kg/l)",null,21]

{"sheet":"Oil_Table_3a","index":25,"n_rows":65,"n_cols":34,"rows_kept":65,"cut":false,"hidden":true,"merged":[[6,24,8,24],[7,25,8,25],[7,22,8,22],[6,33,8,33],[6,29,8,29],[6,30,8,30],[6,31,8,31],[7,26,8,26],[6,27,8,27],[6,28,8,28],[6,32,8,32],[6,4,8,4],[6,5,8,5],[6,6,8,6],[6,7,8,7],[6,8,8,8],[6,9,8,9],[7,17,8,17],[7,19,8,19],[7,23,8,23],[6,15,8,15],[6,18,8,18],[6,21,8,21],[7,11,8,11],[7,12,8,12],[7,16,8,16],[6,13,8,13],[6,14,8,14],[7,20,8,20],[6,10,8,10]]}
[null,"TABLE = 3A",null,null,null,null,null,null,"GROSS DELIVERIES BY SECTOR - ENERGY USE",null,null,null,null,null,null,null,null,null,null,null,null,"GROSS DELIVERIES BY SECTOR - ENERGY USE",null,null,null,null,null,null,null,"GROSS DELIVERIES BY SECTOR - ENERGY USE"]
["DataType",{"$f":"DataYear","v":2023}]
["CONSUMPTION",{"$f":"CountryName","v":"Statisland"}]
[]
[null,null,null,null,null,null,null,null,null,null,null,null,null,null,null,null,null,null,"Unit:  Thousand Metric Tons",null,null,null,null,null,null,null,"Unit:  Thousand Metric Tons",null,null,null,null,null,null,"Unit:  Thousand Metric Tons"]
["PRODUCT  è",null,null,null,"CRUDEOIL","NGL","REFINGAS","ETHANE","LPG","NAPHTHA","MOTORGAS","BIOGASOL","NONBIOGASO","AVGAS","JETGAS","JETKERO","BIOJETKERO","NONBIOJETK","OTHKERO","DIESEL","HEATOIL","GASDIES","BIODIESEL","NONBIODIES","RESFUEL","LOWSULF","HIGHSULF","WHITESP","LUBRIC","BITUMEN","PARWAX","PETCOKE","OPRODS","TOTPRODS"]
[null,null,null,null,"Crude\noil","Natural\ngas\nliquids","Refinery\ngas","Ethane","LPG","Naphtha","Total motor\ngasoline",null,null,"Aviation\ngasoline","Gasoline\ntype\njet fuel","Total kerosene\ntype\njet fuel",null,null,"Other\nkerosene",null,null,"Total gas/diesel\noil",null,null,"Total fuel oil",null,null,"White\nspirit\nand SBP","Lubricants","Bitumen","Paraffin \nwaxes","Petroleum\ncoke","Other oil\nproducts","TOTAL\n(A to AC excl. H,I,M,N,P,Q,S,T,V,W)"]
["Item1",null,null,null,null,null,null,null,null,null,null,"Biogasoline","Non-biogasoline",null,null,null,"Bio jet kerosene","Non-bio jet kerosene",null,"Road diesel","Heating and\nother gas oil",null,"Biodiesels ","Non-bio gas/diesel oil",null,"Fuel oil-\nlow sulphur\n( < 1%)","Fuel oil-\nhigh sulphur\n(>= 1%)"]
[]
[null,null,null,null,"A","B","C","D","E","F","G","H","I","J","K","L","M","N","O","P","Q","R","S","T","U","V","W","X","Y","Z","AA","AB","AC","AD"]
["EINDEMCON","Gross inland deliveries for energy use",null,1]
["ETRANSF","Transformation sector",null,2]
["EMAINELEC","Main activity producer electricity",null,3]
["EAUTOELEC","Autoproducer electricity",null,4]
["EMAINCHP","Main activity producer CHP",null,5]
["EAUTOCHP","Autoproducer CHP",null,6]
["EMAINHEAT","Main activity producer heat",null,7]
["EAUTOHEAT","Autoproducer heat",null,8]
["ETGASWKS","Gas works (Transformation)",null,9]
["ETBLENDGS","For blended natural gas",null,10]
["ETCOKEOVS","Coke ovens (Transformation)",null,11]
["ETBLASTFR","Blast furnaces (Transformation)",null,12]
["ETPETCHEM","Petrochemical industry",null,13]
["ETPATFUEL","Patent fuel plants (Transformation)",null,14]
["ETNONSPEC","Not elsewhere specified (Transformation)",null,15]
["EENERGY","Energy sector",null,16]
["EEMINES","Coal mines",null,17]
["EEOILGASX","Oil and gas extraction",null,18]
["EECOKEOVS","Coke ovens (Energy)",null,19]
["EEBLASTFR","Blast furnaces (Energy)",null,20]
["EEGASWKS","Gas works (Energy)",null,21]
["EEPOWERPT","Own use in electricity, CHP and heat",null,22]
["EENONSPEC","Not elsewhere specified (Energy)",null,23]
["EDISTLOSS","Distribution losses",null,24]
["EFINCONS","Total final energy consumption",null,25]
["ETRANS","Transport sector",null,26]
["EINTLAIR","International aviation",null,27]
["EDOMESAIR","Domestic aviation",null,28]
["EROAD","Road",null,29]
["ERAIL","Rail",null,30]
["EDOMESNAV","Domestic navigation",null,31]
["EPIPELINE","Pipeline transport",null,32]
["ETRNONSPE","Not elsewhere specified (Transport)",null,33]
["EIND","Industry sector",null,34]
["EIRONSTL","Iron and steel",null,35]
["ECHEM","Chemical (including petrochemical)",null,36]
["ENONFERR","Non-ferrous metals",null,37]
["ENONMET","Non-metallic minerals",null,38]
["ETRANSEQ","Transport equipment",null,39]
["EMACHINE","Machinery",null,40]
["EMINING","Mining and quarrying",null,41]
["EFOODPRO","Food, beverages and tobacco",null,42]
["EPAPERPRO","Paper, pulp and printing",null,43]
["EWOODPRO","Wood and wood products",null,44]
["ECONSTRUC","Construction",null,45]
["ETEXTILES","Textiles and leather",null,46]
["EINONSPEC","Not elsewhere specified (Industry)",null,47]
["EOTHER","Other sectors",null,48]
["ECOMMPUB","Commercial and public services",null,49]
["ERESIDENT","Residential",null,50]
["EAGRICULT","Agriculture/forestry",null,51]
[null,"Agriculture",null,52]
[null,"Forestry",null,53]
["EFISHING","Fishing",null,54]
["EONONSPEC","Not elsewhere specified (Other)",null,55]

{"sheet":"Oil_Table_3b","index":26,"n_rows":65,"n_cols":34,"rows_kept":65,"cut":false,"hidden":true,"merged":[[6,9,8,9],[6,10,8,10],[6,13,8,13],[6,14,8,14],[6,29,8,29],[7,26,8,26],[6,24,8,24],[6,21,8,21],[7,25,8,25],[7,23,8,23],[6,15,8,15],[6,18,8,18],[7,20,8,20],[7,22,8,22],[7,11,8,11],[7,12,8,12],[6,4,8,4],[6,5,8,5],[6,6,8,6],[6,7,8,7],[6,8,8,8],[6,32,8,32],[6,33,8,33],[6,31,8,31],[6,30,8,30],[7,16,8,16],[7,17,8,17],[7,19,8,19],[6,27,8,27],[6,28,8,28]]}
[null,"TABLE 3B",null,null,null,null,null,null,"GROSS DELIVERIES BY SECTOR - NON-ENERGY USE",null,null,null,null,null,null,null,null,null,null,null,null,"GROSS DELIVERIES BY SECTOR - NON-ENERGY USE",null,null,null,null,null,null,null,"GROSS DELIVERIES BY SECTOR - NON-ENERGY USE"]
["DataType",{"$f":"DataYear","v":2023}]
["CONSUMPTION",{"$f":"CountryName","v":"Statisland"}]
[]
[null,null,null,null,null,null,null,null,null,null,null,null,null,null,null,null,null,null,"Unit:  Thousand Metric Tons",null,null,null,null,null,null,null,"Unit:  Thousand Metric Tons",null,null,null,null,null,null,"Unit:  Thousand Metric Tons"]
["PRODUCT  è",null,null,null,"CRUDEOIL","NGL","REFINGAS","ETHANE","LPG","NAPHTHA","MOTORGAS","BIOGASOL","NONBIOGASO","AVGAS","JETGAS","JETKERO","BIOJETKERO","NONBIOJETK","OTHKERO","DIESEL","HEATOIL","GASDIES","BIODIESEL","NONBIODIES","RESFUEL","LOWSULF","HIGHSULF","WHITESP","LUBRIC","BITUMEN","PARWAX","PETCOKE","OPRODS","TOTPRODS"]
[null,null,null,null,"Crude\noil","Natural\ngas\nliquids","Refinery\ngas","Ethane","LPG","Naphtha","Total motor\ngasoline",null,null,"Aviation\ngasoline","Gasoline\ntype\njet fuel","Total kerosene\ntype\njet fuel",null,null,"Other\nkerosene",null,null,"Total gas/diesel\noil",null,null,"Total fuel oil",null,null,"White\nspirit\nand SBP","Lubricants","Bitumen","Paraffin \nwaxes","Petroleum\ncoke","Other oil\nproducts","TOTAL\n(A to AC excl. H,I,M,N,P,Q,S,T,V,W)"]
["Item1",null,null,null,null,null,null,null,null,null,null,"Biogasoline","Non-biogasoline",null,null,null,"Bio jet kerosene","Non-bio jet kerosene",null,"Road diesel","Heating and\nother gas oil",null,"Biodiesels ","Non-bio gas/diesel oil",null,"Fuel oil-\nlow sulphur\n( < 1%)","Fuel oil-\nhigh sulphur\n(>= 1%)"]
[]
[null,null,null,null,"A","B","C","D","E","F","G","H","I","J","K","L","M","N","O","P","Q","R","S","T","U","V","W","X","Y","Z","AA","AB","AC","AD"]
["NEINDEMCON","Gross inland deliveries for non energy use",null,1]
["NETRANSF","Transformation sector",null,2]
["NEMAINELEC","Main activity producer electricity",null,3]
["NEAUTOELEC","Autoproducer electricity",null,4]
["NEMAINCHP","Main activity producer CHP",null,5]
["NEAUTOCHP","Autoproducer CHP",null,6]
["NEMAINHEAT","Main activity producer heat",null,7]
["NEAUTOHEAT","Autoproducer heat",null,8]
["NETGASWKS","Gas works (Transformation)",null,9]
["NETBLENDGS","For blended natural gas",null,10]
["NETCOKEOVS","Coke ovens (Transformation)",null,11]
["NETBLASTFR","Blast furnaces (Transformation)",null,12]
["NETPETCHEM","Petrochemical industry",null,13]
["NETPATFUEL","Patent fuel plants (Transformation)",null,14]
["NETNONSPEC","Not elsewhere specified (Transformation)",null,15]
["NEENERGY","Energy sector",null,16]
["NEEMINES","Coal mines",null,17]
["NEEOILGASX","Oil and gas extraction",null,18]
["NEECOKEOVS","Coke ovens (Energy)",null,19]
["NEEBLASTFR","Blast furnaces (Energy)",null,20]
["NEEGASWKS","Gas works (Energy)",null,21]
["NEEPOWERPT","Own use in electricity, CHP and heat",null,22]
["NEENONSPEC","Not elsewhere specified (Energy)",null,23]
["NEDISTLOSS","Distribution losses",null,24]
["NEFINCONS","Total final non energy use consumption",null,25]
["NETRANS","Transport sector",null,26]
["NEINTLAIR","International aviation",null,27]
["NEDOMESAIR","Domestic aviation",null,28]
["NEROAD","Road",null,29]
["NERAIL","Rail",null,30]
["NEDOMESNAV","Domestic navigation",null,31]
["NEPIPELINE","Pipeline transport",null,32]
["NETRNONSPE","Not elsewhere specified (Transport)",null,33]
["NEIND","Industry sector",null,34]
["NEIRONSTL","Iron and steel",null,35]
["NECHEM","Chemical (including petrochemical)",null,36]
["NENONFERR","Non-ferrous metals",null,37]
["NENONMET","Non-metallic minerals",null,38]
["NETRANSEQ","Transport equipment",null,39]
["NEMACHINE","Machinery",null,40]
["NEMINING","Mining and quarrying",null,41]
["NEFOODPRO","Food, beverages and tobacco",null,42]
["NEPAPERPRO","Paper, pulp and printing",null,43]
["NEWOODPRO","Wood and wood products",null,44]
["NECONSTRUC","Construction",null,45]
["NETEXTILES","Textiles and leather",null,46]
["NEINONSPEC","Not elsewhere specified (Industry)",null,47]
["NEOTHER","Other sectors",null,48]
["NECOMMPUB","Commercial and public services",null,49]
["NERESIDENT","Residential",null,50]
["NEAGRICULT","Agriculture/forestry",null,51]
[null,"Agriculture",null,52]
[null,"Forestry",null,53]
["NEFISHING","Fishing",null,54]
["NEONONSPEC","Not elsewhere specified (Other)",null,55]

{"sheet":"Ren_Table_1","index":27,"n_rows":66,"n_cols":12,"rows_kept":66,"cut":false,"hidden":true,"merged":[[3,4,3,6],[3,7,3,9],[3,10,3,11],[6,2,6,3]]}
[null,null,{"$f":"DataYear","v":2023},null,"TABLE 1. GROSS ELECTRICITY AND HEAT PRODUCTION"]
[null,"Item 2 : PLANT  è",null,null,"MAINELEC","MAINCHP","MAINHEAT","AUTOELEC","AUTOCHP","AUTOHEAT","MAINTOT","AUTOTOT"]
[]
["DataType :","BALANCE",{"$f":"CountryName","v":"Statisland"},null,"MAIN ACTIVITY PRODUCER",null,null,"AUTOPRODUCER",null,null,"TOTAL"]
[null,null,null,null,"ELECTRICITY","CHP","HEAT","ELECTRICITY","CHP","HEAT","MAIN ACTIVITY \nPRODUCER","AUTOPRODUCER"]
[]
["Item1","Product","ELECTRICITY Unit: GWh ",null,"A","B","C","D","E","F","G (= A+B+C)","H (= D+E+F)"]
[null,null,"Total",1]
["GELEPROD","HYDRO","Hydro",2]
["GELEPROD","HYDPURE","      Pure hydro (with no pumping)",3]
["GELEPROD","HYDSRRP","            of which: run-of-river",4]
["GELEPROD","MIXEDHYDRO","      Mixed hydro",5]
["GELEPROD","MIXEDHYDP","            of which:  pumping",6]
["GELEPROD","HYDPUMP","      Pure pumped storage",7]
["GELEPROD","GEOTHERM","Geothermal",8]
["GELEPROD","SOLARPV","Solar photovoltaic",9]
["GELEPROD","PV20","     PV <30 kW",10]
[null,null,"          Of which Rooftop",11]
[null,null,"          Of which Off-grid",12]
[null,null,"          Of which PV <10 kW",13]
[null,null,"             Of which Rooftop",14]
[null,null,"             Of which Off-grid",15]
[null,null,"     PV 30-1000 kW",16]
[null,null,"          Of which Rooftop",17]
[null,null,"          Of which Off-grid",18]
["GELEPROD","PV201000","     PV 1+ MW",19]
["GELEPROD","PV1000","          Of which Rooftop",20]
["GELEPROD","PVOFF","          Of which Off-grid",21]
["GELEPROD","SOLARTH","Solar thermal",22]
["GELEPROD","TIDE","Tide, wave and ocean",23]
["GELEPROD","WIND","Wind",24]
["GELEPROD","ONWIND","      Onshore wind",25]
["GELEPROD","OFFWIND","      Offshore wind",26]
["GELEPROD","INDWASTE","Industrial waste",27]
["GELEPROD","INDWASTECO","      Of which: co-firing",28]
["GELEPROD","MUNWASTE","Municipal waste",29]
["GELEPROD","MUNWASTECO","      Of which: co-firing",30]
["GELEPROD","MUNWASTER","      Renewable",31]
["GELEPROD","MUNWASTERC","            Of which: co-firing",32]
["GELEPROD","MUNWASTEN","      Non-renewable",33]
["GELEPROD","MUNWASTENC","            Of which: co-firing",34]
["GELEPROD","SBIOFUELS","Solid biofuels",35]
["GELEPROD","SBIOFUELSC","      Of which: co-firing",36]
["GELEPROD","BIOGASES","Biogases",37]
["GELEPROD","BIODIESEL","Biodiesels",38]
["GELEPROD","BIOGASOL","Biogasolines",39]
["GELEPROD","OBIOLIQ","Other liquid biofuels",40]
[null,null,"HEAT Unit: TJ"]
[null,null,"Total",41]
["GHEATPRO","GEOTHERM","Geothermal",42]
["GHEATPRO","SOLARTH","Solar thermal",43]
["GHEATPRO","HPAMBIANT","Heat pumps",44]
["GHEATPRO","INDWASTE","Industrial Waste",45]
["GHEATPRO","INDWASTECO","      Of which: co-firing",46]
["GHEATPRO","MUNWASTE","Municipal waste",47]
["GHEATPRO","MUNWASTECO","      Of which: co-firing",48]
["GHEATPRO","MUNWASTER","      Renewable",49]
["GHEATPRO","MUNWASTERC","            Of which: co-firing",50]
["GHEATPRO","MUNWASTEN","      Non-renewable",51]
["GHEATPRO","MUNWASTENC","            Of which: co-firing",52]
["GHEATPRO","SBIOFUELS","Solid biofuels",53]
["GHEATPRO","SBIOFUELSC","      Of which: co-firing",54]
["GHEATPRO","BIOGASES","Biogases",55]
["GHEATPRO","BIODIESEL","Biodiesels",56]
["GHEATPRO","BIOGASOL","Biogasolines",57]
["GHEATPRO","OBIOLIQ","Other liquid biofuels",58]

{"sheet":"Ren_Table_2a","index":28,"n_rows":83,"n_cols":17,"rows_kept":83,"cut":false,"hidden":true,"merged":[[3,7,3,8],[3,9,3,10],[3,12,3,16]]}
[null,null,{"$f":"DataYear","v":2023},null,"TABLE 2a. SUPPLY, TRANSFORMATION, ENERGY SECTORS & END USE"]
[null,"PRODUCT  è",null,null,"GEOTHERM","SOLARTH","INDWASTE","MUNWASTER","MUNWASTEN","PRIMSBIO","CHARCOAL","BIOGASES","BIOGASOL","BIOETHANOL","BIOJETKERO","BIODIESEL","OBIOLIQ"]
[]
["DataType  :","BALANCE",null,null,null,null,null,"MUNICIPAL WASTE",null,"SOLID BIOFUELS",null,"BIOGASES","LIQUID BIOFUELS"]
[null,null,{"$f":"CountryName","v":"Statisland"},null,"Geothermal energy","Solar thermal","Industrial waste (non-renewable)","Renewable","Non-renewable","Solid biofuels excluding charcoal","Charcoal","Biogases","Biogasoline","Of which bioethanol","Bio jet kerosenes","Biodiesels","Other liquid biofuels"]
[null,null,null,null,"TJ (NCV)","TJ (NCV)","TJ (NCV)","TJ (NCV)","TJ (NCV)","TJ (NCV)","1000 tonnes","TJ (NCV)","1000 tonnes","1000 tonnes","1000 tonnes","1000 tonnes","1000 tonnes"]
["Item1",null,null,null,"A","B","C","D","E","F","G","H","I","J","K","L","M"]
["INDPROD",null,"Indigenous production",1]
[null,null,"   of which: from solid biofuels",2]
[null,null,"   of which: from liquid biofuels",3]
[null,null,"   of which: from gaseous biofuels",4]
["TOTIMPSB",null,"Total imports (balance)",5]
["TOTEXPSB",null,"Total exports (balance)",6]
[null,null,"International marine bunkers",7]
["STCHANAT",null,"Stock changes (national territory)",8]
["INDCONC",null,"Inland consumption (calculated)",9]
["STATDIFF",null,"Statistical differences",10]
["TOTTRANF",null,"Transformation sector",11]
["MAINELEC",null,"Main activity producer electricity",12]
["MAINCHP",null,"Main activity producer CHP",13]
["MAINHEAT",null,"Main activity producer heat",14]
["AUTOELEC",null,"Autoproducer electricity",15]
["AUTOCHP",null,"Autoproducer CHP",16]
["AUTOHEAT",null,"Autoproducer heat",17]
["TPATFUEL",null,"Patent fuel plants (Transformation)",18]
["TBKB",null,"BKB plants (Transformation)",19]
["TBLASTFUR",null,"Blast furnaces (Transformation)",20]
["TBLENDGAS",null,"Blended in the gas grid",21]
["TBLENDOIL",null,"Blended with liquid fossil fuels",22]
["TCHARCOAL",null,"From solid to solid transformation - charcoal production plants",23]
[null,null,"From solid to gas transformation",24]
[null,null,"From solid to liquid transformation",25]
[null,null,"From gas to liquid transformation",26]
[null,null,"From liquid to gas transformation",27]
[null,null,"From liquid to liquid transformation",28]
[null,null,"For hydrogen production",29]
["TNONSPEC",null,"Not elsewhere specified (Transformation)",30]
["TOTENGY",null,"Energy sector",31]
["EBIOGAS",null,"Gasification plants for Biogas",32]
["EPOWERPLT",null,"Own use in electricity, CHP and heat",33]
["EMINES",null,"Coal mines",34]
["EPATFUEL",null,"Patent fuel plants (Energy)",35]
["ECOKEOVS",null,"Coke ovens (Energy)",36]
["EREFINER",null,"Oil refineries",37]
["EBKB",null,"BKB plants (Energy)",38]
["EGASWKS",null,"Gas works (Energy)",39]
["EBLASTFUR",null,"Blast furnaces (Energy)",40]
["ECHARCOAL",null,"Charcoal production plants (energy)",41]
["ENONSPEC",null,"Not elsewhere specified (Energy)",42]
[null,null,"Energy sector: non-energy use",43]
["DISTLOSS",null,"Distribution losses",44]
["FINCONS",null,"Total final consumption",45]
["FINECONS",null,"Final energy consumption",46]
["TOTIND",null,"Industry sector",47]
["IRONSTL",null,"Iron and steel",48]
["CHEMICAL",null,"Chemical and petrochemical",49]
["NONFERR",null,"Non-ferrous metals",50]
["NONMET",null,"Non-metallic minerals",51]
["TRANSEQ",null,"Transport equipment",52]
["MACHINE",null,"Machinery",53]
["MINING",null,"Mining and quarrying",54]
["FOODPRO",null,"Food, beverages and tobacco",55]
["PAPERPRO",null,"Paper, pulp and printing",56]
["WOODPRO",null,"Wood and wood products",57]
["CONSTRUC",null,"Construction",58]
["TEXTILES",null,"Textiles and leather",59]
["INONSPEC",null,"Not elsewhere specified (Industry)",60]
["TOTTRANS",null,"Transport sector",61]
["RAIL",null,"Rail",62]
["ROAD",null,"Road",63]
["DOMESNAV",null,"Domestic navigation",64]
[null,null,"Domestic aviation",65]
[null,null,"International aviation",66]
["TRNONSPE",null,"Not elsewhere specified (Transport)",67]
["TOTOTHER",null,"Other sectors",68]
["COMMPUB",null,"Commercial and public services",69]
["RESIDENT",null,"Residential",70]
["AGRICULT",null,"Agriculture/Forestry",71]
[null,null,"   Agriculture",72]
[null,null,"   Forestry",73]
["FISHING",null,"Fishing",74]
["ONONSPEC",null,"Not elsewhere specified (Other)",75]
[null,null,"Final non-energy consumption",76]

{"sheet":"Ren_Table_3a","index":29,"n_rows":76,"n_cols":5,"rows_kept":76,"cut":false,"hidden":true,"merged":[[0,2,0,4],[3,4,4,4],[3,2,4,2]]}
[null,null,"TABLE 3a. TECHNICAL CHARACTERISTICS OF INSTALLATIONS AT THE END OF THE YEAR"]
[]
[null,null,{"$f":"CountryName","v":"Statisland"},null,"Unit = MWe"]
["DataType :","CAPACITY",{"$f":"DataYear","v":2023},null,"ELECTRICAL CAPACITY"]
[null,null,"(or other data:                  )"]
["(Plant)",null,"NET MAXIMUM CAPACITY"]
["Item1","Product","CLASSIFICATION BY TECHNOLOGY",null,"A"]
["TOTCAP","HYDRO","Hydro",1]
["TOTCAP","HYDPURE","     Pure hydro (with no pumping)",2]
["TOTCAP","HYDSRRP","          of which: run-of-river",3]
["TOTCAP","MIXEDHYDRO","     Mixed hydro",4]
["TOTCAP","HYDPUMP","     Pure pumped storage",5]
["TOTCAP","GEOTHERM","Geothermal",6]
["TOTCAP","SOLARPV","Solar photovoltaic (AC)",7]
[null,null,"     PV <30 kW",8]
[null,null,"          Of which Rooftop",9]
[null,null,"          Of which Off-grid",10]
[null,null,"          Of which PV <10 kW",11]
[null,null,"     PV 30-1000 kW",12]
[null,null,"          Of which Rooftop",13]
[null,null,"          Of which Off-grid",14]
[null,null,"     PV 1+ MW",15]
[null,null,"          Of which Rooftop",16]
[null,null,"          Of which Off-grid",17]
[null,null,"Solar photovoltaic (DC)",18]
[null,null,"     PV <30 kW",19]
[null,null,"          Of which Rooftop",20]
[null,null,"          Of which Off-grid",21]
[null,null,"          Of which PV <10 kW",22]
[null,null,"     PV 30-1000 kW",23]
[null,null,"          Of which Rooftop",24]
["TOTCAP","PV20","          Of which Off-grid",25]
["TOTCAP","PV201000","     PV 1+ MW",26]
["TOTCAP","PV1000","          Of which Rooftop",27]
["TOTCAP","PVOFF","          Of which Off-grid",28]
["TOTCAP","SOLARTH","Solar thermal",29]
["TOTCAP","TIDE","Tide, wave and ocean",30]
["TOTCAP","WIND","Wind",31]
["TOTCAP","ONWIND","     Onshore wind",32]
["TOTCAP","OFFWIND","     Offshore wind",33]
["TOTCAP","INDWASTE","Industrial waste",34]
["TOTCAP","MUNWASTE","Municipal waste",35]
["TOTCAP","SBIOFUELS","Solid biofuels",36]
["TOTCAP","BIOGASES","Biogases",37]
["TOTCAP","BIODIESEL","Biodiesels",38]
["TOTCAP","BIOGASOL","Biogasolines",39]
["TOTCAP","OBIOLIQ","Other liquid biofuels",40]
[]
[]
[null,null,"SOLAR COLLECTORS SURFACE  "]
[]
["TOTCAP","SOLARSUR","Solar collectors surface (1000m2)",30]
[]
[null,null,"LIQUID BIOFUELS PLANTS CAPACITY"]
[]
["CAPTON","BIOGASOL","Biogasoline",31]
["CAPTON","BIODIESEL","Biodiesels",32]
["CAPTON","BIOJETKERO","Bio jet kerosene",33]
["CAPTON","OBIOLIQ","Other liquid biofuels",34]
[]
[null,null,"AVERAGE NET CALORIFIC VALUE"]
[]
["NAVERAGE","BIOGASOL","Biogasoline average net calorific value",35]
["NAVERAGE","BIOETHANOL","Bioethanol average net calorific value",36]
["NAVERAGE","BIODIESEL","Biodiesel average net calorific value ",37]
["NAVERAGE","BIOJETKERO","Bio jet kerosene average net calorific value",38]
["NAVERAGE","OBIOLIQ","Other liquid biofuels average net calorific value",39]
["NAVERAGE","CHARCOAL","Charcoal average net calorific value ",40]
[]
[null,null,"DENSITY"]
[]
[null,null,"Biogasoline density",41]
[null,null,"Bioethanol density",42]
[null,null,"Biodiesel density",43]
[null,null,"Bio jet kerosene density",44]
[null,null,"Other liquid biofuels density",45]

{"sheet":"Ele_Table_1","index":30,"n_rows":32,"n_cols":15,"rows_kept":32,"cut":false,"hidden":true,"merged":[]}
[null,null,{"$f":"CountryName","v":"Statisland"},null,null,"TABLE 1.  GROSS ELECTRICITY AND HEAT PRODUCTION: (TRANSFORMATION SECTOR)"]
["Item2 (PLANT)  è",null,null,null,"MAINELEC","MAINCHP",null,"MAINHEAT","AUTOELEC","AUTOCHP",null,"AUTOHEAT",null,"MAINTOT","AUTOTOT"]
["DataType :","BALANCE",{"$f":"DataYear","v":2023},null,"MAIN ACTIVITY PRODUCER",null,null,null,"AUTOPRODUCER",null,null,null,null,"TOTAL"]
["Item1 ê","Product",null,null,"ELECTRICITY","CHP","of which in full CHP mode","HEAT","ELECTRICITY","CHP","of which in full CHP mode","HEAT","auto-consumed CHP heat","MAIN ACTIVITY PRODUCER","AUTOPRODUCER"]
["BALANCE",null,"ELECTRICITY UNIT:  GWh (10^6 kWh)",null,"A","B","C","D","E","F","G","H","I","J(=A+B+D)","K(=E+F+H)"]
["GELEPROD","ELECTR","Electricity",1]
["GELEPROD","NUCLEAR","Nuclear",2]
["GELEPROD","HYDRO","Hydro",3]
["GELEPROD","HYDTPUMP","Pumped hydro",4]
["GELEPROD","GEOTHERM","Geothermal",5]
["GELEPROD","SOLAR","Solar",6]
["GELEPROD","TIDE","Tide, wave and ocean",7]
["GELEPROD","WIND","Wind",8]
["GELEPROD","COMBFUEL","Combustible fuels",9]
["GELEPROD","CHEMHEAT","Heat from chemical sources",10]
["GELEPROD","OTHER","Other sources",11]
[null,null,"Of which: from (derived/district) heat",12]
[null,null,"Of which: from batteries",13]
[null,null,"HEAT Unit:  TJ"]
["GHEATPRO","HEAT","Heat",14]
["GHEATPRO","NUCLEAR","Nuclear",15]
["GHEATPRO","GEOTHERM","Geothermal",16]
["GHEATPRO","SOLAR","Solar",17]
["GHEATPRO","COMBFUEL","Combustible fuels",18]
["GHEATPRO","HEATPUMP","Heat pumps",19]
["GHEATPRO","BOILER","Electric boilers",20]
["GHEATPRO","CHEMHEAT","Heat from chemical sources",21]
["GHEATPRO","OTHER","Other sources",22]
[null,null,"Of which: from (derived/district) heat",23]
[null,null,"Of which: from batteries",24]
[]
[null,null,"Source(s) of shown data:"]

{"sheet":"Ele_Table_3","index":31,"n_rows":40,"n_cols":7,"rows_kept":40,"cut":false,"hidden":true,"merged":[[39,3,39,6]]}
[null,null,"TABLE 3. ELECTRICITY AND HEAT SUPPLY AND CONSUMPTION"]
["PRODUCT  è",null,null,null,null,"ELECTR","HEAT"]
["DataType :","BALANCE",{"$f":"CountryName","v":"Statisland"}]
["Item1","Item2",{"$f":"DataYear","v":2023},null,null,"ELECTRICITY (GWh)","HEAT (TJ)"]
["BALANCE","PLANT",null,null,null,"A","B"]
["GROSPROD","TOTAL","Total gross production",1,"(=)"]
["OWNUSE","TOTAL","Own use",2,"(-)"]
["NETPROD","TOTAL","Total net production",3,"(=)"]
["TOTIMPSB","TOTAL","Total imports (balance)",4,"(+)"]
["TOTEXPSB","TOTAL","Total exports (balance)",5,"(-)"]
["EHEAT","TOTAL","Used for heat pumps",6,"(-)"]
["EBOILER","TOTAL","Used for electric boilers",7,"(-)"]
["EPUMPSTPUR","TOTAL","Used for pumped storage in pure hydro pumping plants",8,"(-)"]
["EPUMPSTMIX","TOTAL","Used for pumped storage in mixed plants",9,"(-)"]
[null,null,"Used for charging batteries",10,"(-)"]
["EELE","TOTAL","Used for electricity production",11,"(-)"]
["SUPPLY","TOTAL","Electricity/Heat supply",12,"(=)"]
["DISTLOSS","TOTAL","Transmission and distribution losses",13,"(-)"]
[null,null,"Transmission losses",14]
[null,null,"Distribution losses",15]
[null,null,"of which: non-technical losses",16]
["TFCCALC","TOTAL","Final consumption (calculated)",17,"(=)"]
["STATDIFF","TOTAL","Statistical differences",18]
["TFCOBS","TOTAL","Final consumption (observed)",19]
["TOTENGY","TOTAL","Energy sector",20]
["TOTIND","TOTAL","Industry sector",21]
["TOTTRANS","TOTAL","Transport sector",22]
["RAIL","TOTAL","Rail",23]
["PIPELINE","TOTAL","Pipeline transport",24]
["ROAD","TOTAL","Road",25]
["TRNONSPE","TOTAL","Not elsewhere specified (Transport)",26]
["RESIDENT","TOTAL","Residential",27]
["COMMPUB","TOTAL","Commercial and public services",28]
["AGRICULT","TOTAL","Agriculture/forestry",29]
[null,null,"Agriculture",30]
[null,null,"Forestry",31]
["FISHING","TOTAL","Fishing",32]
["ONONSPEC","TOTAL","Not elsewhere specified (Other sectors)",33]
[]
[null,null,"Source(s) of shown data:"]

{"sheet":"Ele_Table_4","index":32,"n_rows":38,"n_cols":6,"rows_kept":38,"cut":false,"hidden":true,"merged":[]}
[null,null,"TABLE 4.  ELECTRICITY AND HEAT CONSUMPTION IN INDUSTRY AND ENERGY SECTORS"]
["PRODUCT  è",null,null,null,"ELECTR","HEAT"]
["DataType :","BALANCE",{"$f":"CountryName","v":"Statisland"}]
["Item1","Item2",{"$f":"DataYear","v":2023},null,"ELECTRICITY (GWh)","HEAT (TJ)"]
["BALANCE","PLANT",null,null,"A","B"]
["TOTENGY","TOTAL","Energy sector",1]
["EMINES","TOTAL","Coal mines",2]
["EOILGASEX","TOTAL","Oil and gas extraction",3]
["EPATFUEL","TOTAL","Patent fuel plants (Energy)",4]
["ECOKEOVS","TOTAL","Coke ovens (Energy)",5]
["EBKB","TOTAL","BKB / PB plants (Energy)",6]
["EGASWKS","TOTAL","Gas works (Energy)",7]
["EBLASTFUR","TOTAL","Blast furnaces (Energy)",8]
["EREFINER","TOTAL","Oil refineries",9]
["ENUC","TOTAL","Nuclear industry",10]
["ECOALLIQ","TOTAL","Coal liquefaction plants (Energy)",11]
["ELNG","TOTAL","Liquefaction (LNG) / Regasification plants",12]
["EBIOGAS","TOTAL","Gasification plants for biogas",13]
["EGTL","TOTAL","Gas-to-liquids (GTL) plants (Energy)",14]
["ECHARCOAL","TOTAL","Charcoal production plants (Energy)",15]
["ENONSPEC","TOTAL","Not elsewhere specified (Energy)",16]
[]
["TOTIND","TOTAL","Industry sector",17]
["IRONSTL","TOTAL","Iron and steel",18]
["CHEMICAL","TOTAL","Chemical and petrochemical",19]
["NONFERR","TOTAL","Non-ferrous metals",20]
["NONMET","TOTAL","Non-metallic minerals",21]
["TRANSEQ","TOTAL","Transport equipment",22]
["MACHINE","TOTAL","Machinery",23]
["MINING","TOTAL","Mining and quarrying",24]
["FOODPRO","TOTAL","Food, beverages and tobacco",25]
["PAPERPRO","TOTAL","Paper, pulp and printing",26]
["WOODPRO","TOTAL","Wood and wood products",27]
["CONSTRUC","TOTAL","Construction",28]
["TEXTILES","TOTAL","Textiles and leather",29]
["INONSPEC","TOTAL","Not elsewhere specified (Industry)",30]
[]
[null,null,"Source(s) of shown data:"]

{"sheet":"Ele_Table_6a","index":33,"n_rows":76,"n_cols":14,"rows_kept":76,"cut":false,"hidden":true,"merged":[[6,2,9,2],[10,2,13,2],[14,2,17,2],[18,2,21,2],[62,2,65,2],[49,2,51,2],[52,2,54,2],[30,2,33,2],[22,2,25,2],[46,2,48,2],[55,2,57,2],[58,2,61,2],[34,2,37,2],[38,2,41,2],[42,2,45,2],[66,2,69,2],[26,2,29,2]]}
[null,null,"TABLE 6a.  GROSS ELECTRICITY AND HEAT PRODUCTION FROM COMBUSTIBLE FUELS (TRANSFORMATION SECTOR)"]
["Item2 (PLANT)  è",null,null,null,null,null,"MAINELEC","MAINCHP","MAINHEAT","AUTOELEC","AUTOCHP","AUTOHEAT","TOTAL","TOTAL"]
["DataType :","BALANCE",{"$f":"CountryName","v":"Statisland"}]
[null,null,{"$f":"DataYear","v":2023},null,null,null,"MAIN ACTIVITY PRODUCER PLANTS",null,null,"AUTOPRODUCER PLANTS",null,null,"TOTAL"]
["Item1 ê","Product",null,null,null,null,"ELECTRICITY","CHP","HEAT","ELECTRICITY","CHP","HEAT","ELECTRICITY","HEAT"]
[null,null,"FUELS",null,null,"UNITS","A","B","C","D","E","F","G","H"]
["INPUTTON","ANTCOAL","ANTHRACITE","Fuel input",1,"103 t"]
["INPUTTJN","ANTCOAL",null,"Fuel input",2,"TJ (NCV)"]
["GELEPROD","ANTCOAL",null,"Elec. prod.",3,"GWh"]
["GHEATPRO","ANTCOAL",null,"Heat prod.",4,"TJ"]
["INPUTTON","COKCOAL"," COKING\n COAL","Fuel input",5,"103 t"]
["INPUTTJN","COKCOAL",null,"Fuel input",6,"TJ (NCV)"]
["GELEPROD","COKCOAL",null,"Elec. prod.",7,"GWh"]
["GHEATPRO","COKCOAL",null,"Heat prod.",8,"TJ"]
["INPUTTON","BITCOAL","OTHER BITUMINOUS COAL","Fuel input",9,"103 t"]
["INPUTTJN","BITCOAL",null,"Fuel input",10,"TJ (NCV)"]
["GELEPROD","BITCOAL",null,"Elec. prod.",11,"GWh"]
["GHEATPRO","BITCOAL",null,"Heat prod.",12,"TJ"]
["INPUTTON","SUBCOAL"," SUB-\n BITUMINOUS\n COAL","Fuel input",13,"103 t"]
["INPUTTJN","SUBCOAL",null,"Fuel input",14,"TJ (NCV)"]
["GELEPROD","SUBCOAL",null,"Elec. prod.",15,"GWh"]
["GHEATPRO","SUBCOAL",null,"Heat prod.",16,"TJ"]
["INPUTTON","LIGNITE","LIGNITE","Fuel input",17,"103 t"]
["INPUTTJN","LIGNITE",null,"Fuel input",18,"TJ (NCV)"]
["GELEPROD","LIGNITE",null,"Elec. prod.",19,"GWh"]
["GHEATPRO","LIGNITE",null,"Heat prod.",20,"TJ"]
["INPUTTON","PATFUEL","PATENT FUEL","Fuel input",21,"103 t"]
["INPUTTJN","PATFUEL",null,"Fuel input",22,"TJ (NCV)"]
["GELEPROD","PATFUEL",null,"Elec. prod.",23,"GWh"]
["GHEATPRO","PATFUEL",null,"Heat prod.",24,"TJ"]
["INPUTTON","OVENCOKE"," COKE\n OVEN\n COKE","Fuel input",25,"103 t"]
["INPUTTJN","OVENCOKE",null,"Fuel input",26,"TJ (NCV)"]
["GELEPROD","OVENCOKE",null,"Elec. prod.",27,"GWh"]
["GHEATPRO","OVENCOKE",null,"Heat prod.",28,"TJ"]
["INPUTTON","GASCOKE"," GAS\n COKE","Fuel input",29,"103 t"]
["INPUTTJN","GASCOKE",null,"Fuel input",30,"TJ (NCV)"]
["GELEPROD","GASCOKE",null,"Elec. prod.",31,"GWh"]
["GHEATPRO","GASCOKE",null,"Heat prod.",32,"TJ"]
["INPUTTON","COALTAR"," COAL\n TAR","Fuel input",33,"103 t"]
["INPUTTJN","COALTAR",null,"Fuel input",34,"TJ (NCV)"]
["GELEPROD","COALTAR",null,"Elec. prod.",35,"GWh"]
["GHEATPRO","COALTAR",null,"Heat prod.",36,"TJ"]
["INPUTTON","BKB","BKB","Fuel input",37,"103 t"]
["INPUTTJN","BKB",null,"Fuel input",38,"TJ (NCV)"]
["GELEPROD","BKB",null,"Elec. prod.",39,"GWh"]
["GHEATPRO","BKB",null,"Heat prod.",40,"TJ"]
["INPUTTJG","GASWKSGS"," GAS\n WORKS\n GAS","Fuel input",41,"TJ (GCV)"]
["GELEPROD","GASWKSGS",null,"Elec. prod.",42,"GWh"]
["GHEATPRO","GASWKSGS",null,"Heat prod.",43,"TJ"]
["INPUTTJG","COKEOVGS"," COKE\n OVEN\n GAS","Fuel input",44,"TJ (GCV)"]
["GELEPROD","COKEOVGS",null,"Elec. prod.",45,"GWh"]
["GHEATPRO","COKEOVGS",null,"Heat prod.",46,"TJ"]
["INPUTTJG","BLFURGS"," BLAST\n FURNACE\n GAS","Fuel input",47,"TJ (GCV)"]
["GELEPROD","BLFURGS",null,"Elec. prod.",48,"GWh"]
["GHEATPRO","BLFURGS",null,"Heat prod.",49,"TJ"]
["INPUTTJG","OGASES"," OTHER\n RECOVERED\n GASES","Fuel input",50,"TJ (GCV)"]
["GELEPROD","OGASES",null,"Elec. prod.",51,"GWh"]
["GHEATPRO","OGASES",null,"Heat prod.",52,"TJ"]
["INPUTTON","PEAT","PEAT","Fuel input",53,"103 t"]
["INPUTTJN","PEAT",null,"Fuel input",54,"TJ (NCV)"]
["GELEPROD","PEAT",null,"Elec. prod.",55,"GWh"]
["GHEATPRO","PEAT",null,"Heat prod.",56,"TJ"]
["INPUTTON","PEATPROD","PEAT PRODUCTS","Fuel input",61,"103 t"]
["INPUTTJN","PEATPROD",null,"Fuel input",62,"TJ (NCV)"]
["GELEPROD","PEATPROD",null,"Elec. prod.",63,"GWh"]
["GHEATPRO","PEATPROD",null,"Heat prod.",64,"TJ"]
["INPUTTON","OILSHALE","OIL SHALE AND OIL SANDS","Fuel input",57,"103 t"]
["INPUTTJN","OILSHALE",null,"Fuel input",58,"TJ (NCV)"]
["GELEPROD","OILSHALE",null,"Elec. prod.",59,"GWh"]
["GHEATPRO","OILSHALE",null,"Heat prod.",60,"TJ"]
[]
[null,null,"Source(s) of shown data:"]
[]
[]
["GELEPROD","COAL","TOTAL","Elec. prod.",65,"GWh"]
["GHEATPRO","COAL",null,"Heat prod.",66,"TJ"]

{"sheet":"Ele_Table_6b","index":34,"n_rows":60,"n_cols":14,"rows_kept":60,"cut":false,"hidden":true,"merged":[[26,2,29,2],[30,2,33,2],[34,2,37,2],[38,2,41,2],[50,2,53,2],[42,2,45,2],[46,2,49,2],[6,2,9,2],[10,2,13,2],[14,2,17,2],[18,2,21,2],[22,2,25,2]]}
[null,null,"TABLE 6b.  GROSS ELECTRICITY AND HEAT PRODUCTION FROM COMBUSTIBLE FUELS (TRANSFORMATION SECTOR)"]
["Item2 (PLANT)  è",null,null,null,null,null,"MAINELEC","MAINCHP","MAINHEAT","AUTOELEC","AUTOCHP","AUTOHEAT","TOTAL","TOTAL"]
["DataType :","BALANCE",{"$f":"CountryName","v":"Statisland"}]
[null,null,{"$f":"DataYear","v":2023},null,null,null,"MAIN ACTIVITY PRODUCER PLANTS",null,null,"AUTOPRODUCER PLANTS",null,null,"TOTAL"]
["Item1 ê","Product",null,null,null,null,"ELECTRICITY","CHP","HEAT","ELECTRICITY","CHP","HEAT","ELECTRICITY","HEAT"]
[null,null,"FUELS",null,null,"UNITS","A","B","C","D","E","F","G","H"]
["INPUTTON","CRUDEOIL"," CRUDE \n OIL","Fuel input",1,"103 t"]
["INPUTTJN","CRUDEOIL",null,"Fuel input",2,"TJ (NCV)"]
["GELEPROD","CRUDEOIL",null,"Elec. prod.",3,"GWh"]
["GHEATPRO","CRUDEOIL",null,"Heat prod.",4,"TJ"]
["INPUTTON","NGL"," NGL \n (Natural Gas Liquids)","Fuel input",5,"103 t"]
["INPUTTJN","NGL",null,"Fuel input",6,"TJ (NCV)"]
["GELEPROD","NGL",null,"Elec. prod.",7,"GWh"]
["GHEATPRO","NGL",null,"Heat prod.",8,"TJ"]
["INPUTTON","REFINGAS"," REFINERY\n GAS","Fuel input",9,"103 t"]
["INPUTTJN","REFINGAS",null,"Fuel input",10,"TJ (NCV)"]
["GELEPROD","REFINGAS",null,"Elec. prod.",11,"GWh"]
["GHEATPRO","REFINGAS",null,"Heat prod.",12,"TJ"]
["INPUTTON","LPG"," LPG\n (Liquefied Petroleum\n Gases)","Fuel input",13,"103 t"]
["INPUTTJN","LPG",null,"Fuel input",14,"TJ (NCV)"]
["GELEPROD","LPG",null,"Elec. prod.",15,"GWh"]
["GHEATPRO","LPG",null,"Heat prod.",16,"TJ"]
["INPUTTON","NAPHTHA","NAPHTHA","Fuel input",17,"103 t"]
["INPUTTJN","NAPHTHA",null,"Fuel input",18,"TJ (NCV)"]
["GELEPROD","NAPHTHA",null,"Elec. prod.",19,"GWh"]
["GHEATPRO","NAPHTHA",null,"Heat prod.",20,"TJ"]
["INPUTTON","JETKERO"," KEROSENE TYPE \n JET FUEL","Fuel input",21,"103 t"]
["INPUTTJN","JETKERO",null,"Fuel input",22,"TJ (NCV)"]
["GELEPROD","JETKERO",null,"Elec. prod.",23,"GWh"]
["GHEATPRO","JETKERO",null,"Heat prod.",24,"TJ"]
["INPUTTON","OTHKERO"," OTHER \n KEROSENE","Fuel input",25,"103 t"]
["INPUTTJN","OTHKERO",null,"Fuel input",26,"TJ (NCV)"]
["GELEPROD","OTHKERO",null,"Elec. prod.",27,"GWh"]
["GHEATPRO","OTHKERO",null,"Heat prod.",28,"TJ"]
["INPUTTON","GASDIES","GAS / DIESEL OIL","Fuel input",29,"103 t"]
["INPUTTJN","GASDIES",null,"Fuel input",30,"TJ (NCV)"]
["GELEPROD","GASDIES",null,"Elec. prod.",31,"GWh"]
["GHEATPRO","GASDIES",null,"Heat prod.",32,"TJ"]
["INPUTTON","RESFUEL","FUEL OIL","Fuel input",33,"103 t"]
["INPUTTJN","RESFUEL",null,"Fuel input",34,"TJ (NCV)"]
["GELEPROD","RESFUEL",null,"Elec. prod.",35,"GWh"]
["GHEATPRO","RESFUEL",null,"Heat prod.",36,"TJ"]
["INPUTTON","BITUMEN","BITUMEN","Fuel input",37,"103 t"]
["INPUTTJN","BITUMEN",null,"Fuel input",38,"TJ (NCV)"]
["GELEPROD","BITUMEN",null,"Elec. prod.",39,"GWh"]
["GHEATPRO","BITUMEN",null,"Heat prod.",40,"TJ"]
["INPUTTON","PETCOKE"," PETROLEUM \n COKE","Fuel input",41,"103 t"]
["INPUTTJN","PETCOKE",null,"Fuel input",42,"TJ (NCV)"]
["GELEPROD","PETCOKE",null,"Elec. prod.",43,"GWh"]
["GHEATPRO","PETCOKE",null,"Heat prod.",44,"TJ"]
["INPUTTON","OPRODS"," OTHER OIL \n PRODUCTS","Fuel input",45,"103 t"]
["INPUTTJN","OPRODS",null,"Fuel input",46,"TJ (NCV)"]
["GELEPROD","OPRODS",null,"Elec. prod.",47,"GWh"]
["GHEATPRO","OPRODS",null,"Heat prod.",48,"TJ"]
[]
[null,null,"Source(s) of shown data:"]
[]
[]
["GELEPROD","LIQFUELS","TOTAL","Elec. prod.",49,"GWh"]
["GHEATPRO","LIQFUELS",null,"Heat prod.",50,"TJ"]

{"sheet":"Ele_Table_6c","index":35,"n_rows":14,"n_cols":14,"rows_kept":14,"cut":false,"hidden":true,"merged":[[6,2,8,2]]}
[null,null,"TABLE 6c.  GROSS ELECTRICITY AND HEAT PRODUCTION FROM COMBUSTIBLE FUELS (TRANSFORMATION SECTOR)"]
["Item2 (PLANT)  è",null,null,null,null,null,"MAINELEC","MAINCHP","MAINHEAT","AUTOELEC","AUTOCHP","AUTOHEAT","TOTAL","TOTAL"]
["DataType :","BALANCE",{"$f":"CountryName","v":"Statisland"}]
[null,null,{"$f":"DataYear","v":2023},null,null,null,"MAIN ACTIVITY PRODUCER PLANTS",null,null,"AUTOPRODUCER PLANTS",null,null,"TOTAL"]
["Item1 ê","Product",null,null,null,null,"ELECTRICITY","CHP","HEAT","ELECTRICITY","CHP","HEAT","ELECTRICITY","HEAT"]
[null,null,"FUELS",null,null,"UNITS","A","B","C","D","E","F","G","H"]
["INPUTTJG","NATGAS","NATURAL GAS","Fuel input",1,"TJ (GCV)"]
["GELEPROD","NATGAS",null,"Elec. prod.",2,"GWh"]
["GHEATPRO","NATGAS",null,"Heat prod.",3,"TJ"]
[]
[null,null,"Source(s) of shown data:"]
[]
["GELEPROD",null,"TOTAL","Elec. prod.",4,"GWh"]
["GHEATPRO",null,null,"Heat prod.",5,"TJ"]

{"sheet":"Ele_Table_6d","index":36,"n_rows":41,"n_cols":14,"rows_kept":41,"cut":false,"hidden":true,"merged":[[21,2,24,2],[29,2,32,2],[6,2,8,2],[9,2,11,2],[12,2,14,2],[15,2,17,2],[18,2,20,2],[25,2,28,2]]}
[null,null,"TABLE 6d.  GROSS ELECTRICITY AND HEAT PRODUCTION FROM COMBUSTIBLE FUELS (TRANSFORMATION SECTOR)"]
["Item2 (PLANT)  è",null,null,null,null,null,"MAINELEC","MAINCHP","MAINHEAT","AUTOELEC","AUTOCHP","AUTOHEAT","TOTAL","TOTAL"]
["DataType :","BALANCE",{"$f":"CountryName","v":"Statisland"}]
[null,null,{"$f":"DataYear","v":2023},null,null,null,"MAIN ACTIVITY PRODUCER PLANTS",null,null,"AUTOPRODUCER PLANTS",null,null,"TOTAL"]
["Item1 ê","Product",null,null,null,null,"ELECTRICITY","CHP","HEAT","ELECTRICITY","CHP","HEAT","ELECTRICITY","HEAT"]
[null,null,"FUELS",null,null,"UNITS","A","B","C","D","E","F","G","H"]
["INPUTTJN","INDWASTE"," INDUSTRIAL\n WASTE","Fuel input",1,"TJ (NCV)"]
["GELEPROD","INDWASTE",null,"Elec. prod.",2,"GWh"]
["GHEATPRO","INDWASTE",null,"Heat prod.",3,"TJ"]
["INPUTTJN","MUNWASTER"," MUNICIPAL \n WASTE \n (RENEWABLE)","Fuel input",4,"TJ (NCV)"]
["GELEPROD","MUNWASTER",null,"Elec. prod.",5,"GWh"]
["GHEATPRO","MUNWASTER",null,"Heat prod.",6,"TJ"]
["INPUTTJN","MUNWASTEN"," MUNICIPAL \n WASTE\n (NON-RENEWABLE)","Fuel input",7,"TJ (NCV)"]
["GELEPROD","MUNWASTEN",null,"Elec. prod.",8,"GWh"]
["GHEATPRO","MUNWASTEN",null,"Heat prod.",9,"TJ"]
["INPUTTJN","SBIOFUELS","SOLID BIOFUELS","Fuel input",10,"TJ (NCV)"]
["GELEPROD","SBIOFUELS",null,"Elec. prod.",11,"GWh"]
["GHEATPRO","SBIOFUELS",null,"Heat prod.",12,"TJ"]
["INPUTTJN","BIOGASES","BIOGASES","Fuel input",13,"TJ (NCV)"]
["GELEPROD","BIOGASES",null,"Elec. prod.",14,"GWh"]
["GHEATPRO","BIOGASES",null,"Heat prod.",15,"TJ"]
["INPUTTON","BIODIESEL","BIODIESELS","Fuel input",16,"103 t"]
["INPUTTJN","BIODIESEL",null,"Fuel input",17,"TJ (NCV)"]
["GELEPROD","BIODIESEL",null,"Elec. prod.",18,"GWh"]
["GHEATPRO","BIODIESEL",null,"Heat prod.",19,"TJ"]
["INPUTTON","BIOGASOL","BIOGASOLINES","Fuel input",20,"103 t"]
["INPUTTJN","BIOGASOL",null,"Fuel input",21,"TJ (NCV)"]
["GELEPROD","BIOGASOL",null,"Elec. prod.",22,"GWh"]
["GHEATPRO","BIOGASOL",null,"Heat prod.",23,"TJ"]
["INPUTTON","OBIOLIQ","OTHER LIQUID BIOFUELS","Fuel input",24,"103 t"]
["INPUTTJN","OBIOLIQ",null,"Fuel input",25,"TJ (NCV)"]
["GELEPROD","OBIOLIQ",null,"Elec. prod.",26,"GWh"]
["GHEATPRO","OBIOLIQ",null,"Heat prod.",27,"TJ"]
[]
[null,null,"Source(s) of shown data:"]
[]
["GELEPROD","OTHCOMB","TOTAL","Elec. prod.",28,"GWh"]
["GHEATPRO","OTHCOMB",null,"Heat prod.",29,"TJ"]
[]
[null,null,"TOTAL","Elec. prod.",30,"GWh"]
[null,null,"(Sum of Tables 6 a,b,c,d)","Heat prod.",31,"TJ"]

{"sheet":"Ele_Table_7a","index":37,"n_rows":62,"n_cols":6,"rows_kept":62,"cut":false,"hidden":true,"merged":[[0,2,0,5],[4,2,4,3],[5,2,5,3],[48,2,53,2],[56,2,59,2]]}
[null,null,"TABLE 7a.  NET MAXIMUM ELECTRICAL CAPACITY AND PEAK LOAD"]
[]
[null,null,{"$f":"CountryName","v":"Statisland"}]
[null,null,{"$f":"DataYear","v":2023},null,null,"Unit = MWe"]
["Product","Item2",null,null,"MAIN ACTIVITY PRODUCERS","AUTOPRODUCERS"]
[null,"(none)","CLASSIFICATION BY SOURCE",null,"A","B"]
["TOTCAP",null,null,"1 - Total capacity"]
["NUCLEAR",null,null,"2 - Nuclear"]
["NUCLEARN",null,null,"   Newly installed"]
["NUCLEARD",null,null,"   Decommissioned"]
["HYDRO",null,null,"3 - Hydro"]
["HYDROS",null,null,"3a -     Pure hydro (no pumping)"]
["HYDROSN",null,null,"   Newly installed"]
["HYDROSD",null,null,"   Decommissioned"]
["MIXEDHYDRO",null,null,"3b -     Mixed plants"]
["MIXEDHYDRN",null,null,"   Newly installed"]
["MIXEDHYDRD",null,null,"   Decommissioned"]
["HYDPUMP",null,null,"3c -     Pure pumped storage"]
["HYDPUMPN",null,null,"   Newly installed"]
["HYDPUMPD",null,null,"   Decommissioned"]
["GEOTHERM",null,null,"4 - Geothermal"]
["GEOTHERMN",null,null,"   Newly installed"]
["GEOTHERMD",null,null,"   Decommissioned"]
["SOLARPVA",null,null,"5 - Solar photovoltaic (AC)"]
["SOLARPVAN",null,null,"   Newly installed"]
["SOLARPVAD",null,null,"   Decommissioned"]
["SOLARPVD",null,null,"5 - Solar photovoltaic (DC)"]
["SOLARPVDN",null,null,"   Newly installed"]
["SOLARPVDD",null,null,"   Decommissioned"]
["SOLARTH",null,null,"6 - Solar thermal"]
["SOLARTHN",null,null,"   Newly installed"]
["SOLARTHD",null,null,"   Decommissioned"]
["TIDE",null,null,"7 - Tide, wave and ocean"]
["TIDEN",null,null,"   Newly installed"]
["TIDED",null,null,"   Decommissioned"]
["WIND",null,null,"8 - Wind"]
["WINDON",null,null,"8a -     Wind on-shore"]
["WINDONN",null,null,"   Newly installed"]
["WINDOND",null,null,"   Decommissioned"]
["WINDOFF",null,null,"8b -     Wind off-shore"]
["WINDOFFN",null,null,"   Newly installed"]
["WINDOFFD",null,null,"   Decommissioned"]
["COMBFUEL",null,null,"9 - Combustible fuels"]
["COMBFUELN",null,null,"   Newly installed"]
["COMBFUELD",null,null,"   Decommissioned"]
["OTHER",null,null,"10 - Other sources"]
["OTHERN",null,null,"   Newly installed"]
["OTHERD",null,null,"   Decommissioned"]
[null,null,"14 - Gas turbine","11 - Total conventional thermal"]
["STEAM",null,null,"12 - Steam"]
["INTCOMB",null,null,"13 - Internal combustion"]
["GASTURB",null,null,"14 - Gas turbine"]
["COMBINED",null,null,"15 - Combined cycle"]
["OTHGEN",null,null,"16 - Other type of generation"]
[]
[null,null,"PEAK LOAD INFORMATION"]
["PEAKLOAD",null,"18 - Capacity at peak","17 - Peak load"]
["PEAKCAP",null,null,"18 - Capacity at peak"]
["PEAKDATE",null,null,"19 - Date of peak load occurence"]
["PEAKTIME",null,null,"20 - Time of peak load occurence"]
[]
[null,null,"Source(s) of above data:"]

{"sheet":"IronSteel_CokeOven","index":38,"n_rows":54,"n_cols":32,"rows_kept":54,"cut":false,"hidden":false,"merged":[[2,4,2,8],[9,10,10,15],[11,10,12,15],[6,0,6,16],[30,0,30,4],[24,10,27,15],[10,9,11,9],[19,1,20,1],[40,6,40,7],[39,0,39,4],[36,0,38,0],[31,4,31,5],[13,10,13,15],[14,10,14,15],[13,9,14,9],[31,6,31,7],[32,0,34,0],[31,2,31,3],[31,0,31,1]]}
[{"$f":"HLOOKUP(LangChoice,$AB$8:$AD$40,$AA9+1,FALSE)","v":"Data validation: Iron and steel sector"},null,null,null,null,null,null,null,null,null,null,null,null,null,null,null,null,null,null,null,null,null,null,null,null,null,"Hide -->:",null,null,null,null,":<-- Hide"]
[{"$f":"HLOOKUP(LangChoice,$AB$8:$AD$40,$AA16+1,FALSE)","v":"Checks:"},null,null,null,{"$f":"HLOOKUP(LangChoice,$AB$8:$AD$40,$AA17+1,FALSE)","v":"Process details:"}]
["1)",{"$f":"HLOOKUP(LangChoice,$AB$8:$AD$40,$AA18+1,FALSE)","v":"Coke oven process:"},null,null,"Energy Statistics Manual, IEA 2005."]
["1.1)",{"$f":"HLOOKUP(LangChoice,$AB$8:$AD$40,$AA19+1,FALSE)","v":"process efficiency"}]
["1.2)",{"$f":"HLOOKUP(LangChoice,$AB$8:$AD$40,$AA20+1,FALSE)","v":"output shares (energy-%)"}]
[]
[{"$f":"HLOOKUP(LangChoice,$AB$8:$AD$40,$AA10+1,FALSE)","v":"Coke is manufactured through coal pyrolysis. Coal pyrolysis means the heating of coal in an oxygen-free atmosphere to produce gases, liquids and a solid residue (char or coke). Only certain coals with the right plastic properties (for example bituminous or coking coals) can be converted to coke.\n\nThe coke is made in ovens comprising a battery of individual chambers up to 60 in number. The average temperature  is usually set between 1 150°C and 1 350°C. Usually, cleaned coke-oven gas is used as a fuel, but other gases such as blast-furnace gas enriched with natural gas, or straight natural gas can be used as well. Coke ovens produce coke and untreated coke-oven gas. The gas is “purified” by removing dust particles and other valuable products, e.g. tars and light oils."},{"$f":"HLOOKUP(LangChoice,$AB$8:$AD$40,$AA15+1,FALSE)","v":"Process efficiency exceeds 100%! Please verify the energy content of the input and output values."},"Process efficiency exceeds 100%! Please verify the energy content of the input and output values.","Process efficiency exceeds 100%! Please verify the energy content of the input and output values.","Process efficiency exceeds 100%! Please verify the energy content of the input and output values.","Process efficiency exceeds 100%! Please verify the energy content of the input and output values.","Process efficiency exceeds 100%! Please verify the energy content of the input and output values.","Process efficiency exceeds 100%! Please verify the energy content of the input and output values.","Process efficiency exceeds 100%! Please verify the energy content of the input and output values.","Process efficiency exceeds 100%! Please verify the energy content of the input and output values.","Process efficiency exceeds 100%! Please verify the energy content of the input and output values.","Process efficiency exceeds 100%! Please verify the energy content of the input and output values.","Process efficiency exceeds 100%! Please verify the energy content of the input and output values.","Process efficiency exceeds 100%! Please verify the energy content of the input and output values.","Process efficiency exceeds 100%! Please verify the energy content of the input and output values.","Process efficiency exceeds 100%! Please verify the energy content of the input and output values.","Process efficiency exceeds 100%! Please verify the energy content of the input and output values.",null,null,null,null,null,null,null,null,null,null,"Process information"]
[null,null,null,null,null,null,null,null,null,null,null,null,null,null,null,null,null,null,null,null,null,null,null,null,null,null,null,"English","Pусский","中文"]
[null,null,null,null,null,null,null,null,null,null,null,null,null,null,null,null,null,null,null,null,null,null,null,null,null,null,1,"Data validation: Iron and steel sector","Проверка достоверности данных: Сектор черной металлургии","[missing Chinese]"]
[null,null,null,null,null,null,null,null,null,null,{"$f":"B37 & \" + \" & B38 & \" + \" & B39","v":"Coke oven coke + Coal tar + Coke oven gas"},null,null,null,null,null,null,null,null,null,null,null,null,null,null,null,2,"Coke is manufactured through coal pyrolysis. Coal pyrolysis means the heating of coal in an oxygen-free atmosphere to produce gases, liquids and a solid residue (char or coke). Only certain coals with the right plastic properties (for example bituminous or coking coals) can be converted to coke.\n\nThe coke is made in ovens comprising a battery of individual chambers up to 60 in number. The average temperature  is usually set between 1 150°C and 1 350°C. Usually, cleaned coke-oven gas is used as a fuel, but other gases such as blast-furnace gas enriched with natural gas, or straight natural gas can be used as well. Coke ovens produce coke and untreated coke-oven gas. The gas is “purified” by removing dust particles and other valuable products, e.g. tars and light oils.","Кокс производится путем пиролиза каменного угля. Пиролиз угля – это нагревание угля в бескислородной среде для производства газов, жидкостей и твердых остатков (древесный уголь и кокс). Только некоторые виды угля с нужными пластическими свойствами (например, битуминозный или коксовый уголь) можно преобразовать в кокс.\n\nКокс производится в печах, которые представляют собой систему отдельных камер числом до 60. Средняя температура обычно составляет между 1150°C и 1350°C. В качестве топлива чаще всего используется очищенный коксовый газ, но можно использовать и другие виды газов, такие как доменный газ, обогащенный природным газом, или обычный природный газ. Коксовальные печи производят кокс и необогащенный коксовый газ. Газ «очищают», удаляя частички пыли и другие ценные продукты, такие как, например, смолы и легкие масла.","[missing Chinese]","Process efficiency error margins:"]
[null,null,null,null,null,null,null,null,null,{"$f":"B4 & \" = \"","v":"process efficiency = "},null,null,null,null,null,null,null,null,null,null,null,null,null,null,null,null,3,"Process efficiency is below zero! Please verify the energy content of the input and output values.","КПД процесса ниже ноля! Пожалуйста, проверьте энергетическое содержание используемых ресурсов и значения производства","[missing Chinese]",0,{"$f":"IF($G$41<AE11,TRUE,FALSE)","v":false}]
[null,null,null,null,null,null,null,null,null,null,{"$f":"B33 & \" + \" & B34 & \" + \" & B35","v":"Coking coal + Other bituminous coal + Other inputs"},null,null,null,null,null,null,null,null,null,null,null,null,null,null,null,4,"Process efficiency is rather low. Please verify the energy content of the input and output values.","КПД процесса довольно низкий. Пожалуйста, проверьте энергетическое содержание используемых ресурсов и значения производства","[missing Chinese]",{"$f":"AA51","v":0.67},{"$f":"IF($G$41<AE12,TRUE,FALSE)","v":false}]
[null,null,null,null,null,null,null,null,null,null,null,null,null,null,null,null,null,null,null,null,null,null,null,null,null,null,5,"Process efficiency is within reasonable range.","КПД процесса находится в разумных пределах.","[missing Chinese]",{"$f":"AA52","v":0.9},{"$f":"IF($G$41<AE13,TRUE,FALSE)","v":false}]
[null,null,null,null,null,null,null,null,null,"= ",{"$f":"TEXT(G37,\"0\") & \" \"& $H$33 & \" + \" & TEXT(G38,\"0\")  & \" \"& $H$33 & \" + \" &  TEXT(G39,\"0\")  & \" \"& $H$33","v":"0 TJ + 0 TJ + 0 TJ"},null,null,null,null,null,null,null,null,null,null,null,null,null,null,null,6,"Process efficiency is rather high. Please verify the energy content of the input and output values.","КПД процесса довольно высокий. Пожалуйста, проверьте энергетическое содержание используемых ресурсов и значения производства","[missing Chinese]",1,{"$f":"IF($G$41<AE14,TRUE,FALSE)","v":false}]
[null,null,null,null,null,null,null,null,null,null,{"$f":"TEXT(G33,\"0\")  & \" \"& $H$33 & \" + \" &  TEXT(G34,\"0\")  & \" \"& $H$34 & \" + \" &  TEXT(G35,\"0\")  & \" \"& $H$35","v":"0 TJ + 0 TJ + 0 TJ"},null,null,null,null,null,null,null,null,null,null,null,null,null,null,null,7,"Process efficiency exceeds 100%! Please verify the energy content of the input and output values.","КПД процесса превышает 100 %! Пожалуйста, проверьте энергетическое содержание используемых ресурсов и значения производства","[missing Chinese]","(above 100%)"]
[null,null,null,null,null,null,null,null,null,null,null,null,null,null,null,null,null,null,null,null,null,null,null,null,null,null,8,"Checks:","Проверки:","[missing Chinese]","Row for the HLOOKUP for coke oven eff. :",{"$f":"IFERROR(MATCH(TRUE,AF11:AF14,0)+3,AA15+1)","v":8}]
[null,null,null,null,null,null,null,null,null,"= ",{"$f":"G41","v":".."},null,null,null,null,null,null,null,null,null,null,null,null,null,null,null,9,"Process details:","Детали процесса:","[missing Chinese]"]
[null,null,null,null,null,null,null,null,null,null,null,null,null,null,null,null,null,null,null,null,null,null,null,null,null,null,10,"Coke oven process:","Процесс коксования в печи:","[missing Chinese]"]
[null,null,null,null,null,null,null,null,null,null,{"$f":"HLOOKUP(LangChoice,$AB$8:$AD$40,$AA32+1,FALSE)","v":"Ranges:"},null,null,null,null,null,null,null,null,null,null,null,null,null,null,null,11,"process efficiency","КПД процесса","[missing Chinese]"]
[null,null,null,null,null,null,null,null,null,null,{"$f":"\"< \" & TEXT(AE12,\"0%\")","v":"< 67%"},null,{"$f":"HLOOKUP(LangChoice,$AB$8:$AD$40,$AA33+1,FALSE)","v":"Low"},null,null,null,null,null,null,null,null,null,null,null,null,null,12,"output shares (energy-%)","доли производимых продуктов (энергия-%)","[missing Chinese]"]
[null,null,null,null,null,null,null,null,null,null,{"$f":"TEXT(AE12,\"0%\") & \" - \" & TEXT(AE13,\"0%\")","v":"67% - 90%"},null,{"$f":"HLOOKUP(LangChoice,$AB$8:$AD$40,$AA34+1,FALSE)","v":"Reasonable"},null,null,null,null,null,null,null,null,null,null,null,null,null,13,"Efficiency range","Диапазон КПД","[missing Chinese]"]
[null,null,null,null,null,null,null,null,null,null,{"$f":"TEXT(AE13,\"0%\") & \" - \" & TEXT(AE14,\"0%\")","v":"90% - 100%"},null,{"$f":"HLOOKUP(LangChoice,$AB$8:$AD$40,$AA35+1,FALSE)","v":"High"},null,null,null,null,null,null,null,null,null,null,null,null,null,14,"Physical quantity","Физическое количество","[missing Chinese]"]
[null,null,null,null,null,null,null,null,null,null,{"$f":"\"> \" & TEXT(AE14,\"0%\")","v":"> 100%"},null,{"$f":"HLOOKUP(LangChoice,$AB$8:$AD$40,$AA36+1,FALSE)","v":"Impossible"},null,null,null,null,null,null,null,null,null,null,null,null,null,15,"NCV","Низшая теплотворная способность","[missing Chinese]"]
[null,null,null,null,null,null,null,null,null,null,null,null,null,null,null,null,null,null,null,null,null,null,null,null,null,null,16,"Energy quantity","Количество энергии","[missing Chinese]"]
[null,null,null,null,null,null,null,null,null,null,{"$f":"IF($K$17=\"..\",HLOOKUP(LangChoice,$AB$8:$AD$40,$AA30+1,FALSE),HLOOKUP(LangChoice,$AB$8:$AD$40,AF16,FALSE))","v":"Not applicable"},null,null,null,null,null,null,null,null,null,null,null,null,null,null,null,17,"Input(s)","Используемый(-е) ресурс(-ы)","[missing Chinese]"]
[null,null,null,null,null,null,null,null,null,null,null,null,null,null,null,null,null,null,null,null,null,null,null,null,null,null,18,"Output(s)","Производство","[missing Chinese]"]
[null,null,null,null,null,null,null,null,null,null,null,null,null,null,null,null,null,null,null,null,null,null,null,null,null,null,19,"Indicator(s)","Показатель(-и)","[missing Chinese]"]
[null,null,null,null,null,null,null,null,null,null,null,null,null,null,null,null,null,null,null,null,null,null,null,null,null,null,20,"kJ/kg","кДж/кг","[missing Chinese]"]
[null,null,null,null,null,null,null,null,null,null,null,null,null,null,null,null,null,null,null,null,null,null,null,null,null,null,21,"TJ","кт н. э.","[missing Chinese]"]
[null,null,null,null,null,null,null,null,null,null,null,null,null,null,null,null,null,null,null,null,null,null,null,null,null,null,22,"Not applicable","Не применяется","[missing Chinese]"]
[null,null,null,null,null,null,null,null,null,null,null,null,null,null,null,null,null,null,null,null,null,null,null,null,null,null,23,null,null,"[missing Chinese]"]
[{"$f":"A3&\" \"&B3","v":"1) Coke oven process:"},null,{"$f":"HLOOKUP(LangChoice,$AB$8:$AD$40,$AA22+1,FALSE)","v":"Physical quantity"},{"$f":"HLOOKUP(LangChoice,$AB$8:$AD$40,$AA40+1,FALSE)","v":"English"},{"$f":"HLOOKUP(LangChoice,$AB$8:$AD$40,$AA23+1,FALSE)","v":"NCV"},null,{"$f":"HLOOKUP(LangChoice,$AB$8:$AD$40,$AA24+1,FALSE)","v":"Energy quantity"},{"$f":"HLOOKUP(LangChoice,$AB$8:$AD$40,$AA40+1,FALSE)","v":"English"},null,{"$f":"A5&\" \"&B5&\":\"","v":"1.2) output shares (energy-%):"},null,null,null,null,null,null,null,null,null,null,null,null,null,null,null,null,24,"Ranges:","Диапазоны:","[missing Chinese]"]
[{"$f":"HLOOKUP(LangChoice,$AB$8:$AD$40,$AA25+1,FALSE)","v":"Input(s)"},{"$f":"COKCOAL","v":"Coking coal"},{"$f":"'Data in physical units'!$D$30","v":0},{"$f":"INDEX(Definitions_ProdLang!$I$6:$K$6,1,MATCH(LangChoice,Definitions_ProdLang!$I$2:$K$2,0))","v":"kt"},{"$f":"'Conversion factors'!H6","v":28200},{"$f":"HLOOKUP(LangChoice,$AB$8:$AD$40,$AA28+1,FALSE)","v":"kJ/kg"},{"$f":"C33*kt_to_kg*E33*kJ_to_TJ","v":0},{"$f":"HLOOKUP(LangChoice,$AB$8:$AD$40,$AA29+1,FALSE)","v":"TJ"},null,null,null,null,null,null,null,null,null,null,null,null,null,null,null,null,null,null,25,"Low","Низкий","[missing Chinese]"]
[null,{"$f":"BITCOAL","v":"Other bituminous coal"},{"$f":"'Data in physical units'!$E$30","v":0},{"$f":"INDEX(Definitions_ProdLang!$I$6:$K$6,1,MATCH(LangChoice,Definitions_ProdLang!$I$2:$K$2,0))","v":"kt"},{"$f":"'Conversion factors'!H7","v":25800},{"$f":"F33","v":"kJ/kg"},{"$f":"C34*kt_to_kg*E34*kJ_to_TJ","v":0},{"$f":"H33","v":"TJ"},null,null,null,null,null,null,null,null,null,null,null,null,null,null,null,null,null,null,26,"Reasonable","Разумный","[missing Chinese]"]
[null,{"$f":"HLOOKUP(LangChoice,$AB$8:$AD$40,$AA37+1,FALSE)","v":"Other inputs"},null,null,null,null,{"$f":"SUM(-SUMIF('Disaggregated Balance'!E25:BO25,\"<0\"),'Disaggregated Balance'!F25,'Disaggregated Balance'!H25)","v":0},{"$f":"H33","v":"TJ"},null,null,null,null,null,null,null,null,null,null,null,null,null,null,null,null,null,null,27,"High","Высокий","[missing Chinese]"]
[null,null,null,null,null,null,null,null,null,null,null,null,null,null,null,null,null,null,null,null,null,null,null,null,null,null,28,"Impossible","Невозможный","[missing Chinese]"]
[{"$f":"HLOOKUP(LangChoice,$AB$8:$AD$40,$AA26+1,FALSE)","v":"Output(s)"},{"$f":"OVENCOKE","v":"Coke oven coke"},{"$f":"'Data in physical units'!I5","v":0},{"$f":"INDEX(Definitions_ProdLang!$I$11:$K$11,1,MATCH(LangChoice,Definitions_ProdLang!$I$2:$K$2,0))","v":"kt"},{"$f":"'Conversion factors'!$D$11","v":28200},{"$f":"F33","v":"kJ/kg"},{"$f":"C37*kt_to_kg*E37*kJ_to_TJ","v":0},{"$f":"H33","v":"TJ"},null,null,null,null,null,null,null,null,null,null,null,null,null,null,null,null,null,null,29,"Other inputs","[missing Russian]","[missing Chinese]"]
[null,{"$f":"COALTAR","v":"Coal tar"},{"$f":"('Data in physical units'!K5-'Data in physical units'!K30)","v":0},{"$f":"INDEX(Definitions_ProdLang!$I$13:$K$13,1,MATCH(LangChoice,Definitions_ProdLang!$I$2:$K$2,0))","v":"kt"},{"$f":"'Conversion factors'!$D$13","v":38000},{"$f":"F33","v":"kJ/kg"},{"$f":"C38*kt_to_kg*E38*kJ_to_TJ","v":0},{"$f":"H33","v":"TJ"},null,null,null,null,null,null,null,null,null,null,null,null,null,null,null,null,null,null,30,null,null,"[missing Chinese]"]
[null,{"$f":"COKEOVGS","v":"Coke oven gas"},{"$f":"'Data in physical units'!N5","v":0},{"$f":"INDEX(Definitions_ProdLang!$I$16:$K$16,1,MATCH(LangChoice,Definitions_ProdLang!$I$2:$K$2,0))","v":"TJ-gross"},{"$f":"'Conversion factors'!$C$49","v":0.9},"-",{"$f":"C39*E39*1","v":0},{"$f":"H33","v":"TJ"}]
[]
[{"$f":"HLOOKUP(LangChoice,$AB$8:$AD$40,$AA27+1,FALSE)","v":"Indicator(s)"},{"$f":"A4&\" \"&B4&\":\"","v":"1.1) process efficiency:"},null,null,null,null,{"$f":"IFERROR(SUM(G37:G39)/SUM(G33:G35),\"..\")","v":".."}]
[]
[null,null,null,null,null,null,null,null,null,null,null,null,null,null,null,null,null,null,null,null,null,null,null,null,null,null,null,"Simple input-output barchart (1st page)",null,"(Empty to widen the gap)"]
[null,null,null,null,null,null,null,null,null,null,null,null,null,null,null,null,null,null,null,null,null,null,null,null,null,null,null,null,{"$f":"A33","v":"Input(s)"},null,{"$f":"A37","v":"Output(s)"}]
[null,null,null,null,null,null,null,null,null,null,null,null,null,null,null,null,null,null,null,null,null,null,null,null,null,null,null,{"$f":"B33","v":"Coking coal"},{"$f":"G33","v":0},null,0]
[null,null,null,null,null,null,null,null,null,null,null,null,null,null,null,null,null,null,null,null,null,null,null,null,null,null,null,{"$f":"B34","v":"Other bituminous coal"},{"$f":"G34","v":0},null,0]
[null,null,null,null,null,null,null,null,null,null,null,null,null,null,null,null,null,null,null,null,null,null,null,null,null,null,null,{"$f":"B35","v":"Other inputs"},{"$f":"G35","v":0},null,0]
[null,null,null,null,null,null,null,null,null,null,null,null,null,null,null,null,null,null,null,null,null,null,null,null,null,null,null,{"$f":"B37","v":"Coke oven coke"},0,null,{"$f":"G37","v":0}]
[null,null,null,null,null,null,null,null,null,null,null,null,null,null,null,null,null,null,null,null,null,null,null,null,null,null,null,{"$f":"B38","v":"Coal tar"},0,null,{"$f":"G38","v":0}]
[null,null,null,null,null,null,null,null,null,null,null,null,null,null,null,null,null,null,null,null,null,null,null,null,null,null,"Set here:",{"$f":"B39","v":"Coke oven gas"},0,null,{"$f":"G39","v":0}]
[null,null,null,null,null,null,null,null,null,null,null,null,null,null,null,null,null,null,null,null,null,null,null,null,null,null,0.67,{"$f":"HLOOKUP(LangChoice,$AB$8:$AD$40,$AA21+1,FALSE)","v":"Efficiency range"},{"$f":"AA51*SUM($AC$45:$AC$47)","v":0},{"$f":"AC51","v":0},0]
[null,null,null,null,null,null,null,null,null,null,null,null,null,null,null,null,null,null,null,null,null,null,null,null,null,null,0.9,{"$f":"AB51","v":"Efficiency range"},{"$f":"AA52*SUM($AC$45:$AC$47)","v":0},0,0]
[null,null,null,null,null,null,null,null,null,null,null,null,null,null,null,null,null,null,null,null,null,null,null,null,null,null,null,{"$f":"CountryName & \" \" & B4","v":"Statisland process efficiency"},{"$f":"G41*SUM($AC$45:$AC$47)","v":{"$error":"#VALUE!"}},{"$error":"#VALUE!"},{"$error":"#VALUE!"}]
[null,null,null,null,null,null,null,null,null,null,null,null,null,null,null,null,null,null,null,null,null,null,null,null,null,null,null,"y-axis title",{"$f":"G32&\" [\"&H33&\"]\"","v":"Energy quantity [TJ]"}]

{"sheet":"IronSteel_BlastFurnace","index":39,"n_rows":51,"n_cols":32,"rows_kept":51,"cut":false,"hidden":false,"merged":[[34,10,34,11],[34,12,34,13],[13,9,14,9],[24,10,27,14],[13,10,13,14],[14,10,14,14],[34,14,34,15],[2,3,2,6],[10,8,11,9],[6,0,6,15],[10,10,10,14],[11,10,11,14],[44,6,44,7],[34,0,34,1],[34,2,34,3],[34,4,34,5],[34,6,34,7],[35,0,37,0],[39,0,42,0]]}
[{"$f":"HLOOKUP(LangChoice,$AB$8:$AD$40,$AA9+1,FALSE)","v":"Data validation: Iron and steel sector"},null,null,null,null,null,null,null,null,null,null,null,null,null,null,null,null,null,null,null,null,null,null,null,null,null,"Hide -->:",null,null,null,null,":<-- Hide"]
[{"$f":"IronSteel_CokeOven!A2","v":"Checks:"},null,null,{"$f":"IronSteel_CokeOven!E2","v":"Process details:"}]
["2)",{"$f":"HLOOKUP(LangChoice,$AB$8:$AD$40,$AA16+1,FALSE)","v":"Blast furnace process:"},null,"Energy Statistics Manual, IEA 2005."]
["2.1)",{"$f":"HLOOKUP(LangChoice,$AB$8:$AD$40,$AA17+1,FALSE)","v":"Blast furnace ratio"}]
[]
[]
[{"$f":"HLOOKUP(LangChoice,$AB$8:$AD$40,$AA10+1,FALSE)","v":"Blast furnaces are used to manufacture iron of which the large majority is made into steel. The inputs to blast furnaces are iron oxide ore, fluxes (limestone or lime) to assist the flow of molten metal through the coke bed and remove acidities, and coke to provide heat and an open matrix structure to support the ore and fluxes and allow the molten iron to pass to the bottom of the furnace.\n\nNot all of the carbon monoxide (CO) is converted to carbon dioxide (CO2) in the process and the excess passes out of the blast furnace into the blast-furnace gas. The presence of carbon monoxide in the blast-furnace gas gives it a heating value. The temperature of the blast air as it enters the furnace may be as high as 900°C and provides most of the heat requirement."},null,null,null,null,null,null,null,null,null,null,null,null,null,null,null,null,null,null,null,null,null,null,null,null,null,null,"Process information"]
[null,null,null,null,null,null,null,null,null,null,null,null,null,null,null,null,null,null,null,null,null,null,null,null,null,null,null,"English","Pусский","中文"]
[null,null,null,null,null,null,null,null,null,null,null,null,null,null,null,null,null,null,null,null,null,null,null,null,null,null,1,"Data validation: Iron and steel sector","Проверка достоверности данных: Сектор черной металлургии","[missing Chinese]"]
[null,null,null,null,null,null,null,null,null,null,null,null,null,null,null,null,null,null,null,null,null,null,null,null,null,null,2,"Blast furnaces are used to manufacture iron of which the large majority is made into steel. The inputs to blast furnaces are iron oxide ore, fluxes (limestone or lime) to assist the flow of molten metal through the coke bed and remove acidities, and coke to provide heat and an open matrix structure to support the ore and fluxes and allow the molten iron to pass to the bottom of the furnace.\n\nNot all of the carbon monoxide (CO) is converted to carbon dioxide (CO2) in the process and the excess passes out of the blast furnace into the blast-furnace gas. The presence of carbon monoxide in the blast-furnace gas gives it a heating value. The temperature of the blast air as it enters the furnace may be as high as 900°C and provides most of the heat requirement.","Доменные печи используются для производства чугуна, большая часть которого перерабатывается в сталь. Доменные печи используют руду с содержанием оксида железа, флюсы (известняк или известь), которые помогают потоку расплавленного метала пройти через слой кокса и устранить кислоты, а также кокс для производства тепла и создания матричной структуры, поддерживающей руду и флюсы и позволяющей расплавленному чугуну стекать ко дну печи.\n\nВо время этого процесса не весь монооксид углерода (СО) превращается в диоксид (СО2), и его излишек выводится из печи и смешивается с доменным газом. Наличие монооксида углерода в доменном газе придает ему теплотворную способность. Температура воздуха дутья на входе в печь может достигать 900°C и обеспечивает большую часть потребного количества тепла.","[missing Chinese]","Process efficiency error margins:"]
[null,null,null,null,null,null,null,null,{"$f":"B4& \" =\"","v":"Blast furnace ratio ="},null,{"$f":"B40 & \" + \" & B41","v":"Blast furnace gas + Other recovered gases"},null,null,null,null,null,null,null,null,null,null,null,null,null,null,null,3,"Blast furnace ratio is below zero! Please verify the input and output values.","КПД доменной печи ниже ноля! Пожалуйста, проверьте значения используемых ресурсов и производства.","[missing Chinese]",0,{"$f":"IF($G$45<AE11,TRUE,FALSE)","v":false}]
[null,null,null,null,null,null,null,null,null,null,{"$f":"B36 & \" + \" & B37","v":"Coke oven coke + Pulverized coal injection"},null,null,null,null,null,null,null,null,null,null,null,null,null,null,null,4,"Blast furnace ratio is rather low. Please verify the input and output values.","КПД доменной печи довольно низкий. Пожалуйста, проверьте значения используемых ресурсов и производства.","[missing Chinese]",0.35,{"$f":"IF($G$45<AE12,TRUE,FALSE)","v":false}]
[null,null,null,null,null,null,null,null,null,null,null,null,null,null,null,null,null,null,null,null,null,null,null,null,null,null,5,"Blast furnace ratio is within reasonable range.","КПД доменной печи находится в разумных пределах.","[missing Chinese]",0.45,{"$f":"IF($G$45<AE13,TRUE,FALSE)","v":false}]
[null,null,null,null,null,null,null,null,null,"=",{"$f":"TEXT(G40,\"0\")  & \" \"& $H$36 & \" + \" &  TEXT(G41,\"0\")  & \" \"& $H$36","v":"0 TJ + 0 TJ"},null,null,null,null,null,null,null,null,null,null,null,null,null,null,null,6,"Blast furnace ratio is rather high. Please verify the input and output values.","КПД доменной печи довольно высокий. Пожалуйста, проверьте значения используемых ресурсов и производства.","[missing Chinese]",1,{"$f":"IF($G$45<AE14,TRUE,FALSE)","v":false}]
[null,null,null,null,null,null,null,null,null,null,{"$f":"TEXT(G36,\"0\")  & \" \"& $H$36 & IF(G37=0,\"\",\" + \" &TEXT(G37,\"0\")  & \" \"& $H$36)","v":"0 TJ"},null,null,null,null,null,null,null,null,null,null,null,null,null,null,null,7,"Blast furnace ratio exceeds 100%! Please verify the input and output values.","КПД доменной печи превышает 100 %! Пожалуйста, проверьте значения используемых ресурсов и производства.","[missing Chinese]","(above 100%)"]
[null,null,null,null,null,null,null,null,null,null,null,null,null,null,null,null,null,null,null,null,null,null,null,null,null,null,8,"Blast furnace process:","Процессы доменной печи:","[missing Chinese]","Row for the HLOOKUP for blast furnace ratio:",{"$f":"IFERROR(MATCH(TRUE,AF11:AF14,0)+3,AA15+1)","v":8}]
[null,null,null,null,null,null,null,null,null,"=",{"$f":"G45","v":".."},null,null,null,null,null,null,null,null,null,null,null,null,null,null,null,9,"Blast furnace ratio","КПД доменной печи","[missing Chinese]"]
[null,null,null,null,null,null,null,null,null,null,null,null,null,null,null,null,null,null,null,null,null,null,null,null,null,null,10,"Pulverized coal injection","Ввод угольной пыли","[missing Chinese]"]
[null,null,null,null,null,null,null,null,null,null,{"$f":"IronSteel_CokeOven!K19","v":"Ranges:"},null,null,null,null,null,null,null,null,null,null,null,null,null,null,null,11,"Limestone","Известняк","[missing Chinese]"]
[null,null,null,null,null,null,null,null,null,null,{"$f":"\"< \" & TEXT(AE12,\"0%\")","v":"< 35%"},null,{"$f":"IronSteel_CokeOven!M20","v":"Low"},null,null,null,null,null,null,null,null,null,null,null,null,null,12,"Molten iron","Расплавленный чугун","[missing Chinese]"]
[null,null,null,null,null,null,null,null,null,null,{"$f":"TEXT(AE12,\"0%\") & \" - \" & TEXT(AE13,\"0%\")","v":"35% - 45%"},null,{"$f":"IronSteel_CokeOven!M21","v":"Reasonable"},null,null,null,null,null,null,null,null,null,null,null,null,null,13,"Molten slag","Шлаковый расплав","[missing Chinese]"]
[null,null,null,null,null,null,null,null,null,null,{"$f":"TEXT(AE13,\"0%\") & \" - \" & TEXT(AE14,\"0%\")","v":"45% - 100%"},null,{"$f":"IronSteel_CokeOven!M22","v":"High"},null,null,null,null,null,null,null,null,null,null,null,null,null,14,"Range, blast furnace ratio","Диапазон, КПД доменной печи","[missing Chinese]"]
[null,null,null,null,null,null,null,null,null,null,{"$f":"\"> \" & TEXT(AE14,\"0%\")","v":"> 100%"},null,{"$f":"IronSteel_CokeOven!M23","v":"Impossible"},null,null,null,null,null,null,null,null,null,null,null,null,null,15,"Not applicable","Не применяется","[missing Chinese]"]
[null,null,null,null,null,null,null,null,null,null,null,null,null,null,null,null,null,null,null,null,null,null,null,null,null,null,16]
[null,null,null,null,null,null,null,null,null,null,{"$f":"IF($K$17=\"..\",HLOOKUP(LangChoice,$AB$8:$AD$40,$AA23+1,FALSE),HLOOKUP(LangChoice,$AB$8:$AD$15,AF16,FALSE))","v":"Not applicable"},null,null,null,null,null,null,null,null,null,null,null,null,null,null,null,17]
[null,null,null,null,null,null,null,null,null,null,null,null,null,null,null,null,null,null,null,null,null,null,null,null,null,null,18]
[null,null,null,null,null,null,null,null,null,null,null,null,null,null,null,null,null,null,null,null,null,null,null,null,null,null,19]
[null,null,null,null,null,null,null,null,null,null,null,null,null,null,null,null,null,null,null,null,null,null,null,null,null,null,20]
[null,null,null,null,null,null,null,null,null,null,null,null,null,null,null,null,null,null,null,null,null,null,null,null,null,null,21]
[null,null,null,null,null,null,null,null,null,null,null,null,null,null,null,null,null,null,null,null,null,null,null,null,null,null,22]
[null,null,null,null,null,null,null,null,null,null,null,null,null,null,null,null,null,null,null,null,null,null,null,null,null,null,23]
[null,null,null,null,null,null,null,null,null,null,null,null,null,null,null,null,null,null,null,null,null,null,null,null,null,null,24]
[null,null,null,null,null,null,null,null,null,null,null,null,null,null,null,null,null,null,null,null,null,null,null,null,null,null,25]
[null,null,null,null,null,null,null,null,null,null,null,null,null,null,null,null,null,null,null,null,null,null,null,null,null,null,26]
[{"$f":"A3&\" \"&B3","v":"2) Blast furnace process:"},null,{"$f":"IronSteel_CokeOven!C32","v":"Physical quantity"},null,{"$f":"IronSteel_CokeOven!E32","v":"NCV"},null,{"$f":"IronSteel_CokeOven!G32","v":"Energy quantity"},null,null,null,null,null,null,null,null,null,null,null,null,null,null,null,null,null,null,null,27]
[{"$f":"IronSteel_CokeOven!A33","v":"Input(s)"},{"$f":"OVENCOKE","v":"Coke oven coke"},{"$f":"'Data in physical units'!$I$32","v":0},{"$f":"INDEX(Definitions_ProdLang!$I$11:$K$11,1,MATCH(LangChoice,Definitions_ProdLang!$I$2:$K$2,0))","v":"kt"},{"$f":"'Conversion factors'!I11","v":28200},{"$f":"IronSteel_CokeOven!F33","v":"kJ/kg"},{"$f":"C36*kt_to_kg*E36*kJ_to_TJ","v":0},{"$f":"IronSteel_CokeOven!H33","v":"TJ"},null,null,null,null,null,null,null,null,null,null,null,null,null,null,null,null,null,null,28]
[null,{"$f":"HLOOKUP(LangChoice,$AB$8:$AD$40,$AA18+1,FALSE)","v":"Pulverized coal injection"},0,{"$f":"INDEX(Definitions_ProdLang!$I$11:$K$11,1,MATCH(LangChoice,Definitions_ProdLang!$I$2:$K$2,0))","v":"kt"},25000,{"$f":"F36","v":"kJ/kg"},{"$f":"C37*kt_to_kg*E37*kJ_to_TJ","v":0},{"$f":"H36","v":"TJ"},null,null,null,null,null,null,null,null,null,null,null,null,null,null,null,null,null,null,29]
[null,{"$f":"HLOOKUP(LangChoice,$AB$8:$AD$40,$AA19+1,FALSE)","v":"Limestone"},null,null,null,null,null,null,null,null,null,null,null,null,null,null,null,null,null,null,null,null,null,null,null,null,30]
[]
[{"$f":"IronSteel_CokeOven!A37","v":"Output(s)"},{"$f":"BLFURGS","v":"Blast furnace gas"},{"$f":"'Data in physical units'!$O$5","v":0},{"$f":"INDEX(Definitions_ProdLang!$I$17:$K$17,1,MATCH(LangChoice,Definitions_ProdLang!$I$2:$K$2,0))","v":"TJ-gross"},{"$f":"'Conversion factors'!$C50","v":1},"-",{"$f":"C40*E40*1","v":0},{"$f":"H36","v":"TJ"}]
[null,{"$f":"OGASES","v":"Other recovered gases"},{"$f":"G41/E41/1","v":0},{"$f":"INDEX(Definitions_ProdLang!$I$17:$K$17,1,MATCH(LangChoice,Definitions_ProdLang!$I$2:$K$2,0))","v":"TJ-gross"},{"$f":"'Conversion factors'!$C51","v":1},"-",{"$f":"'Disaggregated Balance'!R27","v":0},{"$f":"H36","v":"TJ"}]
[null,{"$f":"HLOOKUP(LangChoice,$AB$8:$AD$40,$AA20+1,FALSE)","v":"Molten iron"},null,null,null,null,null,null,null,null,null,null,null,null,null,null,null,null,null,null,null,null,null,null,null,null,null,"Simple input-output barchart (1st page)",null,"(Empty to widen the gap)"]
[null,{"$f":"HLOOKUP(LangChoice,$AB$8:$AD$40,$AA21+1,FALSE)","v":"Molten slag"},null,null,null,null,null,null,null,null,null,null,null,null,null,null,null,null,null,null,null,null,null,null,null,null,null,null,{"$f":"A36","v":"Input(s)"},null,{"$f":"A40","v":"Output(s)"}]
[null,null,null,null,null,null,null,null,null,null,null,null,null,null,null,null,null,null,null,null,null,null,null,null,null,null,null,{"$f":"B36","v":"Coke oven coke"},{"$f":"G36","v":0},null,0]
[{"$f":"IronSteel_CokeOven!A41","v":"Indicator(s)"},null,null,null,null,{"$f":"A4&\" \"&B4&\":\"","v":"2.1) Blast furnace ratio:"},{"$f":"IFERROR(SUM(G40:G41)/SUM(G36:G37),\"..\")","v":".."},null,null,null,null,null,null,null,null,null,null,null,null,null,null,null,null,null,null,null,null,{"$f":"B37","v":"Pulverized coal injection"},{"$f":"G37","v":0},null,0]
[null,null,null,null,null,null,null,null,null,null,null,null,null,null,null,null,null,null,null,null,null,null,null,null,null,null,null,{"$f":"B40","v":"Blast furnace gas"},0,null,{"$f":"G40","v":0}]
[null,null,null,null,null,null,null,null,null,null,null,null,null,null,null,null,null,null,null,null,null,null,null,null,null,null,"Set here:",{"$f":"B41","v":"Other recovered gases"},0,null,{"$f":"G41","v":0}]
[null,null,null,null,null,null,null,null,null,null,null,null,null,null,null,null,null,null,null,null,null,null,null,null,null,null,{"$f":"AE12","v":0.35},{"$f":"HLOOKUP(LangChoice,$AB$8:$AD$40,$AA22+1,FALSE)","v":"Range, blast furnace ratio"},{"$f":"AA48*SUM(AC44:AC45)","v":0},{"$f":"AC48","v":0},0]
[null,null,null,null,null,null,null,null,null,null,null,null,null,null,null,null,null,null,null,null,null,null,null,null,null,null,{"$f":"AE13","v":0.45},{"$f":"AB48","v":"Range, blast furnace ratio"},{"$f":"AA49*SUM(AC44:AC45)","v":0},0,0]
[null,null,null,null,null,null,null,null,null,null,null,null,null,null,null,null,null,null,null,null,null,null,null,null,null,null,null,{"$f":"CountryName & \" \" &B4","v":"Statisland Blast furnace ratio"},{"$f":"G45*SUM(AC44:AC45)","v":{"$error":"#VALUE!"}},{"$error":"#VALUE!"},{"$error":"#VALUE!"}]
[null,null,null,null,null,null,null,null,null,null,null,null,null,null,null,null,null,null,null,null,null,null,null,null,null,null,null,"y-axis title",{"$f":"IronSteel_CokeOven!$G$32&\" [\"&IronSteel_CokeOven!$H$33&\"]\"","v":"Energy quantity [TJ]"}]

{"sheet":"Refinery","index":40,"n_rows":84,"n_cols":37,"rows_kept":84,"cut":false,"hidden":false,"merged":[[33,6,35,11],[2,3,2,5],[11,9,11,10],[12,9,12,10],[22,9,22,10],[7,0,7,4],[8,0,8,11],[22,0,22,7],[10,9,10,10],[10,6,10,8]]}
[{"$f":"HLOOKUP(LangChoice,$AC$10:$AE$40,$AB11+1,FALSE)","v":"Data validation: Oil refining sector"},null,null,null,null,null,null,null,null,null,null,null,null,null,null,null,null,null,null,null,null,null,null,null,null,null,"Hide -->:",null,null,null,null,null,null,null,null,null,":<-- Hide"]
[{"$f":"IronSteel_CokeOven!A2","v":"Checks:"},null,null,{"$f":"IronSteel_CokeOven!E2","v":"Process details:"}]
["3)",{"$f":"HLOOKUP(LangChoice,$AC$10:$AE$40,$AB18+1,FALSE)","v":"Oil refining process:"},null,"Energy Statistics Manual, IEA 2005."]
["3.1)",{"$f":"HLOOKUP(LangChoice,$AC$10:$AE$40,$AB19+1,FALSE)","v":"Refining losses (mass)"}]
["3.2)",{"$f":"HLOOKUP(LangChoice,$AC$10:$AE$40,$AB20+1,FALSE)","v":"Refining losses (energy)"}]
["3.3)",{"$f":"HLOOKUP(LangChoice,$AC$10:$AE$40,$AB21+1,FALSE)","v":"Own energy use"}]
["3.4)",{"$f":"HLOOKUP(LangChoice,$AC$10:$AE$40,$AB22+1,FALSE)","v":"Output shares"}]
[]
[{"$f":"HLOOKUP(LangChoice,$AC$10:$AE$40,$AB12+1,FALSE)","v":"A refinery takes crude oil and separates it into different fractions, then converts those fractions into usable products, and these products are finally blended to produce a finished product. These products are the fuels and chemicals used every day. In a refinery, portions of the outputs from some processes are fed back into the same process, fed to new processes, fed back to a previous process or blended with other outputs to form finished products. Oil products produced and used for energy purposes must be accounted within production."},null,null,null,null,null,null,null,null,null,null,null,null,null,null,null,null,null,null,null,null,null,null,null,null,null,null,null,"Process information"]
[null,null,null,null,null,null,null,null,null,null,null,null,null,null,null,null,null,null,null,null,null,null,null,null,null,null,null,null,"English","Pусский","中文"]
[null,null,null,null,null,null,{"$f":"B4& \" =\"","v":"Refining losses (mass) ="},null,null,{"$f":"B32&\" - \"&B37","v":"Input(s), Total - Output(s), Total"},null,null,null,null,null,null,null,null,null,null,null,null,null,null,null,null,null,1,"Data validation: Oil refining sector","Проверка достоверности данных: Нефтеперерабатывающий сектор","[missing Chinese]"]
[null,null,null,null,null,null,null,null,"=",{"$f":"TEXT(C32,\"0\")&\" \"&IronSteel_CokeOven!D33&\" - \"&TEXT(C37,\"0\")&\" \"&IronSteel_CokeOven!D33","v":"515 kt - 500 kt"},null,null,null,null,null,null,null,null,null,null,null,null,null,null,null,null,null,2,"A refinery takes crude oil and separates it into different fractions, then converts those fractions into usable products, and these products are finally blended to produce a finished product. These products are the fuels and chemicals used every day. In a refinery, portions of the outputs from some processes are fed back into the same process, fed to new processes, fed back to a previous process or blended with other outputs to form finished products. Oil products produced and used for energy purposes must be accounted within production.","На нефтеперерабатывающем заводе сырая нефть разделяется на различн ые фракции. Затем эти фракции преобразуются в пригодные для использования продукты, которые на заключительной стадии компаундируются для получения готов ых продуктов. Последние представляют собой разАичные виды топлива и химическ ие вещества, используемые повседневно.","[missing Chinese]"]
[null,null,null,null,null,null,null,null,"=",{"$f":"C33&\" \"&D33","v":"15 kt"},null,null,null,null,null,null,null,null,null,null,null,null,null,null,null,null,null,3,"Refinery losses are mass differences which appear between the total oil throughput of the refinery (reported as Refinery Intake Observed in Table 1) and the total gross production of finished products (reported in Table 2A). The losses arise through genuine oil losses and the conversion of refinery statistics used within the refineries to mass units.","\"Потери при нефтеперердботке\" представляют собой разницу между поАной масс ой поставки нефтепродуктов на нефтеперерабатывающий заводов (указываемой как \"Загрузка нефтеперерабатывающих заводов (фактическая)\" в табл. 1) и общим валовым производством готовой продукции (указываемым в табл. 2А). Потери являются следствием как естественной убыли нефтепродуктов, так и резулыатом погрешнос тей при пересчете статистических данных. отражающих процессы на нефтеперераб атывающих заводах, в единицы массы.","[missing Chinese]","Refinery losses error margins:"]
[null,null,null,null,null,null,null,null,null,{"$f":"HLOOKUP(LangChoice,$AC$10:$AE$40,$AB25+1,FALSE)","v":"Must always be > 0 !"},null,null,null,null,null,null,null,null,null,null,null,null,null,null,null,null,null,4,"Oil refinery losses are negative, indicating there is a problem with the data. Please verify the input and output values.","Потери нефтепереработки имеют отрицательное значение, что указывает на проблему с данными. Пожалуйста, проверьте значения используемых ресурсов и производства.","[missing Chinese]",0,{"$f":"IF($C$34<AF14,TRUE,FALSE)","v":false}]
[null,null,null,null,null,null,null,null,{"$f":"B34","v":"share of the input:"},{"$f":"IFERROR(ROUND(C34,1)&D34,\"..\")","v":"2.9%"},null,null,null,null,null,null,null,null,null,null,null,null,null,null,null,null,null,5,"Oil refinery losses are within reasonable range.","Потери при нефтепереработке находятся в разумных пределах.","[missing Chinese]",5,{"$f":"IF($C$34<AF15,TRUE,FALSE)","v":true}]
[null,null,null,null,null,null,null,null,null,null,null,null,null,null,null,null,null,null,null,null,null,null,null,null,null,null,null,6,"Oil refinery losses are rather high. Please verify the input and output values.","Потери при нефтепереработке довольно высоки. Пожалуйста, проверьте значения используемых ресурсов и производства.","[missing Chinese]",10,{"$f":"IF($C$34<AF16,TRUE,FALSE)","v":true}]
[null,null,null,null,null,null,null,null,null,{"$f":"IronSteel_CokeOven!K19","v":"Ranges:"},null,null,null,null,null,null,null,null,null,null,null,null,null,null,null,null,null,7,"Oil refinery losses are notably high. Please verify the input and output values.","Потери при нефтепереработке исключительно высоки. Пожалуйста, проверьте значения используемых ресурсов и производства.","[missing Chinese]","(>10%)",{"$f":"IF($C$34>AF16,TRUE,FALSE)","v":false}]
[null,null,null,null,null,null,null,null,null,{"$f":"\"< \" & TEXT(AF14,\"0%\")","v":"< 0%"},{"$f":"IronSteel_CokeOven!M23","v":"Impossible"},null,null,null,null,null,null,null,null,null,null,null,null,null,null,null,null,8,"Oil refining process:","Процесс нефтепереработки:","[missing Chinese]","Row for the HLOOKUP for refinery losses:",{"$f":"MATCH(TRUE,AG14:AG17,0)+4","v":6}]
[null,null,null,null,null,null,null,null,null,{"$f":"TEXT(AF14/100,\"0\") & \" - \" & TEXT(AF15/100,\"0%\")","v":"0 - 5%"},{"$f":"IronSteel_CokeOven!M21","v":"Reasonable"},null,null,null,null,null,null,null,null,null,null,null,null,null,null,null,null,9,"Refining losses (mass)","Потери при нефтепереработке (масса)","[missing Chinese]"]
[null,null,null,null,null,null,null,null,null,{"$f":"TEXT(AF15/100,\"0%\") & \" - \" & TEXT(AF16/100,\"0%\")","v":"5% - 10%"},{"$f":"IronSteel_CokeOven!M22","v":"High"},null,null,null,null,null,null,null,null,null,null,null,null,null,null,null,null,10,"Refining losses (energy)","Потери при нефтепереработке (энергия)","[missing Chinese]"]
[null,null,null,null,null,null,null,null,null,{"$f":"\"> \" & TEXT(AF16/100,\"0%\")","v":"> 10%"},{"$f":"HLOOKUP(LangChoice,$AC$10:$AE$40,$AB26+1,FALSE)","v":"Suspicious"},null,null,null,null,null,null,null,null,null,null,null,null,null,null,null,null,11,"Own energy use","Собственное использование энергии","[missing Chinese]"]
[null,null,null,null,null,null,null,null,null,null,null,null,null,null,null,null,null,null,null,null,null,null,null,null,null,null,null,12,"Output shares","Доли производства","[missing Chinese]"]
[{"$f":"HLOOKUP(LangChoice,$AC$10:$AE$40,$AB13+1,FALSE)","v":"Refinery losses are mass differences which appear between the total oil throughput of the refinery (reported as Refinery Intake Observed in Table 1) and the total gross production of finished products (reported in Table 2A). The losses arise through genuine oil losses and the conversion of refinery statistics used within the refineries to mass units."},null,null,null,null,null,null,null,null,{"$f":"IF($J$15=\"..\",HLOOKUP(LangChoice,$AC$10:$AE$40,$AB27+1,FALSE),HLOOKUP(LangChoice,$AC$10:$AE$17,AG18,FALSE))","v":"Oil refinery losses are within reasonable range."},null,null,null,null,null,null,null,null,null,null,null,null,null,null,null,null,null,13,"Refinery gains in energy terms, but losses in mass terms. Check the calorific values!","Польза нефтеперерабатывающего завода выражаются в единицах энергии, а потери – в единицах массы. Проверьте значения теплотворной способности!","[missing Chinese]","Diff. between losses in mass and energy terms"]
[null,null,null,null,null,null,null,null,null,null,null,null,null,null,null,null,null,null,null,null,null,null,null,null,null,null,null,14,{"$f":"\"Difference between losses in mass and energy terms is \"& TEXT(AF24,\"0%\") & \". Check the calorific values!\"","v":"Difference between losses in mass and energy terms is 6100%. Check the calorific values!"},{"$f":"\"Разница между потерями в массовом и энергетическом выражении составляет \" & TEXT(AF24,\"0%\") & \". Проверьте значения теплотворной способности!\"","v":"Разница между потерями в массовом и энергетическом выражении составляет 6100%. Проверьте значения теплотворной способности!"},"[missing Chinese]",{"$f":"(C33-E35)/C33","v":61}]
[null,null,null,null,null,null,null,null,null,null,null,null,null,null,null,null,null,null,null,null,null,null,null,null,null,null,null,15,"Must always be > 0 !","Всегда должно быть > 0 тыс. тонн!","[missing Chinese]"]
[{"$f":"IronSteel_CokeOven!$A$33","v":"Input(s)"},null,{"$f":"IronSteel_CokeOven!$C$32&\" [\"&IronSteel_CokeOven!$D$33&\"]\"","v":"Physical quantity [kt]"},{"$f":"IronSteel_CokeOven!$E$32&\" [\"&IronSteel_CokeOven!$F$33&\"]\"","v":"NCV [kJ/kg]"},{"$f":"IronSteel_CokeOven!$G$32&\" [\"&IronSteel_CokeOven!$H$33&\"]\"","v":"Energy quantity [TJ]"},null,null,null,null,null,null,null,null,null,null,null,null,null,null,null,null,null,null,null,null,null,null,16,"Suspicious","Подозрительно","[missing Chinese]"]
[null,{"$f":"CRUDEOIL","v":"Crude oil"},{"$f":"'Data in physical units'!U$35","v":515},{"$f":"'Conversion factors'!C18","v":40000},{"$f":"C27*D27/1000","v":20600},{"$f":"A6&\" \"&B6&\":\"","v":"3.3) Own energy use:"},{"$f":"-ROUND('Disaggregated Balance'!$BP$45,0)","v":0},{"$f":"IronSteel_CokeOven!H33","v":"TJ"},null,null,null,null,null,null,null,null,null,null,null,null,null,null,null,null,null,null,null,17,"Not applicable","Не применяется","[missing Chinese]"]
[null,{"$f":"NGL","v":"Natural gas liquids (NGL)"},{"$f":"'Data in physical units'!V$35","v":0},{"$f":"'Conversion factors'!C19","v":43000},{"$f":"C28*D28/1000","v":0},{"$f":"HLOOKUP(LangChoice,$AC$10:$AE$40,$AB28+1,FALSE)","v":"share of the input:"},{"$f":"IFERROR(G27/$E$32*100,\"..\")","v":0},"%",null,null,null,null,null,null,null,null,null,null,null,null,null,null,null,null,null,null,null,18,"share of the input:","доля используемых ресурсов:","[missing Chinese]"]
[null,{"$f":"REFFEEDS","v":"Refinery feedstocks"},{"$f":"'Data in physical units'!W$35","v":0},{"$f":"'Conversion factors'!C20","v":41868},{"$f":"C29*D29/1000","v":0},null,null,null,null,null,null,null,null,null,null,null,null,null,null,null,null,null,null,null,null,null,null,19,"LPG","СНГ","LPG"]
[null,{"$f":"ADDITIVE","v":"Additives/ blending components"},{"$f":"'Data in physical units'!X$35","v":0},{"$f":"'Conversion factors'!C21","v":25120},{"$f":"C30*D30/1000","v":0},null,null,null,null,null,null,null,null,null,null,null,null,null,null,null,null,null,null,null,null,null,null,20,"Aviation fuels","Авиационные топлива","[missing Chinese]"]
[null,{"$f":"NONCRUDE","v":"Other hydro-carbons"},{"$f":"'Data in physical units'!Y$35","v":0},{"$f":"'Conversion factors'!C22","v":41868},{"$f":"C31*D31/1000","v":0},null,null,null,null,null,null,null,null,null,null,null,null,null,null,null,null,null,null,null,null,null,null,21,"Motor gasoline","Моторный бензин","车用汽油"]
[null,{"$f":"A26& \", \"& HLOOKUP(LangChoice,$AC$10:$AE$57,$AB34+1,FALSE)","v":"Input(s), Total"},{"$f":"SUM(C27:C31)","v":515},null,{"$f":"SUM(E27:E31)","v":20600},null,null,null,null,null,null,null,null,null,null,null,null,null,null,null,null,null,null,null,null,null,null,22,"Middle distillates","Средние дистилляты","[missing Chinese]"]
[null,{"$f":"A4&\" \"&B4&\":\"","v":"3.1) Refining losses (mass):"},{"$f":"C32-C37","v":15},{"$f":"IronSteel_CokeOven!D33","v":"kt"},{"$f":"IF(C33<0,\"Check!\",\"\")","v":""},{"$f":"IFERROR(IF(AND(C33*E35>0,(C33-E35)/C33>10%),HLOOKUP(LangChoice,$AC$10:$AE$57,$AB24+1,FALSE),\"\"),\"\")","v":""},null,null,null,null,null,null,null,null,null,null,null,null,null,null,null,null,null,null,null,null,null,23,"Other","Неспецифицированные","未列明的产业"]
[null,{"$f":"F28","v":"share of the input:"},{"$f":"IFERROR(C33/$C$32*100,\"..\")","v":2.912621359223301},"%",null,null,{"$f":"IF(AND($E$35<0,$C$33>=0),HLOOKUP(LangChoice,$AC$10:$AE$57,$AB23+1,FALSE),\"\")","v":"Refinery gains in energy terms, but losses in mass terms. Check the calorific values!"},null,null,null,null,null,null,null,null,null,null,null,null,null,null,null,null,null,null,null,null,24,"Total","Всего","[missing Chinese]"]
[null,{"$f":"A5&\" \"&B5&\":\"","v":"3.2) Refining losses (energy):"},null,null,{"$f":"E32-E37","v":-900},{"$f":"H27","v":"TJ"},null,null,null,null,null,null,null,null,null,null,null,null,null,null,null,null,null,null,null,null,null,25]
[null,{"$f":"F28","v":"share of the input:"},null,null,{"$f":"IFERROR(E35/$E$32*100,\"..\")","v":-4.3689320388349513},"%",null,null,null,null,null,null,null,null,null,null,null,null,null,null,null,null,null,null,null,null,null,26]
[{"$f":"IronSteel_CokeOven!A37","v":"Output(s)"},{"$f":"A37& \", \"& HLOOKUP(LangChoice,$AC$10:$AE$57,$AB34+1,FALSE)","v":"Output(s), Total"},{"$f":"SUM(C38:C54)","v":500},null,{"$f":"SUM(E38:E54)","v":21500},{"$f":"A7&\" \"&B7&\":\"","v":"3.4) Output shares:"},null,null,null,null,null,null,null,null,null,null,null,null,null,null,null,null,null,null,null,null,null,27]
[{"$f":"$AC$66","v":"Other"},{"$f":"REFINGAS","v":"Refinery gas"},{"$f":"'Data in physical units'!Z$5","v":0},{"$f":"'Conversion factors'!C23","v":48100},{"$f":"C38*D38/1000","v":0},null,null,null,null,null,null,null,null,null,null,null,null,null,null,null,null,null,null,null,null,null,null,28]
[{"$f":"$AC$61","v":"LPG"},{"$f":"ETHANE","v":"Ethane"},{"$f":"'Data in physical units'!AA$5","v":0},{"$f":"'Conversion factors'!C24","v":49400},0,null,null,null,null,null,null,null,null,null,null,null,null,null,null,null,null,null,null,null,null,null,null,29]
[{"$f":"$AC$61","v":"LPG"},{"$f":"LPG","v":"Liquefied petroleum gases (LPG)"},{"$f":"'Data in physical units'!AB$5","v":0},{"$f":"'Conversion factors'!C25","v":47300},0,null,null,null,null,null,null,null,null,null,null,null,null,null,null,null,null,null,null,null,null,null,null,30]
[{"$f":"$AC$61","v":"LPG"},{"$f":"NAPHTHA","v":"Naphtha"},{"$f":"'Data in physical units'!AJ$5","v":0},{"$f":"'Conversion factors'!C33","v":45000},0]
[{"$f":"$AC$62","v":"Aviation fuels"},{"$f":"AVGAS","v":"Aviation gasoline"},0,{"$f":"'Conversion factors'!C27","v":44800},0]
[{"$f":"$AC$62","v":"Aviation fuels"},{"$f":"JETGAS","v":"Gasoline type jet fuel"},{"$f":"'Data in physical units'!AE$5","v":0},{"$f":"'Conversion factors'!C28","v":44800},0]
[{"$f":"$AC$63","v":"Motor gasoline"},{"$f":"NONBIOGASO","v":"Motor gasoline excl. biofuels"},{"$f":"'Data in physical units'!AC$5","v":0},{"$f":"'Conversion factors'!C26","v":44800},0]
[{"$f":"$AC$66","v":"Other"},{"$f":"WHITESP","v":"White spirit & SBP"},{"$f":"'Data in physical units'!AK$5","v":0},{"$f":"'Conversion factors'!C34","v":43000},0]
[{"$f":"$AC$62","v":"Aviation fuels"},{"$f":"NONBIOJETK","v":"Kerosene type jet fuel excl. biofuels"},{"$f":"'Data in physical units'!AF$5","v":0},{"$f":"'Conversion factors'!C29","v":44600},0]
[{"$f":"$AC$64","v":"Middle distillates"},{"$f":"OTHKERO","v":"Other kerosene"},{"$f":"'Data in physical units'!AG$5","v":0},{"$f":"'Conversion factors'!C30","v":43800},0]
[{"$f":"$AC$64","v":"Middle distillates"},{"$f":"NONBIODIES","v":"Gas/diesel oil excluding biofuels"},{"$f":"'Data in physical units'!AH$5","v":500},{"$f":"'Conversion factors'!C31","v":43000},21500]
[{"$f":"$AC$66","v":"Other"},{"$f":"PARWAX","v":"Paraffin waxes"},{"$f":"'Data in physical units'!AN$5","v":0},{"$f":"'Conversion factors'!C37","v":40000},0]
[{"$f":"RESFUEL","v":"Fuel oil"},{"$f":"RESFUEL","v":"Fuel oil"},{"$f":"'Data in physical units'!AI$5","v":0},{"$f":"'Conversion factors'!C32","v":40200},0]
[{"$f":"$AC$66","v":"Other"},{"$f":"LUBRIC","v":"Lubricants"},{"$f":"'Data in physical units'!AL$5","v":0},{"$f":"'Conversion factors'!C35","v":42000},0]
[{"$f":"$AC$66","v":"Other"},{"$f":"BITUMEN","v":"Bitumen"},{"$f":"'Data in physical units'!AM$5","v":0},{"$f":"'Conversion factors'!C36","v":39000},0]
[{"$f":"$AC$66","v":"Other"},{"$f":"PETCOKE","v":"Petroleum coke"},{"$f":"'Data in physical units'!AO$5","v":0},{"$f":"'Conversion factors'!C38","v":32000},0,null,null,null,null,null,null,null,null,null,null,null,null,null,null,null,null,null,null,null,null,null,null,null,"Simple input-output barchart (1st page)"]
[{"$f":"$AC$66","v":"Other"},{"$f":"ONONSPEC","v":"Non-specified oil products"},{"$f":"'Data in physical units'!AP$5","v":0},{"$f":"'Conversion factors'!C39","v":40000},0,null,null,null,null,null,null,null,null,null,null,null,null,null,null,null,null,null,null,null,null,null,null,null,"Title","value"]
[null,null,null,null,null,null,null,null,null,null,null,null,null,null,null,null,null,null,null,null,null,null,null,null,null,null,null,null,{"$f":"A26","v":"Input(s)"},{"$f":"C32","v":515}]
[null,null,null,null,null,null,null,null,null,null,null,null,null,null,null,null,null,null,null,null,null,null,null,null,null,null,null,null,{"$f":"B4","v":"Refining losses (mass)"},{"$f":"C33","v":15}]
[null,null,null,null,null,null,null,null,null,null,null,null,null,null,null,null,null,null,null,null,null,null,null,null,null,null,null,null,{"$f":"A37","v":"Output(s)"},{"$f":"C37","v":500}]
[null,null,null,null,null,null,null,null,null,null,null,null,null,null,null,null,null,null,null,null,null,null,null,null,null,null,null,null,"y-axis title",{"$f":"C26","v":"Physical quantity [kt]"}]
[null,null,null,null,null,null,null,null,null,null,null,null,null,null,null,null,null,null,null,null,null,null,null,null,null,null,null,null,"For the graph: output groups (adapted from World Energy balances, Fig. 4)"]
[]
[null,null,null,null,null,null,null,null,null,null,null,null,null,null,null,null,null,null,null,null,null,null,null,null,null,null,null,null,{"$f":"HLOOKUP(LangChoice,$AC$10:$AE$40,$AB29+1,FALSE)","v":"LPG"},{"$f":"SUMIF($A$38:$A$54,AC61,$C$38:$C$54)","v":0}]
[null,null,null,null,null,null,null,null,null,null,null,null,null,null,null,null,null,null,null,null,null,null,null,null,null,null,null,null,{"$f":"HLOOKUP(LangChoice,$AC$10:$AE$40,$AB30+1,FALSE)","v":"Aviation fuels"},0]
[null,null,null,null,null,null,null,null,null,null,null,null,null,null,null,null,null,null,null,null,null,null,null,null,null,null,null,null,{"$f":"HLOOKUP(LangChoice,$AC$10:$AE$40,$AB31+1,FALSE)","v":"Motor gasoline"},0]
[null,null,null,null,null,null,null,null,null,null,null,null,null,null,null,null,null,null,null,null,null,null,null,null,null,null,null,null,{"$f":"HLOOKUP(LangChoice,$AC$10:$AE$40,$AB32+1,FALSE)","v":"Middle distillates"},500]
[null,null,null,null,null,null,null,null,null,null,null,null,null,null,null,null,null,null,null,null,null,null,null,null,null,null,null,null,{"$f":"RESFUEL","v":"Fuel oil"},0]
[null,null,null,null,null,null,null,null,null,null,null,null,null,null,null,null,null,null,null,null,null,null,null,null,null,null,null,null,{"$f":"HLOOKUP(LangChoice,$AC$10:$AE$40,$AB33+1,FALSE)","v":"Other"},0]
[null,null,null,null,null,null,null,null,null,null,null,null,null,null,null,null,null,null,null,null,null,null,null,null,null,null,null,null,"Check: Total",{"$f":"SUM(AD61:AD66)","v":500},"Check: Total"]
[null,null,null,null,null,null,null,null,null,null,null,null,null,null,null,null,null,null,null,null,null,null,null,null,null,null,null,null,"Difference to total output:",{"$f":"AD67-C37","v":0}]
[null,null,null,null,null,null,null,null,null,null,null,null,null,null,null,null,null,null,null,null,null,null,null,null,null,null,null,null,"For the graph: barchart breakdown"]
[null,null,null,null,null,null,null,null,null,null,null,null,null,null,null,null,null,null,null,null,null,null,null,null,null,null,null,null,null,{"$f":"AC55","v":"Input(s)"},{"$f":"AC56","v":"Refining losses (mass)"},{"$f":"TRANSPOSE(AC61:AC66)","v":"LPG"},"Aviation fuels","Motor gasoline","Middle distillates","Fuel oil","Other"]
[null,null,null,null,null,null,null,null,null,null,null,null,null,null,null,null,null,null,null,null,null,null,null,null,null,null,null,null,"Graph",0,{"$f":"C37","v":500},{"$f":"AG72+AG71","v":500},{"$f":"AH71+AH72","v":500},{"$f":"AI71+AI72","v":500},{"$f":"AJ71+AJ72","v":0},{"$f":"AK72","v":0},0]
[null,null,null,null,null,null,null,null,null,null,null,null,null,null,null,null,null,null,null,null,null,null,null,null,null,null,null,null,"Graph",{"$f":"C32","v":515},{"$f":"C33","v":15},{"$f":"AD61","v":0},{"$f":"AD62","v":0},{"$f":"AD63","v":0},{"$f":"AD64","v":500},{"$f":"AD65","v":0},{"$f":"AD66","v":0}]
[null,null,null,null,null,null,null,null,null,null,null,null,null,null,null,null,null,null,null,null,null,null,null,null,null,null,null,null,"line",{"$f":"AD72","v":515},{"$f":"AD73","v":515}]
[null,null,null,null,null,null,null,null,null,null,null,null,null,null,null,null,null,null,null,null,null,null,null,null,null,null,null,null,"line",null,{"$f":"AE71","v":500},{"$f":"AE74","v":500}]
[null,null,null,null,null,null,null,null,null,null,null,null,null,null,null,null,null,null,null,null,null,null,null,null,null,null,null,null,"line",null,null,{"$f":"AF$71","v":500},{"$f":"AF75","v":500}]
[null,null,null,null,null,null,null,null,null,null,null,null,null,null,null,null,null,null,null,null,null,null,null,null,null,null,null,null,"line",null,null,null,{"$f":"AG$71","v":500},{"$f":"AG76","v":500}]
[null,null,null,null,null,null,null,null,null,null,null,null,null,null,null,null,null,null,null,null,null,null,null,null,null,null,null,null,"line",null,null,null,null,{"$f":"AH$71","v":500},{"$f":"AH77","v":500}]
[null,null,null,null,null,null,null,null,null,null,null,null,null,null,null,null,null,null,null,null,null,null,null,null,null,null,null,null,"line",null,null,null,null,null,{"$f":"AI$71","v":0},{"$f":"AI78","v":0}]
[null,null,null,null,null,null,null,null,null,null,null,null,null,null,null,null,null,null,null,null,null,null,null,null,null,null,null,null,"line",null,null,null,null,null,null,{"$f":"AJ$71","v":0},{"$f":"AJ79","v":0}]
[null,null,null,null,null,null,null,null,null,null,null,null,null,null,null,null,null,null,null,null,null,null,null,null,null,null,null,null,"line",null,null,null,null,null,null,null,{"$f":"AK$71","v":0}]
[null,null,null,null,null,null,null,null,null,null,null,null,null,null,null,null,null,null,null,null,null,null,null,null,null,null,null,null,"For the graphs: RGB color codes (same as in World Energy Balances, Fig. 4)"]
[null,null,null,null,null,null,null,null,null,null,null,null,null,null,null,null,null,null,null,null,null,null,null,null,null,null,null,null,"R",null,null,212,0,255,72,139,167]
[null,null,null,null,null,null,null,null,null,null,null,null,null,null,null,null,null,null,null,null,null,null,null,null,null,null,null,null,"G",null,null,54,103,192,134,198,167]
[null,null,null,null,null,null,null,null,null,null,null,null,null,null,null,null,null,null,null,null,null,null,null,null,null,null,null,null,"B",null,null,51,142,0,82,105,172]

{"sheet":"Electricity_Heat_I","index":41,"n_rows":52,"n_cols":33,"rows_kept":52,"cut":false,"hidden":false,"merged":[[49,2,49,8],[51,2,51,8],[35,9,38,9],[38,4,38,5],[39,4,39,5],[47,2,47,8],[7,0,7,9],[36,7,37,7],[35,8,38,8],[36,1,37,1],[20,2,20,5],[21,6,21,7]]}
[{"$f":"HLOOKUP(LangChoice,$AB$9:$AD$39,$AA10+1,FALSE)","v":"Data validation: Electricity and heat generation sector"},null,null,null,null,null,null,null,null,null,null,null,null,null,null,null,null,null,null,null,null,null,null,null,null,null,"Hide -->:",null,null,null,null,null,":<-- Hide"]
[{"$f":"IronSteel_CokeOven!A2","v":"Checks:"},null,null,{"$f":"IronSteel_CokeOven!E2","v":"Process details:"}]
["4)",{"$f":"HLOOKUP(LangChoice,$AB$9:$AD$39,$AA11+1,FALSE)","v":"Electricity-only plants"},null,"Energy Statistics Manual, IEA 2005."]
["5)",{"$f":"HLOOKUP(LangChoice,$AB$9:$AD$39,$AA12+1,FALSE)","v":"CHP plants"}]
["6)",{"$f":"HLOOKUP(LangChoice,$AB$9:$AD$39,$AA13+1,FALSE)","v":"Heat plants"}]
[]
[]
[{"$f":"HLOOKUP(LangChoice,$AB$9:$AD$39,$AA14+1,FALSE)","v":"Primary electricity is obtained from natural sources such as hydro, wind and solar power, whereas primary heat is obtained from geothermal and solar thermal power. Secondary electricity and heat is produced e.g by burning primary combustible fuels such as coal, natural gas, oil and renewables and wastes. The annual questionnaires classify electricity and heat generating plants into three groups:\n\n1) Electricity-only plants, which generate electricity only;\n2) Heat-only plants, which generate heat only;\n3) Combined heat and power plants (CHP), which generate heat and electricity in a combined process."},null,null,null,null,null,null,null,null,null,null,null,null,null,null,null,null,null,null,null,null,null,null,null,null,null,null,"Process information"]
[null,null,null,null,null,null,null,null,null,null,null,null,null,null,null,null,null,null,null,null,null,null,null,null,null,null,1,"English","Pусский","中文"]
[null,null,null,null,null,null,null,null,null,null,null,null,null,null,null,null,null,null,null,null,null,null,null,null,null,null,1,"Data validation: Electricity and heat generation sector","Проверка достоверности данных: Сектор генерации электрической и тепловой энергии"]
[null,null,null,null,null,null,null,null,null,null,null,null,null,null,null,null,null,null,null,null,null,null,null,null,null,null,2,"Electricity-only plants","Электростанции"]
[null,null,null,null,null,null,null,null,null,null,null,null,null,null,null,null,null,null,null,null,null,null,null,null,null,null,3,"CHP plants","Тепло-электроцентрали"]
[null,null,null,null,null,null,null,null,null,null,null,null,null,null,null,null,null,null,null,null,null,null,null,null,null,null,4,"Heat plants","Теплоцентрали"]
[null,null,null,null,null,null,null,null,null,null,null,null,null,null,null,null,null,null,null,null,null,null,null,null,null,null,5,"Primary electricity is obtained from natural sources such as hydro, wind and solar power, whereas primary heat is obtained from geothermal and solar thermal power. Secondary electricity and heat is produced e.g by burning primary combustible fuels such as coal, natural gas, oil and renewables and wastes. The annual questionnaires classify electricity and heat generating plants into three groups:\n\n1) Electricity-only plants, which generate electricity only;\n2) Heat-only plants, which generate heat only;\n3) Combined heat and power plants (CHP), which generate heat and electricity in a combined process.","Первичную электроэнергию получают из природных источников, таких как гидро, ветряные и солнечные, а первичную тепловую энергию – из геотермальной и солнечной тепловой энергии. Вторичная электрическая и тепловая энергия производятся, например, путем сжигания первичных видов горючего топлива, таких как уголь, природный газ, нефть, а также с использованием возобновляемых источников и отходов. Ежегодные вопросники разделяют электростанции и тепловые установки на три группы:\n\n1) Станции, вырабатывающие только электроэнергию;\n2) Установки, вырабатывающие только тепловую энергию;\n3) Электростанции с комбинированным производством электрической и тепловой энергии (ТЭЦ).","y"]
[null,null,null,null,null,null,null,null,null,null,null,null,null,null,null,null,null,null,null,null,null,null,null,null,null,null,6,"Efficiency","КПД"]
[null,null,null,null,null,null,null,null,null,null,null,null,null,null,null,null,null,null,null,null,null,null,null,null,null,null,7,"Must always be between 0-100%!","Всегда должен быть от 0 до 100 %!"]
[null,null,null,null,null,null,null,null,null,null,null,null,null,null,null,null,null,null,null,null,null,null,null,null,null,null,8,"Efficiency calculator (not linked to the data):","Калькулятор КПД (не привязан к данным):"]
[null,null,null,null,null,null,null,null,null,null,null,null,null,null,null,null,null,null,null,null,null,null,null,null,null,null,9]
[null,null,null,null,null,null,null,null,null,null,null,null,null,null,null,null,null,null,null,null,null,null,null,null,null,null,10,"Density (only for liquids)","Плотность (только для жидкостей)"]
[null,null,null,null,null,null,null,null,null,null,null,null,null,null,null,null,null,null,null,null,null,null,null,null,null,null,11,"Calorific value","Значение теплотворной способности"]
[null,null,{"$f":"IronSteel_CokeOven!$A$33&\" [\"&IronSteel_CokeOven!$H$33&\"]\"","v":"Input(s) [TJ]"},null,null,null,null,null,null,null,null,null,null,null,null,null,null,null,null,null,null,null,null,null,null,null,12,"Adjustment for zeros","Поправка для нолей"]
[null,null,null,null,null,null,{"$f":"IronSteel_CokeOven!$A$37","v":"Output(s)"},null,null,null,null,null,null,null,null,null,null,null,null,null,null,null,null,null,null,null,13,"Net-to-gross ratio (only for gases)","Соотношение высшей и низшей теплотворной способности (только для газов)"]
[null,null,{"$f":"'Published Balance'!B6","v":"Coal"},{"$f":"NATGAS","v":"Natural gas"},{"$f":"'Balance Summary'!AH4","v":"Oil"},{"$f":"'Published Balance'!I6","v":"Biofuels/\nWaste"},{"$f":"ELECTR","v":"Electricity"},{"$f":"HEAT","v":"Heat"},null,null,null,null,null,null,null,null,null,null,null,null,null,null,null,null,null,null,14,"Convert from TJ to TJ","Пересчет из ТДж и кт н. э."]
[null,null,null,null,null,null,null,null,null,null,null,null,null,null,null,null,null,null,null,null,null,null,null,null,null,null,15,"kilotonnes; cubic metres; barrels…","килотонны; кубические метры; баррели..."]
[null,null,null,null,null,null,null,null,null,null,null,null,null,null,null,null,null,null,null,null,null,null,null,null,null,null,16,"bbl/ton; kg/m3…","баррель/т; кг/м3…"]
[null,null,null,null,null,null,{"$f":"HLOOKUP(LangChoice,Definitions_ProdLang!$I$2:$K$77,Definitions_ProdLang!$A$73+1,FALSE)","v":"GWh"},{"$f":"HLOOKUP(LangChoice,Definitions_ProdLang!$I$2:$K$77,Definitions_ProdLang!$A$74+1,FALSE)","v":"TJ"},{"$f":"HLOOKUP(LangChoice,$AB$9:$AD$39,$AA15+1,FALSE)","v":"Efficiency"},{"$f":"HLOOKUP(LangChoice,$AB$9:$AD$39,$AA16+1,FALSE)","v":"Must always be between 0-100%!"},null,null,null,null,null,null,null,null,null,null,null,null,null,null,null,null,17,"kt to kg; kJ to TJ…","кт к кг; кДж к ТДж..."]
[null,{"$f":"A3& \" \" & B3","v":"4) Electricity-only plants"},{"$f":"SUM('Aggregated Balance'!B12:D13)","v":0},{"$f":"SUM('Aggregated Balance'!G12:G13)","v":0},{"$f":"SUM('Aggregated Balance'!E12:F13)","v":-116100},{"$f":"SUM('Aggregated Balance'!L12:L13)","v":0},{"$f":"SUM('Aggregated Balance'!B62:G63,'Aggregated Balance'!L62:L63)","v":9850},null,{"$f":"IFERROR(G27*3.6/-SUM(C27:F27),\"..\")","v":0.3054263565891473},null,null,null,null,null,null,null,null,null,null,null,null,null,null,null,null,null,18,"kJ/m3; kJ/kg; Gcal/t…","кДж/м3; кДж/кг; Гкал/t…"]
[null,{"$f":"A4& \" \" & B4","v":"5) CHP plants"},{"$f":"SUM('Aggregated Balance'!B14:D15)","v":0},{"$f":"SUM('Aggregated Balance'!G14:G15)","v":0},{"$f":"SUM('Aggregated Balance'!E14:F15)","v":0},{"$f":"SUM('Aggregated Balance'!L14:L15)","v":0},{"$f":"SUM('Aggregated Balance'!B64:G65,'Aggregated Balance'!L64:L65)","v":0},{"$f":"SUM('Aggregated Balance'!B66:G67,'Aggregated Balance'!L66:L67)","v":0},{"$f":"IFERROR((G28*3.6+H28*1)/-SUM(C28:F28),\"..\")","v":".."},null,null,null,null,null,null,null,null,null,null,null,null,null,null,null,null,null,19,"From kJ; TJ; Gcal…","Из кДж; ТДж; Гкал…"]
[null,{"$f":"A5& \" \" & B5","v":"6) Heat plants"},{"$f":"SUM('Aggregated Balance'!B16:D17)","v":0},{"$f":"SUM('Aggregated Balance'!G16:G17)","v":0},{"$f":"SUM('Aggregated Balance'!E16:F17)","v":0},{"$f":"SUM('Aggregated Balance'!L16:L17)","v":0},null,{"$f":"SUM('Aggregated Balance'!B68:G69,'Aggregated Balance'!L68:L69)","v":0},{"$f":"IFERROR((H29*1)/-SUM(C29:F29),\"..\")","v":".."},null,null,null,null,null,null,null,null,null,null,null,null,null,null,null,null,null,20,"Example","Пример"]
[null,null,null,null,null,null,null,null,null,null,null,null,null,null,null,null,null,null,null,null,null,null,null,null,null,null,21,"In Statisland, 0.5 bcm of natural gas is used annually to generate electricity and heat in CHP-plants. The gross calorific value (GCV) of the gas is 38 800 kJ/m3. The net-to-gross ratio for natural gas is 90%. Annual electricity output is 1800 GWh and heat output 7500 TJ.\n\nCalculate the generation efficiency for the CHP plants.","В Статисландии для генерации электрической и тепловой энергии при помощи ТЭЦ ежегодно используют 0,5 млрд. кубометров природного газа. Высшая теплотворная способность газа равна 38 800 кДж/м3. Соотношение высшей и низшей теплотворной способности природного газа равняется 90 %. Ежегодная выработка электроэнергии составляет 1800 ГВт·ч, а выработка тепла – 7500 ТДж.\n\nРассчитайте КПД генерации для ТЭЦ."]
[null,null,null,null,null,null,null,null,null,null,null,null,null,null,null,null,null,null,null,null,null,null,null,null,null,null,22,"Statisland consumes 50 kt of bituminous coal to generate electricity. The electricity company reports that the annual electricity output is 122 GWh, and the generation efficiency is 35%.\n\nWhat is the calorific value of the used coal?","Статисландия потребляет 50 кт битуминозного угля для производства электроэнергии. Согласно отчетам электроэнергетической компании, ее годовая выработка электроэнергии составляет 122 ГВт·ч, а КПД генерации – 35 %.\n\nКаково значение теплотворной способности используемого ею угля?"]
[null,null,null,null,null,null,null,null,null,null,null,null,null,null,null,null,null,null,null,null,null,null,null,null,null,null,23]
[{"$f":"HLOOKUP(LangChoice,$AB$9:$AD$39,$AA17+1,FALSE)","v":"Efficiency calculator (not linked to the data):"},null,null,null,null,null,null,null,null,null,null,null,null,null,null,null,null,null,null,null,null,null,null,null,null,null,24,"The plant from example 1 is converted to an electricity-only plant (produces 0 TJ heat). How much does the efficiency change?","Теплоэлектростанция из примера 1 переведена исключительно на производство электроэнергии (производит 0 ТДж тепла). Насколько изменился КПД?"]
[null,null,null,null,null,null,null,null,null,null,null,null,null,null,null,null,null,null,null,null,null,null,null,null,null,null,25,"Answer","Ответ",null,"Figures for answer:"]
[null,null,{"$f":"\"[\"&G26&\"]\"","v":"[GWh]"},{"$f":"\"[\"&IronSteel_CokeOven!$H$33&\"]\"","v":"[TJ]"},null,{"$f":"\"[\"&H26&\"]\"","v":"[TJ]"},{"$f":"\"[\"&IronSteel_CokeOven!$H$33&\"]\"","v":"[TJ]"},null,null,null,null,null,null,null,null,null,null,null,null,null,null,null,null,null,null,null,26,{"$f":"\"From \"& TEXT(AE35,\"0%\") & \" to \" & TEXT(AF35, \"0%\") & \" (\" & TEXT(AG35, \"0%\") & \")\"","v":"From 80% to 37% (-54%)"},{"$f":"\"С \"& TEXT(AE35,\"0%\") & \" до \" & TEXT(AF35, \"0%\") & \" (\" & TEXT(AG35, \"0%\") & \")\"","v":"С 80% до 37% (-54%)"},null,0.8,0.37,{"$f":"(AF35-AE35)/AE35","v":-0.53749999999999998}]
[{"$f":"IronSteel_CokeOven!A37","v":"Output(s)"},null,0,{"$f":"ROUND(C36*3.6,2)","v":0},"+",0,{"$f":"ROUND(F36*1,2)","v":0},null,{"$f":"IFERROR((D36+G36)/G39,\"..\")","v":".."},{"$f":"IF(AND(ISTEXT(I36)=FALSE,I36>100%),\"Too high!\",\"\")","v":""},null,null,null,null,null,null,null,null,null,null,null,null,null,null,null,null,27]
[null,"=",null,null,null,null,null,"=",null,null,null,null,null,null,null,null,null,null,null,null,null,null,null,null,null,null,28]
[null,null,0,null,null,null,null,null,null,null,null,null,null,null,null,null,null,null,null,null,null,null,null,null,null,null,29]
[{"$f":"IronSteel_CokeOven!$A$33","v":"Input(s)"},{"$f":"IronSteel_CokeOven!$C$32","v":"Physical quantity"},0,"bcm",{"$f":"HLOOKUP(LangChoice,$AB$9:$AD$39,$AA24+1,FALSE)","v":"kilotonnes; cubic metres; barrels…"},null,{"$f":"C39*C40*C41*C42*C43*C44","v":0},null,null,null,null,null,null,null,null,null,null,null,null,null,null,null,null,null,null,null,30]
[null,{"$f":"HLOOKUP(LangChoice,$AB$9:$AD$39,$AA19+1,FALSE)","v":"Density (only for liquids)"},1,null,{"$f":"HLOOKUP(LangChoice,$AB$9:$AD$39,$AA25+1,FALSE)","v":"bbl/ton; kg/m3…"},null,{"$f":"\"[\"&IronSteel_CokeOven!$H$33&\"]\"","v":"[TJ]"},null,null,{"$f":"IF(J36=\"Too high!\",\"Check:\",\"\")","v":""}]
[null,{"$f":"HLOOKUP(LangChoice,$AB$9:$AD$39,$AA20+1,FALSE)","v":"Calorific value"},38800,"kJ/m3",{"$f":"HLOOKUP(LangChoice,$AB$9:$AD$39,$AA26+1,FALSE)","v":"kt to kg; kJ to TJ…"},null,null,null,null,{"$f":"IF(J36=\"Too high!\",\"- \"&B42,\"\")","v":""}]
[null,{"$f":"HLOOKUP(LangChoice,$AB$9:$AD$39,$AA21+1,FALSE)","v":"Adjustment for zeros"},1,null,{"$f":"HLOOKUP(LangChoice,$AB$9:$AD$39,$AA27+1,FALSE)","v":"kJ/m3; kJ/kg; Gcal/t…"},null,null,null,null,{"$f":"IF(J36=\"Too high!\",\"- Units\",\"\")","v":""}]
[null,{"$f":"HLOOKUP(LangChoice,$AB$9:$AD$39,$AA22+1,FALSE)","v":"Net-to-gross ratio (only for gases)"},0.9,null,"0.9; 1.0"]
[null,{"$f":"HLOOKUP(LangChoice,$AB$9:$AD$39,$AA23+1,FALSE)","v":"Convert from TJ to TJ"},{"$f":"1","v":1},null,{"$f":"HLOOKUP(LangChoice,$AB$9:$AD$39,$AA28+1,FALSE)","v":"From kJ; TJ; Gcal…"}]
[null,{"$f":"IronSteel_CokeOven!G32","v":"Energy quantity"},{"$f":"C39*C40*C41*C42*C43*C44","v":0},{"$f":"IronSteel_CokeOven!$H$33","v":"TJ"}]
[]
[]
[null,{"$f":"HLOOKUP(LangChoice,$AB$9:$AD$39,$AA29+1,FALSE)&\" 1:\"","v":"Example 1:"},{"$f":"HLOOKUP(LangChoice,$AB$9:$AD$39,$AA30+1,FALSE)","v":"In Statisland, 0.5 bcm of natural gas is used annually to generate electricity and heat in CHP-plants. The gross calorific value (GCV) of the gas is 38 800 kJ/m3. The net-to-gross ratio for natural gas is 90%. Annual electricity output is 1800 GWh and heat output 7500 TJ.\n\nCalculate the generation efficiency for the CHP plants."},null,null,null,null,null,null,{"$f":"HLOOKUP(LangChoice,$AB$9:$AD$39,$AA34+1,FALSE)&\": 80%\"","v":"Answer: 80%"}]
[]
[null,{"$f":"HLOOKUP(LangChoice,$AB$9:$AD$39,$AA29+1,FALSE)&\" 2:\"","v":"Example 2:"},{"$f":"HLOOKUP(LangChoice,$AB$9:$AD$39,$AA31+1,FALSE)","v":"Statisland consumes 50 kt of bituminous coal to generate electricity. The electricity company reports that the annual electricity output is 122 GWh, and the generation efficiency is 35%.\n\nWhat is the calorific value of the used coal?"},null,null,null,null,null,null,{"$f":"HLOOKUP(LangChoice,$AB$9:$AD$39,$AA34+1,FALSE)&\": 25000 kJ/kg\"","v":"Answer: 25000 kJ/kg"}]
[]
[null,{"$f":"HLOOKUP(LangChoice,$AB$9:$AD$39,$AA29+1,FALSE)&\" 3:\"","v":"Example 3:"},{"$f":"HLOOKUP(LangChoice,$AB$9:$AD$39,$AA33+1,FALSE)","v":"The plant from example 1 is converted to an electricity-only plant (produces 0 TJ heat). How much does the efficiency change?"},null,null,null,null,null,null,{"$f":"HLOOKUP(LangChoice,$AB$9:$AD$39,$AA34+1,FALSE)&\": \"&HLOOKUP(LangChoice,$AB$9:$AD$39,$AA35+1,FALSE)","v":"Answer: From 80% to 37% (-54%)"}]

{"sheet":"Electricity_Heat_II","index":42,"n_rows":84,"n_cols":50,"rows_kept":84,"cut":false,"hidden":false,"merged":[[8,14,8,16],[36,14,36,16],[8,3,8,5],[8,6,8,9],[8,10,8,12],[6,0,6,12],[34,0,34,12],[9,7,9,8],[8,0,10,1],[36,0,38,1],[36,3,36,5],[36,6,36,9],[36,10,36,12],[37,7,37,8]]}
[{"$f":"Electricity_Heat_I!A1","v":"Data validation: Electricity and heat generation sector"},null,"Hide",null,null,null,null,null,null,null,null,null,null,null,null,null,null,null,null,null,null,null,null,null,null,null,"Hide -->:","Process information",null,null,null,null,null,null,null,null,null,null,null,null,null,null,null,null,null,null,null,null,null,"<--Hide"]
[{"$f":"IronSteel_CokeOven!A2","v":"Checks:"},null,null,null,null,null,{"$f":"IronSteel_CokeOven!E2","v":"Process details:"},null,null,null,null,null,null,null,null,null,null,null,null,null,null,null,null,null,null,null,null,"English","Pусский","中文"]
["7)",{"$f":"HLOOKUP(LangChoice,$AB$2:$AD$20,AA3+1,FALSE)","v":"Main activity producers"},null,null,null,null,"Energy Statistics Manual, IEA 2005.",null,null,null,null,null,null,null,null,null,null,null,null,null,null,null,null,null,null,null,1,"Main activity producers","Производители по основному виду деятельности","[missing Chinese]"]
["8)",{"$f":"HLOOKUP(LangChoice,$AB$2:$AD$20,AA4+1,FALSE)","v":"Autoproducers"},null,null,null,null,"IRES, UN 2016. (5.45)",null,null,null,null,null,null,null,null,null,null,null,null,null,null,null,null,null,null,null,2,"Autoproducers","Производители для собственных нужд","[missing Chinese]"]
[null,null,null,null,null,null,null,null,null,null,null,null,null,null,null,null,null,null,null,null,null,null,null,null,null,null,3,"These are units that produce electricity or heat as their principal activity. These enterprises may be privately or publicly owned companies.","Это установки, которые в качестве своей основной деятельности производят электроэнергию или тепло. Эти предприятия бывают частной или государственной формы собственности.","[missing Chinese]"]
[null,null,null,null,null,null,null,null,null,null,null,null,null,null,null,null,null,null,null,null,null,null,null,null,null,null,4,"Autoproducers (electricity): These are units that produce electricity but for whom the production is not their principal activity.\n\nAutoproducers (Heat): These are units that produce heat for sale but for whom the production is not their principal activity. Deliveries of fuels for heat generated by a unit for its own purposes are classified as final consumption, and not as transformation inputs.","Производители для собственных нужд (электроэнергия): Это установки, которые производят электроэнергию, но это не является их основной деятельностью.\n\nПроизводители для собственных нужд (тепло): Это установки, которые производят тепло на продажу, но это не является их основной деятельностью. Поставки топлива для производства тепловой энергии установкой для собственных целей классифицируются как конечное потребление, а не как ресурсы, используемые для преобразования.","[missing Chinese]"]
[{"$f":"B3&\": \"&HLOOKUP(LangChoice,$AB$2:$AD$20,AA5+1,FALSE)","v":"Main activity producers: These are units that produce electricity or heat as their principal activity. These enterprises may be privately or publicly owned companies."},null,null,null,null,null,null,null,null,null,null,null,null,null,null,null,null,null,null,null,null,null,null,null,null,null,5,"Check","Проверка","[missing Chinese]"]
[null,null,null,null,null,null,null,null,null,null,null,null,null,null,null,null,null,null,null,null,null,null,null,null,null,null,6,"Low","Низкий","[missing Chinese]"]
[{"$f":"$A$3&\" \"&$B$3","v":"7) Main activity producers"},null,null,{"$f":"\"I: \"&Electricity_Heat_I!$B$3","v":"I: Electricity-only plants"},null,null,{"$f":"\"II: \"&Electricity_Heat_I!$B$4","v":"II: CHP plants"},null,null,null,{"$f":"\"III: \"&Electricity_Heat_I!$B$5","v":"III: Heat plants"},null,null,null,{"$f":"HLOOKUP(LangChoice,$AB$2:$AD$20,AA16+1,FALSE)","v":"Check:"},null,null,null,null,null,null,null,null,null,null,null,7,"High","Высокий","[missing Chinese]"]
[null,null,null,{"$f":"IronSteel_CokeOven!A33","v":"Input(s)"},{"$f":"IronSteel_CokeOven!A37","v":"Output(s)"},{"$f":"HLOOKUP(LangChoice,$AB$2:$AD$20,AA15+1,FALSE)","v":"Eff."},{"$f":"D10","v":"Input(s)"},{"$f":"E10","v":"Output(s)"},null,{"$f":"F10","v":"Eff."},{"$f":"D10","v":"Input(s)"},{"$f":"E10","v":"Output(s)"},{"$f":"F10","v":"Eff."},null,"I","II","III",null,null,null,null,null,null,null,null,null,8,null,null,"[missing Chinese]"]
[null,null,null,{"$f":"IronSteel_CokeOven!H33","v":"TJ"},{"$f":"Electricity_Heat_I!G26","v":"GWh"},null,{"$f":"D11","v":"TJ"},{"$f":"E11","v":"GWh"},{"$f":"Electricity_Heat_I!H26","v":"TJ"},null,{"$f":"D11","v":"TJ"},{"$f":"I11","v":"TJ"},null,null,{"$f":"TEXT(AC27*100,\"0\") & \"-\" & TEXT(AC28,\"0%\")","v":"30-50%"},{"$f":"TEXT(AD27*100,\"0\") & \"-\" & TEXT(AD28,\"0%\")","v":"60-90%"},{"$f":"TEXT(AE27*100,\"0\") & \"-\" & TEXT(AE28,\"0%\")","v":"80-95%"},null,null,null,null,null,null,null,null,null,9,null,null,"[missing Chinese]"]
["Hide",null,null,{"$f":"AC32","v":"MAINELEC"},{"$f":"AI32","v":"ELMAINE"},null,{"$f":"AE32","v":"MAINCHP"},{"$f":"AK32","v":"ELMAINC"},{"$f":"AM32","v":"HEMAINC"},null,{"$f":"AG32","v":"MAINHEAT"},{"$f":"AO32","v":"HEMAINH"},null,null,null,null,null,null,null,null,null,null,null,null,null,null,10,null,null,"[missing Chinese]"]
[{"$f":"IF(AA32<$AT$32+1,AA32,\"\")","v":1},{"$f":"IFERROR(INDIRECT(C13),\"\")","v":"Gas/diesel oil excluding biofuels"},{"$f":"IFERROR(INDEX($AB$33:$AB$84,MATCH(A13,$AT$33:$AT$84,0),1),\"\")","v":"NONBIODIES"},{"$f":"IF($C13=\"\",\"\",VLOOKUP($C13,$AB$33:$AP$84,MATCH(D$12,$AB$32:$AP$32,0),FALSE))","v":-98900},8700,{"$f":"IFERROR(IF(D13=0,\"..\",E13*3.6/-D13),\"\")","v":0.31668351870576339},{"$f":"IF($C13=\"\",\"\",VLOOKUP($C13,$AB$33:$AP$84,MATCH(G$12,$AB$32:$AP$32,0),FALSE))","v":0},0,0,{"$f":"IFERROR(IF(G13=0,\"..\",(H13*3.6+I13*1)/-G13),\"\")","v":".."},{"$f":"IF($C13=\"\",\"\",VLOOKUP($C13,$AB$33:$AP$84,MATCH(K$12,$AB$32:$AP$32,0),FALSE))","v":0},0,{"$f":"IFERROR(IF(K13=0,\"..\",(L13*1)/-K13),\"\")","v":".."},null,{"$f":"IF(ISTEXT($F13)=FALSE,IF($F13<AC$27,$AB$27,IF($F13>AC$28,$AB$28,\"\")),\"\")","v":""},{"$f":"IF(ISTEXT($J13)=FALSE,IF($J13<AD$27,$AB$27,IF($J13>AD$28,$AB$28,\"\")),\"\")","v":""},{"$f":"IF(ISTEXT($M13)=FALSE,IF($M13<AE$27,$AB$27,IF($M13>AE$28,$AB$28,\"\")),\"\")","v":""},null,null,null,null,null,null,null,null,null,11,"Input","Используемые ресурсы","[missing Chinese]"]
["",{"$f":"IFERROR(INDIRECT(C14),\"\")","v":""},"","","","","","","","","","","",null,"","","",null,null,null,null,null,null,null,null,null,12,"Output","Производство","[missing Chinese]"]
["","","","","","","","","","","","","",null,"","","",null,null,null,null,null,null,null,null,null,13,"Eff.","КПД","[missing Chinese]"]
["","","","","","","","","","","","","",null,"","","",null,null,null,null,null,null,null,null,null,14,"Check:","Проверка:","[missing Chinese]"]
["","","","","","","","","","","","","",null,"","","",null,null,null,null,null,null,null,null,null,15,"Missing input/output data for","Отсутствующие значения затраченных ресурсов и выпуска:","[missing Chinese]"]
["","","","","","","","","","","","","",null,"","","",null,null,null,null,null,null,null,null,null,16,null,null,"[missing Chinese]"]
["","","","","","","","","","","","","",null,"","",""]
["","","","","","","","","","","","","",null,"","",""]
["","","","","","","","","","","","","",null,"","",""]
["","","","","","","","","","","","","",null,"","",""]
["","","","","","","","","","","","","",null,"","",""]
["","","","","","","","","","","","","",null,"","",""]
["","","","","","","","","","","","","",null,"","",""]
["","","","","","","","","","","","","",null,"","","",null,null,null,null,null,null,null,null,null,null,"Efficiency limits:","I","II","III"]
["",{"$f":"IFERROR(INDIRECT(INDEX($AB$33:$AB$84,MATCH(A27,$AT$33:$AT$84,0),1)),\"\")","v":""},"","","","","","","","","","","",null,"","","",null,null,null,null,null,null,null,null,null,null,{"$f":"HLOOKUP(LangChoice,$AB$2:$AD$20,AA8+1,FALSE)","v":"Low"},0.3,0.6,0.8]
["","","","","","","","","","","","","",null,"","","",null,null,null,null,null,null,null,null,null,null,{"$f":"HLOOKUP(LangChoice,$AB$2:$AD$20,AA9+1,FALSE)","v":"High"},0.5,0.9,0.95]
["","","","","","","","","","","","","",null,"","",""]
["","","","","","","","","","","","","",null,"","","",null,null,null,null,null,null,null,null,null,null,"Short names and ele&heat input figures transposed from \"Data in physical units\"-sheet",null,null,null,null,null,null,null,null,null,null,null,null,null,null,"Indicators for fuels used",null,null,null,"Indicators for missing inputs/outputs"]
["","","","","","","","","","","","","",null,"","","",null,null,null,null,null,null,null,null,null,null,null,"Inputs (TJ)",null,null,null,null,null,"Outputs (GWh/TJ)",null,null,null,null,null,null,null,"Inputs?","Outputs?","Counter","Cumulative","in/out missing?","Rounding issue?","Counter","Cumulative"]
["","","","","","","","","","","","","",null,"","","",null,null,null,null,null,null,null,null,null,1,null,{"$f":"TRANSPOSE('Disaggregated Balance'!B15:B20)","v":"MAINELEC"},"AUTOELEC","MAINCHP","AUTOCHP","MAINHEAT","AUTOHEAT",{"$f":"TRANSPOSE('Disaggregated Balance'!B89:B96)","v":"ELMAINE"},"ELAUTOE","ELMAINC","ELAUTOC","HEMAINC","HEAUTOC","HEMAINH","HEAUTOH",null,null,null,{"$f":"MAX(AT33:AT84)","v":1},{"$f":"IF(AQ32=AR32,\"\",TRUE)","v":""},{"$f":"IF(AR32=AS32,\"\",TRUE)","v":""},null,{"$f":"MAX(AX33:AX84)","v":0}]
[null,null,null,null,null,null,null,null,null,null,null,null,null,null,null,null,null,null,null,null,null,null,null,null,null,null,2,{"$f":"TRANSPOSE('Disaggregated Balance'!E3:BD3)","v":"ANTCOAL"},{"$f":"TRANSPOSE('Disaggregated Balance'!E15:BD20)","v":0},0,0,0,0,0,{"$f":"TRANSPOSE('Disaggregated Balance'!E89:BD96)","v":0},0,0,0,0,0,0,0,{"$f":"IF(SUM(AC33:AH33)<0,TRUE,FALSE)","v":false},{"$f":"IF(SUM(AI33:AP33)>0,TRUE,FALSE)","v":false},{"$f":"IF(AND(AQ33=TRUE,AR33=TRUE),1,0)","v":0},{"$f":"AS33","v":0},{"$f":"IF(AQ33=AR33,FALSE,TRUE)","v":false},{"$f":"IF(AU33=TRUE,IF((SUM(AI33:AL33)*3.6+SUM(AM33:AP33)*1)/50%<1,TRUE,FALSE),\"\")","v":""},{"$f":"IF(AV33=FALSE,1,0)","v":0},{"$f":"AW33","v":0}]
[null,null,null,null,null,null,null,null,null,null,null,null,null,null,null,null,null,null,null,null,null,null,null,null,null,null,3,"COKCOAL",0,0,0,0,0,0,0,0,0,0,0,0,0,0,false,false,{"$f":"IF(AND(AQ34=TRUE,AR34=TRUE),1,0)","v":0},{"$f":"AS34+AT33","v":0},false,"",{"$f":"IF(AV34=FALSE,1,0)","v":0},{"$f":"AW34+AX33","v":0}]
[{"$f":"HLOOKUP(LangChoice,$AB$2:$AD$20,AA6+1,FALSE)","v":"Autoproducers (electricity): These are units that produce electricity but for whom the production is not their principal activity.\n\nAutoproducers (Heat): These are units that produce heat for sale but for whom the production is not their principal activity. Deliveries of fuels for heat generated by a unit for its own purposes are classified as final consumption, and not as transformation inputs."},null,null,null,null,null,null,null,null,null,null,null,null,null,null,null,null,null,null,null,null,null,null,null,null,null,4,"BITCOAL",0,0,0,0,0,0,0,0,0,0,0,0,0,0,false,false,0,{"$f":"AS35+AT34","v":0},false,"",0,{"$f":"AW35+AX34","v":0}]
[null,null,null,null,null,null,null,null,null,null,null,null,null,null,null,null,null,null,null,null,null,null,null,null,null,null,5,"SUBCOAL",0,0,0,0,0,0,0,0,0,0,0,0,0,0,false,false,0,0,false,"",0,0]
[{"$f":"$A$4&\" \"&$B$4","v":"8) Autoproducers"},null,null,{"$f":"D9","v":"I: Electricity-only plants"},null,null,{"$f":"G9","v":"II: CHP plants"},null,null,null,{"$f":"K9","v":"III: Heat plants"},null,null,null,{"$f":"O9","v":"Check:"},null,null,null,null,null,null,null,null,null,null,null,6,"LIGNITE",0,0,0,0,0,0,0,0,0,0,0,0,0,0,false,false,0,0,false,"",0,0]
[null,null,null,{"$f":"D10","v":"Input(s)"},{"$f":"E10","v":"Output(s)"},{"$f":"F10","v":"Eff."},{"$f":"D38","v":"Input(s)"},{"$f":"E38","v":"Output(s)"},null,{"$f":"F38","v":"Eff."},{"$f":"D38","v":"Input(s)"},{"$f":"E38","v":"Output(s)"},{"$f":"F38","v":"Eff."},null,"I","II","III",null,null,null,null,null,null,null,null,null,7,"PATFUEL",0,0,0,0,0,0,0,0,0,0,0,0,0,0,false,false,0,0,{"$f":"IF(AQ38=AR38,FALSE,TRUE)","v":false},"",0,0]
[null,null,null,{"$f":"D11","v":"TJ"},{"$f":"E11","v":"GWh"},null,{"$f":"D39","v":"TJ"},{"$f":"E39","v":"GWh"},{"$f":"I11","v":"TJ"},null,{"$f":"D39","v":"TJ"},{"$f":"I39","v":"TJ"},null,null,{"$f":"O11","v":"30-50%"},{"$f":"P11","v":"60-90%"},"80-95%",null,null,null,null,null,null,null,null,null,8,"OVENCOKE",0,0,0,0,0,0,0,0,0,0,0,0,0,0,false,false,0,0,false,"",0,0]
["Hide",null,null,{"$f":"AD32","v":"AUTOELEC"},{"$f":"AJ32","v":"ELAUTOE"},null,{"$f":"AF32","v":"AUTOCHP"},{"$f":"AL32","v":"ELAUTOC"},{"$f":"AN32","v":"HEAUTOC"},null,{"$f":"AH32","v":"AUTOHEAT"},{"$f":"AP32","v":"HEAUTOH"},null,null,null,null,null,null,null,null,null,null,null,null,null,null,9,"GASCOKE",0,0,0,0,0,0,0,0,0,0,0,0,0,0,false,false,0,0,false,"",0,0]
[{"$f":"A13","v":1},"Gas/diesel oil excluding biofuels",{"$f":"IF(A41=\"\",\"\",C13)","v":"NONBIODIES"},{"$f":"IF($C41=\"\",\"\",VLOOKUP($C41,$AB$33:$AP$84,MATCH(D$40,$AB$32:$AP$32,0),FALSE))","v":-17200},1150,{"$f":"IFERROR(IF(D41=0,\"..\",E41*3.6/-D41),\"\")","v":0.24069767441860465},{"$f":"IF($C41=\"\",\"\",VLOOKUP($C41,$AB$33:$AP$84,MATCH(G$40,$AB$32:$AP$32,0),FALSE))","v":0},0,0,{"$f":"IFERROR(IF(G41=0,\"..\",(H41*3.6+I41*1)/-G41),\"\")","v":".."},{"$f":"IF($C41=\"\",\"\",VLOOKUP($C41,$AB$33:$AP$84,MATCH(K$40,$AB$32:$AP$32,0),FALSE))","v":0},0,{"$f":"IFERROR(IF(K41=0,\"..\",(L41*1)/-K41),\"\")","v":".."},null,{"$f":"IF(ISTEXT($F41)=FALSE,IF($F41<AC$27,$AB$27,IF($F41>AC$28,$AB$28,\"\")),\"\")","v":"Low"},{"$f":"IF(ISTEXT($J41)=FALSE,IF($J41<AD$27,$AB$27,IF($J41>AD$28,$AB$28,\"\")),\"\")","v":""},{"$f":"IF(ISTEXT($M41)=FALSE,IF($M41<AE$27,$AB$27,IF($M41>AE$28,$AB$28,\"\")),\"\")","v":""},null,null,null,null,null,null,null,null,null,10,"COALTAR",0,0,0,0,0,0,0,0,0,0,0,0,0,0,false,false,0,0,false,"",0,0]
["","","","","","","","","","","","","",null,"","","",null,null,null,null,null,null,null,null,null,11,"BKB",0,0,0,0,0,0,0,0,0,0,0,0,0,0,false,false,0,0,false,"",0,0]
["","","","","","","","","","","","","",null,"","","",null,null,null,null,null,null,null,null,null,12,"GASWKSGS",0,0,0,0,0,0,0,0,0,0,0,0,0,0,false,false,0,0,false,"",0,0]
["","","","","","","","","","","","","",null,"","","",null,null,null,null,null,null,null,null,null,13,"COKEOVGS",0,0,0,0,0,0,0,0,0,0,0,0,0,0,false,false,0,0,false,"",0,0]
["","","","","","","","","","","","","",null,"","","",null,null,null,null,null,null,null,null,null,14,"BLFURGS",0,0,0,0,0,0,0,0,0,0,0,0,0,0,false,false,0,0,false,"",0,0]
["","","","","","","","","","","","","",null,"","","",null,null,null,null,null,null,null,null,null,15,"OGASES",0,0,0,0,0,0,0,0,0,0,0,0,0,0,false,false,0,0,false,"",0,0]
["","","","","","","","","","","","","",null,"","","",null,null,null,null,null,null,null,null,null,16,"MANGAS",0,0,0,0,0,0,0,0,0,0,0,0,0,0,false,false,0,0,false,"",0,0]
["","","","","","","","","","","","","",null,"","","",null,null,null,null,null,null,null,null,null,17,"PEAT",0,0,0,0,0,0,0,0,0,0,0,0,0,0,false,false,0,0,false,"",0,0]
["","","","","","","","","","","","","",null,"","","",null,null,null,null,null,null,null,null,null,18,"PEATPROD",0,0,0,0,0,0,0,0,0,0,0,0,0,0,false,false,0,0,false,"",0,0]
["","","","","","","","","","","","","",null,"","","",null,null,null,null,null,null,null,null,null,19,"OILSHALE",0,0,0,0,0,0,0,0,0,0,0,0,0,0,false,false,0,0,false,"",0,0]
["","","","","","","","","","","","","",null,"","","",null,null,null,null,null,null,null,null,null,20,"CRUDEOIL",0,0,0,0,0,0,0,0,0,0,0,0,0,0,false,false,0,0,false,"",0,0]
["","","","","","","","","","","","","",null,"","","",null,null,null,null,null,null,null,null,null,21,"NGL",0,0,0,0,0,0,0,0,0,0,0,0,0,0,false,false,0,0,false,"",0,0]
["","","","","","","","","","","","","",null,"","","",null,null,null,null,null,null,null,null,null,22,"REFFEEDS",0,0,0,0,0,0,0,0,0,0,0,0,0,0,false,false,0,0,false,"",0,0]
["","","","","","","","","","","","","",null,"","","",null,null,null,null,null,null,null,null,null,23,"ADDITIVE",0,0,0,0,0,0,0,0,0,0,0,0,0,0,false,false,0,0,false,"",0,0]
["","","","","","","","","","","","","",null,"","","",null,null,null,null,null,null,null,null,null,24,"NONCRUDE",0,0,0,0,0,0,0,0,0,0,0,0,0,0,false,false,0,0,false,"",0,0]
["","","","","","","","","","","","","",null,"","","",null,null,null,null,null,null,null,null,null,25,"REFINGAS",0,0,0,0,0,0,0,0,0,0,0,0,0,0,false,false,0,0,false,"",0,0]
["","","","","","","","","","","","","",null,"","","",null,null,null,null,null,null,null,null,null,26,"ETHANE",0,0,0,0,0,0,0,0,0,0,0,0,0,0,false,false,0,0,false,"",0,0]
["","","","","","","","","","","","","",null,"","","",null,null,null,null,null,null,null,null,null,27,"LPG",0,0,0,0,0,0,0,0,0,0,0,0,0,0,false,false,0,0,false,"",0,0]
["","","","","","","","","","","","","",null,"","","",null,null,null,null,null,null,null,null,null,28,"NONBIOGASO",0,0,0,0,0,0,0,0,0,0,0,0,0,0,false,false,0,0,false,"",0,0]
["","","","","","","","","","","","","",null,"","","",null,null,null,null,null,null,null,null,null,29,"AVGAS",0,0,0,0,0,0,0,0,0,0,0,0,0,0,false,false,0,0,false,"",0,0]
[null,null,null,null,null,null,null,null,null,null,null,null,null,null,null,null,null,null,null,null,null,null,null,null,null,null,30,"JETGAS",0,0,0,0,0,0,0,0,0,0,0,0,0,0,false,false,0,0,false,"",0,0]
[null,{"$f":"IF($AX$32>0,HLOOKUP(LangChoice,$AB$2:$AD$20,AA17+1,FALSE),\"\")","v":""},null,null,null,null,null,null,null,null,null,null,null,null,null,null,null,null,null,null,null,null,null,null,null,null,31,"NONBIOJETK",0,0,0,0,0,0,0,0,0,0,0,0,0,0,false,false,0,0,false,"",0,0]
[{"$f":"IF(AA32<$AX$32+1,AA32,\"\")","v":""},{"$f":"IFERROR(INDIRECT(C63),\"\")","v":""},{"$f":"IFERROR(INDEX($AB$33:$AB$84,MATCH(A63,$AX$33:$AX$84,0),1),\"\")","v":""},null,null,null,null,null,null,null,null,null,null,null,null,null,null,null,null,null,null,null,null,null,null,null,32,"OTHKERO",0,0,0,0,0,0,0,0,0,0,0,0,0,0,false,false,0,0,false,"",0,0]
[{"$f":"IF(AA33<$AX$32+1,AA33,\"\")","v":""},{"$f":"IFERROR(INDIRECT(C64),\"\")","v":""},{"$f":"IFERROR(INDEX($AB$33:$AB$84,MATCH(A64,$AX$33:$AX$84,0),1),\"\")","v":""},null,null,null,null,null,null,null,null,null,null,null,null,null,null,null,null,null,null,null,null,null,null,null,33,"NONBIODIES",-98900,-17200,0,0,0,0,8700,1150,0,0,0,0,0,0,true,true,1,1,false,"",0,0]
[{"$f":"IF(AA34<$AX$32+1,AA34,\"\")","v":""},{"$f":"IFERROR(INDIRECT(C65),\"\")","v":""},{"$f":"IFERROR(INDEX($AB$33:$AB$84,MATCH(A65,$AX$33:$AX$84,0),1),\"\")","v":""},null,null,null,null,null,null,null,null,null,null,null,null,null,null,null,null,null,null,null,null,null,null,null,34,"RESFUEL",0,0,0,0,0,0,0,0,0,0,0,0,0,0,false,false,0,1,false,{"$f":"IF(AU65=TRUE,IF((SUM(AI65:AL65)*3.6+SUM(AM65:AP65)*1)/50%<1,TRUE,FALSE),\"\")","v":""},0,0]
[{"$f":"IF(AA35<$AX$32+1,AA35,\"\")","v":""},{"$f":"IFERROR(INDIRECT(C66),\"\")","v":""},{"$f":"IFERROR(INDEX($AB$33:$AB$84,MATCH(A66,$AX$33:$AX$84,0),1),\"\")","v":""},null,null,null,null,null,null,null,null,null,null,null,null,null,null,null,null,null,null,null,null,null,null,null,35,"NAPHTHA",0,0,0,0,0,0,0,0,0,0,0,0,0,0,false,false,0,1,false,"",0,0]
[null,null,null,null,null,null,null,null,null,null,null,null,null,null,null,null,null,null,null,null,null,null,null,null,null,null,36,"WHITESP",0,0,0,0,0,0,0,0,0,0,0,0,0,0,false,false,0,1,false,"",0,0]
[null,null,null,null,null,null,null,null,null,null,null,null,null,null,null,null,null,null,null,null,null,null,null,null,null,null,37,"LUBRIC",0,0,0,0,0,0,0,0,0,0,0,0,0,0,false,false,0,1,false,"",0,0]
[null,null,null,null,null,null,null,null,null,null,null,null,null,null,null,null,null,null,null,null,null,null,null,null,null,null,38,"BITUMEN",0,0,0,0,0,0,0,0,0,0,0,0,0,0,false,false,0,1,false,"",0,0]
[null,null,null,null,null,null,null,null,null,null,null,null,null,null,null,null,null,null,null,null,null,null,null,null,null,null,39,"PARWAX",0,0,0,0,0,0,0,0,0,0,0,0,0,0,false,false,0,1,false,"",0,0]
[null,null,null,null,null,null,null,null,null,null,null,null,null,null,null,null,null,null,null,null,null,null,null,null,null,null,40,"PETCOKE",0,0,0,0,0,0,0,0,0,0,0,0,0,0,false,false,0,1,false,"",0,0]
[null,null,null,null,null,null,null,null,null,null,null,null,null,null,null,null,null,null,null,null,null,null,null,null,null,null,41,"ONONSPEC",0,0,0,0,0,0,0,0,0,0,0,0,0,0,false,false,0,1,false,"",0,0]
[null,null,null,null,null,null,null,null,null,null,null,null,null,null,null,null,null,null,null,null,null,null,null,null,null,null,42,"NATGAS",0,0,0,0,0,0,0,0,0,0,0,0,0,0,false,false,0,1,false,"",0,0]
[null,null,null,null,null,null,null,null,null,null,null,null,null,null,null,null,null,null,null,null,null,null,null,null,null,null,43,"INDWASTE",0,0,0,0,0,0,0,0,0,0,0,0,0,0,false,false,0,1,false,"",0,0]
[null,null,null,null,null,null,null,null,null,null,null,null,null,null,null,null,null,null,null,null,null,null,null,null,null,null,44,"MUNWASTER",0,0,0,0,0,0,0,0,0,0,0,0,0,0,false,false,0,1,false,"",0,0]
[null,null,null,null,null,null,null,null,null,null,null,null,null,null,null,null,null,null,null,null,null,null,null,null,null,null,45,"MUNWASTEN",0,0,0,0,0,0,0,0,0,0,0,0,0,0,false,false,0,1,false,"",0,0]
[null,null,null,null,null,null,null,null,null,null,null,null,null,null,null,null,null,null,null,null,null,null,null,null,null,null,46,"PRIMSBIO",0,0,0,0,0,0,0,0,0,0,0,0,0,0,false,false,0,1,false,"",0,0]
[null,null,null,null,null,null,null,null,null,null,null,null,null,null,null,null,null,null,null,null,null,null,null,null,null,null,47,"BIOGASES",0,0,0,0,0,0,0,0,0,0,0,0,0,0,false,false,0,1,false,"",0,0]
[null,null,null,null,null,null,null,null,null,null,null,null,null,null,null,null,null,null,null,null,null,null,null,null,null,null,48,"BIOGASOL",0,0,0,0,0,0,0,0,0,0,0,0,0,0,false,false,0,1,false,"",0,0]
[null,null,null,null,null,null,null,null,null,null,null,null,null,null,null,null,null,null,null,null,null,null,null,null,null,null,49,"BIOJETKERO",0,0,0,0,0,0,0,0,0,0,0,0,0,0,false,false,0,1,false,"",0,0]
[null,null,null,null,null,null,null,null,null,null,null,null,null,null,null,null,null,null,null,null,null,null,null,null,null,null,50,"BIODIESEL",0,0,0,0,0,0,0,0,0,0,0,0,0,0,false,false,0,1,false,"",0,0]
[null,null,null,null,null,null,null,null,null,null,null,null,null,null,null,null,null,null,null,null,null,null,null,null,null,null,51,"OBIOLIQ",0,0,0,0,0,0,0,0,0,0,0,0,0,0,false,false,0,1,false,"",0,0]
[null,null,null,null,null,null,null,null,null,null,null,null,null,null,null,null,null,null,null,null,null,null,null,null,null,null,52,"RENEWNS",0,0,0,0,0,0,0,0,0,0,0,0,0,0,false,false,0,1,false,"",0,0]
[null,null,null,null,null,null,null,null,null,null,null,null,null,null,null,null,null,null,null,null,null,null,null,null,null,null,53,"CHARCOAL",0,0,0,0,0,0,0,0,0,0,0,0,0,0,false,false,0,1,false,"",0,0]

{"sheet":"CapacityFactor","index":43,"n_rows":55,"n_cols":40,"rows_kept":55,"cut":false,"hidden":false,"merged":[[31,10,40,12],[15,7,15,12],[17,7,17,12],[7,0,7,12],[9,6,12,6],[9,7,9,10],[12,7,12,10],[30,7,30,8],[13,7,13,10]]}
[{"$f":"HLOOKUP(LangChoice,$AB$4:$AD$30,$AA5+1,FALSE)","v":"Data validation: Capacity factor"},null,null,null,null,null,null,null,null,null,null,null,null,null,null,null,null,null,null,null,null,null,null,null,null,null,"Hide -->:",null,null,null,null,null,null,null,null,null,null,null,null,":<-- Hide"]
[{"$f":"IronSteel_CokeOven!A2","v":"Checks:"},null,null,null,null,null,null,null,null,null,null,null,null,null,null,null,null,null,null,null,null,null,null,null,null,null,null,"Process information"]
["9)",{"$f":"HLOOKUP(LangChoice,$AB$4:$AD$30,$AA6+1,FALSE)","v":"Capacity factor"}]
["9.1)",{"$f":"HLOOKUP(LangChoice,$AB$4:$AD$30,$AA7+1,FALSE)","v":"Electricity output"},null,null,null,null,null,null,null,null,null,null,null,null,null,null,null,null,null,null,null,null,null,null,null,null,null,"English","Pусский","中文"]
["9.2)",{"$f":"HLOOKUP(LangChoice,$AB$4:$AD$30,$AA8+1,FALSE)","v":"Liquid biofuel production"},null,null,null,null,null,null,null,null,null,null,null,null,null,null,null,null,null,null,null,null,null,null,null,null,1,"Data validation: Capacity factor","Проверка достоверности данных: Коэффициент мощности"]
["9.3)",{"$f":"HLOOKUP(LangChoice,$AB$4:$AD$30,$AA9+1,FALSE)","v":"Refinery production (coming with annual questionnaire 2019 update)"},null,null,null,null,null,null,null,null,null,null,null,null,null,null,null,null,null,null,null,null,null,null,null,null,2,"Capacity factor","Коэффициент мощности"]
[null,null,null,null,null,null,null,null,null,null,null,null,null,null,null,null,null,null,null,null,null,null,null,null,null,null,3,"Electricity output","Выработка электроэнергии"]
[{"$f":"HLOOKUP(LangChoice,$AB$4:$AD$30,$AA10+1,FALSE)","v":"The net capacity factor is the unitless ratio of an actual output over a given period of time to the maximum possible output over the same amount of time. The capacity factor can be defined for any producing installation, i.e. a fuel consuming power plant or one using renewable energy. The capacity factor can also be defined for any class of such installations, and can be used to compare different types of production.\n\nCapacity factor varies greatly depending on a range of factors: the design of the installation, its location, the type of electricity production and with it either the fuel being used or, for renewable energy, the local weather conditions. Additionally, the capacity factor can be subject to regulatory constraints and market forces, potentially affecting both its fuel purchase and its electricity sale.\n\nThe capacity factor is often computed over a timescale of a year, averaging out most temporal fluctuations. However, the capacity factor can be also computed on a monthly basis to gain insight into seasonal fluctuations. Alternatively, it be computed over the lifetime of the power source, both while operational and after decommissioning."},null,null,null,null,null,null,null,null,null,null,null,null,null,null,null,null,null,null,null,null,null,null,null,null,null,4,"Liquid biofuel production","Выработка жидкого биотоплива"]
[null,null,null,null,null,null,null,null,null,null,null,null,null,null,null,null,null,null,null,null,null,null,null,null,null,null,5,"Refinery production (coming with annual questionnaire 2019 update)","Выработка нефтеперерабатывающего завода (с ежегодным обновлением анкеты 2019 года)"]
[{"$f":"HLOOKUP(LangChoice,$AB$4:$AD$30,$AA13+1,FALSE)","v":"Example:"},null,null,null,null,null,{"$f":"B3&\" = \"","v":"Capacity factor = "},{"$f":"AA38","v":"Actual production"},null,null,null,null,null,null,null,null,null,null,null,null,null,null,null,null,null,null,6,"The net capacity factor is the unitless ratio of an actual output over a given period of time to the maximum possible output over the same amount of time. The capacity factor can be defined for any producing installation, i.e. a fuel consuming power plant or one using renewable energy. The capacity factor can also be defined for any class of such installations, and can be used to compare different types of production.\n\nCapacity factor varies greatly depending on a range of factors: the design of the installation, its location, the type of electricity production and with it either the fuel being used or, for renewable energy, the local weather conditions. Additionally, the capacity factor can be subject to regulatory constraints and market forces, potentially affecting both its fuel purchase and its electricity sale.\n\nThe capacity factor is often computed over a timescale of a year, averaging out most temporal fluctuations. However, the capacity factor can be also computed on a monthly basis to gain insight into seasonal fluctuations. Alternatively, it be computed over the lifetime of the power source, both while operational and after decommissioning.","Коэффициент чистой мощности – это безразмерное отношение фактического производства за определенный период времени к максимальному возможному производству за такой же период времени. Коэффициент мощности можно определить для любой генерирующей установки, то есть, для электростанции, работающей на топливе или использующей возобновляемые источники энергии. Коэффициент мощности можно также определить для любого класса таких установок и можно использовать для сравнения разных типов производства.\n\nКоэффициент мощности существенно отличается, в зависимости от ряда факторов: конструкции установки, ее месторасположения, типа генерации электроэнергии, включая ее источник (топливо или возобновляемая энергия), местных погодных условий. Кроме того, коэффициент мощности может подлежать регуляторным ограничениям и действию рыночных сил, которые потенциально могут влиять как на закупки топлива, так и на продажу электроэнергии.\n\nКоэффициент мощности зачастую вычисляют за годовой период, усредняя большинство временных флуктуаций. Однако коэффициент мощности можно также вычислять и ежемесячно, что позволяет наблюдать сезонные флуктуации. Альтернативно, его можно рассчитывать для всего срока службы источника энергии, как во время эксплуатации установки, так и после ее прекращения."]
[null,null,null,null,null,null,null,null,null,null,null,null,null,null,null,null,null,null,null,null,null,null,null,null,null,null,7,"The maximum possible energy output of a given installation assumes its continuous operation at full nameplate capacity over the relevant period of time.","Максимальное возможное производство энергии данной установки предполагает ее непрерывную эксплуатацию при полной номинальной мощности в течение соответствующего периода времени."]
[null,null,null,null,null,null,null,null,null,null,null,null,null,null,null,null,null,null,null,null,null,null,null,null,null,null,8,"The actual energy output over the same period of time.","Фактическая выработка энергии в течение того же периода времени."]
[null,null,null,null,null,null,null,{"$f":"AA39","v":"Maximum possible production"},null,null,null,null,null,null,null,null,null,null,null,null,null,null,null,null,null,null,9,"Example:","Пример:"]
[null,null,null,null,null,null,null,{"$f":"Electricity_Heat_I!J26","v":"Must always be between 0-100%!"},null,null,null,null,null,null,null,null,null,null,null,null,null,null,null,null,null,null,10,"Month","Месяц"]
[null,null,null,null,null,null,null,null,null,null,null,null,null,null,null,null,null,null,null,null,null,null,null,null,null,null,11,"Output","Производство"]
[null,null,null,null,null,null,{"$f":"AA39&\": \"","v":"Maximum possible production: "},{"$f":"HLOOKUP(LangChoice,$AB$4:$AD$30,$AA11+1,FALSE)","v":"The maximum possible energy output of a given installation assumes its continuous operation at full nameplate capacity over the relevant period of time."},null,null,null,null,null,null,null,null,null,null,null,null,null,null,null,null,null,null,12,"Maximum possible production","Максимальное возможное производство"]
[null,null,null,null,null,null,null,null,null,null,null,null,null,null,null,null,null,null,null,null,null,null,null,null,null,null,13,"Actual production","Фактическое производство"]
[null,null,null,null,null,null,{"$f":"AA38&\": \"","v":"Actual production: "},{"$f":"HLOOKUP(LangChoice,$AB$4:$AD$30,$AA12+1,FALSE)","v":"The actual energy output over the same period of time."},null,null,null,null,null,null,null,null,null,null,null,null,null,null,null,null,null,null,14,"Capacity","Мощность"]
[null,null,null,null,null,null,null,null,null,null,null,null,null,null,null,null,null,null,null,null,null,null,null,null,null,null,15,"Comment","Комментарии"]
[null,null,null,null,null,null,null,null,null,null,null,null,null,null,null,null,null,null,null,null,null,null,null,null,null,null,16,"Note:","Примечание:"]
[null,null,null,null,null,null,null,null,null,null,null,null,null,null,null,null,null,null,null,null,null,null,null,null,null,null,17,"Average ranges calculated based on total OECD capacities and gross electricity generation for 2000-2015.\n\nThe ranges are only indicative, and do not mean the data are incorrect if the country capacity factors are not within it!","Средние диапазоны рассчитываются на основании общих мощностей и валовой генерации электроэнергии по данным ОЭСР за 2000–2015 гг.\n\nДиапазоны носят исключительно ознакомительный характер, и если коэффициенты мощности страны выходят за их пределы, это не говорит об ошибочности данных!"]
[null,null,null,null,null,null,null,null,null,null,null,null,null,null,null,null,null,null,null,null,null,null,null,null,null,null,18,"t/a","тонн в год"]
[null,null,null,null,null,null,null,null,null,null,null,null,null,null,null,null,null,null,null,null,null,null,null,null,null,null,19,"Combustible fuels","Горючие топлива"]
[null,null,null,null,null,null,null,null,null,null,null,null,null,null,null,null,null,null,null,null,null,null,null,null,null,null,20,"of which: renewables","из которых: возобновляемые источники энергии"]
[null,null,null,null,null,null,null,null,null,null,null,null,null,null,null,null,null,null,null,null,null,null,null,null,null,null,21]
[null,null,null,null,null,null,null,null,null,null,null,null,null,null,null,null,null,null,null,null,null,null,null,null,null,null,22]
[null,null,null,null,null,null,null,null,null,null,null,null,null,null,null,null,null,null,null,null,null,null,null,null,null,null,23]
[null,null,null,null,null,null,null,null,null,null,null,null,null,null,null,null,null,null,null,null,null,null,null,null,null,null,24]
[{"$f":"$A$4&\" \"&$B$4","v":"9.1) Electricity output"},null,null,null,null,null,null,null,null,null,null,null,null,null,null,null,null,null,null,null,null,null,null,null,null,null,25]
[null,null,null,null,null,null,null,null,null,null,null,null,null,null,null,null,null,null,null,null,null,null,null,null,null,null,26]
[null,null,{"$f":"HLOOKUP(LangChoice,$AB$4:$AD$30,$AA18+1,FALSE)","v":"Capacity"},{"$f":"AA39","v":"Maximum possible production"},{"$f":"AA38","v":"Actual production"},{"$f":"B3","v":"Capacity factor"},{"$f":"HLOOKUP(LangChoice,$AB$4:$AD$30,$AA19+1,FALSE)","v":"Comment"},{"$f":"IronSteel_CokeOven!K19","v":"Ranges:"},null,null,{"$f":"HLOOKUP(LangChoice,$AB$4:$AD$30,$AA20+1,FALSE)","v":"Note:"}]
[null,null,"[MWe]",{"$f":"Electricity_Heat_I!C35","v":"[GWh]"},{"$f":"D32","v":"[GWh]"},"[%]",null,{"$f":"Electricity_Heat_II!AB27","v":"Low"},{"$f":"Electricity_Heat_II!AB28","v":"High"},null,{"$f":"HLOOKUP(LangChoice,$AB$4:$AD$30,$AA21+1,FALSE)","v":"Average ranges calculated based on total OECD capacities and gross electricity generation for 2000-2015.\n\nThe ranges are only indicative, and do not mean the data are incorrect if the country capacity factors are not within it!"},null,null,null,null,null,null,null,null,null,null,null,null,null,null,null,"Illustration graph:"]
[1,{"$f":"NUCLEAR","v":"Nuclear"},{"$f":"SUM(Ele_Table_7a!E8:F8)","v":0},{"$f":"C33*8760/1000","v":0},{"$f":"'Data in physical units'!BC93","v":0},{"$f":"IF(C33=0,IF(D33=0,\"..\",\"No capacity\"),E33/D33)","v":".."},{"$f":"IF(ISTEXT(F33)=FALSE,IF(F33<H33,$H$32,IF(F33>I33,$I$32,\"\")),\"\")","v":""},0.72647644968119562,0.85671668524159261,null,null,null,null,null,null,null,null,null,null,null,null,null,null,null,null,null,"x-axis title",{"$f":"HLOOKUP(LangChoice,$AB$4:$AD$30,$AA14+1,FALSE)","v":"Month"}]
[2,{"$f":"HYDRO","v":"Hydro"},{"$f":"SUM(Ele_Table_7a!E11:F11)","v":0},{"$f":"C34*8760/1000","v":0},{"$f":"'Data in physical units'!BD93","v":600},{"$f":"IF(C34=0,IF(D34=0,\"..\",\"No capacity\"),E34/D34)","v":".."},{"$f":"IF(ISTEXT(F34)=FALSE,IF(F34<H34,$H$32,IF(F34>I34,$I$32,\"\")),\"\")","v":""},0.34354563939639521,0.38388579326132377,null,null,null,null,null,null,null,null,null,null,null,null,null,null,null,null,null,"y-axis title",{"$f":"HLOOKUP(LangChoice,$AB$4:$AD$30,$AA15+1,FALSE)","v":"Output"}]
[3,{"$f":"GEOTHERM","v":"Geothermal"},{"$f":"SUM(Ele_Table_7a!E21:F21)","v":0},0,{"$f":"'Data in physical units'!BE93","v":0},"..","",0.69801289850618131,0.85748335962775935,null,null,null,null,null,null,null,null,null,null,null,null,null,null,null,null,null,"Arbitrary max capacity",11,"MW"]
[4,{"$f":"SOLARPV","v":"Solar photovoltaic"},{"$f":"SUM(Ele_Table_7a!E24:F24)+SUM(Ele_Table_7a!E27:F27)","v":0},0,{"$f":"'Data in physical units'!BF93","v":19},"..","",9.0804215775479744E-2,0.12863959374422665,null,null,null,null,null,null,null,null,null,null,null,null,null,null,null,null,null,"max production",{"$f":"AB35*8760/1000","v":96.36}]
[5,{"$f":"SOLARTH","v":"Solar thermal"},{"$f":"SUM(Ele_Table_7a!E30:F30)","v":0},0,{"$f":"'Data in physical units'!BG93","v":0},"..","",0.13876808968133167,0.32155612821556129,null,null,null,null,null,null,null,null,null,null,null,null,null,null,null,null,null,null,1,2,3,4,5,6,7,8,9,10,11,12]
[6,{"$f":"TIDE","v":"Tide/ wave/ ocean"},{"$f":"SUM(Ele_Table_7a!E33:F33)","v":0},0,{"$f":"'Data in physical units'!BH93","v":0},"..","",0.20252640115653814,0.23574590178274635,null,null,null,null,null,null,null,null,null,null,null,null,null,null,null,null,null,{"$f":"HLOOKUP(LangChoice,$AB$4:$AD$30,$AA17+1,FALSE)","v":"Actual production"},88.4,71.3,71.28,61.76,48.86,43.04,40.239999999999995,42.879999999999995,46.120000000000005,66.34,80.12,76.44,{"$f":"SUM(AB38:AM38)","v":736.7800000000002}]
[7,{"$f":"WIND","v":"Wind"},{"$f":"SUM(Ele_Table_7a!E36:F36)","v":0},0,{"$f":"'Data in physical units'!BI93","v":30},"..","",0.18156357307731796,0.26547884668050137,null,null,null,null,null,null,null,null,null,null,null,null,null,null,null,null,null,{"$f":"HLOOKUP(LangChoice,$AB$4:$AD$30,$AA16+1,FALSE)","v":"Maximum possible production"},{"$f":"$AB$36","v":96.36},96.36,96.36,96.36,96.36,96.36,96.36,96.36,96.36,96.36,96.36,96.36,{"$f":"SUM(AB39:AM39)","v":1156.32}]
[8,"Combustible fuels",{"$f":"SUM(Ele_Table_7a!E43:F43)","v":0},0,{"$f":"SUM('Aggregated Balance'!B61:G61,'Aggregated Balance'!L61)","v":9850},"..",null,null,null,null,null,null,null,null,null,null,null,null,null,null,null,null,null,null,null,null,null,null,null,null,null,null,null,null,null,null,null,null,null,{"$f":"AN38/AN39","v":0.63717656012176582}]
[9,"of which: renewables",{"$f":"SUM(Ren_Table_3a!E41:E47)","v":0},0,{"$f":"SUM('Disaggregated Balance'!AU88:BD88)","v":0},".."]
[]
[]
[{"$f":"$A$5&\" \"&$B$5","v":"9.2) Liquid biofuel production"}]
[]
[null,null,{"$f":"C31","v":"Capacity"},null,{"$f":"E31","v":"Actual production"},{"$f":"F31","v":"Capacity factor"}]
[null,null,{"$f":"HLOOKUP(LangChoice,$AB$4:$AD$30,$AA22+1,FALSE)","v":"t/a"},null,{"$f":"C47","v":"t/a"},"[%]"]
[1,{"$f":"BIOGASOL","v":"Biogasoline"},{"$f":"Ren_Table_3a!E56*1000","v":0},null,{"$f":"'Data in physical units'!$AW$5*1000","v":0},{"$f":"IF(C48=0,IF(E48=0,\"..\",\"No capacity\"),E48/C48)","v":".."}]
[2,{"$f":"BIODIESEL","v":"Biodiesels"},{"$f":"Ren_Table_3a!E57*1000","v":0},null,{"$f":"'Data in physical units'!$AY$5*1000","v":1500},{"$f":"IF(C49=0,IF(E49=0,\"..\",\"No capacity\"),E49/C49)","v":"No capacity"}]
[3,{"$f":"BIOJETKERO","v":"Bio jet kerosene"},{"$f":"Ren_Table_3a!E58*1000","v":0},null,{"$f":"'Data in physical units'!$AX$5*1000","v":0},".."]
[4,{"$f":"OBIOLIQ","v":"Other liquid biofuels"},{"$f":"Ren_Table_3a!E59*1000","v":0},null,{"$f":"'Data in physical units'!$AZ$5*1000","v":0},".."]
[]
[]
[]
[{"$f":"$A$6&\" \"&$B$6","v":"9.3) Refinery production (coming with annual questionnaire 2019 update)"}]

{"sheet":"VersionHistory","index":44,"n_rows":50,"n_cols":3,"rows_kept":50,"cut":false,"hidden":false,"merged":[]}
["Balance builder version history"]
["Version","Changes","Type"]
["October 2017.1"]
[null,"-Added compatibility with annual IEA/Eurostat/UNECE questionnaires up to 2016 "]
[null,"-New output-sheets"]
[null,"--Energy balance in IEA published format"]
[null,"--Data validation checks (iron&steel, oil refinery, power&heat)"]
[null,"-New language: Russian"]
[]
["October 2017.2"]
[null,"-Minor bug fixes"]
[null,"-Improved Russian translation"]
[null,"-Fixed a bug with PDF-report page margins"]
[null,"-Added link to the original file on the IEA website"]
[]
["November 2017.1"]
[null,"-Added exceptions for a set of countries when there is hydrogen production from natural gas. In the current international methodology hydrogen is not reported separately, therefore showing it in the balance is currently complicated.","F"]
[]
["January 2018.1"]
[null,"-Fixed formula for statistical difference","F"]
[null,"-Added print areas to output sheets","V"]
[null,"-Increased conversion factor accuracy","F"]
[]
["February 2018.1"]
[null,"-Sheet 'IronSteel_CokeOven': Corrected the sign for \"Other inputs\"","F"]
[]
["December 2018.1"]
[null,"-Updated to new year","F"]
[null,"-Actualized to updated annual questionnaires 2017","F"]
[]
["May 2019.1"]
[null,"-Corrected a formula for non-specified transformation for oil and oil products in the sheet \"Published balance\" (Cells C26:D26)","F"]
[]
["June 2019.1"]
[null,"-Corrected colour scheme for 'CapacityFactor'-sheet (colour were reversed between the example and the data table)","V"]
[]
["December 2019.1"]
[null,"-Corrected colours to match the new IEA visual identity","V"]
[null,"-Put the precision to 3 decimals in the tables","V"]
[null,"-Minor bug fixed regarding questionnaire loading.","F"]
[null,"-Added Hungary to the exception n°7 regarding the use of Hydrogen in refinery.","F"]
[null,"-Took out Hungary and Turkey of exception n°11 concerning the treatment of electricity generation from Other Sources. ","F"]
["August 2021.1"]
[null,"-Updated years on Main Menu page","V"]
[null,"-Bug fixed regarding questionnaire loading","F"]
[null,"-Updated Oil Table2a row 33 to match new flow name in 2020 questionnaire","F"]
["October 2023.1"]
[null,"-Updated years on Main Menu page","V"]
[null,"-Updated hyperlinks to Energy Statistics Manual","V"]
[null,"-Updated all fuel tables to match 2023 questionnaire revisions","F"]